{"text_format":"1","workbook":"xlsx","n_sheets":4,"sheets":["Chazarah Schedule","Info","Schedule","Shas Completion % Tracker"],"not_rendered":{"charts":0,"images":3,"macros":1,"external_links":0,"defined_names":1,"comments":0,"pivot_tables":3},"unopened":[],"bounds":{"document_bytes":16777216,"sheet_cells":100000,"rows_first":2000,"rows_last":500,"rows_between":2000,"halvings":0,"cell_chars":16384,"cell_head_chars":4096},"cells_cut":0,"cells_raw":0,"read":"whole","date_system":"1900"}

{"sheet":"Chazarah Schedule","index":0,"n_rows":59,"n_cols":82,"rows_kept":59,"cut":false,"hidden":false,"merged":[[23,55,23,56],[24,55,24,56],[23,59,23,60],[24,59,24,60],[23,57,23,58],[24,57,24,58],[23,53,23,54],[24,53,24,54],[20,11,21,24],[23,51,23,52],[24,51,24,52],[23,29,23,30],[23,13,23,14],[23,21,23,22],[23,25,23,26],[23,23,23,24],[23,49,23,50],[24,49,24,50],[23,47,23,48],[24,47,24,48],[23,43,23,44],[24,43,24,44],[23,81,25,81],[1,9,3,27],[24,11,24,12],[24,13,24,14],[24,15,24,16],[23,17,23,18],[24,23,24,24],[23,27,23,28],[24,27,24,28],[23,19,23,20],[18,6,19,29],[23,9,23,10],[24,9,24,10],[24,21,24,22],[24,17,24,18],[24,19,24,20],[23,31,23,32],[24,31,24,32],[24,25,24,26],[23,15,23,16],[23,33,23,34],[23,45,23,46],[24,45,24,46],[23,39,23,40],[24,39,24,40],[27,6,27,32],[23,7,23,8],[23,11,23,12],[23,41,23,42],[24,41,24,42],[23,37,23,38],[24,37,24,38],[24,7,24,8],[24,33,24,34],[24,29,24,30],[23,35,23,36],[24,35,24,36],[35,6,35,32],[43,6,43,32],[51,6,51,32],[27,33,27,60],[35,33,35,60],[43,33,43,60],[51,33,51,60],[23,61,23,62],[24,61,24,62],[23,63,23,64],[24,63,24,64],[23,65,23,66],[24,65,24,66],[23,67,23,68],[24,67,24,68],[23,69,23,70],[24,69,24,70],[23,71,23,72],[24,71,24,72],[23,79,23,80],[24,79,24,80],[23,73,23,74],[24,73,24,74],[23,75,23,76],[24,75,24,76],[23,77,23,78],[24,77,24,78]]}
[]
[null,null,null,null,null,null,null,null,null,"CHAZARAH CALENDAR"]
[]
[]
[null,null,null,null,null,null,null,null,null,null,null,null,null,null,null,null,null,null,null,null,null,null,null,null,null,null,null,null,null,null,null,null,null,null,null,null,null,null,null,null,null,null,null,null,null,null,null,null,null,null,null,"a) Please click on \"Enable Editing\" or \"Enable Content\" or \"Enable Macros\" on top (if shown)"]
[null,null,null,null,null,null,null,null,null,null,null,null,null,null,null,null,null,null,null,null,null,null,null,null,null,null,null,null,null,null,null,null,null,null,null,null,null,null,null,null,null,null,null,null,null,null,null,null,null,null,null,"b) Press the Red Print icon below to create printable PDF  "]
[null,null,null,null,null,null,null,null,null,"MESECHTA INPUTS",null,null,null,null,null,null,null,null,null,null,null,null,null,null,null,null,null,null,null,null,null,null,null,null,null,null,null,null,null,null,null,null,null,null,null,null,null,null,null,null,null,"c) Checkboxes for progress can be shown or hidden by selecting below"]
[null,null,null,null,null,null,null,null,null,null,"Berachos","Shabbos","Eruvin","Pesachim","Shekalim","Yoma","Succah","Beitzah","Rosh Hashanah","Taanis","Megillah","Moed Katan","Chagigah","Yevamos","Kesubos","Nedarim","Nazir","Sotah","Gittin","Kiddushin","Bava Kamma","Bava Metzia","Bava Basra","Sanhedrin","Makkos","Shavuos","Avodah Zara","Horayos","Zevachim","Menachos","Chullin","Bechoros","Arachin","Temurah","Kereisos","Meilah, Etc","Niddah","Total","% of Shas",null,null,null,null,"CLICK THE RED ICON TO PRINT TO PDF"]
[null,"1) For each masechta, select the review frequency    --->",null,null,null,null,null,null,null,"Frequency","Monthly","Monthly","Monthly","Monthly","Monthly","Monthly","Monthly","Monthly","Monthly","Monthly","Monthly","Monthly","Monthly","Monthly","Monthly","Monthly","Monthly","Monthly","Monthly","Monthly","Monthly","Bi-weekly","Bi-weekly","Weekly","Weekly","Weekly","Weekly","Weekly","Weekly","Weekly","None","None","None","None","None","None","None"]
[null,"2) Optional: Enter which Daf to start with  --->",null,null,null,null,null,null,null,"Start",2,2,2,2,2,2,2,2,2,2,2,2,2,2,2,2,2,2,2,2,2,2,2,2,2,2,2,2,2,2,2,2,2,2,2,2,2]
[null,"3) Optional: Enter which Daf to end with   --->",null,null,null,null,null,null,null,"End",64,157,105,121,22,88,56,40,35,31,32,29,27,122,112,91,66,49,90,82,119,119,176,113,24,49,76,14,120,110,142,61,34,34,28,37,73]
[null,"4) Press the Red Print icon on the right for printable PDF",null,null,null,null,null,null,null,"Total",{"$f":"IF(K$9=\"None\",0,K11-K10+1)","v":63},{"$f":"IF(L$9=\"None\",0,L11-L10+1)","v":156},104,{"$f":"IF(N$9=\"None\",0,N11-N10+1)","v":120},21,87,55,{"$f":"IF(R$9=\"None\",0,R11-R10+1)","v":39},34,30,31,28,26,121,{"$f":"IF(Y$9=\"None\",0,Y11-Y10+1)","v":111},90,{"$f":"IF(AA$9=\"None\",0,AA11-AA10+1)","v":65},48,{"$f":"IF(AC$9=\"None\",0,AC11-AC10+1)","v":89},81,{"$f":"IF(AE$9=\"None\",0,AE11-AE10+1)","v":118},118,{"$f":"IF(AG$9=\"None\",0,AG11-AG10+1)","v":175},112,{"$f":"IF(AI$9=\"None\",0,AI11-AI10+1)","v":23},48,75,{"$f":"IF(AL$9=\"None\",0,AL11-AL10+1)","v":13},119,109,0,0,{"$f":"IF(AQ$9=\"None\",0,AQ11-AQ10+1)","v":0},0,0,{"$f":"IF(AT$9=\"None\",0,AT11-AT10+1)","v":0},0,{"$f":"SUM(K12:AU12)","v":2309},{"$f":"AV12/2711","v":0.85171523423091111}]
[null,null,null,null,null,null,null,null,null,"Daily Daf to Complete Weekly",{"$f":"K12/7","v":9},22.285714285714285,14.857142857142858,17.142857142857142,3,12.428571428571429,7.8571428571428568,5.5714285714285712,4.8571428571428568,4.2857142857142856,4.4285714285714288,{"$f":"V12/7","v":4},3.7142857142857144,17.285714285714285,15.857142857142858,12.857142857142858,9.2857142857142865,{"$f":"AB12/7","v":6.8571428571428568},{"$f":"AC12/7","v":12.714285714285714},11.571428571428571,16.857142857142858,16.857142857142858,25,16,{"$f":"AI12/7","v":3.2857142857142856},6.8571428571428568,10.714285714285714,{"$f":"AL12/7","v":1.8571428571428572},17,15.571428571428571,0,0,{"$f":"AQ12/7","v":0},0,0,{"$f":"AT12/7","v":0},0,{"$f":"SUM(K13:AU13)","v":329.85714285714283},{"$f":"AV13/2711","v":0.12167360489013015}]
[null,null,null,null,null,null,null,null,null,"Daily Daf to Complete Bi-weekly",{"$f":"K$12/14","v":4.5},11.142857142857142,7.4285714285714288,8.5714285714285712,1.5,6.2142857142857144,3.9285714285714284,2.7857142857142856,2.4285714285714284,2.1428571428571428,2.2142857142857144,2,1.8571428571428572,8.6428571428571423,7.9285714285714288,6.4285714285714288,{"$f":"AA$12/14","v":4.6428571428571432},3.4285714285714284,6.3571428571428568,5.7857142857142856,8.4285714285714288,8.4285714285714288,12.5,8,1.6428571428571428,3.4285714285714284,5.3571428571428568,0.9285714285714286,8.5,7.7857142857142856,0,0,0,0,0,0,0,{"$f":"SUM(K14:AU14)","v":164.92857142857142},{"$f":"AV14/2711","v":6.0836802445065077E-2}]
[null,null,null,null,null,null,null,null,null,"Daily Daf to Complete Monthly",{"$f":"K$12/28","v":2.25},5.5714285714285712,3.7142857142857144,4.2857142857142856,0.75,3.1071428571428572,1.9642857142857142,1.3928571428571428,1.2142857142857142,1.0714285714285714,1.1071428571428572,1,0.9285714285714286,4.3214285714285712,3.9642857142857144,3.2142857142857144,{"$f":"AA$12/28","v":2.3214285714285716},1.7142857142857142,3.1785714285714284,2.8928571428571428,4.2142857142857144,4.2142857142857144,6.25,4,0.8214285714285714,1.7142857142857142,2.6785714285714284,0.4642857142857143,4.25,3.8928571428571428,0,0,0,0,0,0,0,{"$f":"SUM(K15:AU15)","v":82.464285714285708},{"$f":"AV15/2711","v":3.0418401222532539E-2}]
[]
[]
[]
[null,null,null,null,null,null,"SEE BELOW TABLE FOR YOUR CUSTOMIZED CHAZARAH CALENDAR"]
[]
[null,null,null,null,null,null,null,null,null,null,null,"Please note that when you click the red print icon above, it will automatically adjust to print your calendar into a weekly, bi-weekly or monthly calendar based on your Chazarah frequency selections above"]
[]
[]
[null,null,null,null,null,null,null,{"$f":"K8","v":"Berachos"},null,{"$f":"L8","v":"Shabbos"},null,{"$f":"M8","v":"Eruvin"},null,{"$f":"N8","v":"Pesachim"},null,{"$f":"O8","v":"Shekalim"},null,{"$f":"P8","v":"Yoma"},null,{"$f":"Q8","v":"Succah"},null,{"$f":"R8","v":"Beitzah"},null,{"$f":"S8","v":"Rosh Hashanah"},null,{"$f":"T8","v":"Taanis"},null,{"$f":"U8","v":"Megillah"},null,{"$f":"V8","v":"Moed Katan"},null,{"$f":"W8","v":"Chagigah"},null,{"$f":"X8","v":"Yevamos"},null,{"$f":"Y8","v":"Kesubos"},null,{"$f":"Z8","v":"Nedarim"},null,{"$f":"AA8","v":"Nazir"},null,{"$f":"AB8","v":"Sotah"},null,{"$f":"AC8","v":"Gittin"},null,{"$f":"AD8","v":"Kiddushin"},null,{"$f":"AE8","v":"Bava Kamma"},null,{"$f":"AF8","v":"Bava Metzia"},null,{"$f":"AG8","v":"Bava Basra"},null,{"$f":"AH8","v":"Sanhedrin"},null,{"$f":"AI8","v":"Makkos"},null,{"$f":"AJ8","v":"Shavuos"},null,{"$f":"AK8","v":"Avodah Zara"},null,{"$f":"AL8","v":"Horayos"},null,{"$f":"AM8","v":"Zevachim"},null,{"$f":"AN8","v":"Menachos"},null,{"$f":"AO8","v":"Chullin"},null,{"$f":"AP8","v":"Bechoros"},null,{"$f":"AQ8","v":"Arachin"},null,{"$f":"AR8","v":"Temurah"},null,{"$f":"AS8","v":"Kereisos"},null,{"$f":"AT8","v":"Meilah, Etc"},null,{"$f":"AU8","v":"Niddah"},null,"TOTAL DAILY"]
[null,null,null,null,null,null,null,{"$f":"K9","v":"Monthly"},null,{"$f":"L9","v":"Monthly"},null,{"$f":"M9","v":"Monthly"},null,{"$f":"N9","v":"Monthly"},null,{"$f":"O9","v":"Monthly"},null,{"$f":"P9","v":"Monthly"},null,{"$f":"Q9","v":"Monthly"},null,{"$f":"R9","v":"Monthly"},null,{"$f":"S9","v":"Monthly"},null,{"$f":"T9","v":"Monthly"},null,{"$f":"U9","v":"Monthly"},null,{"$f":"V9","v":"Monthly"},null,{"$f":"W9","v":"Monthly"},null,{"$f":"X9","v":"Monthly"},null,{"$f":"Y9","v":"Monthly"},null,{"$f":"Z9","v":"Monthly"},null,{"$f":"AA9","v":"Monthly"},null,{"$f":"AB9","v":"Monthly"},null,{"$f":"AC9","v":"Monthly"},null,{"$f":"AD9","v":"Monthly"},null,{"$f":"AE9","v":"Monthly"},null,{"$f":"AF9","v":"Bi-weekly"},null,{"$f":"AG9","v":"Bi-weekly"},null,{"$f":"AH9","v":"Weekly"},null,{"$f":"AI9","v":"Weekly"},null,{"$f":"AJ9","v":"Weekly"},null,{"$f":"AK9","v":"Weekly"},null,{"$f":"AL9","v":"Weekly"},null,{"$f":"AM9","v":"Weekly"},null,{"$f":"AN9","v":"Weekly"},null,{"$f":"AO9","v":"None"},null,{"$f":"AP9","v":"None"},null,{"$f":"AQ9","v":"None"},null,{"$f":"AR9","v":"None"},null,{"$f":"AS9","v":"None"},null,{"$f":"AT9","v":"None"},null,{"$f":"AU9","v":"None"}]
[null,null,null,null,null,null,null,"START","END","START","END","START","END","START","END","START","END","START","END","START","END","START","END","START","END","START","END","START","END","START","END","START","END","START","END","START","END","START","END","START","END","START","START","START","START","START","END","START","END","START","END","START","END","START","END","START","END","START","END","START","END","START","END","START","END","START","END","START","END","START","END","START","END","START","END","START","END","START","END","START","END"]
[]
[null,null,null,null,null,null,"WEEK ONE",null,null,null,null,null,null,null,null,null,null,null,null,null,null,null,null,null,null,null,null,null,null,null,null,null,null,"WEEK ONE"]
[null,null,null,null,null,"WEEK 1","SUN",{"$f":"IF(K$9=\"none\",0,IF(AND($F29=\"week 1\",$G29=\"Sun\"),OFFSET($J$10,,MATCH(H$24,$K$8:$AV$8,0)),IF(AND(OR($F29=\"week 2\",$F29=\"week 3\",$F29=\"week 4\"),K$9=\"weekly\",$G29=\"Sun\"),OFFSET($J$10,,MATCH(H$24,$K$8:$AV$8,0)),IF(AND($F29=\"week 3\",K$9=\"bi-weekly\",$G29=\"Sun\"),OFFSET($J$10,,MATCH(H$24,$K$8:$AV$8,0)),I27+1))))","v":2},{"$f":"IF(K$9=\"weekly\",OFFSET($J$13,,MATCH(H$24,$K$8:$AV$8,0))+H29-1,IF(K$9=\"bi-weekly\",OFFSET($J$14,,MATCH(H$24,$K$8:$AV$8,0))+H29-1,IF(K$9=\"Monthly\",OFFSET($J$15,,MATCH(H$24,$K$8:$AV$8,0))+H29-1,0)))","v":3.25},{"$f":"IF(L$9=\"none\",0,IF(AND($F29=\"week 1\",$G29=\"Sun\"),OFFSET($J$10,,MATCH(J$24,$K$8:$AV$8,0)),IF(AND(OR($F29=\"week 2\",$F29=\"week 3\",$F29=\"week 4\"),L$9=\"weekly\",$G29=\"Sun\"),OFFSET($J$10,,MATCH(J$24,$K$8:$AV$8,0)),IF(AND($F29=\"week 3\",L$9=\"bi-weekly\",$G29=\"Sun\"),OFFSET($J$10,,MATCH(J$24,$K$8:$AV$8,0)),K27+1))))","v":2},{"$f":"IF(L$9=\"weekly\",OFFSET($J$13,,MATCH(J$24,$K$8:$AV$8,0))+J29-1,IF(L$9=\"bi-weekly\",OFFSET($J$14,,MATCH(J$24,$K$8:$AV$8,0))+J29-1,IF(L$9=\"Monthly\",OFFSET($J$15,,MATCH(J$24,$K$8:$AV$8,0))+J29-1,0)))","v":6.5714285714285712},{"$f":"IF(M$9=\"none\",0,IF(AND($F29=\"week 1\",$G29=\"Sun\"),OFFSET($J$10,,MATCH(L$24,$K$8:$AV$8,0)),IF(AND(OR($F29=\"week 2\",$F29=\"week 3\",$F29=\"week 4\"),M$9=\"weekly\",$G29=\"Sun\"),OFFSET($J$10,,MATCH(L$24,$K$8:$AV$8,0)),IF(AND($F29=\"week 3\",M$9=\"bi-weekly\",$G29=\"Sun\"),OFFSET($J$10,,MATCH(L$24,$K$8:$AV$8,0)),M27+1))))","v":2},{"$f":"IF(M$9=\"weekly\",OFFSET($J$13,,MATCH(L$24,$K$8:$AV$8,0))+L29-1,IF(M$9=\"bi-weekly\",OFFSET($J$14,,MATCH(L$24,$K$8:$AV$8,0))+L29-1,IF(M$9=\"Monthly\",OFFSET($J$15,,MATCH(L$24,$K$8:$AV$8,0))+L29-1,0)))","v":4.7142857142857144},{"$f":"IF(N$9=\"none\",0,IF(AND($F29=\"week 1\",$G29=\"Sun\"),OFFSET($J$10,,MATCH(N$24,$K$8:$AV$8,0)),IF(AND(OR($F29=\"week 2\",$F29=\"week 3\",$F29=\"week 4\"),N$9=\"weekly\",$G29=\"Sun\"),OFFSET($J$10,,MATCH(N$24,$K$8:$AV$8,0)),IF(AND($F29=\"week 3\",N$9=\"bi-weekly\",$G29=\"Sun\"),OFFSET($J$10,,MATCH(N$24,$K$8:$AV$8,0)),O27+1))))","v":2},{"$f":"IF(N$9=\"weekly\",OFFSET($J$13,,MATCH(N$24,$K$8:$AV$8,0))+N29-1,IF(N$9=\"bi-weekly\",OFFSET($J$14,,MATCH(N$24,$K$8:$AV$8,0))+N29-1,IF(N$9=\"Monthly\",OFFSET($J$15,,MATCH(N$24,$K$8:$AV$8,0))+N29-1,0)))","v":5.2857142857142856},{"$f":"IF(O$9=\"none\",0,IF(AND($F29=\"week 1\",$G29=\"Sun\"),OFFSET($J$10,,MATCH(P$24,$K$8:$AV$8,0)),IF(AND(OR($F29=\"week 2\",$F29=\"week 3\",$F29=\"week 4\"),O$9=\"weekly\",$G29=\"Sun\"),OFFSET($J$10,,MATCH(P$24,$K$8:$AV$8,0)),IF(AND($F29=\"week 3\",O$9=\"bi-weekly\",$G29=\"Sun\"),OFFSET($J$10,,MATCH(P$24,$K$8:$AV$8,0)),Q27+1))))","v":2},{"$f":"IF(O$9=\"weekly\",OFFSET($J$13,,MATCH(P$24,$K$8:$AV$8,0))+P29-1,IF(O$9=\"bi-weekly\",OFFSET($J$14,,MATCH(P$24,$K$8:$AV$8,0))+P29-1,IF(O$9=\"Monthly\",OFFSET($J$15,,MATCH(P$24,$K$8:$AV$8,0))+P29-1,0)))","v":1.75},{"$f":"IF(P$9=\"none\",0,IF(AND($F29=\"week 1\",$G29=\"Sun\"),OFFSET($J$10,,MATCH(R$24,$K$8:$AV$8,0)),IF(AND(OR($F29=\"week 2\",$F29=\"week 3\",$F29=\"week 4\"),P$9=\"weekly\",$G29=\"Sun\"),OFFSET($J$10,,MATCH(R$24,$K$8:$AV$8,0)),IF(AND($F29=\"week 3\",P$9=\"bi-weekly\",$G29=\"Sun\"),OFFSET($J$10,,MATCH(R$24,$K$8:$AV$8,0)),S27+1))))","v":2},{"$f":"IF(P$9=\"weekly\",OFFSET($J$13,,MATCH(R$24,$K$8:$AV$8,0))+R29-1,IF(P$9=\"bi-weekly\",OFFSET($J$14,,MATCH(R$24,$K$8:$AV$8,0))+R29-1,IF(P$9=\"Monthly\",OFFSET($J$15,,MATCH(R$24,$K$8:$AV$8,0))+R29-1,0)))","v":4.1071428571428577},{"$f":"IF(Q$9=\"none\",0,IF(AND($F29=\"week 1\",$G29=\"Sun\"),OFFSET($J$10,,MATCH(T$24,$K$8:$AV$8,0)),IF(AND(OR($F29=\"week 2\",$F29=\"week 3\",$F29=\"week 4\"),Q$9=\"weekly\",$G29=\"Sun\"),OFFSET($J$10,,MATCH(T$24,$K$8:$AV$8,0)),IF(AND($F29=\"week 3\",Q$9=\"bi-weekly\",$G29=\"Sun\"),OFFSET($J$10,,MATCH(T$24,$K$8:$AV$8,0)),U27+1))))","v":2},{"$f":"IF(Q$9=\"weekly\",OFFSET($J$13,,MATCH(T$24,$K$8:$AV$8,0))+T29-1,IF(Q$9=\"bi-weekly\",OFFSET($J$14,,MATCH(T$24,$K$8:$AV$8,0))+T29-1,IF(Q$9=\"Monthly\",OFFSET($J$15,,MATCH(T$24,$K$8:$AV$8,0))+T29-1,0)))","v":2.9642857142857144},{"$f":"IF(R$9=\"none\",0,IF(AND($F29=\"week 1\",$G29=\"Sun\"),OFFSET($J$10,,MATCH(V$24,$K$8:$AV$8,0)),IF(AND(OR($F29=\"week 2\",$F29=\"week 3\",$F29=\"week 4\"),R$9=\"weekly\",$G29=\"Sun\"),OFFSET($J$10,,MATCH(V$24,$K$8:$AV$8,0)),IF(AND($F29=\"week 3\",R$9=\"bi-weekly\",$G29=\"Sun\"),OFFSET($J$10,,MATCH(V$24,$K$8:$AV$8,0)),W27+1))))","v":2},{"$f":"IF(R$9=\"weekly\",OFFSET($J$13,,MATCH(V$24,$K$8:$AV$8,0))+V29-1,IF(R$9=\"bi-weekly\",OFFSET($J$14,,MATCH(V$24,$K$8:$AV$8,0))+V29-1,IF(R$9=\"Monthly\",OFFSET($J$15,,MATCH(V$24,$K$8:$AV$8,0))+V29-1,0)))","v":2.3928571428571428},{"$f":"IF(S$9=\"none\",0,IF(AND($F29=\"week 1\",$G29=\"Sun\"),OFFSET($J$10,,MATCH(X$24,$K$8:$AV$8,0)),IF(AND(OR($F29=\"week 2\",$F29=\"week 3\",$F29=\"week 4\"),S$9=\"weekly\",$G29=\"Sun\"),OFFSET($J$10,,MATCH(X$24,$K$8:$AV$8,0)),IF(AND($F29=\"week 3\",S$9=\"bi-weekly\",$G29=\"Sun\"),OFFSET($J$10,,MATCH(X$24,$K$8:$AV$8,0)),Y27+1))))","v":2},{"$f":"IF(S$9=\"weekly\",OFFSET($J$13,,MATCH(X$24,$K$8:$AV$8,0))+X29-1,IF(S$9=\"bi-weekly\",OFFSET($J$14,,MATCH(X$24,$K$8:$AV$8,0))+X29-1,IF(S$9=\"Monthly\",OFFSET($J$15,,MATCH(X$24,$K$8:$AV$8,0))+X29-1,0)))","v":2.2142857142857144},{"$f":"IF(T$9=\"none\",0,IF(AND($F29=\"week 1\",$G29=\"Sun\"),OFFSET($J$10,,MATCH(Z$24,$K$8:$AV$8,0)),IF(AND(OR($F29=\"week 2\",$F29=\"week 3\",$F29=\"week 4\"),T$9=\"weekly\",$G29=\"Sun\"),OFFSET($J$10,,MATCH(Z$24,$K$8:$AV$8,0)),IF(AND($F29=\"week 3\",T$9=\"bi-weekly\",$G29=\"Sun\"),OFFSET($J$10,,MATCH(Z$24,$K$8:$AV$8,0)),AA27+1))))","v":2},{"$f":"IF(T$9=\"weekly\",OFFSET($J$13,,MATCH(Z$24,$K$8:$AV$8,0))+Z29-1,IF(T$9=\"bi-weekly\",OFFSET($J$14,,MATCH(Z$24,$K$8:$AV$8,0))+Z29-1,IF(T$9=\"Monthly\",OFFSET($J$15,,MATCH(Z$24,$K$8:$AV$8,0))+Z29-1,0)))","v":2.0714285714285712},{"$f":"IF(U$9=\"none\",0,IF(AND($F29=\"week 1\",$G29=\"Sun\"),OFFSET($J$10,,MATCH(AB$24,$K$8:$AV$8,0)),IF(AND(OR($F29=\"week 2\",$F29=\"week 3\",$F29=\"week 4\"),U$9=\"weekly\",$G29=\"Sun\"),OFFSET($J$10,,MATCH(AB$24,$K$8:$AV$8,0)),IF(AND($F29=\"week 3\",U$9=\"bi-weekly\",$G29=\"Sun\"),OFFSET($J$10,,MATCH(AB$24,$K$8:$AV$8,0)),AC27+1))))","v":2},{"$f":"IF(U$9=\"weekly\",OFFSET($J$13,,MATCH(AB$24,$K$8:$AV$8,0))+AB29-1,IF(U$9=\"bi-weekly\",OFFSET($J$14,,MATCH(AB$24,$K$8:$AV$8,0))+AB29-1,IF(U$9=\"Monthly\",OFFSET($J$15,,MATCH(AB$24,$K$8:$AV$8,0))+AB29-1,0)))","v":2.1071428571428572},{"$f":"IF(V$9=\"none\",0,IF(AND($F29=\"week 1\",$G29=\"Sun\"),OFFSET($J$10,,MATCH(AD$24,$K$8:$AV$8,0)),IF(AND(OR($F29=\"week 2\",$F29=\"week 3\",$F29=\"week 4\"),V$9=\"weekly\",$G29=\"Sun\"),OFFSET($J$10,,MATCH(AD$24,$K$8:$AV$8,0)),IF(AND($F29=\"week 3\",V$9=\"bi-weekly\",$G29=\"Sun\"),OFFSET($J$10,,MATCH(AD$24,$K$8:$AV$8,0)),AE27+1))))","v":2},{"$f":"IF(V$9=\"weekly\",OFFSET($J$13,,MATCH(AD$24,$K$8:$AV$8,0))+AD29-1,IF(V$9=\"bi-weekly\",OFFSET($J$14,,MATCH(AD$24,$K$8:$AV$8,0))+AD29-1,IF(V$9=\"Monthly\",OFFSET($J$15,,MATCH(AD$24,$K$8:$AV$8,0))+AD29-1,0)))","v":2},{"$f":"IF(W$9=\"none\",0,IF(AND($F29=\"week 1\",$G29=\"Sun\"),OFFSET($J$10,,MATCH(AF$24,$K$8:$AV$8,0)),IF(AND(OR($F29=\"week 2\",$F29=\"week 3\",$F29=\"week 4\"),W$9=\"weekly\",$G29=\"Sun\"),OFFSET($J$10,,MATCH(AF$24,$K$8:$AV$8,0)),IF(AND($F29=\"week 3\",W$9=\"bi-weekly\",$G29=\"Sun\"),OFFSET($J$10,,MATCH(AF$24,$K$8:$AV$8,0)),AG27+1))))","v":2},{"$f":"IF(W$9=\"weekly\",OFFSET($J$13,,MATCH(AF$24,$K$8:$AV$8,0))+AF29-1,IF(W$9=\"bi-weekly\",OFFSET($J$14,,MATCH(AF$24,$K$8:$AV$8,0))+AF29-1,IF(W$9=\"Monthly\",OFFSET($J$15,,MATCH(AF$24,$K$8:$AV$8,0))+AF29-1,0)))","v":1.9285714285714288},{"$f":"IF(X$9=\"none\",0,IF(AND($F29=\"week 1\",$G29=\"Sun\"),OFFSET($J$10,,MATCH(AH$24,$K$8:$AV$8,0)),IF(AND(OR($F29=\"week 2\",$F29=\"week 3\",$F29=\"week 4\"),X$9=\"weekly\",$G29=\"Sun\"),OFFSET($J$10,,MATCH(AH$24,$K$8:$AV$8,0)),IF(AND($F29=\"week 3\",X$9=\"bi-weekly\",$G29=\"Sun\"),OFFSET($J$10,,MATCH(AH$24,$K$8:$AV$8,0)),AI27+1))))","v":2},{"$f":"IF(X$9=\"weekly\",OFFSET($J$13,,MATCH(AH$24,$K$8:$AV$8,0))+AH29-1,IF(X$9=\"bi-weekly\",OFFSET($J$14,,MATCH(AH$24,$K$8:$AV$8,0))+AH29-1,IF(X$9=\"Monthly\",OFFSET($J$15,,MATCH(AH$24,$K$8:$AV$8,0))+AH29-1,0)))","v":5.3214285714285712},{"$f":"IF(Y$9=\"none\",0,IF(AND($F29=\"week 1\",$G29=\"Sun\"),OFFSET($J$10,,MATCH(AJ$24,$K$8:$AV$8,0)),IF(AND(OR($F29=\"week 2\",$F29=\"week 3\",$F29=\"week 4\"),Y$9=\"weekly\",$G29=\"Sun\"),OFFSET($J$10,,MATCH(AJ$24,$K$8:$AV$8,0)),IF(AND($F29=\"week 3\",Y$9=\"bi-weekly\",$G29=\"Sun\"),OFFSET($J$10,,MATCH(AJ$24,$K$8:$AV$8,0)),AK27+1))))","v":2},{"$f":"IF(Y$9=\"weekly\",OFFSET($J$13,,MATCH(AJ$24,$K$8:$AV$8,0))+AJ29-1,IF(Y$9=\"bi-weekly\",OFFSET($J$14,,MATCH(AJ$24,$K$8:$AV$8,0))+AJ29-1,IF(Y$9=\"Monthly\",OFFSET($J$15,,MATCH(AJ$24,$K$8:$AV$8,0))+AJ29-1,0)))","v":4.9642857142857144},{"$f":"IF(Z$9=\"none\",0,IF(AND($F29=\"week 1\",$G29=\"Sun\"),OFFSET($J$10,,MATCH(AL$24,$K$8:$AV$8,0)),IF(AND(OR($F29=\"week 2\",$F29=\"week 3\",$F29=\"week 4\"),Z$9=\"weekly\",$G29=\"Sun\"),OFFSET($J$10,,MATCH(AL$24,$K$8:$AV$8,0)),IF(AND($F29=\"week 3\",Z$9=\"bi-weekly\",$G29=\"Sun\"),OFFSET($J$10,,MATCH(AL$24,$K$8:$AV$8,0)),AM27+1))))","v":2},{"$f":"IF(Z$9=\"weekly\",OFFSET($J$13,,MATCH(AL$24,$K$8:$AV$8,0))+AL29-1,IF(Z$9=\"bi-weekly\",OFFSET($J$14,,MATCH(AL$24,$K$8:$AV$8,0))+AL29-1,IF(Z$9=\"Monthly\",OFFSET($J$15,,MATCH(AL$24,$K$8:$AV$8,0))+AL29-1,0)))","v":4.2142857142857144},{"$f":"IF(AA$9=\"none\",0,IF(AND($F29=\"week 1\",$G29=\"Sun\"),OFFSET($J$10,,MATCH(AN$24,$K$8:$AV$8,0)),IF(AND(OR($F29=\"week 2\",$F29=\"week 3\",$F29=\"week 4\"),AA$9=\"weekly\",$G29=\"Sun\"),OFFSET($J$10,,MATCH(AN$24,$K$8:$AV$8,0)),IF(AND($F29=\"week 3\",AA$9=\"bi-weekly\",$G29=\"Sun\"),OFFSET($J$10,,MATCH(AN$24,$K$8:$AV$8,0)),AO27+1))))","v":2},{"$f":"IF(AA$9=\"weekly\",OFFSET($J$13,,MATCH(AN$24,$K$8:$AV$8,0))+AN29-1,IF(AA$9=\"bi-weekly\",OFFSET($J$14,,MATCH(AN$24,$K$8:$AV$8,0))+AN29-1,IF(AA$9=\"Monthly\",OFFSET($J$15,,MATCH(AN$24,$K$8:$AV$8,0))+AN29-1,0)))","v":3.3214285714285712},{"$f":"IF(AB$9=\"none\",0,IF(AND($F29=\"week 1\",$G29=\"Sun\"),OFFSET($J$10,,MATCH(AP$24,$K$8:$AV$8,0)),IF(AND(OR($F29=\"week 2\",$F29=\"week 3\",$F29=\"week 4\"),AB$9=\"weekly\",$G29=\"Sun\"),OFFSET($J$10,,MATCH(AP$24,$K$8:$AV$8,0)),IF(AND($F29=\"week 3\",AB$9=\"bi-weekly\",$G29=\"Sun\"),OFFSET($J$10,,MATCH(AP$24,$K$8:$AV$8,0)),AQ27+1))))","v":2},{"$f":"IF(AB$9=\"weekly\",OFFSET($J$13,,MATCH(AP$24,$K$8:$AV$8,0))+AP29-1,IF(AB$9=\"bi-weekly\",OFFSET($J$14,,MATCH(AP$24,$K$8:$AV$8,0))+AP29-1,IF(AB$9=\"Monthly\",OFFSET($J$15,,MATCH(AP$24,$K$8:$AV$8,0))+AP29-1,0)))","v":2.7142857142857144},{"$f":"IF(AC$9=\"none\",0,IF(AND($F29=\"week 1\",$G29=\"Sun\"),OFFSET($J$10,,MATCH(AR$24,$K$8:$AV$8,0)),IF(AND(OR($F29=\"week 2\",$F29=\"week 3\",$F29=\"week 4\"),AC$9=\"weekly\",$G29=\"Sun\"),OFFSET($J$10,,MATCH(AR$24,$K$8:$AV$8,0)),IF(AND($F29=\"week 3\",AC$9=\"bi-weekly\",$G29=\"Sun\"),OFFSET($J$10,,MATCH(AR$24,$K$8:$AV$8,0)),AS27+1))))","v":2},{"$f":"IF(AC$9=\"weekly\",OFFSET($J$13,,MATCH(AR$24,$K$8:$AV$8,0))+AR29-1,IF(AC$9=\"bi-weekly\",OFFSET($J$14,,MATCH(AR$24,$K$8:$AV$8,0))+AR29-1,IF(AC$9=\"Monthly\",OFFSET($J$15,,MATCH(AR$24,$K$8:$AV$8,0))+AR29-1,0)))","v":4.1785714285714288},{"$f":"IF(AD$9=\"none\",0,IF(AND($F29=\"week 1\",$G29=\"Sun\"),OFFSET($J$10,,MATCH(AT$24,$K$8:$AV$8,0)),IF(AND(OR($F29=\"week 2\",$F29=\"week 3\",$F29=\"week 4\"),AD$9=\"weekly\",$G29=\"Sun\"),OFFSET($J$10,,MATCH(AT$24,$K$8:$AV$8,0)),IF(AND($F29=\"week 3\",AD$9=\"bi-weekly\",$G29=\"Sun\"),OFFSET($J$10,,MATCH(AT$24,$K$8:$AV$8,0)),AU27+1))))","v":2},{"$f":"IF(AD$9=\"weekly\",OFFSET($J$13,,MATCH(AT$24,$K$8:$AV$8,0))+AT29-1,IF(AD$9=\"bi-weekly\",OFFSET($J$14,,MATCH(AT$24,$K$8:$AV$8,0))+AT29-1,IF(AD$9=\"Monthly\",OFFSET($J$15,,MATCH(AT$24,$K$8:$AV$8,0))+AT29-1,0)))","v":3.8928571428571423},{"$f":"IF(AE$9=\"none\",0,IF(AND($F29=\"week 1\",$G29=\"Sun\"),OFFSET($J$10,,MATCH(AV$24,$K$8:$AV$8,0)),IF(AND(OR($F29=\"week 2\",$F29=\"week 3\",$F29=\"week 4\"),AE$9=\"weekly\",$G29=\"Sun\"),OFFSET($J$10,,MATCH(AV$24,$K$8:$AV$8,0)),IF(AND($F29=\"week 3\",AE$9=\"bi-weekly\",$G29=\"Sun\"),OFFSET($J$10,,MATCH(AV$24,$K$8:$AV$8,0)),AW27+1))))","v":2},{"$f":"IF(AE$9=\"weekly\",OFFSET($J$13,,MATCH(AV$24,$K$8:$AV$8,0))+AV29-1,IF(AE$9=\"bi-weekly\",OFFSET($J$14,,MATCH(AV$24,$K$8:$AV$8,0))+AV29-1,IF(AE$9=\"Monthly\",OFFSET($J$15,,MATCH(AV$24,$K$8:$AV$8,0))+AV29-1,0)))","v":5.2142857142857144},{"$f":"IF(AF$9=\"none\",0,IF(AND($F29=\"week 1\",$G29=\"Sun\"),OFFSET($J$10,,MATCH(AX$24,$K$8:$AV$8,0)),IF(AND(OR($F29=\"week 2\",$F29=\"week 3\",$F29=\"week 4\"),AF$9=\"weekly\",$G29=\"Sun\"),OFFSET($J$10,,MATCH(AX$24,$K$8:$AV$8,0)),IF(AND($F29=\"week 3\",AF$9=\"bi-weekly\",$G29=\"Sun\"),OFFSET($J$10,,MATCH(AX$24,$K$8:$AV$8,0)),AY27+1))))","v":2},{"$f":"IF(AF$9=\"weekly\",OFFSET($J$13,,MATCH(AX$24,$K$8:$AV$8,0))+AX29-1,IF(AF$9=\"bi-weekly\",OFFSET($J$14,,MATCH(AX$24,$K$8:$AV$8,0))+AX29-1,IF(AF$9=\"Monthly\",OFFSET($J$15,,MATCH(AX$24,$K$8:$AV$8,0))+AX29-1,0)))","v":9.4285714285714288},{"$f":"IF(AG$9=\"none\",0,IF(AND($F29=\"week 1\",$G29=\"Sun\"),OFFSET($J$10,,MATCH(AZ$24,$K$8:$AV$8,0)),IF(AND(OR($F29=\"week 2\",$F29=\"week 3\",$F29=\"week 4\"),AG$9=\"weekly\",$G29=\"Sun\"),OFFSET($J$10,,MATCH(AZ$24,$K$8:$AV$8,0)),IF(AND($F29=\"week 3\",AG$9=\"bi-weekly\",$G29=\"Sun\"),OFFSET($J$10,,MATCH(AZ$24,$K$8:$AV$8,0)),BA27+1))))","v":2},{"$f":"IF(AG$9=\"weekly\",OFFSET($J$13,,MATCH(AZ$24,$K$8:$AV$8,0))+AZ29-1,IF(AG$9=\"bi-weekly\",OFFSET($J$14,,MATCH(AZ$24,$K$8:$AV$8,0))+AZ29-1,IF(AG$9=\"Monthly\",OFFSET($J$15,,MATCH(AZ$24,$K$8:$AV$8,0))+AZ29-1,0)))","v":13.5},{"$f":"IF(AH$9=\"none\",0,IF(AND($F29=\"week 1\",$G29=\"Sun\"),OFFSET($J$10,,MATCH(BB$24,$K$8:$AV$8,0)),IF(AND(OR($F29=\"week 2\",$F29=\"week 3\",$F29=\"week 4\"),AH$9=\"weekly\",$G29=\"Sun\"),OFFSET($J$10,,MATCH(BB$24,$K$8:$AV$8,0)),IF(AND($F29=\"week 3\",AH$9=\"bi-weekly\",$G29=\"Sun\"),OFFSET($J$10,,MATCH(BB$24,$K$8:$AV$8,0)),BC27+1))))","v":2},{"$f":"IF(AH$9=\"weekly\",OFFSET($J$13,,MATCH(BB$24,$K$8:$AV$8,0))+BB29-1,IF(AH$9=\"bi-weekly\",OFFSET($J$14,,MATCH(BB$24,$K$8:$AV$8,0))+BB29-1,IF(AH$9=\"Monthly\",OFFSET($J$15,,MATCH(BB$24,$K$8:$AV$8,0))+BB29-1,0)))","v":17},{"$f":"IF(AI$9=\"none\",0,IF(AND($F29=\"week 1\",$G29=\"Sun\"),OFFSET($J$10,,MATCH(BD$24,$K$8:$AV$8,0)),IF(AND(OR($F29=\"week 2\",$F29=\"week 3\",$F29=\"week 4\"),AI$9=\"weekly\",$G29=\"Sun\"),OFFSET($J$10,,MATCH(BD$24,$K$8:$AV$8,0)),IF(AND($F29=\"week 3\",AI$9=\"bi-weekly\",$G29=\"Sun\"),OFFSET($J$10,,MATCH(BD$24,$K$8:$AV$8,0)),BE27+1))))","v":2},{"$f":"IF(AI$9=\"weekly\",OFFSET($J$13,,MATCH(BD$24,$K$8:$AV$8,0))+BD29-1,IF(AI$9=\"bi-weekly\",OFFSET($J$14,,MATCH(BD$24,$K$8:$AV$8,0))+BD29-1,IF(AI$9=\"Monthly\",OFFSET($J$15,,MATCH(BD$24,$K$8:$AV$8,0))+BD29-1,0)))","v":4.2857142857142856},{"$f":"IF(AJ$9=\"none\",0,IF(AND($F29=\"week 1\",$G29=\"Sun\"),OFFSET($J$10,,MATCH(BF$24,$K$8:$AV$8,0)),IF(AND(OR($F29=\"week 2\",$F29=\"week 3\",$F29=\"week 4\"),AJ$9=\"weekly\",$G29=\"Sun\"),OFFSET($J$10,,MATCH(BF$24,$K$8:$AV$8,0)),IF(AND($F29=\"week 3\",AJ$9=\"bi-weekly\",$G29=\"Sun\"),OFFSET($J$10,,MATCH(BF$24,$K$8:$AV$8,0)),BG27+1))))","v":2},{"$f":"IF(AJ$9=\"weekly\",OFFSET($J$13,,MATCH(BF$24,$K$8:$AV$8,0))+BF29-1,IF(AJ$9=\"bi-weekly\",OFFSET($J$14,,MATCH(BF$24,$K$8:$AV$8,0))+BF29-1,IF(AJ$9=\"Monthly\",OFFSET($J$15,,MATCH(BF$24,$K$8:$AV$8,0))+BF29-1,0)))","v":7.8571428571428577},{"$f":"IF(AK$9=\"none\",0,IF(AND($F29=\"week 1\",$G29=\"Sun\"),OFFSET($J$10,,MATCH(BH$24,$K$8:$AV$8,0)),IF(AND(OR($F29=\"week 2\",$F29=\"week 3\",$F29=\"week 4\"),AK$9=\"weekly\",$G29=\"Sun\"),OFFSET($J$10,,MATCH(BH$24,$K$8:$AV$8,0)),IF(AND($F29=\"week 3\",AK$9=\"bi-weekly\",$G29=\"Sun\"),OFFSET($J$10,,MATCH(BH$24,$K$8:$AV$8,0)),BI27+1))))","v":2},{"$f":"IF(AK$9=\"weekly\",OFFSET($J$13,,MATCH(BH$24,$K$8:$AV$8,0))+BH29-1,IF(AK$9=\"bi-weekly\",OFFSET($J$14,,MATCH(BH$24,$K$8:$AV$8,0))+BH29-1,IF(AK$9=\"Monthly\",OFFSET($J$15,,MATCH(BH$24,$K$8:$AV$8,0))+BH29-1,0)))","v":11.714285714285714},{"$f":"IF(AL$9=\"none\",0,IF(AND($F29=\"week 1\",$G29=\"Sun\"),OFFSET($J$10,,MATCH(BJ$24,$K$8:$AV$8,0)),IF(AND(OR($F29=\"week 2\",$F29=\"week 3\",$F29=\"week 4\"),AL$9=\"weekly\",$G29=\"Sun\"),OFFSET($J$10,,MATCH(BJ$24,$K$8:$AV$8,0)),IF(AND($F29=\"week 3\",AL$9=\"bi-weekly\",$G29=\"Sun\"),OFFSET($J$10,,MATCH(BJ$24,$K$8:$AV$8,0)),BK27+1))))","v":2},{"$f":"IF(AL$9=\"weekly\",OFFSET($J$13,,MATCH(BJ$24,$K$8:$AV$8,0))+BJ29-1,IF(AL$9=\"bi-weekly\",OFFSET($J$14,,MATCH(BJ$24,$K$8:$AV$8,0))+BJ29-1,IF(AL$9=\"Monthly\",OFFSET($J$15,,MATCH(BJ$24,$K$8:$AV$8,0))+BJ29-1,0)))","v":2.8571428571428572},{"$f":"IF(AM$9=\"none\",0,IF(AND($F29=\"week 1\",$G29=\"Sun\"),OFFSET($J$10,,MATCH(BL$24,$K$8:$AV$8,0)),IF(AND(OR($F29=\"week 2\",$F29=\"week 3\",$F29=\"week 4\"),AM$9=\"weekly\",$G29=\"Sun\"),OFFSET($J$10,,MATCH(BL$24,$K$8:$AV$8,0)),IF(AND($F29=\"week 3\",AM$9=\"bi-weekly\",$G29=\"Sun\"),OFFSET($J$10,,MATCH(BL$24,$K$8:$AV$8,0)),BM27+1))))","v":2},{"$f":"IF(AM$9=\"weekly\",OFFSET($J$13,,MATCH(BL$24,$K$8:$AV$8,0))+BL29-1,IF(AM$9=\"bi-weekly\",OFFSET($J$14,,MATCH(BL$24,$K$8:$AV$8,0))+BL29-1,IF(AM$9=\"Monthly\",OFFSET($J$15,,MATCH(BL$24,$K$8:$AV$8,0))+BL29-1,0)))","v":18},{"$f":"IF(AN$9=\"none\",0,IF(AND($F29=\"week 1\",$G29=\"Sun\"),OFFSET($J$10,,MATCH(BN$24,$K$8:$AV$8,0)),IF(AND(OR($F29=\"week 2\",$F29=\"week 3\",$F29=\"week 4\"),AN$9=\"weekly\",$G29=\"Sun\"),OFFSET($J$10,,MATCH(BN$24,$K$8:$AV$8,0)),IF(AND($F29=\"week 3\",AN$9=\"bi-weekly\",$G29=\"Sun\"),OFFSET($J$10,,MATCH(BN$24,$K$8:$AV$8,0)),BO27+1))))","v":2},{"$f":"IF(AN$9=\"weekly\",OFFSET($J$13,,MATCH(BN$24,$K$8:$AV$8,0))+BN29-1,IF(AN$9=\"bi-weekly\",OFFSET($J$14,,MATCH(BN$24,$K$8:$AV$8,0))+BN29-1,IF(AN$9=\"Monthly\",OFFSET($J$15,,MATCH(BN$24,$K$8:$AV$8,0))+BN29-1,0)))","v":16.571428571428569},{"$f":"IF(AO$9=\"none\",0,IF(AND($F29=\"week 1\",$G29=\"Sun\"),OFFSET($J$10,,MATCH(BP$24,$K$8:$AV$8,0)),IF(AND(OR($F29=\"week 2\",$F29=\"week 3\",$F29=\"week 4\"),AO$9=\"weekly\",$G29=\"Sun\"),OFFSET($J$10,,MATCH(BP$24,$K$8:$AV$8,0)),IF(AND($F29=\"week 3\",AO$9=\"bi-weekly\",$G29=\"Sun\"),OFFSET($J$10,,MATCH(BP$24,$K$8:$AV$8,0)),BQ27+1))))","v":0},{"$f":"IF(AO$9=\"weekly\",OFFSET($J$13,,MATCH(BP$24,$K$8:$AV$8,0))+BP29-1,IF(AO$9=\"bi-weekly\",OFFSET($J$14,,MATCH(BP$24,$K$8:$AV$8,0))+BP29-1,IF(AO$9=\"Monthly\",OFFSET($J$15,,MATCH(BP$24,$K$8:$AV$8,0))+BP29-1,0)))","v":0},{"$f":"IF(AP$9=\"none\",0,IF(AND($F29=\"week 1\",$G29=\"Sun\"),OFFSET($J$10,,MATCH(BR$24,$K$8:$AV$8,0)),IF(AND(OR($F29=\"week 2\",$F29=\"week 3\",$F29=\"week 4\"),AP$9=\"weekly\",$G29=\"Sun\"),OFFSET($J$10,,MATCH(BR$24,$K$8:$AV$8,0)),IF(AND($F29=\"week 3\",AP$9=\"bi-weekly\",$G29=\"Sun\"),OFFSET($J$10,,MATCH(BR$24,$K$8:$AV$8,0)),BS27+1))))","v":0},{"$f":"IF(AP$9=\"weekly\",OFFSET($J$13,,MATCH(BR$24,$K$8:$AV$8,0))+BR29-1,IF(AP$9=\"bi-weekly\",OFFSET($J$14,,MATCH(BR$24,$K$8:$AV$8,0))+BR29-1,IF(AP$9=\"Monthly\",OFFSET($J$15,,MATCH(BR$24,$K$8:$AV$8,0))+BR29-1,0)))","v":0},{"$f":"IF(AQ$9=\"none\",0,IF(AND($F29=\"week 1\",$G29=\"Sun\"),OFFSET($J$10,,MATCH(BT$24,$K$8:$AV$8,0)),IF(AND(OR($F29=\"week 2\",$F29=\"week 3\",$F29=\"week 4\"),AQ$9=\"weekly\",$G29=\"Sun\"),OFFSET($J$10,,MATCH(BT$24,$K$8:$AV$8,0)),IF(AND($F29=\"week 3\",AQ$9=\"bi-weekly\",$G29=\"Sun\"),OFFSET($J$10,,MATCH(BT$24,$K$8:$AV$8,0)),BU27+1))))","v":0},{"$f":"IF(AQ$9=\"weekly\",OFFSET($J$13,,MATCH(BT$24,$K$8:$AV$8,0))+BT29-1,IF(AQ$9=\"bi-weekly\",OFFSET($J$14,,MATCH(BT$24,$K$8:$AV$8,0))+BT29-1,IF(AQ$9=\"Monthly\",OFFSET($J$15,,MATCH(BT$24,$K$8:$AV$8,0))+BT29-1,0)))","v":0},{"$f":"IF(AR$9=\"none\",0,IF(AND($F29=\"week 1\",$G29=\"Sun\"),OFFSET($J$10,,MATCH(BV$24,$K$8:$AV$8,0)),IF(AND(OR($F29=\"week 2\",$F29=\"week 3\",$F29=\"week 4\"),AR$9=\"weekly\",$G29=\"Sun\"),OFFSET($J$10,,MATCH(BV$24,$K$8:$AV$8,0)),IF(AND($F29=\"week 3\",AR$9=\"bi-weekly\",$G29=\"Sun\"),OFFSET($J$10,,MATCH(BV$24,$K$8:$AV$8,0)),BW27+1))))","v":0},{"$f":"IF(AR$9=\"weekly\",OFFSET($J$13,,MATCH(BV$24,$K$8:$AV$8,0))+BV29-1,IF(AR$9=\"bi-weekly\",OFFSET($J$14,,MATCH(BV$24,$K$8:$AV$8,0))+BV29-1,IF(AR$9=\"Monthly\",OFFSET($J$15,,MATCH(BV$24,$K$8:$AV$8,0))+BV29-1,0)))","v":0},{"$f":"IF(AS$9=\"none\",0,IF(AND($F29=\"week 1\",$G29=\"Sun\"),OFFSET($J$10,,MATCH(BX$24,$K$8:$AV$8,0)),IF(AND(OR($F29=\"week 2\",$F29=\"week 3\",$F29=\"week 4\"),AS$9=\"weekly\",$G29=\"Sun\"),OFFSET($J$10,,MATCH(BX$24,$K$8:$AV$8,0)),IF(AND($F29=\"week 3\",AS$9=\"bi-weekly\",$G29=\"Sun\"),OFFSET($J$10,,MATCH(BX$24,$K$8:$AV$8,0)),BY27+1))))","v":0},{"$f":"IF(AS$9=\"weekly\",OFFSET($J$13,,MATCH(BX$24,$K$8:$AV$8,0))+BX29-1,IF(AS$9=\"bi-weekly\",OFFSET($J$14,,MATCH(BX$24,$K$8:$AV$8,0))+BX29-1,IF(AS$9=\"Monthly\",OFFSET($J$15,,MATCH(BX$24,$K$8:$AV$8,0))+BX29-1,0)))","v":0},{"$f":"IF(AT$9=\"none\",0,IF(AND($F29=\"week 1\",$G29=\"Sun\"),OFFSET($J$10,,MATCH(BZ$24,$K$8:$AV$8,0)),IF(AND(OR($F29=\"week 2\",$F29=\"week 3\",$F29=\"week 4\"),AT$9=\"weekly\",$G29=\"Sun\"),OFFSET($J$10,,MATCH(BZ$24,$K$8:$AV$8,0)),IF(AND($F29=\"week 3\",AT$9=\"bi-weekly\",$G29=\"Sun\"),OFFSET($J$10,,MATCH(BZ$24,$K$8:$AV$8,0)),CA27+1))))","v":0},{"$f":"IF(AT$9=\"weekly\",OFFSET($J$13,,MATCH(BZ$24,$K$8:$AV$8,0))+BZ29-1,IF(AT$9=\"bi-weekly\",OFFSET($J$14,,MATCH(BZ$24,$K$8:$AV$8,0))+BZ29-1,IF(AT$9=\"Monthly\",OFFSET($J$15,,MATCH(BZ$24,$K$8:$AV$8,0))+BZ29-1,0)))","v":0},{"$f":"IF(AU$9=\"none\",0,IF(AND($F29=\"week 1\",$G29=\"Sun\"),OFFSET($J$10,,MATCH(CB$24,$K$8:$AV$8,0)),IF(AND(OR($F29=\"week 2\",$F29=\"week 3\",$F29=\"week 4\"),AU$9=\"weekly\",$G29=\"Sun\"),OFFSET($J$10,,MATCH(CB$24,$K$8:$AV$8,0)),IF(AND($F29=\"week 3\",AU$9=\"bi-weekly\",$G29=\"Sun\"),OFFSET($J$10,,MATCH(CB$24,$K$8:$AV$8,0)),CC27+1))))","v":0},{"$f":"IF(AU$9=\"weekly\",OFFSET($J$13,,MATCH(CB$24,$K$8:$AV$8,0))+CB29-1,IF(AU$9=\"bi-weekly\",OFFSET($J$14,,MATCH(CB$24,$K$8:$AV$8,0))+CB29-1,IF(AU$9=\"Monthly\",OFFSET($J$15,,MATCH(CB$24,$K$8:$AV$8,0))+CB29-1,0)))","v":0},{"$f":"(ROUND(I29,0)-ROUND(H29,0))+(ROUND(K29,0)-ROUND(J29,0))+(ROUND(M29,0)-ROUND(L29,0))+(ROUND(O29,0)-ROUND(N29,0))+(ROUND(Q29,0)-ROUND(P29,0))+(ROUND(S29,0)-ROUND(R29,0))+(ROUND(U29,0)-ROUND(T29,0)+(ROUND(W29,0)-ROUND(V29,0))+(ROUND(Y29,0)-ROUND(X29,0))+(ROUND(AA29,0)-ROUND(Z29,0))+(ROUND(AC29,0)-ROUND(AB29,0))+(ROUND(AE29,0)-ROUND(AD29,0))+(ROUND(AG29,0)-ROUND(AF29,0))+(ROUND(AI29,0)-ROUND(AH29,0))+(ROUND(AK29,0)-ROUND(AJ29,0))+(ROUND(AM29,0)-ROUND(AL29,0))+(ROUND(AO29,0)-ROUND(AN29,0))+(ROUND(AQ29,0)-ROUND(AP29,0))+(ROUND(AS29,0)-ROUND(AR29,0))+(ROUND(AU29,0)-ROUND(AT29,0))+(ROUND(AW29,0)-ROUND(AV29,0))+(ROUND(AY29,0)-ROUND(AX29,0))+(ROUND(BA29,0)-ROUND(AZ29,0))+(ROUND(BC29,0)-ROUND(BB29,0))+(ROUND(BE29,0)-ROUND(BD29,0))+(ROUND(BG29,0)-ROUND(BF29,0))+(ROUND(BI29,0)-ROUND(BH29,0))+(ROUND(BK29,0)-ROUND(BJ29,0))+(ROUND(BM29,0)-ROUND(BL29,0))+(ROUND(BO29,0)-ROUND(BN29,0))+(ROUND(BQ29,0)-ROUND(BP29,0))+(ROUND(BS29,0)-ROUND(BR29,0))+(ROUND(BU29,0)-ROUND(BT29,0))+(ROUND(BW29,0)-ROUND(BV29,0))+(ROUND(BY29,0)-ROUND(BX29,0))+(ROUND(CA29,0)-ROUND(BZ29,0))+(ROUND(CC29,0)-ROUND(CB29,0))+(COUNTIF($H29:$CC29,\">\"&0)/2))","v":146}]
[null,null,null,null,null,"WEEK 1","MON",{"$f":"IF(K$9=\"none\",0,IF(AND($F30=\"week 1\",$G30=\"Sun\"),OFFSET($J$10,,MATCH(H$24,$K$8:$AV$8,0)),IF(AND(OR($F30=\"week 2\",$F30=\"week 3\",$F30=\"week 4\"),K$9=\"weekly\",$G30=\"Sun\"),OFFSET($J$10,,MATCH(H$24,$K$8:$AV$8,0)),IF(AND($F30=\"week 3\",K$9=\"bi-weekly\",$G30=\"Sun\"),OFFSET($J$10,,MATCH(H$24,$K$8:$AV$8,0)),I29+1))))","v":4.25},5.5,{"$f":"IF(L$9=\"none\",0,IF(AND($F30=\"week 1\",$G30=\"Sun\"),OFFSET($J$10,,MATCH(J$24,$K$8:$AV$8,0)),IF(AND(OR($F30=\"week 2\",$F30=\"week 3\",$F30=\"week 4\"),L$9=\"weekly\",$G30=\"Sun\"),OFFSET($J$10,,MATCH(J$24,$K$8:$AV$8,0)),IF(AND($F30=\"week 3\",L$9=\"bi-weekly\",$G30=\"Sun\"),OFFSET($J$10,,MATCH(J$24,$K$8:$AV$8,0)),K29+1))))","v":7.5714285714285712},12.142857142857142,{"$f":"IF(M$9=\"none\",0,IF(AND($F30=\"week 1\",$G30=\"Sun\"),OFFSET($J$10,,MATCH(L$24,$K$8:$AV$8,0)),IF(AND(OR($F30=\"week 2\",$F30=\"week 3\",$F30=\"week 4\"),M$9=\"weekly\",$G30=\"Sun\"),OFFSET($J$10,,MATCH(L$24,$K$8:$AV$8,0)),IF(AND($F30=\"week 3\",M$9=\"bi-weekly\",$G30=\"Sun\"),OFFSET($J$10,,MATCH(L$24,$K$8:$AV$8,0)),M29+1))))","v":5.7142857142857144},8.4285714285714288,{"$f":"IF(N$9=\"none\",0,IF(AND($F30=\"week 1\",$G30=\"Sun\"),OFFSET($J$10,,MATCH(N$24,$K$8:$AV$8,0)),IF(AND(OR($F30=\"week 2\",$F30=\"week 3\",$F30=\"week 4\"),N$9=\"weekly\",$G30=\"Sun\"),OFFSET($J$10,,MATCH(N$24,$K$8:$AV$8,0)),IF(AND($F30=\"week 3\",N$9=\"bi-weekly\",$G30=\"Sun\"),OFFSET($J$10,,MATCH(N$24,$K$8:$AV$8,0)),O29+1))))","v":6.2857142857142856},9.5714285714285712,{"$f":"IF(O$9=\"none\",0,IF(AND($F30=\"week 1\",$G30=\"Sun\"),OFFSET($J$10,,MATCH(P$24,$K$8:$AV$8,0)),IF(AND(OR($F30=\"week 2\",$F30=\"week 3\",$F30=\"week 4\"),O$9=\"weekly\",$G30=\"Sun\"),OFFSET($J$10,,MATCH(P$24,$K$8:$AV$8,0)),IF(AND($F30=\"week 3\",O$9=\"bi-weekly\",$G30=\"Sun\"),OFFSET($J$10,,MATCH(P$24,$K$8:$AV$8,0)),Q29+1))))","v":2.75},2.5,{"$f":"IF(P$9=\"none\",0,IF(AND($F30=\"week 1\",$G30=\"Sun\"),OFFSET($J$10,,MATCH(R$24,$K$8:$AV$8,0)),IF(AND(OR($F30=\"week 2\",$F30=\"week 3\",$F30=\"week 4\"),P$9=\"weekly\",$G30=\"Sun\"),OFFSET($J$10,,MATCH(R$24,$K$8:$AV$8,0)),IF(AND($F30=\"week 3\",P$9=\"bi-weekly\",$G30=\"Sun\"),OFFSET($J$10,,MATCH(R$24,$K$8:$AV$8,0)),S29+1))))","v":5.1071428571428577},7.2142857142857153,{"$f":"IF(Q$9=\"none\",0,IF(AND($F30=\"week 1\",$G30=\"Sun\"),OFFSET($J$10,,MATCH(T$24,$K$8:$AV$8,0)),IF(AND(OR($F30=\"week 2\",$F30=\"week 3\",$F30=\"week 4\"),Q$9=\"weekly\",$G30=\"Sun\"),OFFSET($J$10,,MATCH(T$24,$K$8:$AV$8,0)),IF(AND($F30=\"week 3\",Q$9=\"bi-weekly\",$G30=\"Sun\"),OFFSET($J$10,,MATCH(T$24,$K$8:$AV$8,0)),U29+1))))","v":3.9642857142857144},4.9285714285714288,{"$f":"IF(R$9=\"none\",0,IF(AND($F30=\"week 1\",$G30=\"Sun\"),OFFSET($J$10,,MATCH(V$24,$K$8:$AV$8,0)),IF(AND(OR($F30=\"week 2\",$F30=\"week 3\",$F30=\"week 4\"),R$9=\"weekly\",$G30=\"Sun\"),OFFSET($J$10,,MATCH(V$24,$K$8:$AV$8,0)),IF(AND($F30=\"week 3\",R$9=\"bi-weekly\",$G30=\"Sun\"),OFFSET($J$10,,MATCH(V$24,$K$8:$AV$8,0)),W29+1))))","v":3.3928571428571428},3.7857142857142856,{"$f":"IF(S$9=\"none\",0,IF(AND($F30=\"week 1\",$G30=\"Sun\"),OFFSET($J$10,,MATCH(X$24,$K$8:$AV$8,0)),IF(AND(OR($F30=\"week 2\",$F30=\"week 3\",$F30=\"week 4\"),S$9=\"weekly\",$G30=\"Sun\"),OFFSET($J$10,,MATCH(X$24,$K$8:$AV$8,0)),IF(AND($F30=\"week 3\",S$9=\"bi-weekly\",$G30=\"Sun\"),OFFSET($J$10,,MATCH(X$24,$K$8:$AV$8,0)),Y29+1))))","v":3.2142857142857144},3.4285714285714288,{"$f":"IF(T$9=\"none\",0,IF(AND($F30=\"week 1\",$G30=\"Sun\"),OFFSET($J$10,,MATCH(Z$24,$K$8:$AV$8,0)),IF(AND(OR($F30=\"week 2\",$F30=\"week 3\",$F30=\"week 4\"),T$9=\"weekly\",$G30=\"Sun\"),OFFSET($J$10,,MATCH(Z$24,$K$8:$AV$8,0)),IF(AND($F30=\"week 3\",T$9=\"bi-weekly\",$G30=\"Sun\"),OFFSET($J$10,,MATCH(Z$24,$K$8:$AV$8,0)),AA29+1))))","v":3.0714285714285712},3.1428571428571423,{"$f":"IF(U$9=\"none\",0,IF(AND($F30=\"week 1\",$G30=\"Sun\"),OFFSET($J$10,,MATCH(AB$24,$K$8:$AV$8,0)),IF(AND(OR($F30=\"week 2\",$F30=\"week 3\",$F30=\"week 4\"),U$9=\"weekly\",$G30=\"Sun\"),OFFSET($J$10,,MATCH(AB$24,$K$8:$AV$8,0)),IF(AND($F30=\"week 3\",U$9=\"bi-weekly\",$G30=\"Sun\"),OFFSET($J$10,,MATCH(AB$24,$K$8:$AV$8,0)),AC29+1))))","v":3.1071428571428572},3.2142857142857144,{"$f":"IF(V$9=\"none\",0,IF(AND($F30=\"week 1\",$G30=\"Sun\"),OFFSET($J$10,,MATCH(AD$24,$K$8:$AV$8,0)),IF(AND(OR($F30=\"week 2\",$F30=\"week 3\",$F30=\"week 4\"),V$9=\"weekly\",$G30=\"Sun\"),OFFSET($J$10,,MATCH(AD$24,$K$8:$AV$8,0)),IF(AND($F30=\"week 3\",V$9=\"bi-weekly\",$G30=\"Sun\"),OFFSET($J$10,,MATCH(AD$24,$K$8:$AV$8,0)),AE29+1))))","v":3},3,{"$f":"IF(W$9=\"none\",0,IF(AND($F30=\"week 1\",$G30=\"Sun\"),OFFSET($J$10,,MATCH(AF$24,$K$8:$AV$8,0)),IF(AND(OR($F30=\"week 2\",$F30=\"week 3\",$F30=\"week 4\"),W$9=\"weekly\",$G30=\"Sun\"),OFFSET($J$10,,MATCH(AF$24,$K$8:$AV$8,0)),IF(AND($F30=\"week 3\",W$9=\"bi-weekly\",$G30=\"Sun\"),OFFSET($J$10,,MATCH(AF$24,$K$8:$AV$8,0)),AG29+1))))","v":2.9285714285714288},2.8571428571428577,{"$f":"IF(X$9=\"none\",0,IF(AND($F30=\"week 1\",$G30=\"Sun\"),OFFSET($J$10,,MATCH(AH$24,$K$8:$AV$8,0)),IF(AND(OR($F30=\"week 2\",$F30=\"week 3\",$F30=\"week 4\"),X$9=\"weekly\",$G30=\"Sun\"),OFFSET($J$10,,MATCH(AH$24,$K$8:$AV$8,0)),IF(AND($F30=\"week 3\",X$9=\"bi-weekly\",$G30=\"Sun\"),OFFSET($J$10,,MATCH(AH$24,$K$8:$AV$8,0)),AI29+1))))","v":6.3214285714285712},9.6428571428571423,{"$f":"IF(Y$9=\"none\",0,IF(AND($F30=\"week 1\",$G30=\"Sun\"),OFFSET($J$10,,MATCH(AJ$24,$K$8:$AV$8,0)),IF(AND(OR($F30=\"week 2\",$F30=\"week 3\",$F30=\"week 4\"),Y$9=\"weekly\",$G30=\"Sun\"),OFFSET($J$10,,MATCH(AJ$24,$K$8:$AV$8,0)),IF(AND($F30=\"week 3\",Y$9=\"bi-weekly\",$G30=\"Sun\"),OFFSET($J$10,,MATCH(AJ$24,$K$8:$AV$8,0)),AK29+1))))","v":5.9642857142857144},8.9285714285714288,{"$f":"IF(Z$9=\"none\",0,IF(AND($F30=\"week 1\",$G30=\"Sun\"),OFFSET($J$10,,MATCH(AL$24,$K$8:$AV$8,0)),IF(AND(OR($F30=\"week 2\",$F30=\"week 3\",$F30=\"week 4\"),Z$9=\"weekly\",$G30=\"Sun\"),OFFSET($J$10,,MATCH(AL$24,$K$8:$AV$8,0)),IF(AND($F30=\"week 3\",Z$9=\"bi-weekly\",$G30=\"Sun\"),OFFSET($J$10,,MATCH(AL$24,$K$8:$AV$8,0)),AM29+1))))","v":5.2142857142857144},7.4285714285714288,{"$f":"IF(AA$9=\"none\",0,IF(AND($F30=\"week 1\",$G30=\"Sun\"),OFFSET($J$10,,MATCH(AN$24,$K$8:$AV$8,0)),IF(AND(OR($F30=\"week 2\",$F30=\"week 3\",$F30=\"week 4\"),AA$9=\"weekly\",$G30=\"Sun\"),OFFSET($J$10,,MATCH(AN$24,$K$8:$AV$8,0)),IF(AND($F30=\"week 3\",AA$9=\"bi-weekly\",$G30=\"Sun\"),OFFSET($J$10,,MATCH(AN$24,$K$8:$AV$8,0)),AO29+1))))","v":4.3214285714285712},5.6428571428571423,{"$f":"IF(AB$9=\"none\",0,IF(AND($F30=\"week 1\",$G30=\"Sun\"),OFFSET($J$10,,MATCH(AP$24,$K$8:$AV$8,0)),IF(AND(OR($F30=\"week 2\",$F30=\"week 3\",$F30=\"week 4\"),AB$9=\"weekly\",$G30=\"Sun\"),OFFSET($J$10,,MATCH(AP$24,$K$8:$AV$8,0)),IF(AND($F30=\"week 3\",AB$9=\"bi-weekly\",$G30=\"Sun\"),OFFSET($J$10,,MATCH(AP$24,$K$8:$AV$8,0)),AQ29+1))))","v":3.7142857142857144},{"$f":"IF(AB$9=\"weekly\",OFFSET($J$13,,MATCH(AP$24,$K$8:$AV$8,0))+AP30-1,IF(AB$9=\"bi-weekly\",OFFSET($J$14,,MATCH(AP$24,$K$8:$AV$8,0))+AP30-1,IF(AB$9=\"Monthly\",OFFSET($J$15,,MATCH(AP$24,$K$8:$AV$8,0))+AP30-1,0)))","v":4.4285714285714288},{"$f":"IF(AC$9=\"none\",0,IF(AND($F30=\"week 1\",$G30=\"Sun\"),OFFSET($J$10,,MATCH(AR$24,$K$8:$AV$8,0)),IF(AND(OR($F30=\"week 2\",$F30=\"week 3\",$F30=\"week 4\"),AC$9=\"weekly\",$G30=\"Sun\"),OFFSET($J$10,,MATCH(AR$24,$K$8:$AV$8,0)),IF(AND($F30=\"week 3\",AC$9=\"bi-weekly\",$G30=\"Sun\"),OFFSET($J$10,,MATCH(AR$24,$K$8:$AV$8,0)),AS29+1))))","v":5.1785714285714288},7.3571428571428577,{"$f":"IF(AD$9=\"none\",0,IF(AND($F30=\"week 1\",$G30=\"Sun\"),OFFSET($J$10,,MATCH(AT$24,$K$8:$AV$8,0)),IF(AND(OR($F30=\"week 2\",$F30=\"week 3\",$F30=\"week 4\"),AD$9=\"weekly\",$G30=\"Sun\"),OFFSET($J$10,,MATCH(AT$24,$K$8:$AV$8,0)),IF(AND($F30=\"week 3\",AD$9=\"bi-weekly\",$G30=\"Sun\"),OFFSET($J$10,,MATCH(AT$24,$K$8:$AV$8,0)),AU29+1))))","v":4.8928571428571423},6.7857142857142847,{"$f":"IF(AE$9=\"none\",0,IF(AND($F30=\"week 1\",$G30=\"Sun\"),OFFSET($J$10,,MATCH(AV$24,$K$8:$AV$8,0)),IF(AND(OR($F30=\"week 2\",$F30=\"week 3\",$F30=\"week 4\"),AE$9=\"weekly\",$G30=\"Sun\"),OFFSET($J$10,,MATCH(AV$24,$K$8:$AV$8,0)),IF(AND($F30=\"week 3\",AE$9=\"bi-weekly\",$G30=\"Sun\"),OFFSET($J$10,,MATCH(AV$24,$K$8:$AV$8,0)),AW29+1))))","v":6.2142857142857144},9.4285714285714288,{"$f":"IF(AF$9=\"none\",0,IF(AND($F30=\"week 1\",$G30=\"Sun\"),OFFSET($J$10,,MATCH(AX$24,$K$8:$AV$8,0)),IF(AND(OR($F30=\"week 2\",$F30=\"week 3\",$F30=\"week 4\"),AF$9=\"weekly\",$G30=\"Sun\"),OFFSET($J$10,,MATCH(AX$24,$K$8:$AV$8,0)),IF(AND($F30=\"week 3\",AF$9=\"bi-weekly\",$G30=\"Sun\"),OFFSET($J$10,,MATCH(AX$24,$K$8:$AV$8,0)),AY29+1))))","v":10.428571428571429},17.857142857142858,{"$f":"IF(AG$9=\"none\",0,IF(AND($F30=\"week 1\",$G30=\"Sun\"),OFFSET($J$10,,MATCH(AZ$24,$K$8:$AV$8,0)),IF(AND(OR($F30=\"week 2\",$F30=\"week 3\",$F30=\"week 4\"),AG$9=\"weekly\",$G30=\"Sun\"),OFFSET($J$10,,MATCH(AZ$24,$K$8:$AV$8,0)),IF(AND($F30=\"week 3\",AG$9=\"bi-weekly\",$G30=\"Sun\"),OFFSET($J$10,,MATCH(AZ$24,$K$8:$AV$8,0)),BA29+1))))","v":14.5},26,{"$f":"IF(AH$9=\"none\",0,IF(AND($F30=\"week 1\",$G30=\"Sun\"),OFFSET($J$10,,MATCH(BB$24,$K$8:$AV$8,0)),IF(AND(OR($F30=\"week 2\",$F30=\"week 3\",$F30=\"week 4\"),AH$9=\"weekly\",$G30=\"Sun\"),OFFSET($J$10,,MATCH(BB$24,$K$8:$AV$8,0)),IF(AND($F30=\"week 3\",AH$9=\"bi-weekly\",$G30=\"Sun\"),OFFSET($J$10,,MATCH(BB$24,$K$8:$AV$8,0)),BC29+1))))","v":18},33,{"$f":"IF(AI$9=\"none\",0,IF(AND($F30=\"week 1\",$G30=\"Sun\"),OFFSET($J$10,,MATCH(BD$24,$K$8:$AV$8,0)),IF(AND(OR($F30=\"week 2\",$F30=\"week 3\",$F30=\"week 4\"),AI$9=\"weekly\",$G30=\"Sun\"),OFFSET($J$10,,MATCH(BD$24,$K$8:$AV$8,0)),IF(AND($F30=\"week 3\",AI$9=\"bi-weekly\",$G30=\"Sun\"),OFFSET($J$10,,MATCH(BD$24,$K$8:$AV$8,0)),BE29+1))))","v":5.2857142857142856},7.5714285714285712,{"$f":"IF(AJ$9=\"none\",0,IF(AND($F30=\"week 1\",$G30=\"Sun\"),OFFSET($J$10,,MATCH(BF$24,$K$8:$AV$8,0)),IF(AND(OR($F30=\"week 2\",$F30=\"week 3\",$F30=\"week 4\"),AJ$9=\"weekly\",$G30=\"Sun\"),OFFSET($J$10,,MATCH(BF$24,$K$8:$AV$8,0)),IF(AND($F30=\"week 3\",AJ$9=\"bi-weekly\",$G30=\"Sun\"),OFFSET($J$10,,MATCH(BF$24,$K$8:$AV$8,0)),BG29+1))))","v":8.8571428571428577},14.714285714285715,{"$f":"IF(AK$9=\"none\",0,IF(AND($F30=\"week 1\",$G30=\"Sun\"),OFFSET($J$10,,MATCH(BH$24,$K$8:$AV$8,0)),IF(AND(OR($F30=\"week 2\",$F30=\"week 3\",$F30=\"week 4\"),AK$9=\"weekly\",$G30=\"Sun\"),OFFSET($J$10,,MATCH(BH$24,$K$8:$AV$8,0)),IF(AND($F30=\"week 3\",AK$9=\"bi-weekly\",$G30=\"Sun\"),OFFSET($J$10,,MATCH(BH$24,$K$8:$AV$8,0)),BI29+1))))","v":12.714285714285714},22.428571428571427,{"$f":"IF(AL$9=\"none\",0,IF(AND($F30=\"week 1\",$G30=\"Sun\"),OFFSET($J$10,,MATCH(BJ$24,$K$8:$AV$8,0)),IF(AND(OR($F30=\"week 2\",$F30=\"week 3\",$F30=\"week 4\"),AL$9=\"weekly\",$G30=\"Sun\"),OFFSET($J$10,,MATCH(BJ$24,$K$8:$AV$8,0)),IF(AND($F30=\"week 3\",AL$9=\"bi-weekly\",$G30=\"Sun\"),OFFSET($J$10,,MATCH(BJ$24,$K$8:$AV$8,0)),BK29+1))))","v":3.8571428571428572},{"$f":"IF(AL$9=\"weekly\",OFFSET($J$13,,MATCH(BJ$24,$K$8:$AV$8,0))+BJ30-1,IF(AL$9=\"bi-weekly\",OFFSET($J$14,,MATCH(BJ$24,$K$8:$AV$8,0))+BJ30-1,IF(AL$9=\"Monthly\",OFFSET($J$15,,MATCH(BJ$24,$K$8:$AV$8,0))+BJ30-1,0)))","v":4.7142857142857144},{"$f":"IF(AM$9=\"none\",0,IF(AND($F30=\"week 1\",$G30=\"Sun\"),OFFSET($J$10,,MATCH(BL$24,$K$8:$AV$8,0)),IF(AND(OR($F30=\"week 2\",$F30=\"week 3\",$F30=\"week 4\"),AM$9=\"weekly\",$G30=\"Sun\"),OFFSET($J$10,,MATCH(BL$24,$K$8:$AV$8,0)),IF(AND($F30=\"week 3\",AM$9=\"bi-weekly\",$G30=\"Sun\"),OFFSET($J$10,,MATCH(BL$24,$K$8:$AV$8,0)),BM29+1))))","v":19},{"$f":"IF(AM$9=\"weekly\",OFFSET($J$13,,MATCH(BL$24,$K$8:$AV$8,0))+BL30-1,IF(AM$9=\"bi-weekly\",OFFSET($J$14,,MATCH(BL$24,$K$8:$AV$8,0))+BL30-1,IF(AM$9=\"Monthly\",OFFSET($J$15,,MATCH(BL$24,$K$8:$AV$8,0))+BL30-1,0)))","v":35},{"$f":"IF(AN$9=\"none\",0,IF(AND($F30=\"week 1\",$G30=\"Sun\"),OFFSET($J$10,,MATCH(BN$24,$K$8:$AV$8,0)),IF(AND(OR($F30=\"week 2\",$F30=\"week 3\",$F30=\"week 4\"),AN$9=\"weekly\",$G30=\"Sun\"),OFFSET($J$10,,MATCH(BN$24,$K$8:$AV$8,0)),IF(AND($F30=\"week 3\",AN$9=\"bi-weekly\",$G30=\"Sun\"),OFFSET($J$10,,MATCH(BN$24,$K$8:$AV$8,0)),BO29+1))))","v":17.571428571428569},{"$f":"IF(AN$9=\"weekly\",OFFSET($J$13,,MATCH(BN$24,$K$8:$AV$8,0))+BN30-1,IF(AN$9=\"bi-weekly\",OFFSET($J$14,,MATCH(BN$24,$K$8:$AV$8,0))+BN30-1,IF(AN$9=\"Monthly\",OFFSET($J$15,,MATCH(BN$24,$K$8:$AV$8,0))+BN30-1,0)))","v":32.142857142857139},{"$f":"IF(AO$9=\"none\",0,IF(AND($F30=\"week 1\",$G30=\"Sun\"),OFFSET($J$10,,MATCH(BP$24,$K$8:$AV$8,0)),IF(AND(OR($F30=\"week 2\",$F30=\"week 3\",$F30=\"week 4\"),AO$9=\"weekly\",$G30=\"Sun\"),OFFSET($J$10,,MATCH(BP$24,$K$8:$AV$8,0)),IF(AND($F30=\"week 3\",AO$9=\"bi-weekly\",$G30=\"Sun\"),OFFSET($J$10,,MATCH(BP$24,$K$8:$AV$8,0)),BQ29+1))))","v":0},{"$f":"IF(AO$9=\"weekly\",OFFSET($J$13,,MATCH(BP$24,$K$8:$AV$8,0))+BP30-1,IF(AO$9=\"bi-weekly\",OFFSET($J$14,,MATCH(BP$24,$K$8:$AV$8,0))+BP30-1,IF(AO$9=\"Monthly\",OFFSET($J$15,,MATCH(BP$24,$K$8:$AV$8,0))+BP30-1,0)))","v":0},{"$f":"IF(AP$9=\"none\",0,IF(AND($F30=\"week 1\",$G30=\"Sun\"),OFFSET($J$10,,MATCH(BR$24,$K$8:$AV$8,0)),IF(AND(OR($F30=\"week 2\",$F30=\"week 3\",$F30=\"week 4\"),AP$9=\"weekly\",$G30=\"Sun\"),OFFSET($J$10,,MATCH(BR$24,$K$8:$AV$8,0)),IF(AND($F30=\"week 3\",AP$9=\"bi-weekly\",$G30=\"Sun\"),OFFSET($J$10,,MATCH(BR$24,$K$8:$AV$8,0)),BS29+1))))","v":0},0,{"$f":"IF(AQ$9=\"none\",0,IF(AND($F30=\"week 1\",$G30=\"Sun\"),OFFSET($J$10,,MATCH(BT$24,$K$8:$AV$8,0)),IF(AND(OR($F30=\"week 2\",$F30=\"week 3\",$F30=\"week 4\"),AQ$9=\"weekly\",$G30=\"Sun\"),OFFSET($J$10,,MATCH(BT$24,$K$8:$AV$8,0)),IF(AND($F30=\"week 3\",AQ$9=\"bi-weekly\",$G30=\"Sun\"),OFFSET($J$10,,MATCH(BT$24,$K$8:$AV$8,0)),BU29+1))))","v":0},{"$f":"IF(AQ$9=\"weekly\",OFFSET($J$13,,MATCH(BT$24,$K$8:$AV$8,0))+BT30-1,IF(AQ$9=\"bi-weekly\",OFFSET($J$14,,MATCH(BT$24,$K$8:$AV$8,0))+BT30-1,IF(AQ$9=\"Monthly\",OFFSET($J$15,,MATCH(BT$24,$K$8:$AV$8,0))+BT30-1,0)))","v":0},{"$f":"IF(AR$9=\"none\",0,IF(AND($F30=\"week 1\",$G30=\"Sun\"),OFFSET($J$10,,MATCH(BV$24,$K$8:$AV$8,0)),IF(AND(OR($F30=\"week 2\",$F30=\"week 3\",$F30=\"week 4\"),AR$9=\"weekly\",$G30=\"Sun\"),OFFSET($J$10,,MATCH(BV$24,$K$8:$AV$8,0)),IF(AND($F30=\"week 3\",AR$9=\"bi-weekly\",$G30=\"Sun\"),OFFSET($J$10,,MATCH(BV$24,$K$8:$AV$8,0)),BW29+1))))","v":0},{"$f":"IF(AR$9=\"weekly\",OFFSET($J$13,,MATCH(BV$24,$K$8:$AV$8,0))+BV30-1,IF(AR$9=\"bi-weekly\",OFFSET($J$14,,MATCH(BV$24,$K$8:$AV$8,0))+BV30-1,IF(AR$9=\"Monthly\",OFFSET($J$15,,MATCH(BV$24,$K$8:$AV$8,0))+BV30-1,0)))","v":0},{"$f":"IF(AS$9=\"none\",0,IF(AND($F30=\"week 1\",$G30=\"Sun\"),OFFSET($J$10,,MATCH(BX$24,$K$8:$AV$8,0)),IF(AND(OR($F30=\"week 2\",$F30=\"week 3\",$F30=\"week 4\"),AS$9=\"weekly\",$G30=\"Sun\"),OFFSET($J$10,,MATCH(BX$24,$K$8:$AV$8,0)),IF(AND($F30=\"week 3\",AS$9=\"bi-weekly\",$G30=\"Sun\"),OFFSET($J$10,,MATCH(BX$24,$K$8:$AV$8,0)),BY29+1))))","v":0},{"$f":"IF(AS$9=\"weekly\",OFFSET($J$13,,MATCH(BX$24,$K$8:$AV$8,0))+BX30-1,IF(AS$9=\"bi-weekly\",OFFSET($J$14,,MATCH(BX$24,$K$8:$AV$8,0))+BX30-1,IF(AS$9=\"Monthly\",OFFSET($J$15,,MATCH(BX$24,$K$8:$AV$8,0))+BX30-1,0)))","v":0},{"$f":"IF(AT$9=\"none\",0,IF(AND($F30=\"week 1\",$G30=\"Sun\"),OFFSET($J$10,,MATCH(BZ$24,$K$8:$AV$8,0)),IF(AND(OR($F30=\"week 2\",$F30=\"week 3\",$F30=\"week 4\"),AT$9=\"weekly\",$G30=\"Sun\"),OFFSET($J$10,,MATCH(BZ$24,$K$8:$AV$8,0)),IF(AND($F30=\"week 3\",AT$9=\"bi-weekly\",$G30=\"Sun\"),OFFSET($J$10,,MATCH(BZ$24,$K$8:$AV$8,0)),CA29+1))))","v":0},{"$f":"IF(AT$9=\"weekly\",OFFSET($J$13,,MATCH(BZ$24,$K$8:$AV$8,0))+BZ30-1,IF(AT$9=\"bi-weekly\",OFFSET($J$14,,MATCH(BZ$24,$K$8:$AV$8,0))+BZ30-1,IF(AT$9=\"Monthly\",OFFSET($J$15,,MATCH(BZ$24,$K$8:$AV$8,0))+BZ30-1,0)))","v":0},{"$f":"IF(AU$9=\"none\",0,IF(AND($F30=\"week 1\",$G30=\"Sun\"),OFFSET($J$10,,MATCH(CB$24,$K$8:$AV$8,0)),IF(AND(OR($F30=\"week 2\",$F30=\"week 3\",$F30=\"week 4\"),AU$9=\"weekly\",$G30=\"Sun\"),OFFSET($J$10,,MATCH(CB$24,$K$8:$AV$8,0)),IF(AND($F30=\"week 3\",AU$9=\"bi-weekly\",$G30=\"Sun\"),OFFSET($J$10,,MATCH(CB$24,$K$8:$AV$8,0)),CC29+1))))","v":0},{"$f":"IF(AU$9=\"weekly\",OFFSET($J$13,,MATCH(CB$24,$K$8:$AV$8,0))+CB30-1,IF(AU$9=\"bi-weekly\",OFFSET($J$14,,MATCH(CB$24,$K$8:$AV$8,0))+CB30-1,IF(AU$9=\"Monthly\",OFFSET($J$15,,MATCH(CB$24,$K$8:$AV$8,0))+CB30-1,0)))","v":0},{"$f":"(ROUND(I30,0)-ROUND(H30,0))+(ROUND(K30,0)-ROUND(J30,0))+(ROUND(M30,0)-ROUND(L30,0))+(ROUND(O30,0)-ROUND(N30,0))+(ROUND(Q30,0)-ROUND(P30,0))+(ROUND(S30,0)-ROUND(R30,0))+(ROUND(U30,0)-ROUND(T30,0)+(ROUND(W30,0)-ROUND(V30,0))+(ROUND(Y30,0)-ROUND(X30,0))+(ROUND(AA30,0)-ROUND(Z30,0))+(ROUND(AC30,0)-ROUND(AB30,0))+(ROUND(AE30,0)-ROUND(AD30,0))+(ROUND(AG30,0)-ROUND(AF30,0))+(ROUND(AI30,0)-ROUND(AH30,0))+(ROUND(AK30,0)-ROUND(AJ30,0))+(ROUND(AM30,0)-ROUND(AL30,0))+(ROUND(AO30,0)-ROUND(AN30,0))+(ROUND(AQ30,0)-ROUND(AP30,0))+(ROUND(AS30,0)-ROUND(AR30,0))+(ROUND(AU30,0)-ROUND(AT30,0))+(ROUND(AW30,0)-ROUND(AV30,0))+(ROUND(AY30,0)-ROUND(AX30,0))+(ROUND(BA30,0)-ROUND(AZ30,0))+(ROUND(BC30,0)-ROUND(BB30,0))+(ROUND(BE30,0)-ROUND(BD30,0))+(ROUND(BG30,0)-ROUND(BF30,0))+(ROUND(BI30,0)-ROUND(BH30,0))+(ROUND(BK30,0)-ROUND(BJ30,0))+(ROUND(BM30,0)-ROUND(BL30,0))+(ROUND(BO30,0)-ROUND(BN30,0))+(ROUND(BQ30,0)-ROUND(BP30,0))+(ROUND(BS30,0)-ROUND(BR30,0))+(ROUND(BU30,0)-ROUND(BT30,0))+(ROUND(BW30,0)-ROUND(BV30,0))+(ROUND(BY30,0)-ROUND(BX30,0))+(ROUND(CA30,0)-ROUND(BZ30,0))+(ROUND(CC30,0)-ROUND(CB30,0))+(COUNTIF($H30:$CC30,\">\"&0)/2))","v":147}]
[null,null,null,null,null,"WEEK 1","TUE",6.5,7.75,13.142857142857142,17.714285714285715,9.4285714285714288,12.142857142857142,10.571428571428571,13.857142857142858,3.5,3.25,8.2142857142857153,10.321428571428573,5.9285714285714288,6.8928571428571432,4.7857142857142856,5.1785714285714288,4.4285714285714288,4.6428571428571432,4.1428571428571423,4.2142857142857135,4.2142857142857144,4.3214285714285712,4,4,3.8571428571428577,3.7857142857142865,10.642857142857142,13.964285714285714,9.9285714285714288,12.892857142857142,8.4285714285714288,10.642857142857142,6.6428571428571423,7.9642857142857135,{"$f":"IF(AB$9=\"none\",0,IF(AND($F31=\"week 1\",$G31=\"Sun\"),OFFSET($J$10,,MATCH(AP$24,$K$8:$AV$8,0)),IF(AND(OR($F31=\"week 2\",$F31=\"week 3\",$F31=\"week 4\"),AB$9=\"weekly\",$G31=\"Sun\"),OFFSET($J$10,,MATCH(AP$24,$K$8:$AV$8,0)),IF(AND($F31=\"week 3\",AB$9=\"bi-weekly\",$G31=\"Sun\"),OFFSET($J$10,,MATCH(AP$24,$K$8:$AV$8,0)),AQ30+1))))","v":5.4285714285714288},{"$f":"IF(AB$9=\"weekly\",OFFSET($J$13,,MATCH(AP$24,$K$8:$AV$8,0))+AP31-1,IF(AB$9=\"bi-weekly\",OFFSET($J$14,,MATCH(AP$24,$K$8:$AV$8,0))+AP31-1,IF(AB$9=\"Monthly\",OFFSET($J$15,,MATCH(AP$24,$K$8:$AV$8,0))+AP31-1,0)))","v":6.1428571428571432},8.3571428571428577,10.535714285714286,7.7857142857142847,9.678571428571427,10.428571428571429,13.642857142857142,18.857142857142858,26.285714285714285,27,38.5,34,49,8.5714285714285712,10.857142857142858,15.714285714285715,21.571428571428573,23.428571428571427,33.142857142857139,{"$f":"IF(AL$9=\"none\",0,IF(AND($F31=\"week 1\",$G31=\"Sun\"),OFFSET($J$10,,MATCH(BJ$24,$K$8:$AV$8,0)),IF(AND(OR($F31=\"week 2\",$F31=\"week 3\",$F31=\"week 4\"),AL$9=\"weekly\",$G31=\"Sun\"),OFFSET($J$10,,MATCH(BJ$24,$K$8:$AV$8,0)),IF(AND($F31=\"week 3\",AL$9=\"bi-weekly\",$G31=\"Sun\"),OFFSET($J$10,,MATCH(BJ$24,$K$8:$AV$8,0)),BK30+1))))","v":5.7142857142857144},{"$f":"IF(AL$9=\"weekly\",OFFSET($J$13,,MATCH(BJ$24,$K$8:$AV$8,0))+BJ31-1,IF(AL$9=\"bi-weekly\",OFFSET($J$14,,MATCH(BJ$24,$K$8:$AV$8,0))+BJ31-1,IF(AL$9=\"Monthly\",OFFSET($J$15,,MATCH(BJ$24,$K$8:$AV$8,0))+BJ31-1,0)))","v":6.5714285714285712},{"$f":"IF(AM$9=\"none\",0,IF(AND($F31=\"week 1\",$G31=\"Sun\"),OFFSET($J$10,,MATCH(BL$24,$K$8:$AV$8,0)),IF(AND(OR($F31=\"week 2\",$F31=\"week 3\",$F31=\"week 4\"),AM$9=\"weekly\",$G31=\"Sun\"),OFFSET($J$10,,MATCH(BL$24,$K$8:$AV$8,0)),IF(AND($F31=\"week 3\",AM$9=\"bi-weekly\",$G31=\"Sun\"),OFFSET($J$10,,MATCH(BL$24,$K$8:$AV$8,0)),BM30+1))))","v":36},{"$f":"IF(AM$9=\"weekly\",OFFSET($J$13,,MATCH(BL$24,$K$8:$AV$8,0))+BL31-1,IF(AM$9=\"bi-weekly\",OFFSET($J$14,,MATCH(BL$24,$K$8:$AV$8,0))+BL31-1,IF(AM$9=\"Monthly\",OFFSET($J$15,,MATCH(BL$24,$K$8:$AV$8,0))+BL31-1,0)))","v":52},{"$f":"IF(AN$9=\"none\",0,IF(AND($F31=\"week 1\",$G31=\"Sun\"),OFFSET($J$10,,MATCH(BN$24,$K$8:$AV$8,0)),IF(AND(OR($F31=\"week 2\",$F31=\"week 3\",$F31=\"week 4\"),AN$9=\"weekly\",$G31=\"Sun\"),OFFSET($J$10,,MATCH(BN$24,$K$8:$AV$8,0)),IF(AND($F31=\"week 3\",AN$9=\"bi-weekly\",$G31=\"Sun\"),OFFSET($J$10,,MATCH(BN$24,$K$8:$AV$8,0)),BO30+1))))","v":33.142857142857139},{"$f":"IF(AN$9=\"weekly\",OFFSET($J$13,,MATCH(BN$24,$K$8:$AV$8,0))+BN31-1,IF(AN$9=\"bi-weekly\",OFFSET($J$14,,MATCH(BN$24,$K$8:$AV$8,0))+BN31-1,IF(AN$9=\"Monthly\",OFFSET($J$15,,MATCH(BN$24,$K$8:$AV$8,0))+BN31-1,0)))","v":47.714285714285708},{"$f":"IF(AO$9=\"none\",0,IF(AND($F31=\"week 1\",$G31=\"Sun\"),OFFSET($J$10,,MATCH(BP$24,$K$8:$AV$8,0)),IF(AND(OR($F31=\"week 2\",$F31=\"week 3\",$F31=\"week 4\"),AO$9=\"weekly\",$G31=\"Sun\"),OFFSET($J$10,,MATCH(BP$24,$K$8:$AV$8,0)),IF(AND($F31=\"week 3\",AO$9=\"bi-weekly\",$G31=\"Sun\"),OFFSET($J$10,,MATCH(BP$24,$K$8:$AV$8,0)),BQ30+1))))","v":0},{"$f":"IF(AO$9=\"weekly\",OFFSET($J$13,,MATCH(BP$24,$K$8:$AV$8,0))+BP31-1,IF(AO$9=\"bi-weekly\",OFFSET($J$14,,MATCH(BP$24,$K$8:$AV$8,0))+BP31-1,IF(AO$9=\"Monthly\",OFFSET($J$15,,MATCH(BP$24,$K$8:$AV$8,0))+BP31-1,0)))","v":0},0,0,{"$f":"IF(AQ$9=\"none\",0,IF(AND($F31=\"week 1\",$G31=\"Sun\"),OFFSET($J$10,,MATCH(BT$24,$K$8:$AV$8,0)),IF(AND(OR($F31=\"week 2\",$F31=\"week 3\",$F31=\"week 4\"),AQ$9=\"weekly\",$G31=\"Sun\"),OFFSET($J$10,,MATCH(BT$24,$K$8:$AV$8,0)),IF(AND($F31=\"week 3\",AQ$9=\"bi-weekly\",$G31=\"Sun\"),OFFSET($J$10,,MATCH(BT$24,$K$8:$AV$8,0)),BU30+1))))","v":0},{"$f":"IF(AQ$9=\"weekly\",OFFSET($J$13,,MATCH(BT$24,$K$8:$AV$8,0))+BT31-1,IF(AQ$9=\"bi-weekly\",OFFSET($J$14,,MATCH(BT$24,$K$8:$AV$8,0))+BT31-1,IF(AQ$9=\"Monthly\",OFFSET($J$15,,MATCH(BT$24,$K$8:$AV$8,0))+BT31-1,0)))","v":0},{"$f":"IF(AR$9=\"none\",0,IF(AND($F31=\"week 1\",$G31=\"Sun\"),OFFSET($J$10,,MATCH(BV$24,$K$8:$AV$8,0)),IF(AND(OR($F31=\"week 2\",$F31=\"week 3\",$F31=\"week 4\"),AR$9=\"weekly\",$G31=\"Sun\"),OFFSET($J$10,,MATCH(BV$24,$K$8:$AV$8,0)),IF(AND($F31=\"week 3\",AR$9=\"bi-weekly\",$G31=\"Sun\"),OFFSET($J$10,,MATCH(BV$24,$K$8:$AV$8,0)),BW30+1))))","v":0},{"$f":"IF(AR$9=\"weekly\",OFFSET($J$13,,MATCH(BV$24,$K$8:$AV$8,0))+BV31-1,IF(AR$9=\"bi-weekly\",OFFSET($J$14,,MATCH(BV$24,$K$8:$AV$8,0))+BV31-1,IF(AR$9=\"Monthly\",OFFSET($J$15,,MATCH(BV$24,$K$8:$AV$8,0))+BV31-1,0)))","v":0},{"$f":"IF(AS$9=\"none\",0,IF(AND($F31=\"week 1\",$G31=\"Sun\"),OFFSET($J$10,,MATCH(BX$24,$K$8:$AV$8,0)),IF(AND(OR($F31=\"week 2\",$F31=\"week 3\",$F31=\"week 4\"),AS$9=\"weekly\",$G31=\"Sun\"),OFFSET($J$10,,MATCH(BX$24,$K$8:$AV$8,0)),IF(AND($F31=\"week 3\",AS$9=\"bi-weekly\",$G31=\"Sun\"),OFFSET($J$10,,MATCH(BX$24,$K$8:$AV$8,0)),BY30+1))))","v":0},{"$f":"IF(AS$9=\"weekly\",OFFSET($J$13,,MATCH(BX$24,$K$8:$AV$8,0))+BX31-1,IF(AS$9=\"bi-weekly\",OFFSET($J$14,,MATCH(BX$24,$K$8:$AV$8,0))+BX31-1,IF(AS$9=\"Monthly\",OFFSET($J$15,,MATCH(BX$24,$K$8:$AV$8,0))+BX31-1,0)))","v":0},{"$f":"IF(AT$9=\"none\",0,IF(AND($F31=\"week 1\",$G31=\"Sun\"),OFFSET($J$10,,MATCH(BZ$24,$K$8:$AV$8,0)),IF(AND(OR($F31=\"week 2\",$F31=\"week 3\",$F31=\"week 4\"),AT$9=\"weekly\",$G31=\"Sun\"),OFFSET($J$10,,MATCH(BZ$24,$K$8:$AV$8,0)),IF(AND($F31=\"week 3\",AT$9=\"bi-weekly\",$G31=\"Sun\"),OFFSET($J$10,,MATCH(BZ$24,$K$8:$AV$8,0)),CA30+1))))","v":0},{"$f":"IF(AT$9=\"weekly\",OFFSET($J$13,,MATCH(BZ$24,$K$8:$AV$8,0))+BZ31-1,IF(AT$9=\"bi-weekly\",OFFSET($J$14,,MATCH(BZ$24,$K$8:$AV$8,0))+BZ31-1,IF(AT$9=\"Monthly\",OFFSET($J$15,,MATCH(BZ$24,$K$8:$AV$8,0))+BZ31-1,0)))","v":0},{"$f":"IF(AU$9=\"none\",0,IF(AND($F31=\"week 1\",$G31=\"Sun\"),OFFSET($J$10,,MATCH(CB$24,$K$8:$AV$8,0)),IF(AND(OR($F31=\"week 2\",$F31=\"week 3\",$F31=\"week 4\"),AU$9=\"weekly\",$G31=\"Sun\"),OFFSET($J$10,,MATCH(CB$24,$K$8:$AV$8,0)),IF(AND($F31=\"week 3\",AU$9=\"bi-weekly\",$G31=\"Sun\"),OFFSET($J$10,,MATCH(CB$24,$K$8:$AV$8,0)),CC30+1))))","v":0},{"$f":"IF(AU$9=\"weekly\",OFFSET($J$13,,MATCH(CB$24,$K$8:$AV$8,0))+CB31-1,IF(AU$9=\"bi-weekly\",OFFSET($J$14,,MATCH(CB$24,$K$8:$AV$8,0))+CB31-1,IF(AU$9=\"Monthly\",OFFSET($J$15,,MATCH(CB$24,$K$8:$AV$8,0))+CB31-1,0)))","v":0},{"$f":"(ROUND(I31,0)-ROUND(H31,0))+(ROUND(K31,0)-ROUND(J31,0))+(ROUND(M31,0)-ROUND(L31,0))+(ROUND(O31,0)-ROUND(N31,0))+(ROUND(Q31,0)-ROUND(P31,0))+(ROUND(S31,0)-ROUND(R31,0))+(ROUND(U31,0)-ROUND(T31,0)+(ROUND(W31,0)-ROUND(V31,0))+(ROUND(Y31,0)-ROUND(X31,0))+(ROUND(AA31,0)-ROUND(Z31,0))+(ROUND(AC31,0)-ROUND(AB31,0))+(ROUND(AE31,0)-ROUND(AD31,0))+(ROUND(AG31,0)-ROUND(AF31,0))+(ROUND(AI31,0)-ROUND(AH31,0))+(ROUND(AK31,0)-ROUND(AJ31,0))+(ROUND(AM31,0)-ROUND(AL31,0))+(ROUND(AO31,0)-ROUND(AN31,0))+(ROUND(AQ31,0)-ROUND(AP31,0))+(ROUND(AS31,0)-ROUND(AR31,0))+(ROUND(AU31,0)-ROUND(AT31,0))+(ROUND(AW31,0)-ROUND(AV31,0))+(ROUND(AY31,0)-ROUND(AX31,0))+(ROUND(BA31,0)-ROUND(AZ31,0))+(ROUND(BC31,0)-ROUND(BB31,0))+(ROUND(BE31,0)-ROUND(BD31,0))+(ROUND(BG31,0)-ROUND(BF31,0))+(ROUND(BI31,0)-ROUND(BH31,0))+(ROUND(BK31,0)-ROUND(BJ31,0))+(ROUND(BM31,0)-ROUND(BL31,0))+(ROUND(BO31,0)-ROUND(BN31,0))+(ROUND(BQ31,0)-ROUND(BP31,0))+(ROUND(BS31,0)-ROUND(BR31,0))+(ROUND(BU31,0)-ROUND(BT31,0))+(ROUND(BW31,0)-ROUND(BV31,0))+(ROUND(BY31,0)-ROUND(BX31,0))+(ROUND(CA31,0)-ROUND(BZ31,0))+(ROUND(CC31,0)-ROUND(CB31,0))+(COUNTIF($H31:$CC31,\">\"&0)/2))","v":149}]
[null,null,null,null,null,"WEEK 1","WED",8.75,10,18.714285714285715,23.285714285714285,13.142857142857142,15.857142857142858,14.857142857142858,18.142857142857142,4.25,4,11.321428571428573,13.428571428571431,7.8928571428571432,8.8571428571428577,6.1785714285714288,6.5714285714285712,5.6428571428571432,5.8571428571428577,5.2142857142857135,5.2857142857142847,5.3214285714285712,5.4285714285714288,5,5,4.7857142857142865,4.7142857142857153,14.964285714285714,18.285714285714285,13.892857142857142,16.857142857142858,11.642857142857142,13.857142857142858,8.9642857142857135,10.285714285714285,7.1428571428571432,7.8571428571428577,11.535714285714286,13.714285714285715,10.678571428571427,12.571428571428569,14.642857142857142,17.857142857142858,27.285714285714285,34.714285714285715,39.5,51,50,65,11.857142857142858,14.142857142857142,22.571428571428573,28.428571428571431,34.142857142857139,43.857142857142854,7.5714285714285712,8.4285714285714288,53,69,48.714285714285708,63.285714285714278,0,0,0,0,0,0,0,0,0,0,0,0,0,0,{"$f":"(ROUND(I32,0)-ROUND(H32,0))+(ROUND(K32,0)-ROUND(J32,0))+(ROUND(M32,0)-ROUND(L32,0))+(ROUND(O32,0)-ROUND(N32,0))+(ROUND(Q32,0)-ROUND(P32,0))+(ROUND(S32,0)-ROUND(R32,0))+(ROUND(U32,0)-ROUND(T32,0)+(ROUND(W32,0)-ROUND(V32,0))+(ROUND(Y32,0)-ROUND(X32,0))+(ROUND(AA32,0)-ROUND(Z32,0))+(ROUND(AC32,0)-ROUND(AB32,0))+(ROUND(AE32,0)-ROUND(AD32,0))+(ROUND(AG32,0)-ROUND(AF32,0))+(ROUND(AI32,0)-ROUND(AH32,0))+(ROUND(AK32,0)-ROUND(AJ32,0))+(ROUND(AM32,0)-ROUND(AL32,0))+(ROUND(AO32,0)-ROUND(AN32,0))+(ROUND(AQ32,0)-ROUND(AP32,0))+(ROUND(AS32,0)-ROUND(AR32,0))+(ROUND(AU32,0)-ROUND(AT32,0))+(ROUND(AW32,0)-ROUND(AV32,0))+(ROUND(AY32,0)-ROUND(AX32,0))+(ROUND(BA32,0)-ROUND(AZ32,0))+(ROUND(BC32,0)-ROUND(BB32,0))+(ROUND(BE32,0)-ROUND(BD32,0))+(ROUND(BG32,0)-ROUND(BF32,0))+(ROUND(BI32,0)-ROUND(BH32,0))+(ROUND(BK32,0)-ROUND(BJ32,0))+(ROUND(BM32,0)-ROUND(BL32,0))+(ROUND(BO32,0)-ROUND(BN32,0))+(ROUND(BQ32,0)-ROUND(BP32,0))+(ROUND(BS32,0)-ROUND(BR32,0))+(ROUND(BU32,0)-ROUND(BT32,0))+(ROUND(BW32,0)-ROUND(BV32,0))+(ROUND(BY32,0)-ROUND(BX32,0))+(ROUND(CA32,0)-ROUND(BZ32,0))+(ROUND(CC32,0)-ROUND(CB32,0))+(COUNTIF($H32:$CC32,\">\"&0)/2))","v":143}]
[null,null,null,null,null,"WEEK 1","THU",11,12.25,24.285714285714285,28.857142857142854,16.857142857142858,19.571428571428573,19.142857142857142,22.428571428571427,5,4.75,14.428571428571431,16.535714285714288,9.8571428571428577,10.821428571428571,7.5714285714285712,7.9642857142857135,6.8571428571428577,7.0714285714285712,6.2857142857142847,6.3571428571428559,6.4285714285714288,6.5357142857142865,6,6,5.7142857142857153,5.6428571428571441,19.285714285714285,22.607142857142854,17.857142857142858,20.821428571428573,14.857142857142858,17.071428571428573,11.285714285714285,12.607142857142856,8.8571428571428577,9.5714285714285712,14.714285714285715,16.892857142857142,13.571428571428569,15.464285714285712,18.857142857142858,22.071428571428573,35.714285714285715,43.142857142857146,52,63.5,66,81,15.142857142857142,17.428571428571427,29.428571428571431,35.285714285714285,44.857142857142854,54.571428571428569,9.4285714285714288,10.285714285714286,70,86,64.285714285714278,78.857142857142847,0,0,0,0,0,0,0,0,0,0,0,0,0,0,149]
[null,null,null,null,null,"WEEK 1","FRI",13.25,14.5,29.857142857142854,34.428571428571423,20.571428571428573,23.285714285714288,23.428571428571427,26.714285714285712,5.75,5.5,17.535714285714288,19.642857142857146,11.821428571428571,12.785714285714285,8.9642857142857135,9.3571428571428559,8.0714285714285712,8.2857142857142847,7.3571428571428559,7.428571428571427,7.5357142857142865,7.6428571428571441,7,7,6.6428571428571441,6.571428571428573,23.607142857142854,26.928571428571423,21.821428571428573,24.785714285714288,18.071428571428573,20.285714285714288,13.607142857142856,14.928571428571427,10.571428571428571,11.285714285714285,17.892857142857142,20.071428571428569,16.464285714285712,18.357142857142854,23.071428571428573,26.285714285714288,44.142857142857146,51.571428571428577,64.5,76,82,97,18.428571428571427,20.714285714285712,36.285714285714285,42.142857142857139,55.571428571428569,65.285714285714278,11.285714285714286,12.142857142857144,87,103,79.857142857142847,94.428571428571416,0,0,0,0,0,0,0,0,0,0,0,0,0,0,144]
[null,null,null,null,null,"WEEK 1","שבת",15.5,16.75,35.428571428571423,39.999999999999993,24.285714285714288,27.000000000000004,27.714285714285712,30.999999999999996,6.5,6.25,20.642857142857146,22.750000000000004,13.785714285714285,14.749999999999998,10.357142857142856,10.749999999999998,9.2857142857142847,9.4999999999999982,8.428571428571427,8.4999999999999982,8.6428571428571441,8.7500000000000018,8,8,7.571428571428573,7.5000000000000018,27.928571428571423,31.249999999999993,25.785714285714288,28.750000000000004,21.285714285714288,23.500000000000004,15.928571428571427,17.25,12.285714285714285,12.999999999999998,21.071428571428569,23.249999999999996,19.357142857142854,21.249999999999996,27.285714285714288,30.500000000000004,52.571428571428577,60.000000000000007,77,88.5,98,113,21.714285714285712,23.999999999999996,43.142857142857139,48.999999999999993,66.285714285714278,75.999999999999986,13.142857142857144,14.000000000000002,104,120,95.428571428571416,109.99999999999999,0,0,0,0,0,0,0,0,0,0,0,0,0,0,150]
[null,null,null,null,null,null,"WEEK TWO",null,null,null,null,null,null,null,null,null,null,null,null,null,null,null,null,null,null,null,null,null,null,null,null,null,null,"WEEK TWO"]
[null,null,null,null,null,"WEEK 2","SUN",{"$f":"IF(K$9=\"none\",0,IF(AND($F37=\"week 1\",$G37=\"Sun\"),OFFSET($J$10,,MATCH(H$24,$K$8:$AV$8,0)),IF(AND(OR($F37=\"week 2\",$F37=\"week 3\",$F37=\"week 4\"),K$9=\"weekly\",$G37=\"Sun\"),OFFSET($J$10,,MATCH(H$24,$K$8:$AV$8,0)),IF(AND($F37=\"week 3\",K$9=\"bi-weekly\",$G37=\"Sun\"),OFFSET($J$10,,MATCH(H$24,$K$8:$AV$8,0)),I35+1))))","v":17.75},{"$f":"IF(K$9=\"weekly\",OFFSET($J$13,,MATCH(H$24,$K$8:$AV$8,0))+H37-1,IF(K$9=\"bi-weekly\",OFFSET($J$14,,MATCH(H$24,$K$8:$AV$8,0))+H37-1,IF(K$9=\"Monthly\",OFFSET($J$15,,MATCH(H$24,$K$8:$AV$8,0))+H37-1,0)))","v":19},{"$f":"IF(L$9=\"none\",0,IF(AND($F37=\"week 1\",$G37=\"Sun\"),OFFSET($J$10,,MATCH(J$24,$K$8:$AV$8,0)),IF(AND(OR($F37=\"week 2\",$F37=\"week 3\",$F37=\"week 4\"),L$9=\"weekly\",$G37=\"Sun\"),OFFSET($J$10,,MATCH(J$24,$K$8:$AV$8,0)),IF(AND($F37=\"week 3\",L$9=\"bi-weekly\",$G37=\"Sun\"),OFFSET($J$10,,MATCH(J$24,$K$8:$AV$8,0)),K35+1))))","v":40.999999999999993},{"$f":"IF(L$9=\"weekly\",OFFSET($J$13,,MATCH(J$24,$K$8:$AV$8,0))+J37-1,IF(L$9=\"bi-weekly\",OFFSET($J$14,,MATCH(J$24,$K$8:$AV$8,0))+J37-1,IF(L$9=\"Monthly\",OFFSET($J$15,,MATCH(J$24,$K$8:$AV$8,0))+J37-1,0)))","v":45.571428571428562},{"$f":"IF(M$9=\"none\",0,IF(AND($F37=\"week 1\",$G37=\"Sun\"),OFFSET($J$10,,MATCH(L$24,$K$8:$AV$8,0)),IF(AND(OR($F37=\"week 2\",$F37=\"week 3\",$F37=\"week 4\"),M$9=\"weekly\",$G37=\"Sun\"),OFFSET($J$10,,MATCH(L$24,$K$8:$AV$8,0)),IF(AND($F37=\"week 3\",M$9=\"bi-weekly\",$G37=\"Sun\"),OFFSET($J$10,,MATCH(L$24,$K$8:$AV$8,0)),M35+1))))","v":28.000000000000004},{"$f":"IF(M$9=\"weekly\",OFFSET($J$13,,MATCH(L$24,$K$8:$AV$8,0))+L37-1,IF(M$9=\"bi-weekly\",OFFSET($J$14,,MATCH(L$24,$K$8:$AV$8,0))+L37-1,IF(M$9=\"Monthly\",OFFSET($J$15,,MATCH(L$24,$K$8:$AV$8,0))+L37-1,0)))","v":30.714285714285719},{"$f":"IF(N$9=\"none\",0,IF(AND($F37=\"week 1\",$G37=\"Sun\"),OFFSET($J$10,,MATCH(N$24,$K$8:$AV$8,0)),IF(AND(OR($F37=\"week 2\",$F37=\"week 3\",$F37=\"week 4\"),N$9=\"weekly\",$G37=\"Sun\"),OFFSET($J$10,,MATCH(N$24,$K$8:$AV$8,0)),IF(AND($F37=\"week 3\",N$9=\"bi-weekly\",$G37=\"Sun\"),OFFSET($J$10,,MATCH(N$24,$K$8:$AV$8,0)),O35+1))))","v":31.999999999999996},{"$f":"IF(N$9=\"weekly\",OFFSET($J$13,,MATCH(N$24,$K$8:$AV$8,0))+N37-1,IF(N$9=\"bi-weekly\",OFFSET($J$14,,MATCH(N$24,$K$8:$AV$8,0))+N37-1,IF(N$9=\"Monthly\",OFFSET($J$15,,MATCH(N$24,$K$8:$AV$8,0))+N37-1,0)))","v":35.285714285714285},{"$f":"IF(O$9=\"none\",0,IF(AND($F37=\"week 1\",$G37=\"Sun\"),OFFSET($J$10,,MATCH(P$24,$K$8:$AV$8,0)),IF(AND(OR($F37=\"week 2\",$F37=\"week 3\",$F37=\"week 4\"),O$9=\"weekly\",$G37=\"Sun\"),OFFSET($J$10,,MATCH(P$24,$K$8:$AV$8,0)),IF(AND($F37=\"week 3\",O$9=\"bi-weekly\",$G37=\"Sun\"),OFFSET($J$10,,MATCH(P$24,$K$8:$AV$8,0)),Q35+1))))","v":7.25},{"$f":"IF(O$9=\"weekly\",OFFSET($J$13,,MATCH(P$24,$K$8:$AV$8,0))+P37-1,IF(O$9=\"bi-weekly\",OFFSET($J$14,,MATCH(P$24,$K$8:$AV$8,0))+P37-1,IF(O$9=\"Monthly\",OFFSET($J$15,,MATCH(P$24,$K$8:$AV$8,0))+P37-1,0)))","v":7},{"$f":"IF(P$9=\"none\",0,IF(AND($F37=\"week 1\",$G37=\"Sun\"),OFFSET($J$10,,MATCH(R$24,$K$8:$AV$8,0)),IF(AND(OR($F37=\"week 2\",$F37=\"week 3\",$F37=\"week 4\"),P$9=\"weekly\",$G37=\"Sun\"),OFFSET($J$10,,MATCH(R$24,$K$8:$AV$8,0)),IF(AND($F37=\"week 3\",P$9=\"bi-weekly\",$G37=\"Sun\"),OFFSET($J$10,,MATCH(R$24,$K$8:$AV$8,0)),S35+1))))","v":23.750000000000004},{"$f":"IF(P$9=\"weekly\",OFFSET($J$13,,MATCH(R$24,$K$8:$AV$8,0))+R37-1,IF(P$9=\"bi-weekly\",OFFSET($J$14,,MATCH(R$24,$K$8:$AV$8,0))+R37-1,IF(P$9=\"Monthly\",OFFSET($J$15,,MATCH(R$24,$K$8:$AV$8,0))+R37-1,0)))","v":25.857142857142861},{"$f":"IF(Q$9=\"none\",0,IF(AND($F37=\"week 1\",$G37=\"Sun\"),OFFSET($J$10,,MATCH(T$24,$K$8:$AV$8,0)),IF(AND(OR($F37=\"week 2\",$F37=\"week 3\",$F37=\"week 4\"),Q$9=\"weekly\",$G37=\"Sun\"),OFFSET($J$10,,MATCH(T$24,$K$8:$AV$8,0)),IF(AND($F37=\"week 3\",Q$9=\"bi-weekly\",$G37=\"Sun\"),OFFSET($J$10,,MATCH(T$24,$K$8:$AV$8,0)),U35+1))))","v":15.749999999999998},{"$f":"IF(Q$9=\"weekly\",OFFSET($J$13,,MATCH(T$24,$K$8:$AV$8,0))+T37-1,IF(Q$9=\"bi-weekly\",OFFSET($J$14,,MATCH(T$24,$K$8:$AV$8,0))+T37-1,IF(Q$9=\"Monthly\",OFFSET($J$15,,MATCH(T$24,$K$8:$AV$8,0))+T37-1,0)))","v":16.714285714285712},{"$f":"IF(R$9=\"none\",0,IF(AND($F37=\"week 1\",$G37=\"Sun\"),OFFSET($J$10,,MATCH(V$24,$K$8:$AV$8,0)),IF(AND(OR($F37=\"week 2\",$F37=\"week 3\",$F37=\"week 4\"),R$9=\"weekly\",$G37=\"Sun\"),OFFSET($J$10,,MATCH(V$24,$K$8:$AV$8,0)),IF(AND($F37=\"week 3\",R$9=\"bi-weekly\",$G37=\"Sun\"),OFFSET($J$10,,MATCH(V$24,$K$8:$AV$8,0)),W35+1))))","v":11.749999999999998},{"$f":"IF(R$9=\"weekly\",OFFSET($J$13,,MATCH(V$24,$K$8:$AV$8,0))+V37-1,IF(R$9=\"bi-weekly\",OFFSET($J$14,,MATCH(V$24,$K$8:$AV$8,0))+V37-1,IF(R$9=\"Monthly\",OFFSET($J$15,,MATCH(V$24,$K$8:$AV$8,0))+V37-1,0)))","v":12.142857142857141},{"$f":"IF(S$9=\"none\",0,IF(AND($F37=\"week 1\",$G37=\"Sun\"),OFFSET($J$10,,MATCH(X$24,$K$8:$AV$8,0)),IF(AND(OR($F37=\"week 2\",$F37=\"week 3\",$F37=\"week 4\"),S$9=\"weekly\",$G37=\"Sun\"),OFFSET($J$10,,MATCH(X$24,$K$8:$AV$8,0)),IF(AND($F37=\"week 3\",S$9=\"bi-weekly\",$G37=\"Sun\"),OFFSET($J$10,,MATCH(X$24,$K$8:$AV$8,0)),Y35+1))))","v":10.499999999999998},{"$f":"IF(S$9=\"weekly\",OFFSET($J$13,,MATCH(X$24,$K$8:$AV$8,0))+X37-1,IF(S$9=\"bi-weekly\",OFFSET($J$14,,MATCH(X$24,$K$8:$AV$8,0))+X37-1,IF(S$9=\"Monthly\",OFFSET($J$15,,MATCH(X$24,$K$8:$AV$8,0))+X37-1,0)))","v":10.714285714285712},{"$f":"IF(T$9=\"none\",0,IF(AND($F37=\"week 1\",$G37=\"Sun\"),OFFSET($J$10,,MATCH(Z$24,$K$8:$AV$8,0)),IF(AND(OR($F37=\"week 2\",$F37=\"week 3\",$F37=\"week 4\"),T$9=\"weekly\",$G37=\"Sun\"),OFFSET($J$10,,MATCH(Z$24,$K$8:$AV$8,0)),IF(AND($F37=\"week 3\",T$9=\"bi-weekly\",$G37=\"Sun\"),OFFSET($J$10,,MATCH(Z$24,$K$8:$AV$8,0)),AA35+1))))","v":9.4999999999999982},{"$f":"IF(T$9=\"weekly\",OFFSET($J$13,,MATCH(Z$24,$K$8:$AV$8,0))+Z37-1,IF(T$9=\"bi-weekly\",OFFSET($J$14,,MATCH(Z$24,$K$8:$AV$8,0))+Z37-1,IF(T$9=\"Monthly\",OFFSET($J$15,,MATCH(Z$24,$K$8:$AV$8,0))+Z37-1,0)))","v":9.5714285714285694},{"$f":"IF(U$9=\"none\",0,IF(AND($F37=\"week 1\",$G37=\"Sun\"),OFFSET($J$10,,MATCH(AB$24,$K$8:$AV$8,0)),IF(AND(OR($F37=\"week 2\",$F37=\"week 3\",$F37=\"week 4\"),U$9=\"weekly\",$G37=\"Sun\"),OFFSET($J$10,,MATCH(AB$24,$K$8:$AV$8,0)),IF(AND($F37=\"week 3\",U$9=\"bi-weekly\",$G37=\"Sun\"),OFFSET($J$10,,MATCH(AB$24,$K$8:$AV$8,0)),AC35+1))))","v":9.7500000000000018},{"$f":"IF(U$9=\"weekly\",OFFSET($J$13,,MATCH(AB$24,$K$8:$AV$8,0))+AB37-1,IF(U$9=\"bi-weekly\",OFFSET($J$14,,MATCH(AB$24,$K$8:$AV$8,0))+AB37-1,IF(U$9=\"Monthly\",OFFSET($J$15,,MATCH(AB$24,$K$8:$AV$8,0))+AB37-1,0)))","v":9.8571428571428594},{"$f":"IF(V$9=\"none\",0,IF(AND($F37=\"week 1\",$G37=\"Sun\"),OFFSET($J$10,,MATCH(AD$24,$K$8:$AV$8,0)),IF(AND(OR($F37=\"week 2\",$F37=\"week 3\",$F37=\"week 4\"),V$9=\"weekly\",$G37=\"Sun\"),OFFSET($J$10,,MATCH(AD$24,$K$8:$AV$8,0)),IF(AND($F37=\"week 3\",V$9=\"bi-weekly\",$G37=\"Sun\"),OFFSET($J$10,,MATCH(AD$24,$K$8:$AV$8,0)),AE35+1))))","v":9},{"$f":"IF(V$9=\"weekly\",OFFSET($J$13,,MATCH(AD$24,$K$8:$AV$8,0))+AD37-1,IF(V$9=\"bi-weekly\",OFFSET($J$14,,MATCH(AD$24,$K$8:$AV$8,0))+AD37-1,IF(V$9=\"Monthly\",OFFSET($J$15,,MATCH(AD$24,$K$8:$AV$8,0))+AD37-1,0)))","v":9},{"$f":"IF(W$9=\"none\",0,IF(AND($F37=\"week 1\",$G37=\"Sun\"),OFFSET($J$10,,MATCH(AF$24,$K$8:$AV$8,0)),IF(AND(OR($F37=\"week 2\",$F37=\"week 3\",$F37=\"week 4\"),W$9=\"weekly\",$G37=\"Sun\"),OFFSET($J$10,,MATCH(AF$24,$K$8:$AV$8,0)),IF(AND($F37=\"week 3\",W$9=\"bi-weekly\",$G37=\"Sun\"),OFFSET($J$10,,MATCH(AF$24,$K$8:$AV$8,0)),AG35+1))))","v":8.5000000000000018},{"$f":"IF(W$9=\"weekly\",OFFSET($J$13,,MATCH(AF$24,$K$8:$AV$8,0))+AF37-1,IF(W$9=\"bi-weekly\",OFFSET($J$14,,MATCH(AF$24,$K$8:$AV$8,0))+AF37-1,IF(W$9=\"Monthly\",OFFSET($J$15,,MATCH(AF$24,$K$8:$AV$8,0))+AF37-1,0)))","v":8.4285714285714306},{"$f":"IF(X$9=\"none\",0,IF(AND($F37=\"week 1\",$G37=\"Sun\"),OFFSET($J$10,,MATCH(AH$24,$K$8:$AV$8,0)),IF(AND(OR($F37=\"week 2\",$F37=\"week 3\",$F37=\"week 4\"),X$9=\"weekly\",$G37=\"Sun\"),OFFSET($J$10,,MATCH(AH$24,$K$8:$AV$8,0)),IF(AND($F37=\"week 3\",X$9=\"bi-weekly\",$G37=\"Sun\"),OFFSET($J$10,,MATCH(AH$24,$K$8:$AV$8,0)),AI35+1))))","v":32.249999999999993},{"$f":"IF(X$9=\"weekly\",OFFSET($J$13,,MATCH(AH$24,$K$8:$AV$8,0))+AH37-1,IF(X$9=\"bi-weekly\",OFFSET($J$14,,MATCH(AH$24,$K$8:$AV$8,0))+AH37-1,IF(X$9=\"Monthly\",OFFSET($J$15,,MATCH(AH$24,$K$8:$AV$8,0))+AH37-1,0)))","v":35.571428571428562},{"$f":"IF(Y$9=\"none\",0,IF(AND($F37=\"week 1\",$G37=\"Sun\"),OFFSET($J$10,,MATCH(AJ$24,$K$8:$AV$8,0)),IF(AND(OR($F37=\"week 2\",$F37=\"week 3\",$F37=\"week 4\"),Y$9=\"weekly\",$G37=\"Sun\"),OFFSET($J$10,,MATCH(AJ$24,$K$8:$AV$8,0)),IF(AND($F37=\"week 3\",Y$9=\"bi-weekly\",$G37=\"Sun\"),OFFSET($J$10,,MATCH(AJ$24,$K$8:$AV$8,0)),AK35+1))))","v":29.750000000000004},{"$f":"IF(Y$9=\"weekly\",OFFSET($J$13,,MATCH(AJ$24,$K$8:$AV$8,0))+AJ37-1,IF(Y$9=\"bi-weekly\",OFFSET($J$14,,MATCH(AJ$24,$K$8:$AV$8,0))+AJ37-1,IF(Y$9=\"Monthly\",OFFSET($J$15,,MATCH(AJ$24,$K$8:$AV$8,0))+AJ37-1,0)))","v":32.714285714285715},{"$f":"IF(Z$9=\"none\",0,IF(AND($F37=\"week 1\",$G37=\"Sun\"),OFFSET($J$10,,MATCH(AL$24,$K$8:$AV$8,0)),IF(AND(OR($F37=\"week 2\",$F37=\"week 3\",$F37=\"week 4\"),Z$9=\"weekly\",$G37=\"Sun\"),OFFSET($J$10,,MATCH(AL$24,$K$8:$AV$8,0)),IF(AND($F37=\"week 3\",Z$9=\"bi-weekly\",$G37=\"Sun\"),OFFSET($J$10,,MATCH(AL$24,$K$8:$AV$8,0)),AM35+1))))","v":24.500000000000004},{"$f":"IF(Z$9=\"weekly\",OFFSET($J$13,,MATCH(AL$24,$K$8:$AV$8,0))+AL37-1,IF(Z$9=\"bi-weekly\",OFFSET($J$14,,MATCH(AL$24,$K$8:$AV$8,0))+AL37-1,IF(Z$9=\"Monthly\",OFFSET($J$15,,MATCH(AL$24,$K$8:$AV$8,0))+AL37-1,0)))","v":26.714285714285719},{"$f":"IF(AA$9=\"none\",0,IF(AND($F37=\"week 1\",$G37=\"Sun\"),OFFSET($J$10,,MATCH(AN$24,$K$8:$AV$8,0)),IF(AND(OR($F37=\"week 2\",$F37=\"week 3\",$F37=\"week 4\"),AA$9=\"weekly\",$G37=\"Sun\"),OFFSET($J$10,,MATCH(AN$24,$K$8:$AV$8,0)),IF(AND($F37=\"week 3\",AA$9=\"bi-weekly\",$G37=\"Sun\"),OFFSET($J$10,,MATCH(AN$24,$K$8:$AV$8,0)),AO35+1))))","v":18.25},{"$f":"IF(AA$9=\"weekly\",OFFSET($J$13,,MATCH(AN$24,$K$8:$AV$8,0))+AN37-1,IF(AA$9=\"bi-weekly\",OFFSET($J$14,,MATCH(AN$24,$K$8:$AV$8,0))+AN37-1,IF(AA$9=\"Monthly\",OFFSET($J$15,,MATCH(AN$24,$K$8:$AV$8,0))+AN37-1,0)))","v":19.571428571428573},{"$f":"IF(AB$9=\"none\",0,IF(AND($F37=\"week 1\",$G37=\"Sun\"),OFFSET($J$10,,MATCH(AP$24,$K$8:$AV$8,0)),IF(AND(OR($F37=\"week 2\",$F37=\"week 3\",$F37=\"week 4\"),AB$9=\"weekly\",$G37=\"Sun\"),OFFSET($J$10,,MATCH(AP$24,$K$8:$AV$8,0)),IF(AND($F37=\"week 3\",AB$9=\"bi-weekly\",$G37=\"Sun\"),OFFSET($J$10,,MATCH(AP$24,$K$8:$AV$8,0)),AQ35+1))))","v":13.999999999999998},{"$f":"IF(AB$9=\"weekly\",OFFSET($J$13,,MATCH(AP$24,$K$8:$AV$8,0))+AP37-1,IF(AB$9=\"bi-weekly\",OFFSET($J$14,,MATCH(AP$24,$K$8:$AV$8,0))+AP37-1,IF(AB$9=\"Monthly\",OFFSET($J$15,,MATCH(AP$24,$K$8:$AV$8,0))+AP37-1,0)))","v":14.714285714285712},{"$f":"IF(AC$9=\"none\",0,IF(AND($F37=\"week 1\",$G37=\"Sun\"),OFFSET($J$10,,MATCH(AR$24,$K$8:$AV$8,0)),IF(AND(OR($F37=\"week 2\",$F37=\"week 3\",$F37=\"week 4\"),AC$9=\"weekly\",$G37=\"Sun\"),OFFSET($J$10,,MATCH(AR$24,$K$8:$AV$8,0)),IF(AND($F37=\"week 3\",AC$9=\"bi-weekly\",$G37=\"Sun\"),OFFSET($J$10,,MATCH(AR$24,$K$8:$AV$8,0)),AS35+1))))","v":24.249999999999996},{"$f":"IF(AC$9=\"weekly\",OFFSET($J$13,,MATCH(AR$24,$K$8:$AV$8,0))+AR37-1,IF(AC$9=\"bi-weekly\",OFFSET($J$14,,MATCH(AR$24,$K$8:$AV$8,0))+AR37-1,IF(AC$9=\"Monthly\",OFFSET($J$15,,MATCH(AR$24,$K$8:$AV$8,0))+AR37-1,0)))","v":26.428571428571423},{"$f":"IF(AD$9=\"none\",0,IF(AND($F37=\"week 1\",$G37=\"Sun\"),OFFSET($J$10,,MATCH(AT$24,$K$8:$AV$8,0)),IF(AND(OR($F37=\"week 2\",$F37=\"week 3\",$F37=\"week 4\"),AD$9=\"weekly\",$G37=\"Sun\"),OFFSET($J$10,,MATCH(AT$24,$K$8:$AV$8,0)),IF(AND($F37=\"week 3\",AD$9=\"bi-weekly\",$G37=\"Sun\"),OFFSET($J$10,,MATCH(AT$24,$K$8:$AV$8,0)),AU35+1))))","v":22.249999999999996},{"$f":"IF(AD$9=\"weekly\",OFFSET($J$13,,MATCH(AT$24,$K$8:$AV$8,0))+AT37-1,IF(AD$9=\"bi-weekly\",OFFSET($J$14,,MATCH(AT$24,$K$8:$AV$8,0))+AT37-1,IF(AD$9=\"Monthly\",OFFSET($J$15,,MATCH(AT$24,$K$8:$AV$8,0))+AT37-1,0)))","v":24.142857142857139},{"$f":"IF(AE$9=\"none\",0,IF(AND($F37=\"week 1\",$G37=\"Sun\"),OFFSET($J$10,,MATCH(AV$24,$K$8:$AV$8,0)),IF(AND(OR($F37=\"week 2\",$F37=\"week 3\",$F37=\"week 4\"),AE$9=\"weekly\",$G37=\"Sun\"),OFFSET($J$10,,MATCH(AV$24,$K$8:$AV$8,0)),IF(AND($F37=\"week 3\",AE$9=\"bi-weekly\",$G37=\"Sun\"),OFFSET($J$10,,MATCH(AV$24,$K$8:$AV$8,0)),AW35+1))))","v":31.500000000000004},{"$f":"IF(AE$9=\"weekly\",OFFSET($J$13,,MATCH(AV$24,$K$8:$AV$8,0))+AV37-1,IF(AE$9=\"bi-weekly\",OFFSET($J$14,,MATCH(AV$24,$K$8:$AV$8,0))+AV37-1,IF(AE$9=\"Monthly\",OFFSET($J$15,,MATCH(AV$24,$K$8:$AV$8,0))+AV37-1,0)))","v":34.714285714285715},{"$f":"IF(AF$9=\"none\",0,IF(AND($F37=\"week 1\",$G37=\"Sun\"),OFFSET($J$10,,MATCH(AX$24,$K$8:$AV$8,0)),IF(AND(OR($F37=\"week 2\",$F37=\"week 3\",$F37=\"week 4\"),AF$9=\"weekly\",$G37=\"Sun\"),OFFSET($J$10,,MATCH(AX$24,$K$8:$AV$8,0)),IF(AND($F37=\"week 3\",AF$9=\"bi-weekly\",$G37=\"Sun\"),OFFSET($J$10,,MATCH(AX$24,$K$8:$AV$8,0)),AY35+1))))","v":61.000000000000007},{"$f":"IF(AF$9=\"weekly\",OFFSET($J$13,,MATCH(AX$24,$K$8:$AV$8,0))+AX37-1,IF(AF$9=\"bi-weekly\",OFFSET($J$14,,MATCH(AX$24,$K$8:$AV$8,0))+AX37-1,IF(AF$9=\"Monthly\",OFFSET($J$15,,MATCH(AX$24,$K$8:$AV$8,0))+AX37-1,0)))","v":68.428571428571431},{"$f":"IF(AG$9=\"none\",0,IF(AND($F37=\"week 1\",$G37=\"Sun\"),OFFSET($J$10,,MATCH(AZ$24,$K$8:$AV$8,0)),IF(AND(OR($F37=\"week 2\",$F37=\"week 3\",$F37=\"week 4\"),AG$9=\"weekly\",$G37=\"Sun\"),OFFSET($J$10,,MATCH(AZ$24,$K$8:$AV$8,0)),IF(AND($F37=\"week 3\",AG$9=\"bi-weekly\",$G37=\"Sun\"),OFFSET($J$10,,MATCH(AZ$24,$K$8:$AV$8,0)),BA35+1))))","v":89.5},{"$f":"IF(AG$9=\"weekly\",OFFSET($J$13,,MATCH(AZ$24,$K$8:$AV$8,0))+AZ37-1,IF(AG$9=\"bi-weekly\",OFFSET($J$14,,MATCH(AZ$24,$K$8:$AV$8,0))+AZ37-1,IF(AG$9=\"Monthly\",OFFSET($J$15,,MATCH(AZ$24,$K$8:$AV$8,0))+AZ37-1,0)))","v":101},{"$f":"IF(AH$9=\"none\",0,IF(AND($F37=\"week 1\",$G37=\"Sun\"),OFFSET($J$10,,MATCH(BB$24,$K$8:$AV$8,0)),IF(AND(OR($F37=\"week 2\",$F37=\"week 3\",$F37=\"week 4\"),AH$9=\"weekly\",$G37=\"Sun\"),OFFSET($J$10,,MATCH(BB$24,$K$8:$AV$8,0)),IF(AND($F37=\"week 3\",AH$9=\"bi-weekly\",$G37=\"Sun\"),OFFSET($J$10,,MATCH(BB$24,$K$8:$AV$8,0)),BC35+1))))","v":2},{"$f":"IF(AH$9=\"weekly\",OFFSET($J$13,,MATCH(BB$24,$K$8:$AV$8,0))+BB37-1,IF(AH$9=\"bi-weekly\",OFFSET($J$14,,MATCH(BB$24,$K$8:$AV$8,0))+BB37-1,IF(AH$9=\"Monthly\",OFFSET($J$15,,MATCH(BB$24,$K$8:$AV$8,0))+BB37-1,0)))","v":17},{"$f":"IF(AI$9=\"none\",0,IF(AND($F37=\"week 1\",$G37=\"Sun\"),OFFSET($J$10,,MATCH(BD$24,$K$8:$AV$8,0)),IF(AND(OR($F37=\"week 2\",$F37=\"week 3\",$F37=\"week 4\"),AI$9=\"weekly\",$G37=\"Sun\"),OFFSET($J$10,,MATCH(BD$24,$K$8:$AV$8,0)),IF(AND($F37=\"week 3\",AI$9=\"bi-weekly\",$G37=\"Sun\"),OFFSET($J$10,,MATCH(BD$24,$K$8:$AV$8,0)),BE35+1))))","v":2},{"$f":"IF(AI$9=\"weekly\",OFFSET($J$13,,MATCH(BD$24,$K$8:$AV$8,0))+BD37-1,IF(AI$9=\"bi-weekly\",OFFSET($J$14,,MATCH(BD$24,$K$8:$AV$8,0))+BD37-1,IF(AI$9=\"Monthly\",OFFSET($J$15,,MATCH(BD$24,$K$8:$AV$8,0))+BD37-1,0)))","v":4.2857142857142856},{"$f":"IF(AJ$9=\"none\",0,IF(AND($F37=\"week 1\",$G37=\"Sun\"),OFFSET($J$10,,MATCH(BF$24,$K$8:$AV$8,0)),IF(AND(OR($F37=\"week 2\",$F37=\"week 3\",$F37=\"week 4\"),AJ$9=\"weekly\",$G37=\"Sun\"),OFFSET($J$10,,MATCH(BF$24,$K$8:$AV$8,0)),IF(AND($F37=\"week 3\",AJ$9=\"bi-weekly\",$G37=\"Sun\"),OFFSET($J$10,,MATCH(BF$24,$K$8:$AV$8,0)),BG35+1))))","v":2},{"$f":"IF(AJ$9=\"weekly\",OFFSET($J$13,,MATCH(BF$24,$K$8:$AV$8,0))+BF37-1,IF(AJ$9=\"bi-weekly\",OFFSET($J$14,,MATCH(BF$24,$K$8:$AV$8,0))+BF37-1,IF(AJ$9=\"Monthly\",OFFSET($J$15,,MATCH(BF$24,$K$8:$AV$8,0))+BF37-1,0)))","v":7.8571428571428577},{"$f":"IF(AK$9=\"none\",0,IF(AND($F37=\"week 1\",$G37=\"Sun\"),OFFSET($J$10,,MATCH(BH$24,$K$8:$AV$8,0)),IF(AND(OR($F37=\"week 2\",$F37=\"week 3\",$F37=\"week 4\"),AK$9=\"weekly\",$G37=\"Sun\"),OFFSET($J$10,,MATCH(BH$24,$K$8:$AV$8,0)),IF(AND($F37=\"week 3\",AK$9=\"bi-weekly\",$G37=\"Sun\"),OFFSET($J$10,,MATCH(BH$24,$K$8:$AV$8,0)),BI35+1))))","v":2},{"$f":"IF(AK$9=\"weekly\",OFFSET($J$13,,MATCH(BH$24,$K$8:$AV$8,0))+BH37-1,IF(AK$9=\"bi-weekly\",OFFSET($J$14,,MATCH(BH$24,$K$8:$AV$8,0))+BH37-1,IF(AK$9=\"Monthly\",OFFSET($J$15,,MATCH(BH$24,$K$8:$AV$8,0))+BH37-1,0)))","v":11.714285714285714},{"$f":"IF(AL$9=\"none\",0,IF(AND($F37=\"week 1\",$G37=\"Sun\"),OFFSET($J$10,,MATCH(BJ$24,$K$8:$AV$8,0)),IF(AND(OR($F37=\"week 2\",$F37=\"week 3\",$F37=\"week 4\"),AL$9=\"weekly\",$G37=\"Sun\"),OFFSET($J$10,,MATCH(BJ$24,$K$8:$AV$8,0)),IF(AND($F37=\"week 3\",AL$9=\"bi-weekly\",$G37=\"Sun\"),OFFSET($J$10,,MATCH(BJ$24,$K$8:$AV$8,0)),BK35+1))))","v":2},{"$f":"IF(AL$9=\"weekly\",OFFSET($J$13,,MATCH(BJ$24,$K$8:$AV$8,0))+BJ37-1,IF(AL$9=\"bi-weekly\",OFFSET($J$14,,MATCH(BJ$24,$K$8:$AV$8,0))+BJ37-1,IF(AL$9=\"Monthly\",OFFSET($J$15,,MATCH(BJ$24,$K$8:$AV$8,0))+BJ37-1,0)))","v":2.8571428571428572},{"$f":"IF(AM$9=\"none\",0,IF(AND($F37=\"week 1\",$G37=\"Sun\"),OFFSET($J$10,,MATCH(BL$24,$K$8:$AV$8,0)),IF(AND(OR($F37=\"week 2\",$F37=\"week 3\",$F37=\"week 4\"),AM$9=\"weekly\",$G37=\"Sun\"),OFFSET($J$10,,MATCH(BL$24,$K$8:$AV$8,0)),IF(AND($F37=\"week 3\",AM$9=\"bi-weekly\",$G37=\"Sun\"),OFFSET($J$10,,MATCH(BL$24,$K$8:$AV$8,0)),BM35+1))))","v":2},{"$f":"IF(AM$9=\"weekly\",OFFSET($J$13,,MATCH(BL$24,$K$8:$AV$8,0))+BL37-1,IF(AM$9=\"bi-weekly\",OFFSET($J$14,,MATCH(BL$24,$K$8:$AV$8,0))+BL37-1,IF(AM$9=\"Monthly\",OFFSET($J$15,,MATCH(BL$24,$K$8:$AV$8,0))+BL37-1,0)))","v":18},{"$f":"IF(AN$9=\"none\",0,IF(AND($F37=\"week 1\",$G37=\"Sun\"),OFFSET($J$10,,MATCH(BN$24,$K$8:$AV$8,0)),IF(AND(OR($F37=\"week 2\",$F37=\"week 3\",$F37=\"week 4\"),AN$9=\"weekly\",$G37=\"Sun\"),OFFSET($J$10,,MATCH(BN$24,$K$8:$AV$8,0)),IF(AND($F37=\"week 3\",AN$9=\"bi-weekly\",$G37=\"Sun\"),OFFSET($J$10,,MATCH(BN$24,$K$8:$AV$8,0)),BO35+1))))","v":2},{"$f":"IF(AN$9=\"weekly\",OFFSET($J$13,,MATCH(BN$24,$K$8:$AV$8,0))+BN37-1,IF(AN$9=\"bi-weekly\",OFFSET($J$14,,MATCH(BN$24,$K$8:$AV$8,0))+BN37-1,IF(AN$9=\"Monthly\",OFFSET($J$15,,MATCH(BN$24,$K$8:$AV$8,0))+BN37-1,0)))","v":16.571428571428569},{"$f":"IF(AO$9=\"none\",0,IF(AND($F37=\"week 1\",$G37=\"Sun\"),OFFSET($J$10,,MATCH(BP$24,$K$8:$AV$8,0)),IF(AND(OR($F37=\"week 2\",$F37=\"week 3\",$F37=\"week 4\"),AO$9=\"weekly\",$G37=\"Sun\"),OFFSET($J$10,,MATCH(BP$24,$K$8:$AV$8,0)),IF(AND($F37=\"week 3\",AO$9=\"bi-weekly\",$G37=\"Sun\"),OFFSET($J$10,,MATCH(BP$24,$K$8:$AV$8,0)),BQ35+1))))","v":0},{"$f":"IF(AO$9=\"weekly\",OFFSET($J$13,,MATCH(BP$24,$K$8:$AV$8,0))+BP37-1,IF(AO$9=\"bi-weekly\",OFFSET($J$14,,MATCH(BP$24,$K$8:$AV$8,0))+BP37-1,IF(AO$9=\"Monthly\",OFFSET($J$15,,MATCH(BP$24,$K$8:$AV$8,0))+BP37-1,0)))","v":0},{"$f":"IF(AP$9=\"none\",0,IF(AND($F37=\"week 1\",$G37=\"Sun\"),OFFSET($J$10,,MATCH(BR$24,$K$8:$AV$8,0)),IF(AND(OR($F37=\"week 2\",$F37=\"week 3\",$F37=\"week 4\"),AP$9=\"weekly\",$G37=\"Sun\"),OFFSET($J$10,,MATCH(BR$24,$K$8:$AV$8,0)),IF(AND($F37=\"week 3\",AP$9=\"bi-weekly\",$G37=\"Sun\"),OFFSET($J$10,,MATCH(BR$24,$K$8:$AV$8,0)),BS35+1))))","v":0},{"$f":"IF(AP$9=\"weekly\",OFFSET($J$13,,MATCH(BR$24,$K$8:$AV$8,0))+BR37-1,IF(AP$9=\"bi-weekly\",OFFSET($J$14,,MATCH(BR$24,$K$8:$AV$8,0))+BR37-1,IF(AP$9=\"Monthly\",OFFSET($J$15,,MATCH(BR$24,$K$8:$AV$8,0))+BR37-1,0)))","v":0},{"$f":"IF(AQ$9=\"none\",0,IF(AND($F37=\"week 1\",$G37=\"Sun\"),OFFSET($J$10,,MATCH(BT$24,$K$8:$AV$8,0)),IF(AND(OR($F37=\"week 2\",$F37=\"week 3\",$F37=\"week 4\"),AQ$9=\"weekly\",$G37=\"Sun\"),OFFSET($J$10,,MATCH(BT$24,$K$8:$AV$8,0)),IF(AND($F37=\"week 3\",AQ$9=\"bi-weekly\",$G37=\"Sun\"),OFFSET($J$10,,MATCH(BT$24,$K$8:$AV$8,0)),BU35+1))))","v":0},{"$f":"IF(AQ$9=\"weekly\",OFFSET($J$13,,MATCH(BT$24,$K$8:$AV$8,0))+BT37-1,IF(AQ$9=\"bi-weekly\",OFFSET($J$14,,MATCH(BT$24,$K$8:$AV$8,0))+BT37-1,IF(AQ$9=\"Monthly\",OFFSET($J$15,,MATCH(BT$24,$K$8:$AV$8,0))+BT37-1,0)))","v":0},{"$f":"IF(AR$9=\"none\",0,IF(AND($F37=\"week 1\",$G37=\"Sun\"),OFFSET($J$10,,MATCH(BV$24,$K$8:$AV$8,0)),IF(AND(OR($F37=\"week 2\",$F37=\"week 3\",$F37=\"week 4\"),AR$9=\"weekly\",$G37=\"Sun\"),OFFSET($J$10,,MATCH(BV$24,$K$8:$AV$8,0)),IF(AND($F37=\"week 3\",AR$9=\"bi-weekly\",$G37=\"Sun\"),OFFSET($J$10,,MATCH(BV$24,$K$8:$AV$8,0)),BW35+1))))","v":0},{"$f":"IF(AR$9=\"weekly\",OFFSET($J$13,,MATCH(BV$24,$K$8:$AV$8,0))+BV37-1,IF(AR$9=\"bi-weekly\",OFFSET($J$14,,MATCH(BV$24,$K$8:$AV$8,0))+BV37-1,IF(AR$9=\"Monthly\",OFFSET($J$15,,MATCH(BV$24,$K$8:$AV$8,0))+BV37-1,0)))","v":0},{"$f":"IF(AS$9=\"none\",0,IF(AND($F37=\"week 1\",$G37=\"Sun\"),OFFSET($J$10,,MATCH(BX$24,$K$8:$AV$8,0)),IF(AND(OR($F37=\"week 2\",$F37=\"week 3\",$F37=\"week 4\"),AS$9=\"weekly\",$G37=\"Sun\"),OFFSET($J$10,,MATCH(BX$24,$K$8:$AV$8,0)),IF(AND($F37=\"week 3\",AS$9=\"bi-weekly\",$G37=\"Sun\"),OFFSET($J$10,,MATCH(BX$24,$K$8:$AV$8,0)),BY35+1))))","v":0},{"$f":"IF(AS$9=\"weekly\",OFFSET($J$13,,MATCH(BX$24,$K$8:$AV$8,0))+BX37-1,IF(AS$9=\"bi-weekly\",OFFSET($J$14,,MATCH(BX$24,$K$8:$AV$8,0))+BX37-1,IF(AS$9=\"Monthly\",OFFSET($J$15,,MATCH(BX$24,$K$8:$AV$8,0))+BX37-1,0)))","v":0},{"$f":"IF(AT$9=\"none\",0,IF(AND($F37=\"week 1\",$G37=\"Sun\"),OFFSET($J$10,,MATCH(BZ$24,$K$8:$AV$8,0)),IF(AND(OR($F37=\"week 2\",$F37=\"week 3\",$F37=\"week 4\"),AT$9=\"weekly\",$G37=\"Sun\"),OFFSET($J$10,,MATCH(BZ$24,$K$8:$AV$8,0)),IF(AND($F37=\"week 3\",AT$9=\"bi-weekly\",$G37=\"Sun\"),OFFSET($J$10,,MATCH(BZ$24,$K$8:$AV$8,0)),CA35+1))))","v":0},{"$f":"IF(AT$9=\"weekly\",OFFSET($J$13,,MATCH(BZ$24,$K$8:$AV$8,0))+BZ37-1,IF(AT$9=\"bi-weekly\",OFFSET($J$14,,MATCH(BZ$24,$K$8:$AV$8,0))+BZ37-1,IF(AT$9=\"Monthly\",OFFSET($J$15,,MATCH(BZ$24,$K$8:$AV$8,0))+BZ37-1,0)))","v":0},{"$f":"IF(AU$9=\"none\",0,IF(AND($F37=\"week 1\",$G37=\"Sun\"),OFFSET($J$10,,MATCH(CB$24,$K$8:$AV$8,0)),IF(AND(OR($F37=\"week 2\",$F37=\"week 3\",$F37=\"week 4\"),AU$9=\"weekly\",$G37=\"Sun\"),OFFSET($J$10,,MATCH(CB$24,$K$8:$AV$8,0)),IF(AND($F37=\"week 3\",AU$9=\"bi-weekly\",$G37=\"Sun\"),OFFSET($J$10,,MATCH(CB$24,$K$8:$AV$8,0)),CC35+1))))","v":0},{"$f":"IF(AU$9=\"weekly\",OFFSET($J$13,,MATCH(CB$24,$K$8:$AV$8,0))+CB37-1,IF(AU$9=\"bi-weekly\",OFFSET($J$14,,MATCH(CB$24,$K$8:$AV$8,0))+CB37-1,IF(AU$9=\"Monthly\",OFFSET($J$15,,MATCH(CB$24,$K$8:$AV$8,0))+CB37-1,0)))","v":0},{"$f":"(ROUND(I37,0)-ROUND(H37,0))+(ROUND(K37,0)-ROUND(J37,0))+(ROUND(M37,0)-ROUND(L37,0))+(ROUND(O37,0)-ROUND(N37,0))+(ROUND(Q37,0)-ROUND(P37,0))+(ROUND(S37,0)-ROUND(R37,0))+(ROUND(U37,0)-ROUND(T37,0)+(ROUND(W37,0)-ROUND(V37,0))+(ROUND(Y37,0)-ROUND(X37,0))+(ROUND(AA37,0)-ROUND(Z37,0))+(ROUND(AC37,0)-ROUND(AB37,0))+(ROUND(AE37,0)-ROUND(AD37,0))+(ROUND(AG37,0)-ROUND(AF37,0))+(ROUND(AI37,0)-ROUND(AH37,0))+(ROUND(AK37,0)-ROUND(AJ37,0))+(ROUND(AM37,0)-ROUND(AL37,0))+(ROUND(AO37,0)-ROUND(AN37,0))+(ROUND(AQ37,0)-ROUND(AP37,0))+(ROUND(AS37,0)-ROUND(AR37,0))+(ROUND(AU37,0)-ROUND(AT37,0))+(ROUND(AW37,0)-ROUND(AV37,0))+(ROUND(AY37,0)-ROUND(AX37,0))+(ROUND(BA37,0)-ROUND(AZ37,0))+(ROUND(BC37,0)-ROUND(BB37,0))+(ROUND(BE37,0)-ROUND(BD37,0))+(ROUND(BG37,0)-ROUND(BF37,0))+(ROUND(BI37,0)-ROUND(BH37,0))+(ROUND(BK37,0)-ROUND(BJ37,0))+(ROUND(BM37,0)-ROUND(BL37,0))+(ROUND(BO37,0)-ROUND(BN37,0))+(ROUND(BQ37,0)-ROUND(BP37,0))+(ROUND(BS37,0)-ROUND(BR37,0))+(ROUND(BU37,0)-ROUND(BT37,0))+(ROUND(BW37,0)-ROUND(BV37,0))+(ROUND(BY37,0)-ROUND(BX37,0))+(ROUND(CA37,0)-ROUND(BZ37,0))+(ROUND(CC37,0)-ROUND(CB37,0))+(COUNTIF($H37:$CC37,\">\"&0)/2))","v":146}]
[null,null,null,null,null,"WEEK 2","MON",{"$f":"IF(K$9=\"none\",0,IF(AND($F38=\"week 1\",$G38=\"Sun\"),OFFSET($J$10,,MATCH(H$24,$K$8:$AV$8,0)),IF(AND(OR($F38=\"week 2\",$F38=\"week 3\",$F38=\"week 4\"),K$9=\"weekly\",$G38=\"Sun\"),OFFSET($J$10,,MATCH(H$24,$K$8:$AV$8,0)),IF(AND($F38=\"week 3\",K$9=\"bi-weekly\",$G38=\"Sun\"),OFFSET($J$10,,MATCH(H$24,$K$8:$AV$8,0)),I37+1))))","v":20},21.25,{"$f":"IF(L$9=\"none\",0,IF(AND($F38=\"week 1\",$G38=\"Sun\"),OFFSET($J$10,,MATCH(J$24,$K$8:$AV$8,0)),IF(AND(OR($F38=\"week 2\",$F38=\"week 3\",$F38=\"week 4\"),L$9=\"weekly\",$G38=\"Sun\"),OFFSET($J$10,,MATCH(J$24,$K$8:$AV$8,0)),IF(AND($F38=\"week 3\",L$9=\"bi-weekly\",$G38=\"Sun\"),OFFSET($J$10,,MATCH(J$24,$K$8:$AV$8,0)),K37+1))))","v":46.571428571428562},51.142857142857132,{"$f":"IF(M$9=\"none\",0,IF(AND($F38=\"week 1\",$G38=\"Sun\"),OFFSET($J$10,,MATCH(L$24,$K$8:$AV$8,0)),IF(AND(OR($F38=\"week 2\",$F38=\"week 3\",$F38=\"week 4\"),M$9=\"weekly\",$G38=\"Sun\"),OFFSET($J$10,,MATCH(L$24,$K$8:$AV$8,0)),IF(AND($F38=\"week 3\",M$9=\"bi-weekly\",$G38=\"Sun\"),OFFSET($J$10,,MATCH(L$24,$K$8:$AV$8,0)),M37+1))))","v":31.714285714285719},34.428571428571431,{"$f":"IF(N$9=\"none\",0,IF(AND($F38=\"week 1\",$G38=\"Sun\"),OFFSET($J$10,,MATCH(N$24,$K$8:$AV$8,0)),IF(AND(OR($F38=\"week 2\",$F38=\"week 3\",$F38=\"week 4\"),N$9=\"weekly\",$G38=\"Sun\"),OFFSET($J$10,,MATCH(N$24,$K$8:$AV$8,0)),IF(AND($F38=\"week 3\",N$9=\"bi-weekly\",$G38=\"Sun\"),OFFSET($J$10,,MATCH(N$24,$K$8:$AV$8,0)),O37+1))))","v":36.285714285714285},39.571428571428569,{"$f":"IF(O$9=\"none\",0,IF(AND($F38=\"week 1\",$G38=\"Sun\"),OFFSET($J$10,,MATCH(P$24,$K$8:$AV$8,0)),IF(AND(OR($F38=\"week 2\",$F38=\"week 3\",$F38=\"week 4\"),O$9=\"weekly\",$G38=\"Sun\"),OFFSET($J$10,,MATCH(P$24,$K$8:$AV$8,0)),IF(AND($F38=\"week 3\",O$9=\"bi-weekly\",$G38=\"Sun\"),OFFSET($J$10,,MATCH(P$24,$K$8:$AV$8,0)),Q37+1))))","v":8},7.75,{"$f":"IF(P$9=\"none\",0,IF(AND($F38=\"week 1\",$G38=\"Sun\"),OFFSET($J$10,,MATCH(R$24,$K$8:$AV$8,0)),IF(AND(OR($F38=\"week 2\",$F38=\"week 3\",$F38=\"week 4\"),P$9=\"weekly\",$G38=\"Sun\"),OFFSET($J$10,,MATCH(R$24,$K$8:$AV$8,0)),IF(AND($F38=\"week 3\",P$9=\"bi-weekly\",$G38=\"Sun\"),OFFSET($J$10,,MATCH(R$24,$K$8:$AV$8,0)),S37+1))))","v":26.857142857142861},28.964285714285719,{"$f":"IF(Q$9=\"none\",0,IF(AND($F38=\"week 1\",$G38=\"Sun\"),OFFSET($J$10,,MATCH(T$24,$K$8:$AV$8,0)),IF(AND(OR($F38=\"week 2\",$F38=\"week 3\",$F38=\"week 4\"),Q$9=\"weekly\",$G38=\"Sun\"),OFFSET($J$10,,MATCH(T$24,$K$8:$AV$8,0)),IF(AND($F38=\"week 3\",Q$9=\"bi-weekly\",$G38=\"Sun\"),OFFSET($J$10,,MATCH(T$24,$K$8:$AV$8,0)),U37+1))))","v":17.714285714285712},18.678571428571427,{"$f":"IF(R$9=\"none\",0,IF(AND($F38=\"week 1\",$G38=\"Sun\"),OFFSET($J$10,,MATCH(V$24,$K$8:$AV$8,0)),IF(AND(OR($F38=\"week 2\",$F38=\"week 3\",$F38=\"week 4\"),R$9=\"weekly\",$G38=\"Sun\"),OFFSET($J$10,,MATCH(V$24,$K$8:$AV$8,0)),IF(AND($F38=\"week 3\",R$9=\"bi-weekly\",$G38=\"Sun\"),OFFSET($J$10,,MATCH(V$24,$K$8:$AV$8,0)),W37+1))))","v":13.142857142857141},13.535714285714283,{"$f":"IF(S$9=\"none\",0,IF(AND($F38=\"week 1\",$G38=\"Sun\"),OFFSET($J$10,,MATCH(X$24,$K$8:$AV$8,0)),IF(AND(OR($F38=\"week 2\",$F38=\"week 3\",$F38=\"week 4\"),S$9=\"weekly\",$G38=\"Sun\"),OFFSET($J$10,,MATCH(X$24,$K$8:$AV$8,0)),IF(AND($F38=\"week 3\",S$9=\"bi-weekly\",$G38=\"Sun\"),OFFSET($J$10,,MATCH(X$24,$K$8:$AV$8,0)),Y37+1))))","v":11.714285714285712},11.928571428571425,{"$f":"IF(T$9=\"none\",0,IF(AND($F38=\"week 1\",$G38=\"Sun\"),OFFSET($J$10,,MATCH(Z$24,$K$8:$AV$8,0)),IF(AND(OR($F38=\"week 2\",$F38=\"week 3\",$F38=\"week 4\"),T$9=\"weekly\",$G38=\"Sun\"),OFFSET($J$10,,MATCH(Z$24,$K$8:$AV$8,0)),IF(AND($F38=\"week 3\",T$9=\"bi-weekly\",$G38=\"Sun\"),OFFSET($J$10,,MATCH(Z$24,$K$8:$AV$8,0)),AA37+1))))","v":10.571428571428569},10.642857142857141,{"$f":"IF(U$9=\"none\",0,IF(AND($F38=\"week 1\",$G38=\"Sun\"),OFFSET($J$10,,MATCH(AB$24,$K$8:$AV$8,0)),IF(AND(OR($F38=\"week 2\",$F38=\"week 3\",$F38=\"week 4\"),U$9=\"weekly\",$G38=\"Sun\"),OFFSET($J$10,,MATCH(AB$24,$K$8:$AV$8,0)),IF(AND($F38=\"week 3\",U$9=\"bi-weekly\",$G38=\"Sun\"),OFFSET($J$10,,MATCH(AB$24,$K$8:$AV$8,0)),AC37+1))))","v":10.857142857142859},10.964285714285717,{"$f":"IF(V$9=\"none\",0,IF(AND($F38=\"week 1\",$G38=\"Sun\"),OFFSET($J$10,,MATCH(AD$24,$K$8:$AV$8,0)),IF(AND(OR($F38=\"week 2\",$F38=\"week 3\",$F38=\"week 4\"),V$9=\"weekly\",$G38=\"Sun\"),OFFSET($J$10,,MATCH(AD$24,$K$8:$AV$8,0)),IF(AND($F38=\"week 3\",V$9=\"bi-weekly\",$G38=\"Sun\"),OFFSET($J$10,,MATCH(AD$24,$K$8:$AV$8,0)),AE37+1))))","v":10},10,{"$f":"IF(W$9=\"none\",0,IF(AND($F38=\"week 1\",$G38=\"Sun\"),OFFSET($J$10,,MATCH(AF$24,$K$8:$AV$8,0)),IF(AND(OR($F38=\"week 2\",$F38=\"week 3\",$F38=\"week 4\"),W$9=\"weekly\",$G38=\"Sun\"),OFFSET($J$10,,MATCH(AF$24,$K$8:$AV$8,0)),IF(AND($F38=\"week 3\",W$9=\"bi-weekly\",$G38=\"Sun\"),OFFSET($J$10,,MATCH(AF$24,$K$8:$AV$8,0)),AG37+1))))","v":9.4285714285714306},9.3571428571428594,{"$f":"IF(X$9=\"none\",0,IF(AND($F38=\"week 1\",$G38=\"Sun\"),OFFSET($J$10,,MATCH(AH$24,$K$8:$AV$8,0)),IF(AND(OR($F38=\"week 2\",$F38=\"week 3\",$F38=\"week 4\"),X$9=\"weekly\",$G38=\"Sun\"),OFFSET($J$10,,MATCH(AH$24,$K$8:$AV$8,0)),IF(AND($F38=\"week 3\",X$9=\"bi-weekly\",$G38=\"Sun\"),OFFSET($J$10,,MATCH(AH$24,$K$8:$AV$8,0)),AI37+1))))","v":36.571428571428562},39.892857142857132,{"$f":"IF(Y$9=\"none\",0,IF(AND($F38=\"week 1\",$G38=\"Sun\"),OFFSET($J$10,,MATCH(AJ$24,$K$8:$AV$8,0)),IF(AND(OR($F38=\"week 2\",$F38=\"week 3\",$F38=\"week 4\"),Y$9=\"weekly\",$G38=\"Sun\"),OFFSET($J$10,,MATCH(AJ$24,$K$8:$AV$8,0)),IF(AND($F38=\"week 3\",Y$9=\"bi-weekly\",$G38=\"Sun\"),OFFSET($J$10,,MATCH(AJ$24,$K$8:$AV$8,0)),AK37+1))))","v":33.714285714285715},36.678571428571431,{"$f":"IF(Z$9=\"none\",0,IF(AND($F38=\"week 1\",$G38=\"Sun\"),OFFSET($J$10,,MATCH(AL$24,$K$8:$AV$8,0)),IF(AND(OR($F38=\"week 2\",$F38=\"week 3\",$F38=\"week 4\"),Z$9=\"weekly\",$G38=\"Sun\"),OFFSET($J$10,,MATCH(AL$24,$K$8:$AV$8,0)),IF(AND($F38=\"week 3\",Z$9=\"bi-weekly\",$G38=\"Sun\"),OFFSET($J$10,,MATCH(AL$24,$K$8:$AV$8,0)),AM37+1))))","v":27.714285714285719},29.928571428571434,{"$f":"IF(AA$9=\"none\",0,IF(AND($F38=\"week 1\",$G38=\"Sun\"),OFFSET($J$10,,MATCH(AN$24,$K$8:$AV$8,0)),IF(AND(OR($F38=\"week 2\",$F38=\"week 3\",$F38=\"week 4\"),AA$9=\"weekly\",$G38=\"Sun\"),OFFSET($J$10,,MATCH(AN$24,$K$8:$AV$8,0)),IF(AND($F38=\"week 3\",AA$9=\"bi-weekly\",$G38=\"Sun\"),OFFSET($J$10,,MATCH(AN$24,$K$8:$AV$8,0)),AO37+1))))","v":20.571428571428573},21.892857142857146,{"$f":"IF(AB$9=\"none\",0,IF(AND($F38=\"week 1\",$G38=\"Sun\"),OFFSET($J$10,,MATCH(AP$24,$K$8:$AV$8,0)),IF(AND(OR($F38=\"week 2\",$F38=\"week 3\",$F38=\"week 4\"),AB$9=\"weekly\",$G38=\"Sun\"),OFFSET($J$10,,MATCH(AP$24,$K$8:$AV$8,0)),IF(AND($F38=\"week 3\",AB$9=\"bi-weekly\",$G38=\"Sun\"),OFFSET($J$10,,MATCH(AP$24,$K$8:$AV$8,0)),AQ37+1))))","v":15.714285714285712},{"$f":"IF(AB$9=\"weekly\",OFFSET($J$13,,MATCH(AP$24,$K$8:$AV$8,0))+AP38-1,IF(AB$9=\"bi-weekly\",OFFSET($J$14,,MATCH(AP$24,$K$8:$AV$8,0))+AP38-1,IF(AB$9=\"Monthly\",OFFSET($J$15,,MATCH(AP$24,$K$8:$AV$8,0))+AP38-1,0)))","v":16.428571428571427},{"$f":"IF(AC$9=\"none\",0,IF(AND($F38=\"week 1\",$G38=\"Sun\"),OFFSET($J$10,,MATCH(AR$24,$K$8:$AV$8,0)),IF(AND(OR($F38=\"week 2\",$F38=\"week 3\",$F38=\"week 4\"),AC$9=\"weekly\",$G38=\"Sun\"),OFFSET($J$10,,MATCH(AR$24,$K$8:$AV$8,0)),IF(AND($F38=\"week 3\",AC$9=\"bi-weekly\",$G38=\"Sun\"),OFFSET($J$10,,MATCH(AR$24,$K$8:$AV$8,0)),AS37+1))))","v":27.428571428571423},29.607142857142851,{"$f":"IF(AD$9=\"none\",0,IF(AND($F38=\"week 1\",$G38=\"Sun\"),OFFSET($J$10,,MATCH(AT$24,$K$8:$AV$8,0)),IF(AND(OR($F38=\"week 2\",$F38=\"week 3\",$F38=\"week 4\"),AD$9=\"weekly\",$G38=\"Sun\"),OFFSET($J$10,,MATCH(AT$24,$K$8:$AV$8,0)),IF(AND($F38=\"week 3\",AD$9=\"bi-weekly\",$G38=\"Sun\"),OFFSET($J$10,,MATCH(AT$24,$K$8:$AV$8,0)),AU37+1))))","v":25.142857142857139},27.035714285714281,{"$f":"IF(AE$9=\"none\",0,IF(AND($F38=\"week 1\",$G38=\"Sun\"),OFFSET($J$10,,MATCH(AV$24,$K$8:$AV$8,0)),IF(AND(OR($F38=\"week 2\",$F38=\"week 3\",$F38=\"week 4\"),AE$9=\"weekly\",$G38=\"Sun\"),OFFSET($J$10,,MATCH(AV$24,$K$8:$AV$8,0)),IF(AND($F38=\"week 3\",AE$9=\"bi-weekly\",$G38=\"Sun\"),OFFSET($J$10,,MATCH(AV$24,$K$8:$AV$8,0)),AW37+1))))","v":35.714285714285715},38.928571428571431,{"$f":"IF(AF$9=\"none\",0,IF(AND($F38=\"week 1\",$G38=\"Sun\"),OFFSET($J$10,,MATCH(AX$24,$K$8:$AV$8,0)),IF(AND(OR($F38=\"week 2\",$F38=\"week 3\",$F38=\"week 4\"),AF$9=\"weekly\",$G38=\"Sun\"),OFFSET($J$10,,MATCH(AX$24,$K$8:$AV$8,0)),IF(AND($F38=\"week 3\",AF$9=\"bi-weekly\",$G38=\"Sun\"),OFFSET($J$10,,MATCH(AX$24,$K$8:$AV$8,0)),AY37+1))))","v":69.428571428571431},76.857142857142861,{"$f":"IF(AG$9=\"none\",0,IF(AND($F38=\"week 1\",$G38=\"Sun\"),OFFSET($J$10,,MATCH(AZ$24,$K$8:$AV$8,0)),IF(AND(OR($F38=\"week 2\",$F38=\"week 3\",$F38=\"week 4\"),AG$9=\"weekly\",$G38=\"Sun\"),OFFSET($J$10,,MATCH(AZ$24,$K$8:$AV$8,0)),IF(AND($F38=\"week 3\",AG$9=\"bi-weekly\",$G38=\"Sun\"),OFFSET($J$10,,MATCH(AZ$24,$K$8:$AV$8,0)),BA37+1))))","v":102},113.5,{"$f":"IF(AH$9=\"none\",0,IF(AND($F38=\"week 1\",$G38=\"Sun\"),OFFSET($J$10,,MATCH(BB$24,$K$8:$AV$8,0)),IF(AND(OR($F38=\"week 2\",$F38=\"week 3\",$F38=\"week 4\"),AH$9=\"weekly\",$G38=\"Sun\"),OFFSET($J$10,,MATCH(BB$24,$K$8:$AV$8,0)),IF(AND($F38=\"week 3\",AH$9=\"bi-weekly\",$G38=\"Sun\"),OFFSET($J$10,,MATCH(BB$24,$K$8:$AV$8,0)),BC37+1))))","v":18},33,{"$f":"IF(AI$9=\"none\",0,IF(AND($F38=\"week 1\",$G38=\"Sun\"),OFFSET($J$10,,MATCH(BD$24,$K$8:$AV$8,0)),IF(AND(OR($F38=\"week 2\",$F38=\"week 3\",$F38=\"week 4\"),AI$9=\"weekly\",$G38=\"Sun\"),OFFSET($J$10,,MATCH(BD$24,$K$8:$AV$8,0)),IF(AND($F38=\"week 3\",AI$9=\"bi-weekly\",$G38=\"Sun\"),OFFSET($J$10,,MATCH(BD$24,$K$8:$AV$8,0)),BE37+1))))","v":5.2857142857142856},7.5714285714285712,{"$f":"IF(AJ$9=\"none\",0,IF(AND($F38=\"week 1\",$G38=\"Sun\"),OFFSET($J$10,,MATCH(BF$24,$K$8:$AV$8,0)),IF(AND(OR($F38=\"week 2\",$F38=\"week 3\",$F38=\"week 4\"),AJ$9=\"weekly\",$G38=\"Sun\"),OFFSET($J$10,,MATCH(BF$24,$K$8:$AV$8,0)),IF(AND($F38=\"week 3\",AJ$9=\"bi-weekly\",$G38=\"Sun\"),OFFSET($J$10,,MATCH(BF$24,$K$8:$AV$8,0)),BG37+1))))","v":8.8571428571428577},14.714285714285715,{"$f":"IF(AK$9=\"none\",0,IF(AND($F38=\"week 1\",$G38=\"Sun\"),OFFSET($J$10,,MATCH(BH$24,$K$8:$AV$8,0)),IF(AND(OR($F38=\"week 2\",$F38=\"week 3\",$F38=\"week 4\"),AK$9=\"weekly\",$G38=\"Sun\"),OFFSET($J$10,,MATCH(BH$24,$K$8:$AV$8,0)),IF(AND($F38=\"week 3\",AK$9=\"bi-weekly\",$G38=\"Sun\"),OFFSET($J$10,,MATCH(BH$24,$K$8:$AV$8,0)),BI37+1))))","v":12.714285714285714},22.428571428571427,{"$f":"IF(AL$9=\"none\",0,IF(AND($F38=\"week 1\",$G38=\"Sun\"),OFFSET($J$10,,MATCH(BJ$24,$K$8:$AV$8,0)),IF(AND(OR($F38=\"week 2\",$F38=\"week 3\",$F38=\"week 4\"),AL$9=\"weekly\",$G38=\"Sun\"),OFFSET($J$10,,MATCH(BJ$24,$K$8:$AV$8,0)),IF(AND($F38=\"week 3\",AL$9=\"bi-weekly\",$G38=\"Sun\"),OFFSET($J$10,,MATCH(BJ$24,$K$8:$AV$8,0)),BK37+1))))","v":3.8571428571428572},{"$f":"IF(AL$9=\"weekly\",OFFSET($J$13,,MATCH(BJ$24,$K$8:$AV$8,0))+BJ38-1,IF(AL$9=\"bi-weekly\",OFFSET($J$14,,MATCH(BJ$24,$K$8:$AV$8,0))+BJ38-1,IF(AL$9=\"Monthly\",OFFSET($J$15,,MATCH(BJ$24,$K$8:$AV$8,0))+BJ38-1,0)))","v":4.7142857142857144},{"$f":"IF(AM$9=\"none\",0,IF(AND($F38=\"week 1\",$G38=\"Sun\"),OFFSET($J$10,,MATCH(BL$24,$K$8:$AV$8,0)),IF(AND(OR($F38=\"week 2\",$F38=\"week 3\",$F38=\"week 4\"),AM$9=\"weekly\",$G38=\"Sun\"),OFFSET($J$10,,MATCH(BL$24,$K$8:$AV$8,0)),IF(AND($F38=\"week 3\",AM$9=\"bi-weekly\",$G38=\"Sun\"),OFFSET($J$10,,MATCH(BL$24,$K$8:$AV$8,0)),BM37+1))))","v":19},{"$f":"IF(AM$9=\"weekly\",OFFSET($J$13,,MATCH(BL$24,$K$8:$AV$8,0))+BL38-1,IF(AM$9=\"bi-weekly\",OFFSET($J$14,,MATCH(BL$24,$K$8:$AV$8,0))+BL38-1,IF(AM$9=\"Monthly\",OFFSET($J$15,,MATCH(BL$24,$K$8:$AV$8,0))+BL38-1,0)))","v":35},{"$f":"IF(AN$9=\"none\",0,IF(AND($F38=\"week 1\",$G38=\"Sun\"),OFFSET($J$10,,MATCH(BN$24,$K$8:$AV$8,0)),IF(AND(OR($F38=\"week 2\",$F38=\"week 3\",$F38=\"week 4\"),AN$9=\"weekly\",$G38=\"Sun\"),OFFSET($J$10,,MATCH(BN$24,$K$8:$AV$8,0)),IF(AND($F38=\"week 3\",AN$9=\"bi-weekly\",$G38=\"Sun\"),OFFSET($J$10,,MATCH(BN$24,$K$8:$AV$8,0)),BO37+1))))","v":17.571428571428569},{"$f":"IF(AN$9=\"weekly\",OFFSET($J$13,,MATCH(BN$24,$K$8:$AV$8,0))+BN38-1,IF(AN$9=\"bi-weekly\",OFFSET($J$14,,MATCH(BN$24,$K$8:$AV$8,0))+BN38-1,IF(AN$9=\"Monthly\",OFFSET($J$15,,MATCH(BN$24,$K$8:$AV$8,0))+BN38-1,0)))","v":32.142857142857139},{"$f":"IF(AO$9=\"none\",0,IF(AND($F38=\"week 1\",$G38=\"Sun\"),OFFSET($J$10,,MATCH(BP$24,$K$8:$AV$8,0)),IF(AND(OR($F38=\"week 2\",$F38=\"week 3\",$F38=\"week 4\"),AO$9=\"weekly\",$G38=\"Sun\"),OFFSET($J$10,,MATCH(BP$24,$K$8:$AV$8,0)),IF(AND($F38=\"week 3\",AO$9=\"bi-weekly\",$G38=\"Sun\"),OFFSET($J$10,,MATCH(BP$24,$K$8:$AV$8,0)),BQ37+1))))","v":0},{"$f":"IF(AO$9=\"weekly\",OFFSET($J$13,,MATCH(BP$24,$K$8:$AV$8,0))+BP38-1,IF(AO$9=\"bi-weekly\",OFFSET($J$14,,MATCH(BP$24,$K$8:$AV$8,0))+BP38-1,IF(AO$9=\"Monthly\",OFFSET($J$15,,MATCH(BP$24,$K$8:$AV$8,0))+BP38-1,0)))","v":0},{"$f":"IF(AP$9=\"none\",0,IF(AND($F38=\"week 1\",$G38=\"Sun\"),OFFSET($J$10,,MATCH(BR$24,$K$8:$AV$8,0)),IF(AND(OR($F38=\"week 2\",$F38=\"week 3\",$F38=\"week 4\"),AP$9=\"weekly\",$G38=\"Sun\"),OFFSET($J$10,,MATCH(BR$24,$K$8:$AV$8,0)),IF(AND($F38=\"week 3\",AP$9=\"bi-weekly\",$G38=\"Sun\"),OFFSET($J$10,,MATCH(BR$24,$K$8:$AV$8,0)),BS37+1))))","v":0},0,{"$f":"IF(AQ$9=\"none\",0,IF(AND($F38=\"week 1\",$G38=\"Sun\"),OFFSET($J$10,,MATCH(BT$24,$K$8:$AV$8,0)),IF(AND(OR($F38=\"week 2\",$F38=\"week 3\",$F38=\"week 4\"),AQ$9=\"weekly\",$G38=\"Sun\"),OFFSET($J$10,,MATCH(BT$24,$K$8:$AV$8,0)),IF(AND($F38=\"week 3\",AQ$9=\"bi-weekly\",$G38=\"Sun\"),OFFSET($J$10,,MATCH(BT$24,$K$8:$AV$8,0)),BU37+1))))","v":0},{"$f":"IF(AQ$9=\"weekly\",OFFSET($J$13,,MATCH(BT$24,$K$8:$AV$8,0))+BT38-1,IF(AQ$9=\"bi-weekly\",OFFSET($J$14,,MATCH(BT$24,$K$8:$AV$8,0))+BT38-1,IF(AQ$9=\"Monthly\",OFFSET($J$15,,MATCH(BT$24,$K$8:$AV$8,0))+BT38-1,0)))","v":0},{"$f":"IF(AR$9=\"none\",0,IF(AND($F38=\"week 1\",$G38=\"Sun\"),OFFSET($J$10,,MATCH(BV$24,$K$8:$AV$8,0)),IF(AND(OR($F38=\"week 2\",$F38=\"week 3\",$F38=\"week 4\"),AR$9=\"weekly\",$G38=\"Sun\"),OFFSET($J$10,,MATCH(BV$24,$K$8:$AV$8,0)),IF(AND($F38=\"week 3\",AR$9=\"bi-weekly\",$G38=\"Sun\"),OFFSET($J$10,,MATCH(BV$24,$K$8:$AV$8,0)),BW37+1))))","v":0},{"$f":"IF(AR$9=\"weekly\",OFFSET($J$13,,MATCH(BV$24,$K$8:$AV$8,0))+BV38-1,IF(AR$9=\"bi-weekly\",OFFSET($J$14,,MATCH(BV$24,$K$8:$AV$8,0))+BV38-1,IF(AR$9=\"Monthly\",OFFSET($J$15,,MATCH(BV$24,$K$8:$AV$8,0))+BV38-1,0)))","v":0},{"$f":"IF(AS$9=\"none\",0,IF(AND($F38=\"week 1\",$G38=\"Sun\"),OFFSET($J$10,,MATCH(BX$24,$K$8:$AV$8,0)),IF(AND(OR($F38=\"week 2\",$F38=\"week 3\",$F38=\"week 4\"),AS$9=\"weekly\",$G38=\"Sun\"),OFFSET($J$10,,MATCH(BX$24,$K$8:$AV$8,0)),IF(AND($F38=\"week 3\",AS$9=\"bi-weekly\",$G38=\"Sun\"),OFFSET($J$10,,MATCH(BX$24,$K$8:$AV$8,0)),BY37+1))))","v":0},{"$f":"IF(AS$9=\"weekly\",OFFSET($J$13,,MATCH(BX$24,$K$8:$AV$8,0))+BX38-1,IF(AS$9=\"bi-weekly\",OFFSET($J$14,,MATCH(BX$24,$K$8:$AV$8,0))+BX38-1,IF(AS$9=\"Monthly\",OFFSET($J$15,,MATCH(BX$24,$K$8:$AV$8,0))+BX38-1,0)))","v":0},{"$f":"IF(AT$9=\"none\",0,IF(AND($F38=\"week 1\",$G38=\"Sun\"),OFFSET($J$10,,MATCH(BZ$24,$K$8:$AV$8,0)),IF(AND(OR($F38=\"week 2\",$F38=\"week 3\",$F38=\"week 4\"),AT$9=\"weekly\",$G38=\"Sun\"),OFFSET($J$10,,MATCH(BZ$24,$K$8:$AV$8,0)),IF(AND($F38=\"week 3\",AT$9=\"bi-weekly\",$G38=\"Sun\"),OFFSET($J$10,,MATCH(BZ$24,$K$8:$AV$8,0)),CA37+1))))","v":0},{"$f":"IF(AT$9=\"weekly\",OFFSET($J$13,,MATCH(BZ$24,$K$8:$AV$8,0))+BZ38-1,IF(AT$9=\"bi-weekly\",OFFSET($J$14,,MATCH(BZ$24,$K$8:$AV$8,0))+BZ38-1,IF(AT$9=\"Monthly\",OFFSET($J$15,,MATCH(BZ$24,$K$8:$AV$8,0))+BZ38-1,0)))","v":0},{"$f":"IF(AU$9=\"none\",0,IF(AND($F38=\"week 1\",$G38=\"Sun\"),OFFSET($J$10,,MATCH(CB$24,$K$8:$AV$8,0)),IF(AND(OR($F38=\"week 2\",$F38=\"week 3\",$F38=\"week 4\"),AU$9=\"weekly\",$G38=\"Sun\"),OFFSET($J$10,,MATCH(CB$24,$K$8:$AV$8,0)),IF(AND($F38=\"week 3\",AU$9=\"bi-weekly\",$G38=\"Sun\"),OFFSET($J$10,,MATCH(CB$24,$K$8:$AV$8,0)),CC37+1))))","v":0},{"$f":"IF(AU$9=\"weekly\",OFFSET($J$13,,MATCH(CB$24,$K$8:$AV$8,0))+CB38-1,IF(AU$9=\"bi-weekly\",OFFSET($J$14,,MATCH(CB$24,$K$8:$AV$8,0))+CB38-1,IF(AU$9=\"Monthly\",OFFSET($J$15,,MATCH(CB$24,$K$8:$AV$8,0))+CB38-1,0)))","v":0},{"$f":"(ROUND(I38,0)-ROUND(H38,0))+(ROUND(K38,0)-ROUND(J38,0))+(ROUND(M38,0)-ROUND(L38,0))+(ROUND(O38,0)-ROUND(N38,0))+(ROUND(Q38,0)-ROUND(P38,0))+(ROUND(S38,0)-ROUND(R38,0))+(ROUND(U38,0)-ROUND(T38,0)+(ROUND(W38,0)-ROUND(V38,0))+(ROUND(Y38,0)-ROUND(X38,0))+(ROUND(AA38,0)-ROUND(Z38,0))+(ROUND(AC38,0)-ROUND(AB38,0))+(ROUND(AE38,0)-ROUND(AD38,0))+(ROUND(AG38,0)-ROUND(AF38,0))+(ROUND(AI38,0)-ROUND(AH38,0))+(ROUND(AK38,0)-ROUND(AJ38,0))+(ROUND(AM38,0)-ROUND(AL38,0))+(ROUND(AO38,0)-ROUND(AN38,0))+(ROUND(AQ38,0)-ROUND(AP38,0))+(ROUND(AS38,0)-ROUND(AR38,0))+(ROUND(AU38,0)-ROUND(AT38,0))+(ROUND(AW38,0)-ROUND(AV38,0))+(ROUND(AY38,0)-ROUND(AX38,0))+(ROUND(BA38,0)-ROUND(AZ38,0))+(ROUND(BC38,0)-ROUND(BB38,0))+(ROUND(BE38,0)-ROUND(BD38,0))+(ROUND(BG38,0)-ROUND(BF38,0))+(ROUND(BI38,0)-ROUND(BH38,0))+(ROUND(BK38,0)-ROUND(BJ38,0))+(ROUND(BM38,0)-ROUND(BL38,0))+(ROUND(BO38,0)-ROUND(BN38,0))+(ROUND(BQ38,0)-ROUND(BP38,0))+(ROUND(BS38,0)-ROUND(BR38,0))+(ROUND(BU38,0)-ROUND(BT38,0))+(ROUND(BW38,0)-ROUND(BV38,0))+(ROUND(BY38,0)-ROUND(BX38,0))+(ROUND(CA38,0)-ROUND(BZ38,0))+(ROUND(CC38,0)-ROUND(CB38,0))+(COUNTIF($H38:$CC38,\">\"&0)/2))","v":146}]
[null,null,null,null,null,"WEEK 2","TUE",22.25,23.5,52.142857142857132,56.714285714285701,35.428571428571431,38.142857142857146,40.571428571428569,43.857142857142854,8.75,8.5,29.964285714285719,32.071428571428577,19.678571428571427,20.642857142857142,14.535714285714283,14.928571428571425,12.928571428571425,13.142857142857139,11.642857142857141,11.714285714285712,11.964285714285717,12.071428571428575,11,11,10.357142857142859,10.285714285714288,40.892857142857132,44.214285714285701,37.678571428571431,40.642857142857146,30.928571428571434,33.142857142857146,22.892857142857146,24.214285714285719,{"$f":"IF(AB$9=\"none\",0,IF(AND($F39=\"week 1\",$G39=\"Sun\"),OFFSET($J$10,,MATCH(AP$24,$K$8:$AV$8,0)),IF(AND(OR($F39=\"week 2\",$F39=\"week 3\",$F39=\"week 4\"),AB$9=\"weekly\",$G39=\"Sun\"),OFFSET($J$10,,MATCH(AP$24,$K$8:$AV$8,0)),IF(AND($F39=\"week 3\",AB$9=\"bi-weekly\",$G39=\"Sun\"),OFFSET($J$10,,MATCH(AP$24,$K$8:$AV$8,0)),AQ38+1))))","v":17.428571428571427},{"$f":"IF(AB$9=\"weekly\",OFFSET($J$13,,MATCH(AP$24,$K$8:$AV$8,0))+AP39-1,IF(AB$9=\"bi-weekly\",OFFSET($J$14,,MATCH(AP$24,$K$8:$AV$8,0))+AP39-1,IF(AB$9=\"Monthly\",OFFSET($J$15,,MATCH(AP$24,$K$8:$AV$8,0))+AP39-1,0)))","v":18.142857142857142},30.607142857142851,32.785714285714278,28.035714285714281,29.928571428571423,39.928571428571431,43.142857142857146,77.857142857142861,85.285714285714292,114.5,126,34,49,8.5714285714285712,10.857142857142858,15.714285714285715,21.571428571428573,23.428571428571427,33.142857142857139,{"$f":"IF(AL$9=\"none\",0,IF(AND($F39=\"week 1\",$G39=\"Sun\"),OFFSET($J$10,,MATCH(BJ$24,$K$8:$AV$8,0)),IF(AND(OR($F39=\"week 2\",$F39=\"week 3\",$F39=\"week 4\"),AL$9=\"weekly\",$G39=\"Sun\"),OFFSET($J$10,,MATCH(BJ$24,$K$8:$AV$8,0)),IF(AND($F39=\"week 3\",AL$9=\"bi-weekly\",$G39=\"Sun\"),OFFSET($J$10,,MATCH(BJ$24,$K$8:$AV$8,0)),BK38+1))))","v":5.7142857142857144},{"$f":"IF(AL$9=\"weekly\",OFFSET($J$13,,MATCH(BJ$24,$K$8:$AV$8,0))+BJ39-1,IF(AL$9=\"bi-weekly\",OFFSET($J$14,,MATCH(BJ$24,$K$8:$AV$8,0))+BJ39-1,IF(AL$9=\"Monthly\",OFFSET($J$15,,MATCH(BJ$24,$K$8:$AV$8,0))+BJ39-1,0)))","v":6.5714285714285712},{"$f":"IF(AM$9=\"none\",0,IF(AND($F39=\"week 1\",$G39=\"Sun\"),OFFSET($J$10,,MATCH(BL$24,$K$8:$AV$8,0)),IF(AND(OR($F39=\"week 2\",$F39=\"week 3\",$F39=\"week 4\"),AM$9=\"weekly\",$G39=\"Sun\"),OFFSET($J$10,,MATCH(BL$24,$K$8:$AV$8,0)),IF(AND($F39=\"week 3\",AM$9=\"bi-weekly\",$G39=\"Sun\"),OFFSET($J$10,,MATCH(BL$24,$K$8:$AV$8,0)),BM38+1))))","v":36},{"$f":"IF(AM$9=\"weekly\",OFFSET($J$13,,MATCH(BL$24,$K$8:$AV$8,0))+BL39-1,IF(AM$9=\"bi-weekly\",OFFSET($J$14,,MATCH(BL$24,$K$8:$AV$8,0))+BL39-1,IF(AM$9=\"Monthly\",OFFSET($J$15,,MATCH(BL$24,$K$8:$AV$8,0))+BL39-1,0)))","v":52},{"$f":"IF(AN$9=\"none\",0,IF(AND($F39=\"week 1\",$G39=\"Sun\"),OFFSET($J$10,,MATCH(BN$24,$K$8:$AV$8,0)),IF(AND(OR($F39=\"week 2\",$F39=\"week 3\",$F39=\"week 4\"),AN$9=\"weekly\",$G39=\"Sun\"),OFFSET($J$10,,MATCH(BN$24,$K$8:$AV$8,0)),IF(AND($F39=\"week 3\",AN$9=\"bi-weekly\",$G39=\"Sun\"),OFFSET($J$10,,MATCH(BN$24,$K$8:$AV$8,0)),BO38+1))))","v":33.142857142857139},{"$f":"IF(AN$9=\"weekly\",OFFSET($J$13,,MATCH(BN$24,$K$8:$AV$8,0))+BN39-1,IF(AN$9=\"bi-weekly\",OFFSET($J$14,,MATCH(BN$24,$K$8:$AV$8,0))+BN39-1,IF(AN$9=\"Monthly\",OFFSET($J$15,,MATCH(BN$24,$K$8:$AV$8,0))+BN39-1,0)))","v":47.714285714285708},{"$f":"IF(AO$9=\"none\",0,IF(AND($F39=\"week 1\",$G39=\"Sun\"),OFFSET($J$10,,MATCH(BP$24,$K$8:$AV$8,0)),IF(AND(OR($F39=\"week 2\",$F39=\"week 3\",$F39=\"week 4\"),AO$9=\"weekly\",$G39=\"Sun\"),OFFSET($J$10,,MATCH(BP$24,$K$8:$AV$8,0)),IF(AND($F39=\"week 3\",AO$9=\"bi-weekly\",$G39=\"Sun\"),OFFSET($J$10,,MATCH(BP$24,$K$8:$AV$8,0)),BQ38+1))))","v":0},{"$f":"IF(AO$9=\"weekly\",OFFSET($J$13,,MATCH(BP$24,$K$8:$AV$8,0))+BP39-1,IF(AO$9=\"bi-weekly\",OFFSET($J$14,,MATCH(BP$24,$K$8:$AV$8,0))+BP39-1,IF(AO$9=\"Monthly\",OFFSET($J$15,,MATCH(BP$24,$K$8:$AV$8,0))+BP39-1,0)))","v":0},0,0,{"$f":"IF(AQ$9=\"none\",0,IF(AND($F39=\"week 1\",$G39=\"Sun\"),OFFSET($J$10,,MATCH(BT$24,$K$8:$AV$8,0)),IF(AND(OR($F39=\"week 2\",$F39=\"week 3\",$F39=\"week 4\"),AQ$9=\"weekly\",$G39=\"Sun\"),OFFSET($J$10,,MATCH(BT$24,$K$8:$AV$8,0)),IF(AND($F39=\"week 3\",AQ$9=\"bi-weekly\",$G39=\"Sun\"),OFFSET($J$10,,MATCH(BT$24,$K$8:$AV$8,0)),BU38+1))))","v":0},{"$f":"IF(AQ$9=\"weekly\",OFFSET($J$13,,MATCH(BT$24,$K$8:$AV$8,0))+BT39-1,IF(AQ$9=\"bi-weekly\",OFFSET($J$14,,MATCH(BT$24,$K$8:$AV$8,0))+BT39-1,IF(AQ$9=\"Monthly\",OFFSET($J$15,,MATCH(BT$24,$K$8:$AV$8,0))+BT39-1,0)))","v":0},{"$f":"IF(AR$9=\"none\",0,IF(AND($F39=\"week 1\",$G39=\"Sun\"),OFFSET($J$10,,MATCH(BV$24,$K$8:$AV$8,0)),IF(AND(OR($F39=\"week 2\",$F39=\"week 3\",$F39=\"week 4\"),AR$9=\"weekly\",$G39=\"Sun\"),OFFSET($J$10,,MATCH(BV$24,$K$8:$AV$8,0)),IF(AND($F39=\"week 3\",AR$9=\"bi-weekly\",$G39=\"Sun\"),OFFSET($J$10,,MATCH(BV$24,$K$8:$AV$8,0)),BW38+1))))","v":0},{"$f":"IF(AR$9=\"weekly\",OFFSET($J$13,,MATCH(BV$24,$K$8:$AV$8,0))+BV39-1,IF(AR$9=\"bi-weekly\",OFFSET($J$14,,MATCH(BV$24,$K$8:$AV$8,0))+BV39-1,IF(AR$9=\"Monthly\",OFFSET($J$15,,MATCH(BV$24,$K$8:$AV$8,0))+BV39-1,0)))","v":0},{"$f":"IF(AS$9=\"none\",0,IF(AND($F39=\"week 1\",$G39=\"Sun\"),OFFSET($J$10,,MATCH(BX$24,$K$8:$AV$8,0)),IF(AND(OR($F39=\"week 2\",$F39=\"week 3\",$F39=\"week 4\"),AS$9=\"weekly\",$G39=\"Sun\"),OFFSET($J$10,,MATCH(BX$24,$K$8:$AV$8,0)),IF(AND($F39=\"week 3\",AS$9=\"bi-weekly\",$G39=\"Sun\"),OFFSET($J$10,,MATCH(BX$24,$K$8:$AV$8,0)),BY38+1))))","v":0},{"$f":"IF(AS$9=\"weekly\",OFFSET($J$13,,MATCH(BX$24,$K$8:$AV$8,0))+BX39-1,IF(AS$9=\"bi-weekly\",OFFSET($J$14,,MATCH(BX$24,$K$8:$AV$8,0))+BX39-1,IF(AS$9=\"Monthly\",OFFSET($J$15,,MATCH(BX$24,$K$8:$AV$8,0))+BX39-1,0)))","v":0},{"$f":"IF(AT$9=\"none\",0,IF(AND($F39=\"week 1\",$G39=\"Sun\"),OFFSET($J$10,,MATCH(BZ$24,$K$8:$AV$8,0)),IF(AND(OR($F39=\"week 2\",$F39=\"week 3\",$F39=\"week 4\"),AT$9=\"weekly\",$G39=\"Sun\"),OFFSET($J$10,,MATCH(BZ$24,$K$8:$AV$8,0)),IF(AND($F39=\"week 3\",AT$9=\"bi-weekly\",$G39=\"Sun\"),OFFSET($J$10,,MATCH(BZ$24,$K$8:$AV$8,0)),CA38+1))))","v":0},{"$f":"IF(AT$9=\"weekly\",OFFSET($J$13,,MATCH(BZ$24,$K$8:$AV$8,0))+BZ39-1,IF(AT$9=\"bi-weekly\",OFFSET($J$14,,MATCH(BZ$24,$K$8:$AV$8,0))+BZ39-1,IF(AT$9=\"Monthly\",OFFSET($J$15,,MATCH(BZ$24,$K$8:$AV$8,0))+BZ39-1,0)))","v":0},{"$f":"IF(AU$9=\"none\",0,IF(AND($F39=\"week 1\",$G39=\"Sun\"),OFFSET($J$10,,MATCH(CB$24,$K$8:$AV$8,0)),IF(AND(OR($F39=\"week 2\",$F39=\"week 3\",$F39=\"week 4\"),AU$9=\"weekly\",$G39=\"Sun\"),OFFSET($J$10,,MATCH(CB$24,$K$8:$AV$8,0)),IF(AND($F39=\"week 3\",AU$9=\"bi-weekly\",$G39=\"Sun\"),OFFSET($J$10,,MATCH(CB$24,$K$8:$AV$8,0)),CC38+1))))","v":0},{"$f":"IF(AU$9=\"weekly\",OFFSET($J$13,,MATCH(CB$24,$K$8:$AV$8,0))+CB39-1,IF(AU$9=\"bi-weekly\",OFFSET($J$14,,MATCH(CB$24,$K$8:$AV$8,0))+CB39-1,IF(AU$9=\"Monthly\",OFFSET($J$15,,MATCH(CB$24,$K$8:$AV$8,0))+CB39-1,0)))","v":0},{"$f":"(ROUND(I39,0)-ROUND(H39,0))+(ROUND(K39,0)-ROUND(J39,0))+(ROUND(M39,0)-ROUND(L39,0))+(ROUND(O39,0)-ROUND(N39,0))+(ROUND(Q39,0)-ROUND(P39,0))+(ROUND(S39,0)-ROUND(R39,0))+(ROUND(U39,0)-ROUND(T39,0)+(ROUND(W39,0)-ROUND(V39,0))+(ROUND(Y39,0)-ROUND(X39,0))+(ROUND(AA39,0)-ROUND(Z39,0))+(ROUND(AC39,0)-ROUND(AB39,0))+(ROUND(AE39,0)-ROUND(AD39,0))+(ROUND(AG39,0)-ROUND(AF39,0))+(ROUND(AI39,0)-ROUND(AH39,0))+(ROUND(AK39,0)-ROUND(AJ39,0))+(ROUND(AM39,0)-ROUND(AL39,0))+(ROUND(AO39,0)-ROUND(AN39,0))+(ROUND(AQ39,0)-ROUND(AP39,0))+(ROUND(AS39,0)-ROUND(AR39,0))+(ROUND(AU39,0)-ROUND(AT39,0))+(ROUND(AW39,0)-ROUND(AV39,0))+(ROUND(AY39,0)-ROUND(AX39,0))+(ROUND(BA39,0)-ROUND(AZ39,0))+(ROUND(BC39,0)-ROUND(BB39,0))+(ROUND(BE39,0)-ROUND(BD39,0))+(ROUND(BG39,0)-ROUND(BF39,0))+(ROUND(BI39,0)-ROUND(BH39,0))+(ROUND(BK39,0)-ROUND(BJ39,0))+(ROUND(BM39,0)-ROUND(BL39,0))+(ROUND(BO39,0)-ROUND(BN39,0))+(ROUND(BQ39,0)-ROUND(BP39,0))+(ROUND(BS39,0)-ROUND(BR39,0))+(ROUND(BU39,0)-ROUND(BT39,0))+(ROUND(BW39,0)-ROUND(BV39,0))+(ROUND(BY39,0)-ROUND(BX39,0))+(ROUND(CA39,0)-ROUND(BZ39,0))+(ROUND(CC39,0)-ROUND(CB39,0))+(COUNTIF($H39:$CC39,\">\"&0)/2))","v":146}]
[null,null,null,null,null,"WEEK 2","WED",24.5,25.75,57.714285714285701,62.28571428571427,39.142857142857146,41.857142857142861,44.857142857142854,48.142857142857139,9.5,9.25,33.071428571428577,35.178571428571431,21.642857142857142,22.607142857142858,15.928571428571425,16.321428571428569,14.142857142857139,14.357142857142852,12.714285714285712,12.785714285714283,13.071428571428575,13.178571428571432,12,12,11.285714285714288,11.214285714285717,45.214285714285701,48.53571428571427,41.642857142857146,44.607142857142861,34.142857142857146,36.357142857142861,25.214285714285719,26.535714285714292,19.142857142857142,19.857142857142858,33.785714285714278,35.964285714285708,30.928571428571423,32.821428571428569,44.142857142857146,47.357142857142861,86.285714285714292,93.714285714285722,127,138.5,50,65,11.857142857142858,14.142857142857142,22.571428571428573,28.428571428571431,34.142857142857139,43.857142857142854,7.5714285714285712,8.4285714285714288,53,69,48.714285714285708,63.285714285714278,0,0,0,0,0,0,0,0,0,0,0,0,0,0,{"$f":"(ROUND(I40,0)-ROUND(H40,0))+(ROUND(K40,0)-ROUND(J40,0))+(ROUND(M40,0)-ROUND(L40,0))+(ROUND(O40,0)-ROUND(N40,0))+(ROUND(Q40,0)-ROUND(P40,0))+(ROUND(S40,0)-ROUND(R40,0))+(ROUND(U40,0)-ROUND(T40,0)+(ROUND(W40,0)-ROUND(V40,0))+(ROUND(Y40,0)-ROUND(X40,0))+(ROUND(AA40,0)-ROUND(Z40,0))+(ROUND(AC40,0)-ROUND(AB40,0))+(ROUND(AE40,0)-ROUND(AD40,0))+(ROUND(AG40,0)-ROUND(AF40,0))+(ROUND(AI40,0)-ROUND(AH40,0))+(ROUND(AK40,0)-ROUND(AJ40,0))+(ROUND(AM40,0)-ROUND(AL40,0))+(ROUND(AO40,0)-ROUND(AN40,0))+(ROUND(AQ40,0)-ROUND(AP40,0))+(ROUND(AS40,0)-ROUND(AR40,0))+(ROUND(AU40,0)-ROUND(AT40,0))+(ROUND(AW40,0)-ROUND(AV40,0))+(ROUND(AY40,0)-ROUND(AX40,0))+(ROUND(BA40,0)-ROUND(AZ40,0))+(ROUND(BC40,0)-ROUND(BB40,0))+(ROUND(BE40,0)-ROUND(BD40,0))+(ROUND(BG40,0)-ROUND(BF40,0))+(ROUND(BI40,0)-ROUND(BH40,0))+(ROUND(BK40,0)-ROUND(BJ40,0))+(ROUND(BM40,0)-ROUND(BL40,0))+(ROUND(BO40,0)-ROUND(BN40,0))+(ROUND(BQ40,0)-ROUND(BP40,0))+(ROUND(BS40,0)-ROUND(BR40,0))+(ROUND(BU40,0)-ROUND(BT40,0))+(ROUND(BW40,0)-ROUND(BV40,0))+(ROUND(BY40,0)-ROUND(BX40,0))+(ROUND(CA40,0)-ROUND(BZ40,0))+(ROUND(CC40,0)-ROUND(CB40,0))+(COUNTIF($H40:$CC40,\">\"&0)/2))","v":144}]
[null,null,null,null,null,"WEEK 2","THU",26.75,28,63.28571428571427,67.857142857142847,42.857142857142861,45.571428571428577,49.142857142857139,52.428571428571423,10.25,10,36.178571428571431,38.285714285714285,23.607142857142858,24.571428571428573,17.321428571428569,17.714285714285712,15.357142857142852,15.571428571428566,13.785714285714283,13.857142857142854,14.178571428571432,14.28571428571429,13,13,12.214285714285717,12.142857142857146,49.53571428571427,52.85714285714284,45.607142857142861,48.571428571428577,37.357142857142861,39.571428571428577,27.535714285714292,28.857142857142865,20.857142857142858,21.571428571428573,36.964285714285708,39.142857142857139,33.821428571428569,35.714285714285715,48.357142857142861,51.571428571428577,94.714285714285722,102.14285714285715,139.5,151,66,81,15.142857142857142,17.428571428571427,29.428571428571431,35.285714285714285,44.857142857142854,54.571428571428569,9.4285714285714288,10.285714285714286,70,86,64.285714285714278,78.857142857142847,0,0,0,0,0,0,0,0,0,0,0,0,0,0,149]
[null,null,null,null,null,"WEEK 2","FRI",29,30.25,68.857142857142847,73.428571428571416,46.571428571428577,49.285714285714292,53.428571428571423,56.714285714285708,11,10.75,39.285714285714285,41.392857142857139,25.571428571428573,26.535714285714288,18.714285714285712,19.107142857142854,16.571428571428566,16.785714285714281,14.857142857142854,14.928571428571425,15.28571428571429,15.392857142857146,14,14,13.142857142857146,13.071428571428575,53.85714285714284,57.178571428571409,49.571428571428577,52.535714285714292,40.571428571428577,42.785714285714292,29.857142857142865,31.178571428571438,22.571428571428573,23.285714285714288,40.142857142857139,42.321428571428569,36.714285714285715,38.607142857142861,52.571428571428577,55.785714285714292,103.14285714285715,110.57142857142858,152,163.5,82,97,18.428571428571427,20.714285714285712,36.285714285714285,42.142857142857139,55.571428571428569,65.285714285714278,11.285714285714286,12.142857142857144,87,103,79.857142857142847,94.428571428571416,0,0,0,0,0,0,0,0,0,0,0,0,0,0,144]
[null,null,null,null,null,"WEEK 2","שבת",31.25,32.5,74.428571428571416,78.999999999999986,50.285714285714292,53.000000000000007,57.714285714285708,60.999999999999993,11.75,11.5,42.392857142857139,44.499999999999993,27.535714285714288,28.500000000000004,20.107142857142854,20.499999999999996,17.785714285714281,17.999999999999996,15.928571428571425,15.999999999999996,16.392857142857146,16.500000000000004,15,15,14.071428571428575,14.000000000000004,58.178571428571409,61.499999999999979,53.535714285714292,56.500000000000007,43.785714285714292,46.000000000000007,32.178571428571438,33.500000000000007,24.285714285714288,25.000000000000004,43.321428571428569,45.5,39.607142857142861,41.500000000000007,56.785714285714292,60.000000000000007,111.57142857142858,119.00000000000001,164.5,176,98,113,21.714285714285712,23.999999999999996,43.142857142857139,48.999999999999993,66.285714285714278,75.999999999999986,13.142857142857144,14.000000000000002,104,120,95.428571428571416,109.99999999999999,0,0,0,0,0,0,0,0,0,0,0,0,0,0,152]
[null,null,null,null,null,null,"WEEK THREE",null,null,null,null,null,null,null,null,null,null,null,null,null,null,null,null,null,null,null,null,null,null,null,null,null,null,"WEEK THREE"]
[null,null,null,null,null,"WEEK 3","SUN",{"$f":"IF(K$9=\"none\",0,IF(AND($F45=\"week 1\",$G45=\"Sun\"),OFFSET($J$10,,MATCH(H$24,$K$8:$AV$8,0)),IF(AND(OR($F45=\"week 2\",$F45=\"week 3\",$F45=\"week 4\"),K$9=\"weekly\",$G45=\"Sun\"),OFFSET($J$10,,MATCH(H$24,$K$8:$AV$8,0)),IF(AND($F45=\"week 3\",K$9=\"bi-weekly\",$G45=\"Sun\"),OFFSET($J$10,,MATCH(H$24,$K$8:$AV$8,0)),I43+1))))","v":33.5},{"$f":"IF(K$9=\"weekly\",OFFSET($J$13,,MATCH(H$24,$K$8:$AV$8,0))+H45-1,IF(K$9=\"bi-weekly\",OFFSET($J$14,,MATCH(H$24,$K$8:$AV$8,0))+H45-1,IF(K$9=\"Monthly\",OFFSET($J$15,,MATCH(H$24,$K$8:$AV$8,0))+H45-1,0)))","v":34.75},{"$f":"IF(L$9=\"none\",0,IF(AND($F45=\"week 1\",$G45=\"Sun\"),OFFSET($J$10,,MATCH(J$24,$K$8:$AV$8,0)),IF(AND(OR($F45=\"week 2\",$F45=\"week 3\",$F45=\"week 4\"),L$9=\"weekly\",$G45=\"Sun\"),OFFSET($J$10,,MATCH(J$24,$K$8:$AV$8,0)),IF(AND($F45=\"week 3\",L$9=\"bi-weekly\",$G45=\"Sun\"),OFFSET($J$10,,MATCH(J$24,$K$8:$AV$8,0)),K43+1))))","v":79.999999999999986},{"$f":"IF(L$9=\"weekly\",OFFSET($J$13,,MATCH(J$24,$K$8:$AV$8,0))+J45-1,IF(L$9=\"bi-weekly\",OFFSET($J$14,,MATCH(J$24,$K$8:$AV$8,0))+J45-1,IF(L$9=\"Monthly\",OFFSET($J$15,,MATCH(J$24,$K$8:$AV$8,0))+J45-1,0)))","v":84.571428571428555},{"$f":"IF(M$9=\"none\",0,IF(AND($F45=\"week 1\",$G45=\"Sun\"),OFFSET($J$10,,MATCH(L$24,$K$8:$AV$8,0)),IF(AND(OR($F45=\"week 2\",$F45=\"week 3\",$F45=\"week 4\"),M$9=\"weekly\",$G45=\"Sun\"),OFFSET($J$10,,MATCH(L$24,$K$8:$AV$8,0)),IF(AND($F45=\"week 3\",M$9=\"bi-weekly\",$G45=\"Sun\"),OFFSET($J$10,,MATCH(L$24,$K$8:$AV$8,0)),M43+1))))","v":54.000000000000007},{"$f":"IF(M$9=\"weekly\",OFFSET($J$13,,MATCH(L$24,$K$8:$AV$8,0))+L45-1,IF(M$9=\"bi-weekly\",OFFSET($J$14,,MATCH(L$24,$K$8:$AV$8,0))+L45-1,IF(M$9=\"Monthly\",OFFSET($J$15,,MATCH(L$24,$K$8:$AV$8,0))+L45-1,0)))","v":56.714285714285722},{"$f":"IF(N$9=\"none\",0,IF(AND($F45=\"week 1\",$G45=\"Sun\"),OFFSET($J$10,,MATCH(N$24,$K$8:$AV$8,0)),IF(AND(OR($F45=\"week 2\",$F45=\"week 3\",$F45=\"week 4\"),N$9=\"weekly\",$G45=\"Sun\"),OFFSET($J$10,,MATCH(N$24,$K$8:$AV$8,0)),IF(AND($F45=\"week 3\",N$9=\"bi-weekly\",$G45=\"Sun\"),OFFSET($J$10,,MATCH(N$24,$K$8:$AV$8,0)),O43+1))))","v":61.999999999999993},{"$f":"IF(N$9=\"weekly\",OFFSET($J$13,,MATCH(N$24,$K$8:$AV$8,0))+N45-1,IF(N$9=\"bi-weekly\",OFFSET($J$14,,MATCH(N$24,$K$8:$AV$8,0))+N45-1,IF(N$9=\"Monthly\",OFFSET($J$15,,MATCH(N$24,$K$8:$AV$8,0))+N45-1,0)))","v":65.285714285714278},{"$f":"IF(O$9=\"none\",0,IF(AND($F45=\"week 1\",$G45=\"Sun\"),OFFSET($J$10,,MATCH(P$24,$K$8:$AV$8,0)),IF(AND(OR($F45=\"week 2\",$F45=\"week 3\",$F45=\"week 4\"),O$9=\"weekly\",$G45=\"Sun\"),OFFSET($J$10,,MATCH(P$24,$K$8:$AV$8,0)),IF(AND($F45=\"week 3\",O$9=\"bi-weekly\",$G45=\"Sun\"),OFFSET($J$10,,MATCH(P$24,$K$8:$AV$8,0)),Q43+1))))","v":12.5},{"$f":"IF(O$9=\"weekly\",OFFSET($J$13,,MATCH(P$24,$K$8:$AV$8,0))+P45-1,IF(O$9=\"bi-weekly\",OFFSET($J$14,,MATCH(P$24,$K$8:$AV$8,0))+P45-1,IF(O$9=\"Monthly\",OFFSET($J$15,,MATCH(P$24,$K$8:$AV$8,0))+P45-1,0)))","v":12.25},{"$f":"IF(P$9=\"none\",0,IF(AND($F45=\"week 1\",$G45=\"Sun\"),OFFSET($J$10,,MATCH(R$24,$K$8:$AV$8,0)),IF(AND(OR($F45=\"week 2\",$F45=\"week 3\",$F45=\"week 4\"),P$9=\"weekly\",$G45=\"Sun\"),OFFSET($J$10,,MATCH(R$24,$K$8:$AV$8,0)),IF(AND($F45=\"week 3\",P$9=\"bi-weekly\",$G45=\"Sun\"),OFFSET($J$10,,MATCH(R$24,$K$8:$AV$8,0)),S43+1))))","v":45.499999999999993},{"$f":"IF(P$9=\"weekly\",OFFSET($J$13,,MATCH(R$24,$K$8:$AV$8,0))+R45-1,IF(P$9=\"bi-weekly\",OFFSET($J$14,,MATCH(R$24,$K$8:$AV$8,0))+R45-1,IF(P$9=\"Monthly\",OFFSET($J$15,,MATCH(R$24,$K$8:$AV$8,0))+R45-1,0)))","v":47.607142857142847},{"$f":"IF(Q$9=\"none\",0,IF(AND($F45=\"week 1\",$G45=\"Sun\"),OFFSET($J$10,,MATCH(T$24,$K$8:$AV$8,0)),IF(AND(OR($F45=\"week 2\",$F45=\"week 3\",$F45=\"week 4\"),Q$9=\"weekly\",$G45=\"Sun\"),OFFSET($J$10,,MATCH(T$24,$K$8:$AV$8,0)),IF(AND($F45=\"week 3\",Q$9=\"bi-weekly\",$G45=\"Sun\"),OFFSET($J$10,,MATCH(T$24,$K$8:$AV$8,0)),U43+1))))","v":29.500000000000004},{"$f":"IF(Q$9=\"weekly\",OFFSET($J$13,,MATCH(T$24,$K$8:$AV$8,0))+T45-1,IF(Q$9=\"bi-weekly\",OFFSET($J$14,,MATCH(T$24,$K$8:$AV$8,0))+T45-1,IF(Q$9=\"Monthly\",OFFSET($J$15,,MATCH(T$24,$K$8:$AV$8,0))+T45-1,0)))","v":30.464285714285719},{"$f":"IF(R$9=\"none\",0,IF(AND($F45=\"week 1\",$G45=\"Sun\"),OFFSET($J$10,,MATCH(V$24,$K$8:$AV$8,0)),IF(AND(OR($F45=\"week 2\",$F45=\"week 3\",$F45=\"week 4\"),R$9=\"weekly\",$G45=\"Sun\"),OFFSET($J$10,,MATCH(V$24,$K$8:$AV$8,0)),IF(AND($F45=\"week 3\",R$9=\"bi-weekly\",$G45=\"Sun\"),OFFSET($J$10,,MATCH(V$24,$K$8:$AV$8,0)),W43+1))))","v":21.499999999999996},{"$f":"IF(R$9=\"weekly\",OFFSET($J$13,,MATCH(V$24,$K$8:$AV$8,0))+V45-1,IF(R$9=\"bi-weekly\",OFFSET($J$14,,MATCH(V$24,$K$8:$AV$8,0))+V45-1,IF(R$9=\"Monthly\",OFFSET($J$15,,MATCH(V$24,$K$8:$AV$8,0))+V45-1,0)))","v":21.892857142857139},{"$f":"IF(S$9=\"none\",0,IF(AND($F45=\"week 1\",$G45=\"Sun\"),OFFSET($J$10,,MATCH(X$24,$K$8:$AV$8,0)),IF(AND(OR($F45=\"week 2\",$F45=\"week 3\",$F45=\"week 4\"),S$9=\"weekly\",$G45=\"Sun\"),OFFSET($J$10,,MATCH(X$24,$K$8:$AV$8,0)),IF(AND($F45=\"week 3\",S$9=\"bi-weekly\",$G45=\"Sun\"),OFFSET($J$10,,MATCH(X$24,$K$8:$AV$8,0)),Y43+1))))","v":18.999999999999996},{"$f":"IF(S$9=\"weekly\",OFFSET($J$13,,MATCH(X$24,$K$8:$AV$8,0))+X45-1,IF(S$9=\"bi-weekly\",OFFSET($J$14,,MATCH(X$24,$K$8:$AV$8,0))+X45-1,IF(S$9=\"Monthly\",OFFSET($J$15,,MATCH(X$24,$K$8:$AV$8,0))+X45-1,0)))","v":19.214285714285712},{"$f":"IF(T$9=\"none\",0,IF(AND($F45=\"week 1\",$G45=\"Sun\"),OFFSET($J$10,,MATCH(Z$24,$K$8:$AV$8,0)),IF(AND(OR($F45=\"week 2\",$F45=\"week 3\",$F45=\"week 4\"),T$9=\"weekly\",$G45=\"Sun\"),OFFSET($J$10,,MATCH(Z$24,$K$8:$AV$8,0)),IF(AND($F45=\"week 3\",T$9=\"bi-weekly\",$G45=\"Sun\"),OFFSET($J$10,,MATCH(Z$24,$K$8:$AV$8,0)),AA43+1))))","v":16.999999999999996},{"$f":"IF(T$9=\"weekly\",OFFSET($J$13,,MATCH(Z$24,$K$8:$AV$8,0))+Z45-1,IF(T$9=\"bi-weekly\",OFFSET($J$14,,MATCH(Z$24,$K$8:$AV$8,0))+Z45-1,IF(T$9=\"Monthly\",OFFSET($J$15,,MATCH(Z$24,$K$8:$AV$8,0))+Z45-1,0)))","v":17.071428571428569},{"$f":"IF(U$9=\"none\",0,IF(AND($F45=\"week 1\",$G45=\"Sun\"),OFFSET($J$10,,MATCH(AB$24,$K$8:$AV$8,0)),IF(AND(OR($F45=\"week 2\",$F45=\"week 3\",$F45=\"week 4\"),U$9=\"weekly\",$G45=\"Sun\"),OFFSET($J$10,,MATCH(AB$24,$K$8:$AV$8,0)),IF(AND($F45=\"week 3\",U$9=\"bi-weekly\",$G45=\"Sun\"),OFFSET($J$10,,MATCH(AB$24,$K$8:$AV$8,0)),AC43+1))))","v":17.500000000000004},{"$f":"IF(U$9=\"weekly\",OFFSET($J$13,,MATCH(AB$24,$K$8:$AV$8,0))+AB45-1,IF(U$9=\"bi-weekly\",OFFSET($J$14,,MATCH(AB$24,$K$8:$AV$8,0))+AB45-1,IF(U$9=\"Monthly\",OFFSET($J$15,,MATCH(AB$24,$K$8:$AV$8,0))+AB45-1,0)))","v":17.607142857142861},{"$f":"IF(V$9=\"none\",0,IF(AND($F45=\"week 1\",$G45=\"Sun\"),OFFSET($J$10,,MATCH(AD$24,$K$8:$AV$8,0)),IF(AND(OR($F45=\"week 2\",$F45=\"week 3\",$F45=\"week 4\"),V$9=\"weekly\",$G45=\"Sun\"),OFFSET($J$10,,MATCH(AD$24,$K$8:$AV$8,0)),IF(AND($F45=\"week 3\",V$9=\"bi-weekly\",$G45=\"Sun\"),OFFSET($J$10,,MATCH(AD$24,$K$8:$AV$8,0)),AE43+1))))","v":16},{"$f":"IF(V$9=\"weekly\",OFFSET($J$13,,MATCH(AD$24,$K$8:$AV$8,0))+AD45-1,IF(V$9=\"bi-weekly\",OFFSET($J$14,,MATCH(AD$24,$K$8:$AV$8,0))+AD45-1,IF(V$9=\"Monthly\",OFFSET($J$15,,MATCH(AD$24,$K$8:$AV$8,0))+AD45-1,0)))","v":16},{"$f":"IF(W$9=\"none\",0,IF(AND($F45=\"week 1\",$G45=\"Sun\"),OFFSET($J$10,,MATCH(AF$24,$K$8:$AV$8,0)),IF(AND(OR($F45=\"week 2\",$F45=\"week 3\",$F45=\"week 4\"),W$9=\"weekly\",$G45=\"Sun\"),OFFSET($J$10,,MATCH(AF$24,$K$8:$AV$8,0)),IF(AND($F45=\"week 3\",W$9=\"bi-weekly\",$G45=\"Sun\"),OFFSET($J$10,,MATCH(AF$24,$K$8:$AV$8,0)),AG43+1))))","v":15.000000000000004},{"$f":"IF(W$9=\"weekly\",OFFSET($J$13,,MATCH(AF$24,$K$8:$AV$8,0))+AF45-1,IF(W$9=\"bi-weekly\",OFFSET($J$14,,MATCH(AF$24,$K$8:$AV$8,0))+AF45-1,IF(W$9=\"Monthly\",OFFSET($J$15,,MATCH(AF$24,$K$8:$AV$8,0))+AF45-1,0)))","v":14.928571428571432},{"$f":"IF(X$9=\"none\",0,IF(AND($F45=\"week 1\",$G45=\"Sun\"),OFFSET($J$10,,MATCH(AH$24,$K$8:$AV$8,0)),IF(AND(OR($F45=\"week 2\",$F45=\"week 3\",$F45=\"week 4\"),X$9=\"weekly\",$G45=\"Sun\"),OFFSET($J$10,,MATCH(AH$24,$K$8:$AV$8,0)),IF(AND($F45=\"week 3\",X$9=\"bi-weekly\",$G45=\"Sun\"),OFFSET($J$10,,MATCH(AH$24,$K$8:$AV$8,0)),AI43+1))))","v":62.499999999999979},{"$f":"IF(X$9=\"weekly\",OFFSET($J$13,,MATCH(AH$24,$K$8:$AV$8,0))+AH45-1,IF(X$9=\"bi-weekly\",OFFSET($J$14,,MATCH(AH$24,$K$8:$AV$8,0))+AH45-1,IF(X$9=\"Monthly\",OFFSET($J$15,,MATCH(AH$24,$K$8:$AV$8,0))+AH45-1,0)))","v":65.821428571428555},{"$f":"IF(Y$9=\"none\",0,IF(AND($F45=\"week 1\",$G45=\"Sun\"),OFFSET($J$10,,MATCH(AJ$24,$K$8:$AV$8,0)),IF(AND(OR($F45=\"week 2\",$F45=\"week 3\",$F45=\"week 4\"),Y$9=\"weekly\",$G45=\"Sun\"),OFFSET($J$10,,MATCH(AJ$24,$K$8:$AV$8,0)),IF(AND($F45=\"week 3\",Y$9=\"bi-weekly\",$G45=\"Sun\"),OFFSET($J$10,,MATCH(AJ$24,$K$8:$AV$8,0)),AK43+1))))","v":57.500000000000007},{"$f":"IF(Y$9=\"weekly\",OFFSET($J$13,,MATCH(AJ$24,$K$8:$AV$8,0))+AJ45-1,IF(Y$9=\"bi-weekly\",OFFSET($J$14,,MATCH(AJ$24,$K$8:$AV$8,0))+AJ45-1,IF(Y$9=\"Monthly\",OFFSET($J$15,,MATCH(AJ$24,$K$8:$AV$8,0))+AJ45-1,0)))","v":60.464285714285722},{"$f":"IF(Z$9=\"none\",0,IF(AND($F45=\"week 1\",$G45=\"Sun\"),OFFSET($J$10,,MATCH(AL$24,$K$8:$AV$8,0)),IF(AND(OR($F45=\"week 2\",$F45=\"week 3\",$F45=\"week 4\"),Z$9=\"weekly\",$G45=\"Sun\"),OFFSET($J$10,,MATCH(AL$24,$K$8:$AV$8,0)),IF(AND($F45=\"week 3\",Z$9=\"bi-weekly\",$G45=\"Sun\"),OFFSET($J$10,,MATCH(AL$24,$K$8:$AV$8,0)),AM43+1))))","v":47.000000000000007},{"$f":"IF(Z$9=\"weekly\",OFFSET($J$13,,MATCH(AL$24,$K$8:$AV$8,0))+AL45-1,IF(Z$9=\"bi-weekly\",OFFSET($J$14,,MATCH(AL$24,$K$8:$AV$8,0))+AL45-1,IF(Z$9=\"Monthly\",OFFSET($J$15,,MATCH(AL$24,$K$8:$AV$8,0))+AL45-1,0)))","v":49.214285714285722},{"$f":"IF(AA$9=\"none\",0,IF(AND($F45=\"week 1\",$G45=\"Sun\"),OFFSET($J$10,,MATCH(AN$24,$K$8:$AV$8,0)),IF(AND(OR($F45=\"week 2\",$F45=\"week 3\",$F45=\"week 4\"),AA$9=\"weekly\",$G45=\"Sun\"),OFFSET($J$10,,MATCH(AN$24,$K$8:$AV$8,0)),IF(AND($F45=\"week 3\",AA$9=\"bi-weekly\",$G45=\"Sun\"),OFFSET($J$10,,MATCH(AN$24,$K$8:$AV$8,0)),AO43+1))))","v":34.500000000000007},{"$f":"IF(AA$9=\"weekly\",OFFSET($J$13,,MATCH(AN$24,$K$8:$AV$8,0))+AN45-1,IF(AA$9=\"bi-weekly\",OFFSET($J$14,,MATCH(AN$24,$K$8:$AV$8,0))+AN45-1,IF(AA$9=\"Monthly\",OFFSET($J$15,,MATCH(AN$24,$K$8:$AV$8,0))+AN45-1,0)))","v":35.821428571428577},{"$f":"IF(AB$9=\"none\",0,IF(AND($F45=\"week 1\",$G45=\"Sun\"),OFFSET($J$10,,MATCH(AP$24,$K$8:$AV$8,0)),IF(AND(OR($F45=\"week 2\",$F45=\"week 3\",$F45=\"week 4\"),AB$9=\"weekly\",$G45=\"Sun\"),OFFSET($J$10,,MATCH(AP$24,$K$8:$AV$8,0)),IF(AND($F45=\"week 3\",AB$9=\"bi-weekly\",$G45=\"Sun\"),OFFSET($J$10,,MATCH(AP$24,$K$8:$AV$8,0)),AQ43+1))))","v":26.000000000000004},{"$f":"IF(AB$9=\"weekly\",OFFSET($J$13,,MATCH(AP$24,$K$8:$AV$8,0))+AP45-1,IF(AB$9=\"bi-weekly\",OFFSET($J$14,,MATCH(AP$24,$K$8:$AV$8,0))+AP45-1,IF(AB$9=\"Monthly\",OFFSET($J$15,,MATCH(AP$24,$K$8:$AV$8,0))+AP45-1,0)))","v":26.714285714285719},{"$f":"IF(AC$9=\"none\",0,IF(AND($F45=\"week 1\",$G45=\"Sun\"),OFFSET($J$10,,MATCH(AR$24,$K$8:$AV$8,0)),IF(AND(OR($F45=\"week 2\",$F45=\"week 3\",$F45=\"week 4\"),AC$9=\"weekly\",$G45=\"Sun\"),OFFSET($J$10,,MATCH(AR$24,$K$8:$AV$8,0)),IF(AND($F45=\"week 3\",AC$9=\"bi-weekly\",$G45=\"Sun\"),OFFSET($J$10,,MATCH(AR$24,$K$8:$AV$8,0)),AS43+1))))","v":46.5},{"$f":"IF(AC$9=\"weekly\",OFFSET($J$13,,MATCH(AR$24,$K$8:$AV$8,0))+AR45-1,IF(AC$9=\"bi-weekly\",OFFSET($J$14,,MATCH(AR$24,$K$8:$AV$8,0))+AR45-1,IF(AC$9=\"Monthly\",OFFSET($J$15,,MATCH(AR$24,$K$8:$AV$8,0))+AR45-1,0)))","v":48.678571428571431},{"$f":"IF(AD$9=\"none\",0,IF(AND($F45=\"week 1\",$G45=\"Sun\"),OFFSET($J$10,,MATCH(AT$24,$K$8:$AV$8,0)),IF(AND(OR($F45=\"week 2\",$F45=\"week 3\",$F45=\"week 4\"),AD$9=\"weekly\",$G45=\"Sun\"),OFFSET($J$10,,MATCH(AT$24,$K$8:$AV$8,0)),IF(AND($F45=\"week 3\",AD$9=\"bi-weekly\",$G45=\"Sun\"),OFFSET($J$10,,MATCH(AT$24,$K$8:$AV$8,0)),AU43+1))))","v":42.500000000000007},{"$f":"IF(AD$9=\"weekly\",OFFSET($J$13,,MATCH(AT$24,$K$8:$AV$8,0))+AT45-1,IF(AD$9=\"bi-weekly\",OFFSET($J$14,,MATCH(AT$24,$K$8:$AV$8,0))+AT45-1,IF(AD$9=\"Monthly\",OFFSET($J$15,,MATCH(AT$24,$K$8:$AV$8,0))+AT45-1,0)))","v":44.392857142857153},{"$f":"IF(AE$9=\"none\",0,IF(AND($F45=\"week 1\",$G45=\"Sun\"),OFFSET($J$10,,MATCH(AV$24,$K$8:$AV$8,0)),IF(AND(OR($F45=\"week 2\",$F45=\"week 3\",$F45=\"week 4\"),AE$9=\"weekly\",$G45=\"Sun\"),OFFSET($J$10,,MATCH(AV$24,$K$8:$AV$8,0)),IF(AND($F45=\"week 3\",AE$9=\"bi-weekly\",$G45=\"Sun\"),OFFSET($J$10,,MATCH(AV$24,$K$8:$AV$8,0)),AW43+1))))","v":61.000000000000007},{"$f":"IF(AE$9=\"weekly\",OFFSET($J$13,,MATCH(AV$24,$K$8:$AV$8,0))+AV45-1,IF(AE$9=\"bi-weekly\",OFFSET($J$14,,MATCH(AV$24,$K$8:$AV$8,0))+AV45-1,IF(AE$9=\"Monthly\",OFFSET($J$15,,MATCH(AV$24,$K$8:$AV$8,0))+AV45-1,0)))","v":64.214285714285722},{"$f":"IF(AF$9=\"none\",0,IF(AND($F45=\"week 1\",$G45=\"Sun\"),OFFSET($J$10,,MATCH(AX$24,$K$8:$AV$8,0)),IF(AND(OR($F45=\"week 2\",$F45=\"week 3\",$F45=\"week 4\"),AF$9=\"weekly\",$G45=\"Sun\"),OFFSET($J$10,,MATCH(AX$24,$K$8:$AV$8,0)),IF(AND($F45=\"week 3\",AF$9=\"bi-weekly\",$G45=\"Sun\"),OFFSET($J$10,,MATCH(AX$24,$K$8:$AV$8,0)),AY43+1))))","v":2},{"$f":"IF(AF$9=\"weekly\",OFFSET($J$13,,MATCH(AX$24,$K$8:$AV$8,0))+AX45-1,IF(AF$9=\"bi-weekly\",OFFSET($J$14,,MATCH(AX$24,$K$8:$AV$8,0))+AX45-1,IF(AF$9=\"Monthly\",OFFSET($J$15,,MATCH(AX$24,$K$8:$AV$8,0))+AX45-1,0)))","v":9.4285714285714288},{"$f":"IF(AG$9=\"none\",0,IF(AND($F45=\"week 1\",$G45=\"Sun\"),OFFSET($J$10,,MATCH(AZ$24,$K$8:$AV$8,0)),IF(AND(OR($F45=\"week 2\",$F45=\"week 3\",$F45=\"week 4\"),AG$9=\"weekly\",$G45=\"Sun\"),OFFSET($J$10,,MATCH(AZ$24,$K$8:$AV$8,0)),IF(AND($F45=\"week 3\",AG$9=\"bi-weekly\",$G45=\"Sun\"),OFFSET($J$10,,MATCH(AZ$24,$K$8:$AV$8,0)),BA43+1))))","v":2},{"$f":"IF(AG$9=\"weekly\",OFFSET($J$13,,MATCH(AZ$24,$K$8:$AV$8,0))+AZ45-1,IF(AG$9=\"bi-weekly\",OFFSET($J$14,,MATCH(AZ$24,$K$8:$AV$8,0))+AZ45-1,IF(AG$9=\"Monthly\",OFFSET($J$15,,MATCH(AZ$24,$K$8:$AV$8,0))+AZ45-1,0)))","v":13.5},{"$f":"IF(AH$9=\"none\",0,IF(AND($F45=\"week 1\",$G45=\"Sun\"),OFFSET($J$10,,MATCH(BB$24,$K$8:$AV$8,0)),IF(AND(OR($F45=\"week 2\",$F45=\"week 3\",$F45=\"week 4\"),AH$9=\"weekly\",$G45=\"Sun\"),OFFSET($J$10,,MATCH(BB$24,$K$8:$AV$8,0)),IF(AND($F45=\"week 3\",AH$9=\"bi-weekly\",$G45=\"Sun\"),OFFSET($J$10,,MATCH(BB$24,$K$8:$AV$8,0)),BC43+1))))","v":2},{"$f":"IF(AH$9=\"weekly\",OFFSET($J$13,,MATCH(BB$24,$K$8:$AV$8,0))+BB45-1,IF(AH$9=\"bi-weekly\",OFFSET($J$14,,MATCH(BB$24,$K$8:$AV$8,0))+BB45-1,IF(AH$9=\"Monthly\",OFFSET($J$15,,MATCH(BB$24,$K$8:$AV$8,0))+BB45-1,0)))","v":17},{"$f":"IF(AI$9=\"none\",0,IF(AND($F45=\"week 1\",$G45=\"Sun\"),OFFSET($J$10,,MATCH(BD$24,$K$8:$AV$8,0)),IF(AND(OR($F45=\"week 2\",$F45=\"week 3\",$F45=\"week 4\"),AI$9=\"weekly\",$G45=\"Sun\"),OFFSET($J$10,,MATCH(BD$24,$K$8:$AV$8,0)),IF(AND($F45=\"week 3\",AI$9=\"bi-weekly\",$G45=\"Sun\"),OFFSET($J$10,,MATCH(BD$24,$K$8:$AV$8,0)),BE43+1))))","v":2},{"$f":"IF(AI$9=\"weekly\",OFFSET($J$13,,MATCH(BD$24,$K$8:$AV$8,0))+BD45-1,IF(AI$9=\"bi-weekly\",OFFSET($J$14,,MATCH(BD$24,$K$8:$AV$8,0))+BD45-1,IF(AI$9=\"Monthly\",OFFSET($J$15,,MATCH(BD$24,$K$8:$AV$8,0))+BD45-1,0)))","v":4.2857142857142856},{"$f":"IF(AJ$9=\"none\",0,IF(AND($F45=\"week 1\",$G45=\"Sun\"),OFFSET($J$10,,MATCH(BF$24,$K$8:$AV$8,0)),IF(AND(OR($F45=\"week 2\",$F45=\"week 3\",$F45=\"week 4\"),AJ$9=\"weekly\",$G45=\"Sun\"),OFFSET($J$10,,MATCH(BF$24,$K$8:$AV$8,0)),IF(AND($F45=\"week 3\",AJ$9=\"bi-weekly\",$G45=\"Sun\"),OFFSET($J$10,,MATCH(BF$24,$K$8:$AV$8,0)),BG43+1))))","v":2},{"$f":"IF(AJ$9=\"weekly\",OFFSET($J$13,,MATCH(BF$24,$K$8:$AV$8,0))+BF45-1,IF(AJ$9=\"bi-weekly\",OFFSET($J$14,,MATCH(BF$24,$K$8:$AV$8,0))+BF45-1,IF(AJ$9=\"Monthly\",OFFSET($J$15,,MATCH(BF$24,$K$8:$AV$8,0))+BF45-1,0)))","v":7.8571428571428577},{"$f":"IF(AK$9=\"none\",0,IF(AND($F45=\"week 1\",$G45=\"Sun\"),OFFSET($J$10,,MATCH(BH$24,$K$8:$AV$8,0)),IF(AND(OR($F45=\"week 2\",$F45=\"week 3\",$F45=\"week 4\"),AK$9=\"weekly\",$G45=\"Sun\"),OFFSET($J$10,,MATCH(BH$24,$K$8:$AV$8,0)),IF(AND($F45=\"week 3\",AK$9=\"bi-weekly\",$G45=\"Sun\"),OFFSET($J$10,,MATCH(BH$24,$K$8:$AV$8,0)),BI43+1))))","v":2},{"$f":"IF(AK$9=\"weekly\",OFFSET($J$13,,MATCH(BH$24,$K$8:$AV$8,0))+BH45-1,IF(AK$9=\"bi-weekly\",OFFSET($J$14,,MATCH(BH$24,$K$8:$AV$8,0))+BH45-1,IF(AK$9=\"Monthly\",OFFSET($J$15,,MATCH(BH$24,$K$8:$AV$8,0))+BH45-1,0)))","v":11.714285714285714},{"$f":"IF(AL$9=\"none\",0,IF(AND($F45=\"week 1\",$G45=\"Sun\"),OFFSET($J$10,,MATCH(BJ$24,$K$8:$AV$8,0)),IF(AND(OR($F45=\"week 2\",$F45=\"week 3\",$F45=\"week 4\"),AL$9=\"weekly\",$G45=\"Sun\"),OFFSET($J$10,,MATCH(BJ$24,$K$8:$AV$8,0)),IF(AND($F45=\"week 3\",AL$9=\"bi-weekly\",$G45=\"Sun\"),OFFSET($J$10,,MATCH(BJ$24,$K$8:$AV$8,0)),BK43+1))))","v":2},{"$f":"IF(AL$9=\"weekly\",OFFSET($J$13,,MATCH(BJ$24,$K$8:$AV$8,0))+BJ45-1,IF(AL$9=\"bi-weekly\",OFFSET($J$14,,MATCH(BJ$24,$K$8:$AV$8,0))+BJ45-1,IF(AL$9=\"Monthly\",OFFSET($J$15,,MATCH(BJ$24,$K$8:$AV$8,0))+BJ45-1,0)))","v":2.8571428571428572},{"$f":"IF(AM$9=\"none\",0,IF(AND($F45=\"week 1\",$G45=\"Sun\"),OFFSET($J$10,,MATCH(BL$24,$K$8:$AV$8,0)),IF(AND(OR($F45=\"week 2\",$F45=\"week 3\",$F45=\"week 4\"),AM$9=\"weekly\",$G45=\"Sun\"),OFFSET($J$10,,MATCH(BL$24,$K$8:$AV$8,0)),IF(AND($F45=\"week 3\",AM$9=\"bi-weekly\",$G45=\"Sun\"),OFFSET($J$10,,MATCH(BL$24,$K$8:$AV$8,0)),BM43+1))))","v":2},{"$f":"IF(AM$9=\"weekly\",OFFSET($J$13,,MATCH(BL$24,$K$8:$AV$8,0))+BL45-1,IF(AM$9=\"bi-weekly\",OFFSET($J$14,,MATCH(BL$24,$K$8:$AV$8,0))+BL45-1,IF(AM$9=\"Monthly\",OFFSET($J$15,,MATCH(BL$24,$K$8:$AV$8,0))+BL45-1,0)))","v":18},{"$f":"IF(AN$9=\"none\",0,IF(AND($F45=\"week 1\",$G45=\"Sun\"),OFFSET($J$10,,MATCH(BN$24,$K$8:$AV$8,0)),IF(AND(OR($F45=\"week 2\",$F45=\"week 3\",$F45=\"week 4\"),AN$9=\"weekly\",$G45=\"Sun\"),OFFSET($J$10,,MATCH(BN$24,$K$8:$AV$8,0)),IF(AND($F45=\"week 3\",AN$9=\"bi-weekly\",$G45=\"Sun\"),OFFSET($J$10,,MATCH(BN$24,$K$8:$AV$8,0)),BO43+1))))","v":2},{"$f":"IF(AN$9=\"weekly\",OFFSET($J$13,,MATCH(BN$24,$K$8:$AV$8,0))+BN45-1,IF(AN$9=\"bi-weekly\",OFFSET($J$14,,MATCH(BN$24,$K$8:$AV$8,0))+BN45-1,IF(AN$9=\"Monthly\",OFFSET($J$15,,MATCH(BN$24,$K$8:$AV$8,0))+BN45-1,0)))","v":16.571428571428569},{"$f":"IF(AO$9=\"none\",0,IF(AND($F45=\"week 1\",$G45=\"Sun\"),OFFSET($J$10,,MATCH(BP$24,$K$8:$AV$8,0)),IF(AND(OR($F45=\"week 2\",$F45=\"week 3\",$F45=\"week 4\"),AO$9=\"weekly\",$G45=\"Sun\"),OFFSET($J$10,,MATCH(BP$24,$K$8:$AV$8,0)),IF(AND($F45=\"week 3\",AO$9=\"bi-weekly\",$G45=\"Sun\"),OFFSET($J$10,,MATCH(BP$24,$K$8:$AV$8,0)),BQ43+1))))","v":0},{"$f":"IF(AO$9=\"weekly\",OFFSET($J$13,,MATCH(BP$24,$K$8:$AV$8,0))+BP45-1,IF(AO$9=\"bi-weekly\",OFFSET($J$14,,MATCH(BP$24,$K$8:$AV$8,0))+BP45-1,IF(AO$9=\"Monthly\",OFFSET($J$15,,MATCH(BP$24,$K$8:$AV$8,0))+BP45-1,0)))","v":0},{"$f":"IF(AP$9=\"none\",0,IF(AND($F45=\"week 1\",$G45=\"Sun\"),OFFSET($J$10,,MATCH(BR$24,$K$8:$AV$8,0)),IF(AND(OR($F45=\"week 2\",$F45=\"week 3\",$F45=\"week 4\"),AP$9=\"weekly\",$G45=\"Sun\"),OFFSET($J$10,,MATCH(BR$24,$K$8:$AV$8,0)),IF(AND($F45=\"week 3\",AP$9=\"bi-weekly\",$G45=\"Sun\"),OFFSET($J$10,,MATCH(BR$24,$K$8:$AV$8,0)),BS43+1))))","v":0},{"$f":"IF(AP$9=\"weekly\",OFFSET($J$13,,MATCH(BR$24,$K$8:$AV$8,0))+BR45-1,IF(AP$9=\"bi-weekly\",OFFSET($J$14,,MATCH(BR$24,$K$8:$AV$8,0))+BR45-1,IF(AP$9=\"Monthly\",OFFSET($J$15,,MATCH(BR$24,$K$8:$AV$8,0))+BR45-1,0)))","v":0},{"$f":"IF(AQ$9=\"none\",0,IF(AND($F45=\"week 1\",$G45=\"Sun\"),OFFSET($J$10,,MATCH(BT$24,$K$8:$AV$8,0)),IF(AND(OR($F45=\"week 2\",$F45=\"week 3\",$F45=\"week 4\"),AQ$9=\"weekly\",$G45=\"Sun\"),OFFSET($J$10,,MATCH(BT$24,$K$8:$AV$8,0)),IF(AND($F45=\"week 3\",AQ$9=\"bi-weekly\",$G45=\"Sun\"),OFFSET($J$10,,MATCH(BT$24,$K$8:$AV$8,0)),BU43+1))))","v":0},{"$f":"IF(AQ$9=\"weekly\",OFFSET($J$13,,MATCH(BT$24,$K$8:$AV$8,0))+BT45-1,IF(AQ$9=\"bi-weekly\",OFFSET($J$14,,MATCH(BT$24,$K$8:$AV$8,0))+BT45-1,IF(AQ$9=\"Monthly\",OFFSET($J$15,,MATCH(BT$24,$K$8:$AV$8,0))+BT45-1,0)))","v":0},{"$f":"IF(AR$9=\"none\",0,IF(AND($F45=\"week 1\",$G45=\"Sun\"),OFFSET($J$10,,MATCH(BV$24,$K$8:$AV$8,0)),IF(AND(OR($F45=\"week 2\",$F45=\"week 3\",$F45=\"week 4\"),AR$9=\"weekly\",$G45=\"Sun\"),OFFSET($J$10,,MATCH(BV$24,$K$8:$AV$8,0)),IF(AND($F45=\"week 3\",AR$9=\"bi-weekly\",$G45=\"Sun\"),OFFSET($J$10,,MATCH(BV$24,$K$8:$AV$8,0)),BW43+1))))","v":0},{"$f":"IF(AR$9=\"weekly\",OFFSET($J$13,,MATCH(BV$24,$K$8:$AV$8,0))+BV45-1,IF(AR$9=\"bi-weekly\",OFFSET($J$14,,MATCH(BV$24,$K$8:$AV$8,0))+BV45-1,IF(AR$9=\"Monthly\",OFFSET($J$15,,MATCH(BV$24,$K$8:$AV$8,0))+BV45-1,0)))","v":0},{"$f":"IF(AS$9=\"none\",0,IF(AND($F45=\"week 1\",$G45=\"Sun\"),OFFSET($J$10,,MATCH(BX$24,$K$8:$AV$8,0)),IF(AND(OR($F45=\"week 2\",$F45=\"week 3\",$F45=\"week 4\"),AS$9=\"weekly\",$G45=\"Sun\"),OFFSET($J$10,,MATCH(BX$24,$K$8:$AV$8,0)),IF(AND($F45=\"week 3\",AS$9=\"bi-weekly\",$G45=\"Sun\"),OFFSET($J$10,,MATCH(BX$24,$K$8:$AV$8,0)),BY43+1))))","v":0},{"$f":"IF(AS$9=\"weekly\",OFFSET($J$13,,MATCH(BX$24,$K$8:$AV$8,0))+BX45-1,IF(AS$9=\"bi-weekly\",OFFSET($J$14,,MATCH(BX$24,$K$8:$AV$8,0))+BX45-1,IF(AS$9=\"Monthly\",OFFSET($J$15,,MATCH(BX$24,$K$8:$AV$8,0))+BX45-1,0)))","v":0},{"$f":"IF(AT$9=\"none\",0,IF(AND($F45=\"week 1\",$G45=\"Sun\"),OFFSET($J$10,,MATCH(BZ$24,$K$8:$AV$8,0)),IF(AND(OR($F45=\"week 2\",$F45=\"week 3\",$F45=\"week 4\"),AT$9=\"weekly\",$G45=\"Sun\"),OFFSET($J$10,,MATCH(BZ$24,$K$8:$AV$8,0)),IF(AND($F45=\"week 3\",AT$9=\"bi-weekly\",$G45=\"Sun\"),OFFSET($J$10,,MATCH(BZ$24,$K$8:$AV$8,0)),CA43+1))))","v":0},{"$f":"IF(AT$9=\"weekly\",OFFSET($J$13,,MATCH(BZ$24,$K$8:$AV$8,0))+BZ45-1,IF(AT$9=\"bi-weekly\",OFFSET($J$14,,MATCH(BZ$24,$K$8:$AV$8,0))+BZ45-1,IF(AT$9=\"Monthly\",OFFSET($J$15,,MATCH(BZ$24,$K$8:$AV$8,0))+BZ45-1,0)))","v":0},{"$f":"IF(AU$9=\"none\",0,IF(AND($F45=\"week 1\",$G45=\"Sun\"),OFFSET($J$10,,MATCH(CB$24,$K$8:$AV$8,0)),IF(AND(OR($F45=\"week 2\",$F45=\"week 3\",$F45=\"week 4\"),AU$9=\"weekly\",$G45=\"Sun\"),OFFSET($J$10,,MATCH(CB$24,$K$8:$AV$8,0)),IF(AND($F45=\"week 3\",AU$9=\"bi-weekly\",$G45=\"Sun\"),OFFSET($J$10,,MATCH(CB$24,$K$8:$AV$8,0)),CC43+1))))","v":0},{"$f":"IF(AU$9=\"weekly\",OFFSET($J$13,,MATCH(CB$24,$K$8:$AV$8,0))+CB45-1,IF(AU$9=\"bi-weekly\",OFFSET($J$14,,MATCH(CB$24,$K$8:$AV$8,0))+CB45-1,IF(AU$9=\"Monthly\",OFFSET($J$15,,MATCH(CB$24,$K$8:$AV$8,0))+CB45-1,0)))","v":0},{"$f":"(ROUND(I45,0)-ROUND(H45,0))+(ROUND(K45,0)-ROUND(J45,0))+(ROUND(M45,0)-ROUND(L45,0))+(ROUND(O45,0)-ROUND(N45,0))+(ROUND(Q45,0)-ROUND(P45,0))+(ROUND(S45,0)-ROUND(R45,0))+(ROUND(U45,0)-ROUND(T45,0)+(ROUND(W45,0)-ROUND(V45,0))+(ROUND(Y45,0)-ROUND(X45,0))+(ROUND(AA45,0)-ROUND(Z45,0))+(ROUND(AC45,0)-ROUND(AB45,0))+(ROUND(AE45,0)-ROUND(AD45,0))+(ROUND(AG45,0)-ROUND(AF45,0))+(ROUND(AI45,0)-ROUND(AH45,0))+(ROUND(AK45,0)-ROUND(AJ45,0))+(ROUND(AM45,0)-ROUND(AL45,0))+(ROUND(AO45,0)-ROUND(AN45,0))+(ROUND(AQ45,0)-ROUND(AP45,0))+(ROUND(AS45,0)-ROUND(AR45,0))+(ROUND(AU45,0)-ROUND(AT45,0))+(ROUND(AW45,0)-ROUND(AV45,0))+(ROUND(AY45,0)-ROUND(AX45,0))+(ROUND(BA45,0)-ROUND(AZ45,0))+(ROUND(BC45,0)-ROUND(BB45,0))+(ROUND(BE45,0)-ROUND(BD45,0))+(ROUND(BG45,0)-ROUND(BF45,0))+(ROUND(BI45,0)-ROUND(BH45,0))+(ROUND(BK45,0)-ROUND(BJ45,0))+(ROUND(BM45,0)-ROUND(BL45,0))+(ROUND(BO45,0)-ROUND(BN45,0))+(ROUND(BQ45,0)-ROUND(BP45,0))+(ROUND(BS45,0)-ROUND(BR45,0))+(ROUND(BU45,0)-ROUND(BT45,0))+(ROUND(BW45,0)-ROUND(BV45,0))+(ROUND(BY45,0)-ROUND(BX45,0))+(ROUND(CA45,0)-ROUND(BZ45,0))+(ROUND(CC45,0)-ROUND(CB45,0))+(COUNTIF($H45:$CC45,\">\"&0)/2))","v":142}]
[null,null,null,null,null,"WEEK 3","MON",{"$f":"IF(K$9=\"none\",0,IF(AND($F46=\"week 1\",$G46=\"Sun\"),OFFSET($J$10,,MATCH(H$24,$K$8:$AV$8,0)),IF(AND(OR($F46=\"week 2\",$F46=\"week 3\",$F46=\"week 4\"),K$9=\"weekly\",$G46=\"Sun\"),OFFSET($J$10,,MATCH(H$24,$K$8:$AV$8,0)),IF(AND($F46=\"week 3\",K$9=\"bi-weekly\",$G46=\"Sun\"),OFFSET($J$10,,MATCH(H$24,$K$8:$AV$8,0)),I45+1))))","v":35.75},37,{"$f":"IF(L$9=\"none\",0,IF(AND($F46=\"week 1\",$G46=\"Sun\"),OFFSET($J$10,,MATCH(J$24,$K$8:$AV$8,0)),IF(AND(OR($F46=\"week 2\",$F46=\"week 3\",$F46=\"week 4\"),L$9=\"weekly\",$G46=\"Sun\"),OFFSET($J$10,,MATCH(J$24,$K$8:$AV$8,0)),IF(AND($F46=\"week 3\",L$9=\"bi-weekly\",$G46=\"Sun\"),OFFSET($J$10,,MATCH(J$24,$K$8:$AV$8,0)),K45+1))))","v":85.571428571428555},90.142857142857125,{"$f":"IF(M$9=\"none\",0,IF(AND($F46=\"week 1\",$G46=\"Sun\"),OFFSET($J$10,,MATCH(L$24,$K$8:$AV$8,0)),IF(AND(OR($F46=\"week 2\",$F46=\"week 3\",$F46=\"week 4\"),M$9=\"weekly\",$G46=\"Sun\"),OFFSET($J$10,,MATCH(L$24,$K$8:$AV$8,0)),IF(AND($F46=\"week 3\",M$9=\"bi-weekly\",$G46=\"Sun\"),OFFSET($J$10,,MATCH(L$24,$K$8:$AV$8,0)),M45+1))))","v":57.714285714285722},60.428571428571438,{"$f":"IF(N$9=\"none\",0,IF(AND($F46=\"week 1\",$G46=\"Sun\"),OFFSET($J$10,,MATCH(N$24,$K$8:$AV$8,0)),IF(AND(OR($F46=\"week 2\",$F46=\"week 3\",$F46=\"week 4\"),N$9=\"weekly\",$G46=\"Sun\"),OFFSET($J$10,,MATCH(N$24,$K$8:$AV$8,0)),IF(AND($F46=\"week 3\",N$9=\"bi-weekly\",$G46=\"Sun\"),OFFSET($J$10,,MATCH(N$24,$K$8:$AV$8,0)),O45+1))))","v":66.285714285714278},69.571428571428569,{"$f":"IF(O$9=\"none\",0,IF(AND($F46=\"week 1\",$G46=\"Sun\"),OFFSET($J$10,,MATCH(P$24,$K$8:$AV$8,0)),IF(AND(OR($F46=\"week 2\",$F46=\"week 3\",$F46=\"week 4\"),O$9=\"weekly\",$G46=\"Sun\"),OFFSET($J$10,,MATCH(P$24,$K$8:$AV$8,0)),IF(AND($F46=\"week 3\",O$9=\"bi-weekly\",$G46=\"Sun\"),OFFSET($J$10,,MATCH(P$24,$K$8:$AV$8,0)),Q45+1))))","v":13.25},13,{"$f":"IF(P$9=\"none\",0,IF(AND($F46=\"week 1\",$G46=\"Sun\"),OFFSET($J$10,,MATCH(R$24,$K$8:$AV$8,0)),IF(AND(OR($F46=\"week 2\",$F46=\"week 3\",$F46=\"week 4\"),P$9=\"weekly\",$G46=\"Sun\"),OFFSET($J$10,,MATCH(R$24,$K$8:$AV$8,0)),IF(AND($F46=\"week 3\",P$9=\"bi-weekly\",$G46=\"Sun\"),OFFSET($J$10,,MATCH(R$24,$K$8:$AV$8,0)),S45+1))))","v":48.607142857142847},50.714285714285701,{"$f":"IF(Q$9=\"none\",0,IF(AND($F46=\"week 1\",$G46=\"Sun\"),OFFSET($J$10,,MATCH(T$24,$K$8:$AV$8,0)),IF(AND(OR($F46=\"week 2\",$F46=\"week 3\",$F46=\"week 4\"),Q$9=\"weekly\",$G46=\"Sun\"),OFFSET($J$10,,MATCH(T$24,$K$8:$AV$8,0)),IF(AND($F46=\"week 3\",Q$9=\"bi-weekly\",$G46=\"Sun\"),OFFSET($J$10,,MATCH(T$24,$K$8:$AV$8,0)),U45+1))))","v":31.464285714285719},32.428571428571431,{"$f":"IF(R$9=\"none\",0,IF(AND($F46=\"week 1\",$G46=\"Sun\"),OFFSET($J$10,,MATCH(V$24,$K$8:$AV$8,0)),IF(AND(OR($F46=\"week 2\",$F46=\"week 3\",$F46=\"week 4\"),R$9=\"weekly\",$G46=\"Sun\"),OFFSET($J$10,,MATCH(V$24,$K$8:$AV$8,0)),IF(AND($F46=\"week 3\",R$9=\"bi-weekly\",$G46=\"Sun\"),OFFSET($J$10,,MATCH(V$24,$K$8:$AV$8,0)),W45+1))))","v":22.892857142857139},23.285714285714281,{"$f":"IF(S$9=\"none\",0,IF(AND($F46=\"week 1\",$G46=\"Sun\"),OFFSET($J$10,,MATCH(X$24,$K$8:$AV$8,0)),IF(AND(OR($F46=\"week 2\",$F46=\"week 3\",$F46=\"week 4\"),S$9=\"weekly\",$G46=\"Sun\"),OFFSET($J$10,,MATCH(X$24,$K$8:$AV$8,0)),IF(AND($F46=\"week 3\",S$9=\"bi-weekly\",$G46=\"Sun\"),OFFSET($J$10,,MATCH(X$24,$K$8:$AV$8,0)),Y45+1))))","v":20.214285714285712},20.428571428571427,{"$f":"IF(T$9=\"none\",0,IF(AND($F46=\"week 1\",$G46=\"Sun\"),OFFSET($J$10,,MATCH(Z$24,$K$8:$AV$8,0)),IF(AND(OR($F46=\"week 2\",$F46=\"week 3\",$F46=\"week 4\"),T$9=\"weekly\",$G46=\"Sun\"),OFFSET($J$10,,MATCH(Z$24,$K$8:$AV$8,0)),IF(AND($F46=\"week 3\",T$9=\"bi-weekly\",$G46=\"Sun\"),OFFSET($J$10,,MATCH(Z$24,$K$8:$AV$8,0)),AA45+1))))","v":18.071428571428569},18.142857142857142,{"$f":"IF(U$9=\"none\",0,IF(AND($F46=\"week 1\",$G46=\"Sun\"),OFFSET($J$10,,MATCH(AB$24,$K$8:$AV$8,0)),IF(AND(OR($F46=\"week 2\",$F46=\"week 3\",$F46=\"week 4\"),U$9=\"weekly\",$G46=\"Sun\"),OFFSET($J$10,,MATCH(AB$24,$K$8:$AV$8,0)),IF(AND($F46=\"week 3\",U$9=\"bi-weekly\",$G46=\"Sun\"),OFFSET($J$10,,MATCH(AB$24,$K$8:$AV$8,0)),AC45+1))))","v":18.607142857142861},18.714285714285719,{"$f":"IF(V$9=\"none\",0,IF(AND($F46=\"week 1\",$G46=\"Sun\"),OFFSET($J$10,,MATCH(AD$24,$K$8:$AV$8,0)),IF(AND(OR($F46=\"week 2\",$F46=\"week 3\",$F46=\"week 4\"),V$9=\"weekly\",$G46=\"Sun\"),OFFSET($J$10,,MATCH(AD$24,$K$8:$AV$8,0)),IF(AND($F46=\"week 3\",V$9=\"bi-weekly\",$G46=\"Sun\"),OFFSET($J$10,,MATCH(AD$24,$K$8:$AV$8,0)),AE45+1))))","v":17},17,{"$f":"IF(W$9=\"none\",0,IF(AND($F46=\"week 1\",$G46=\"Sun\"),OFFSET($J$10,,MATCH(AF$24,$K$8:$AV$8,0)),IF(AND(OR($F46=\"week 2\",$F46=\"week 3\",$F46=\"week 4\"),W$9=\"weekly\",$G46=\"Sun\"),OFFSET($J$10,,MATCH(AF$24,$K$8:$AV$8,0)),IF(AND($F46=\"week 3\",W$9=\"bi-weekly\",$G46=\"Sun\"),OFFSET($J$10,,MATCH(AF$24,$K$8:$AV$8,0)),AG45+1))))","v":15.928571428571432},15.857142857142861,{"$f":"IF(X$9=\"none\",0,IF(AND($F46=\"week 1\",$G46=\"Sun\"),OFFSET($J$10,,MATCH(AH$24,$K$8:$AV$8,0)),IF(AND(OR($F46=\"week 2\",$F46=\"week 3\",$F46=\"week 4\"),X$9=\"weekly\",$G46=\"Sun\"),OFFSET($J$10,,MATCH(AH$24,$K$8:$AV$8,0)),IF(AND($F46=\"week 3\",X$9=\"bi-weekly\",$G46=\"Sun\"),OFFSET($J$10,,MATCH(AH$24,$K$8:$AV$8,0)),AI45+1))))","v":66.821428571428555},70.142857142857125,{"$f":"IF(Y$9=\"none\",0,IF(AND($F46=\"week 1\",$G46=\"Sun\"),OFFSET($J$10,,MATCH(AJ$24,$K$8:$AV$8,0)),IF(AND(OR($F46=\"week 2\",$F46=\"week 3\",$F46=\"week 4\"),Y$9=\"weekly\",$G46=\"Sun\"),OFFSET($J$10,,MATCH(AJ$24,$K$8:$AV$8,0)),IF(AND($F46=\"week 3\",Y$9=\"bi-weekly\",$G46=\"Sun\"),OFFSET($J$10,,MATCH(AJ$24,$K$8:$AV$8,0)),AK45+1))))","v":61.464285714285722},64.428571428571431,{"$f":"IF(Z$9=\"none\",0,IF(AND($F46=\"week 1\",$G46=\"Sun\"),OFFSET($J$10,,MATCH(AL$24,$K$8:$AV$8,0)),IF(AND(OR($F46=\"week 2\",$F46=\"week 3\",$F46=\"week 4\"),Z$9=\"weekly\",$G46=\"Sun\"),OFFSET($J$10,,MATCH(AL$24,$K$8:$AV$8,0)),IF(AND($F46=\"week 3\",Z$9=\"bi-weekly\",$G46=\"Sun\"),OFFSET($J$10,,MATCH(AL$24,$K$8:$AV$8,0)),AM45+1))))","v":50.214285714285722},52.428571428571438,{"$f":"IF(AA$9=\"none\",0,IF(AND($F46=\"week 1\",$G46=\"Sun\"),OFFSET($J$10,,MATCH(AN$24,$K$8:$AV$8,0)),IF(AND(OR($F46=\"week 2\",$F46=\"week 3\",$F46=\"week 4\"),AA$9=\"weekly\",$G46=\"Sun\"),OFFSET($J$10,,MATCH(AN$24,$K$8:$AV$8,0)),IF(AND($F46=\"week 3\",AA$9=\"bi-weekly\",$G46=\"Sun\"),OFFSET($J$10,,MATCH(AN$24,$K$8:$AV$8,0)),AO45+1))))","v":36.821428571428577},38.142857142857146,{"$f":"IF(AB$9=\"none\",0,IF(AND($F46=\"week 1\",$G46=\"Sun\"),OFFSET($J$10,,MATCH(AP$24,$K$8:$AV$8,0)),IF(AND(OR($F46=\"week 2\",$F46=\"week 3\",$F46=\"week 4\"),AB$9=\"weekly\",$G46=\"Sun\"),OFFSET($J$10,,MATCH(AP$24,$K$8:$AV$8,0)),IF(AND($F46=\"week 3\",AB$9=\"bi-weekly\",$G46=\"Sun\"),OFFSET($J$10,,MATCH(AP$24,$K$8:$AV$8,0)),AQ45+1))))","v":27.714285714285719},{"$f":"IF(AB$9=\"weekly\",OFFSET($J$13,,MATCH(AP$24,$K$8:$AV$8,0))+AP46-1,IF(AB$9=\"bi-weekly\",OFFSET($J$14,,MATCH(AP$24,$K$8:$AV$8,0))+AP46-1,IF(AB$9=\"Monthly\",OFFSET($J$15,,MATCH(AP$24,$K$8:$AV$8,0))+AP46-1,0)))","v":28.428571428571434},{"$f":"IF(AC$9=\"none\",0,IF(AND($F46=\"week 1\",$G46=\"Sun\"),OFFSET($J$10,,MATCH(AR$24,$K$8:$AV$8,0)),IF(AND(OR($F46=\"week 2\",$F46=\"week 3\",$F46=\"week 4\"),AC$9=\"weekly\",$G46=\"Sun\"),OFFSET($J$10,,MATCH(AR$24,$K$8:$AV$8,0)),IF(AND($F46=\"week 3\",AC$9=\"bi-weekly\",$G46=\"Sun\"),OFFSET($J$10,,MATCH(AR$24,$K$8:$AV$8,0)),AS45+1))))","v":49.678571428571431},51.857142857142861,{"$f":"IF(AD$9=\"none\",0,IF(AND($F46=\"week 1\",$G46=\"Sun\"),OFFSET($J$10,,MATCH(AT$24,$K$8:$AV$8,0)),IF(AND(OR($F46=\"week 2\",$F46=\"week 3\",$F46=\"week 4\"),AD$9=\"weekly\",$G46=\"Sun\"),OFFSET($J$10,,MATCH(AT$24,$K$8:$AV$8,0)),IF(AND($F46=\"week 3\",AD$9=\"bi-weekly\",$G46=\"Sun\"),OFFSET($J$10,,MATCH(AT$24,$K$8:$AV$8,0)),AU45+1))))","v":45.392857142857153},47.285714285714299,{"$f":"IF(AE$9=\"none\",0,IF(AND($F46=\"week 1\",$G46=\"Sun\"),OFFSET($J$10,,MATCH(AV$24,$K$8:$AV$8,0)),IF(AND(OR($F46=\"week 2\",$F46=\"week 3\",$F46=\"week 4\"),AE$9=\"weekly\",$G46=\"Sun\"),OFFSET($J$10,,MATCH(AV$24,$K$8:$AV$8,0)),IF(AND($F46=\"week 3\",AE$9=\"bi-weekly\",$G46=\"Sun\"),OFFSET($J$10,,MATCH(AV$24,$K$8:$AV$8,0)),AW45+1))))","v":65.214285714285722},68.428571428571431,{"$f":"IF(AF$9=\"none\",0,IF(AND($F46=\"week 1\",$G46=\"Sun\"),OFFSET($J$10,,MATCH(AX$24,$K$8:$AV$8,0)),IF(AND(OR($F46=\"week 2\",$F46=\"week 3\",$F46=\"week 4\"),AF$9=\"weekly\",$G46=\"Sun\"),OFFSET($J$10,,MATCH(AX$24,$K$8:$AV$8,0)),IF(AND($F46=\"week 3\",AF$9=\"bi-weekly\",$G46=\"Sun\"),OFFSET($J$10,,MATCH(AX$24,$K$8:$AV$8,0)),AY45+1))))","v":10.428571428571429},17.857142857142858,{"$f":"IF(AG$9=\"none\",0,IF(AND($F46=\"week 1\",$G46=\"Sun\"),OFFSET($J$10,,MATCH(AZ$24,$K$8:$AV$8,0)),IF(AND(OR($F46=\"week 2\",$F46=\"week 3\",$F46=\"week 4\"),AG$9=\"weekly\",$G46=\"Sun\"),OFFSET($J$10,,MATCH(AZ$24,$K$8:$AV$8,0)),IF(AND($F46=\"week 3\",AG$9=\"bi-weekly\",$G46=\"Sun\"),OFFSET($J$10,,MATCH(AZ$24,$K$8:$AV$8,0)),BA45+1))))","v":14.5},26,{"$f":"IF(AH$9=\"none\",0,IF(AND($F46=\"week 1\",$G46=\"Sun\"),OFFSET($J$10,,MATCH(BB$24,$K$8:$AV$8,0)),IF(AND(OR($F46=\"week 2\",$F46=\"week 3\",$F46=\"week 4\"),AH$9=\"weekly\",$G46=\"Sun\"),OFFSET($J$10,,MATCH(BB$24,$K$8:$AV$8,0)),IF(AND($F46=\"week 3\",AH$9=\"bi-weekly\",$G46=\"Sun\"),OFFSET($J$10,,MATCH(BB$24,$K$8:$AV$8,0)),BC45+1))))","v":18},33,{"$f":"IF(AI$9=\"none\",0,IF(AND($F46=\"week 1\",$G46=\"Sun\"),OFFSET($J$10,,MATCH(BD$24,$K$8:$AV$8,0)),IF(AND(OR($F46=\"week 2\",$F46=\"week 3\",$F46=\"week 4\"),AI$9=\"weekly\",$G46=\"Sun\"),OFFSET($J$10,,MATCH(BD$24,$K$8:$AV$8,0)),IF(AND($F46=\"week 3\",AI$9=\"bi-weekly\",$G46=\"Sun\"),OFFSET($J$10,,MATCH(BD$24,$K$8:$AV$8,0)),BE45+1))))","v":5.2857142857142856},7.5714285714285712,{"$f":"IF(AJ$9=\"none\",0,IF(AND($F46=\"week 1\",$G46=\"Sun\"),OFFSET($J$10,,MATCH(BF$24,$K$8:$AV$8,0)),IF(AND(OR($F46=\"week 2\",$F46=\"week 3\",$F46=\"week 4\"),AJ$9=\"weekly\",$G46=\"Sun\"),OFFSET($J$10,,MATCH(BF$24,$K$8:$AV$8,0)),IF(AND($F46=\"week 3\",AJ$9=\"bi-weekly\",$G46=\"Sun\"),OFFSET($J$10,,MATCH(BF$24,$K$8:$AV$8,0)),BG45+1))))","v":8.8571428571428577},14.714285714285715,{"$f":"IF(AK$9=\"none\",0,IF(AND($F46=\"week 1\",$G46=\"Sun\"),OFFSET($J$10,,MATCH(BH$24,$K$8:$AV$8,0)),IF(AND(OR($F46=\"week 2\",$F46=\"week 3\",$F46=\"week 4\"),AK$9=\"weekly\",$G46=\"Sun\"),OFFSET($J$10,,MATCH(BH$24,$K$8:$AV$8,0)),IF(AND($F46=\"week 3\",AK$9=\"bi-weekly\",$G46=\"Sun\"),OFFSET($J$10,,MATCH(BH$24,$K$8:$AV$8,0)),BI45+1))))","v":12.714285714285714},22.428571428571427,{"$f":"IF(AL$9=\"none\",0,IF(AND($F46=\"week 1\",$G46=\"Sun\"),OFFSET($J$10,,MATCH(BJ$24,$K$8:$AV$8,0)),IF(AND(OR($F46=\"week 2\",$F46=\"week 3\",$F46=\"week 4\"),AL$9=\"weekly\",$G46=\"Sun\"),OFFSET($J$10,,MATCH(BJ$24,$K$8:$AV$8,0)),IF(AND($F46=\"week 3\",AL$9=\"bi-weekly\",$G46=\"Sun\"),OFFSET($J$10,,MATCH(BJ$24,$K$8:$AV$8,0)),BK45+1))))","v":3.8571428571428572},{"$f":"IF(AL$9=\"weekly\",OFFSET($J$13,,MATCH(BJ$24,$K$8:$AV$8,0))+BJ46-1,IF(AL$9=\"bi-weekly\",OFFSET($J$14,,MATCH(BJ$24,$K$8:$AV$8,0))+BJ46-1,IF(AL$9=\"Monthly\",OFFSET($J$15,,MATCH(BJ$24,$K$8:$AV$8,0))+BJ46-1,0)))","v":4.7142857142857144},{"$f":"IF(AM$9=\"none\",0,IF(AND($F46=\"week 1\",$G46=\"Sun\"),OFFSET($J$10,,MATCH(BL$24,$K$8:$AV$8,0)),IF(AND(OR($F46=\"week 2\",$F46=\"week 3\",$F46=\"week 4\"),AM$9=\"weekly\",$G46=\"Sun\"),OFFSET($J$10,,MATCH(BL$24,$K$8:$AV$8,0)),IF(AND($F46=\"week 3\",AM$9=\"bi-weekly\",$G46=\"Sun\"),OFFSET($J$10,,MATCH(BL$24,$K$8:$AV$8,0)),BM45+1))))","v":19},{"$f":"IF(AM$9=\"weekly\",OFFSET($J$13,,MATCH(BL$24,$K$8:$AV$8,0))+BL46-1,IF(AM$9=\"bi-weekly\",OFFSET($J$14,,MATCH(BL$24,$K$8:$AV$8,0))+BL46-1,IF(AM$9=\"Monthly\",OFFSET($J$15,,MATCH(BL$24,$K$8:$AV$8,0))+BL46-1,0)))","v":35},{"$f":"IF(AN$9=\"none\",0,IF(AND($F46=\"week 1\",$G46=\"Sun\"),OFFSET($J$10,,MATCH(BN$24,$K$8:$AV$8,0)),IF(AND(OR($F46=\"week 2\",$F46=\"week 3\",$F46=\"week 4\"),AN$9=\"weekly\",$G46=\"Sun\"),OFFSET($J$10,,MATCH(BN$24,$K$8:$AV$8,0)),IF(AND($F46=\"week 3\",AN$9=\"bi-weekly\",$G46=\"Sun\"),OFFSET($J$10,,MATCH(BN$24,$K$8:$AV$8,0)),BO45+1))))","v":17.571428571428569},{"$f":"IF(AN$9=\"weekly\",OFFSET($J$13,,MATCH(BN$24,$K$8:$AV$8,0))+BN46-1,IF(AN$9=\"bi-weekly\",OFFSET($J$14,,MATCH(BN$24,$K$8:$AV$8,0))+BN46-1,IF(AN$9=\"Monthly\",OFFSET($J$15,,MATCH(BN$24,$K$8:$AV$8,0))+BN46-1,0)))","v":32.142857142857139},{"$f":"IF(AO$9=\"none\",0,IF(AND($F46=\"week 1\",$G46=\"Sun\"),OFFSET($J$10,,MATCH(BP$24,$K$8:$AV$8,0)),IF(AND(OR($F46=\"week 2\",$F46=\"week 3\",$F46=\"week 4\"),AO$9=\"weekly\",$G46=\"Sun\"),OFFSET($J$10,,MATCH(BP$24,$K$8:$AV$8,0)),IF(AND($F46=\"week 3\",AO$9=\"bi-weekly\",$G46=\"Sun\"),OFFSET($J$10,,MATCH(BP$24,$K$8:$AV$8,0)),BQ45+1))))","v":0},{"$f":"IF(AO$9=\"weekly\",OFFSET($J$13,,MATCH(BP$24,$K$8:$AV$8,0))+BP46-1,IF(AO$9=\"bi-weekly\",OFFSET($J$14,,MATCH(BP$24,$K$8:$AV$8,0))+BP46-1,IF(AO$9=\"Monthly\",OFFSET($J$15,,MATCH(BP$24,$K$8:$AV$8,0))+BP46-1,0)))","v":0},{"$f":"IF(AP$9=\"none\",0,IF(AND($F46=\"week 1\",$G46=\"Sun\"),OFFSET($J$10,,MATCH(BR$24,$K$8:$AV$8,0)),IF(AND(OR($F46=\"week 2\",$F46=\"week 3\",$F46=\"week 4\"),AP$9=\"weekly\",$G46=\"Sun\"),OFFSET($J$10,,MATCH(BR$24,$K$8:$AV$8,0)),IF(AND($F46=\"week 3\",AP$9=\"bi-weekly\",$G46=\"Sun\"),OFFSET($J$10,,MATCH(BR$24,$K$8:$AV$8,0)),BS45+1))))","v":0},0,{"$f":"IF(AQ$9=\"none\",0,IF(AND($F46=\"week 1\",$G46=\"Sun\"),OFFSET($J$10,,MATCH(BT$24,$K$8:$AV$8,0)),IF(AND(OR($F46=\"week 2\",$F46=\"week 3\",$F46=\"week 4\"),AQ$9=\"weekly\",$G46=\"Sun\"),OFFSET($J$10,,MATCH(BT$24,$K$8:$AV$8,0)),IF(AND($F46=\"week 3\",AQ$9=\"bi-weekly\",$G46=\"Sun\"),OFFSET($J$10,,MATCH(BT$24,$K$8:$AV$8,0)),BU45+1))))","v":0},{"$f":"IF(AQ$9=\"weekly\",OFFSET($J$13,,MATCH(BT$24,$K$8:$AV$8,0))+BT46-1,IF(AQ$9=\"bi-weekly\",OFFSET($J$14,,MATCH(BT$24,$K$8:$AV$8,0))+BT46-1,IF(AQ$9=\"Monthly\",OFFSET($J$15,,MATCH(BT$24,$K$8:$AV$8,0))+BT46-1,0)))","v":0},{"$f":"IF(AR$9=\"none\",0,IF(AND($F46=\"week 1\",$G46=\"Sun\"),OFFSET($J$10,,MATCH(BV$24,$K$8:$AV$8,0)),IF(AND(OR($F46=\"week 2\",$F46=\"week 3\",$F46=\"week 4\"),AR$9=\"weekly\",$G46=\"Sun\"),OFFSET($J$10,,MATCH(BV$24,$K$8:$AV$8,0)),IF(AND($F46=\"week 3\",AR$9=\"bi-weekly\",$G46=\"Sun\"),OFFSET($J$10,,MATCH(BV$24,$K$8:$AV$8,0)),BW45+1))))","v":0},{"$f":"IF(AR$9=\"weekly\",OFFSET($J$13,,MATCH(BV$24,$K$8:$AV$8,0))+BV46-1,IF(AR$9=\"bi-weekly\",OFFSET($J$14,,MATCH(BV$24,$K$8:$AV$8,0))+BV46-1,IF(AR$9=\"Monthly\",OFFSET($J$15,,MATCH(BV$24,$K$8:$AV$8,0))+BV46-1,0)))","v":0},{"$f":"IF(AS$9=\"none\",0,IF(AND($F46=\"week 1\",$G46=\"Sun\"),OFFSET($J$10,,MATCH(BX$24,$K$8:$AV$8,0)),IF(AND(OR($F46=\"week 2\",$F46=\"week 3\",$F46=\"week 4\"),AS$9=\"weekly\",$G46=\"Sun\"),OFFSET($J$10,,MATCH(BX$24,$K$8:$AV$8,0)),IF(AND($F46=\"week 3\",AS$9=\"bi-weekly\",$G46=\"Sun\"),OFFSET($J$10,,MATCH(BX$24,$K$8:$AV$8,0)),BY45+1))))","v":0},{"$f":"IF(AS$9=\"weekly\",OFFSET($J$13,,MATCH(BX$24,$K$8:$AV$8,0))+BX46-1,IF(AS$9=\"bi-weekly\",OFFSET($J$14,,MATCH(BX$24,$K$8:$AV$8,0))+BX46-1,IF(AS$9=\"Monthly\",OFFSET($J$15,,MATCH(BX$24,$K$8:$AV$8,0))+BX46-1,0)))","v":0},{"$f":"IF(AT$9=\"none\",0,IF(AND($F46=\"week 1\",$G46=\"Sun\"),OFFSET($J$10,,MATCH(BZ$24,$K$8:$AV$8,0)),IF(AND(OR($F46=\"week 2\",$F46=\"week 3\",$F46=\"week 4\"),AT$9=\"weekly\",$G46=\"Sun\"),OFFSET($J$10,,MATCH(BZ$24,$K$8:$AV$8,0)),IF(AND($F46=\"week 3\",AT$9=\"bi-weekly\",$G46=\"Sun\"),OFFSET($J$10,,MATCH(BZ$24,$K$8:$AV$8,0)),CA45+1))))","v":0},{"$f":"IF(AT$9=\"weekly\",OFFSET($J$13,,MATCH(BZ$24,$K$8:$AV$8,0))+BZ46-1,IF(AT$9=\"bi-weekly\",OFFSET($J$14,,MATCH(BZ$24,$K$8:$AV$8,0))+BZ46-1,IF(AT$9=\"Monthly\",OFFSET($J$15,,MATCH(BZ$24,$K$8:$AV$8,0))+BZ46-1,0)))","v":0},{"$f":"IF(AU$9=\"none\",0,IF(AND($F46=\"week 1\",$G46=\"Sun\"),OFFSET($J$10,,MATCH(CB$24,$K$8:$AV$8,0)),IF(AND(OR($F46=\"week 2\",$F46=\"week 3\",$F46=\"week 4\"),AU$9=\"weekly\",$G46=\"Sun\"),OFFSET($J$10,,MATCH(CB$24,$K$8:$AV$8,0)),IF(AND($F46=\"week 3\",AU$9=\"bi-weekly\",$G46=\"Sun\"),OFFSET($J$10,,MATCH(CB$24,$K$8:$AV$8,0)),CC45+1))))","v":0},{"$f":"IF(AU$9=\"weekly\",OFFSET($J$13,,MATCH(CB$24,$K$8:$AV$8,0))+CB46-1,IF(AU$9=\"bi-weekly\",OFFSET($J$14,,MATCH(CB$24,$K$8:$AV$8,0))+CB46-1,IF(AU$9=\"Monthly\",OFFSET($J$15,,MATCH(CB$24,$K$8:$AV$8,0))+CB46-1,0)))","v":0},{"$f":"(ROUND(I46,0)-ROUND(H46,0))+(ROUND(K46,0)-ROUND(J46,0))+(ROUND(M46,0)-ROUND(L46,0))+(ROUND(O46,0)-ROUND(N46,0))+(ROUND(Q46,0)-ROUND(P46,0))+(ROUND(S46,0)-ROUND(R46,0))+(ROUND(U46,0)-ROUND(T46,0)+(ROUND(W46,0)-ROUND(V46,0))+(ROUND(Y46,0)-ROUND(X46,0))+(ROUND(AA46,0)-ROUND(Z46,0))+(ROUND(AC46,0)-ROUND(AB46,0))+(ROUND(AE46,0)-ROUND(AD46,0))+(ROUND(AG46,0)-ROUND(AF46,0))+(ROUND(AI46,0)-ROUND(AH46,0))+(ROUND(AK46,0)-ROUND(AJ46,0))+(ROUND(AM46,0)-ROUND(AL46,0))+(ROUND(AO46,0)-ROUND(AN46,0))+(ROUND(AQ46,0)-ROUND(AP46,0))+(ROUND(AS46,0)-ROUND(AR46,0))+(ROUND(AU46,0)-ROUND(AT46,0))+(ROUND(AW46,0)-ROUND(AV46,0))+(ROUND(AY46,0)-ROUND(AX46,0))+(ROUND(BA46,0)-ROUND(AZ46,0))+(ROUND(BC46,0)-ROUND(BB46,0))+(ROUND(BE46,0)-ROUND(BD46,0))+(ROUND(BG46,0)-ROUND(BF46,0))+(ROUND(BI46,0)-ROUND(BH46,0))+(ROUND(BK46,0)-ROUND(BJ46,0))+(ROUND(BM46,0)-ROUND(BL46,0))+(ROUND(BO46,0)-ROUND(BN46,0))+(ROUND(BQ46,0)-ROUND(BP46,0))+(ROUND(BS46,0)-ROUND(BR46,0))+(ROUND(BU46,0)-ROUND(BT46,0))+(ROUND(BW46,0)-ROUND(BV46,0))+(ROUND(BY46,0)-ROUND(BX46,0))+(ROUND(CA46,0)-ROUND(BZ46,0))+(ROUND(CC46,0)-ROUND(CB46,0))+(COUNTIF($H46:$CC46,\">\"&0)/2))","v":143}]
[null,null,null,null,null,"WEEK 3","TUE",38,39.25,91.142857142857125,95.714285714285694,61.428571428571438,64.142857142857153,70.571428571428569,73.857142857142861,14,13.75,51.714285714285701,53.821428571428555,33.428571428571431,34.392857142857146,24.285714285714281,24.678571428571423,21.428571428571427,21.642857142857142,19.142857142857142,19.214285714285715,19.714285714285719,19.821428571428577,18,18,16.857142857142861,16.785714285714288,71.142857142857125,74.464285714285694,65.428571428571431,68.392857142857139,53.428571428571438,55.642857142857153,39.142857142857146,40.464285714285715,{"$f":"IF(AB$9=\"none\",0,IF(AND($F47=\"week 1\",$G47=\"Sun\"),OFFSET($J$10,,MATCH(AP$24,$K$8:$AV$8,0)),IF(AND(OR($F47=\"week 2\",$F47=\"week 3\",$F47=\"week 4\"),AB$9=\"weekly\",$G47=\"Sun\"),OFFSET($J$10,,MATCH(AP$24,$K$8:$AV$8,0)),IF(AND($F47=\"week 3\",AB$9=\"bi-weekly\",$G47=\"Sun\"),OFFSET($J$10,,MATCH(AP$24,$K$8:$AV$8,0)),AQ46+1))))","v":29.428571428571434},{"$f":"IF(AB$9=\"weekly\",OFFSET($J$13,,MATCH(AP$24,$K$8:$AV$8,0))+AP47-1,IF(AB$9=\"bi-weekly\",OFFSET($J$14,,MATCH(AP$24,$K$8:$AV$8,0))+AP47-1,IF(AB$9=\"Monthly\",OFFSET($J$15,,MATCH(AP$24,$K$8:$AV$8,0))+AP47-1,0)))","v":30.142857142857149},52.857142857142861,55.035714285714292,48.285714285714299,50.178571428571445,69.428571428571431,72.642857142857139,18.857142857142858,26.285714285714285,27,38.5,34,49,8.5714285714285712,10.857142857142858,15.714285714285715,21.571428571428573,23.428571428571427,33.142857142857139,{"$f":"IF(AL$9=\"none\",0,IF(AND($F47=\"week 1\",$G47=\"Sun\"),OFFSET($J$10,,MATCH(BJ$24,$K$8:$AV$8,0)),IF(AND(OR($F47=\"week 2\",$F47=\"week 3\",$F47=\"week 4\"),AL$9=\"weekly\",$G47=\"Sun\"),OFFSET($J$10,,MATCH(BJ$24,$K$8:$AV$8,0)),IF(AND($F47=\"week 3\",AL$9=\"bi-weekly\",$G47=\"Sun\"),OFFSET($J$10,,MATCH(BJ$24,$K$8:$AV$8,0)),BK46+1))))","v":5.7142857142857144},{"$f":"IF(AL$9=\"weekly\",OFFSET($J$13,,MATCH(BJ$24,$K$8:$AV$8,0))+BJ47-1,IF(AL$9=\"bi-weekly\",OFFSET($J$14,,MATCH(BJ$24,$K$8:$AV$8,0))+BJ47-1,IF(AL$9=\"Monthly\",OFFSET($J$15,,MATCH(BJ$24,$K$8:$AV$8,0))+BJ47-1,0)))","v":6.5714285714285712},{"$f":"IF(AM$9=\"none\",0,IF(AND($F47=\"week 1\",$G47=\"Sun\"),OFFSET($J$10,,MATCH(BL$24,$K$8:$AV$8,0)),IF(AND(OR($F47=\"week 2\",$F47=\"week 3\",$F47=\"week 4\"),AM$9=\"weekly\",$G47=\"Sun\"),OFFSET($J$10,,MATCH(BL$24,$K$8:$AV$8,0)),IF(AND($F47=\"week 3\",AM$9=\"bi-weekly\",$G47=\"Sun\"),OFFSET($J$10,,MATCH(BL$24,$K$8:$AV$8,0)),BM46+1))))","v":36},{"$f":"IF(AM$9=\"weekly\",OFFSET($J$13,,MATCH(BL$24,$K$8:$AV$8,0))+BL47-1,IF(AM$9=\"bi-weekly\",OFFSET($J$14,,MATCH(BL$24,$K$8:$AV$8,0))+BL47-1,IF(AM$9=\"Monthly\",OFFSET($J$15,,MATCH(BL$24,$K$8:$AV$8,0))+BL47-1,0)))","v":52},{"$f":"IF(AN$9=\"none\",0,IF(AND($F47=\"week 1\",$G47=\"Sun\"),OFFSET($J$10,,MATCH(BN$24,$K$8:$AV$8,0)),IF(AND(OR($F47=\"week 2\",$F47=\"week 3\",$F47=\"week 4\"),AN$9=\"weekly\",$G47=\"Sun\"),OFFSET($J$10,,MATCH(BN$24,$K$8:$AV$8,0)),IF(AND($F47=\"week 3\",AN$9=\"bi-weekly\",$G47=\"Sun\"),OFFSET($J$10,,MATCH(BN$24,$K$8:$AV$8,0)),BO46+1))))","v":33.142857142857139},{"$f":"IF(AN$9=\"weekly\",OFFSET($J$13,,MATCH(BN$24,$K$8:$AV$8,0))+BN47-1,IF(AN$9=\"bi-weekly\",OFFSET($J$14,,MATCH(BN$24,$K$8:$AV$8,0))+BN47-1,IF(AN$9=\"Monthly\",OFFSET($J$15,,MATCH(BN$24,$K$8:$AV$8,0))+BN47-1,0)))","v":47.714285714285708},{"$f":"IF(AO$9=\"none\",0,IF(AND($F47=\"week 1\",$G47=\"Sun\"),OFFSET($J$10,,MATCH(BP$24,$K$8:$AV$8,0)),IF(AND(OR($F47=\"week 2\",$F47=\"week 3\",$F47=\"week 4\"),AO$9=\"weekly\",$G47=\"Sun\"),OFFSET($J$10,,MATCH(BP$24,$K$8:$AV$8,0)),IF(AND($F47=\"week 3\",AO$9=\"bi-weekly\",$G47=\"Sun\"),OFFSET($J$10,,MATCH(BP$24,$K$8:$AV$8,0)),BQ46+1))))","v":0},{"$f":"IF(AO$9=\"weekly\",OFFSET($J$13,,MATCH(BP$24,$K$8:$AV$8,0))+BP47-1,IF(AO$9=\"bi-weekly\",OFFSET($J$14,,MATCH(BP$24,$K$8:$AV$8,0))+BP47-1,IF(AO$9=\"Monthly\",OFFSET($J$15,,MATCH(BP$24,$K$8:$AV$8,0))+BP47-1,0)))","v":0},0,0,{"$f":"IF(AQ$9=\"none\",0,IF(AND($F47=\"week 1\",$G47=\"Sun\"),OFFSET($J$10,,MATCH(BT$24,$K$8:$AV$8,0)),IF(AND(OR($F47=\"week 2\",$F47=\"week 3\",$F47=\"week 4\"),AQ$9=\"weekly\",$G47=\"Sun\"),OFFSET($J$10,,MATCH(BT$24,$K$8:$AV$8,0)),IF(AND($F47=\"week 3\",AQ$9=\"bi-weekly\",$G47=\"Sun\"),OFFSET($J$10,,MATCH(BT$24,$K$8:$AV$8,0)),BU46+1))))","v":0},{"$f":"IF(AQ$9=\"weekly\",OFFSET($J$13,,MATCH(BT$24,$K$8:$AV$8,0))+BT47-1,IF(AQ$9=\"bi-weekly\",OFFSET($J$14,,MATCH(BT$24,$K$8:$AV$8,0))+BT47-1,IF(AQ$9=\"Monthly\",OFFSET($J$15,,MATCH(BT$24,$K$8:$AV$8,0))+BT47-1,0)))","v":0},{"$f":"IF(AR$9=\"none\",0,IF(AND($F47=\"week 1\",$G47=\"Sun\"),OFFSET($J$10,,MATCH(BV$24,$K$8:$AV$8,0)),IF(AND(OR($F47=\"week 2\",$F47=\"week 3\",$F47=\"week 4\"),AR$9=\"weekly\",$G47=\"Sun\"),OFFSET($J$10,,MATCH(BV$24,$K$8:$AV$8,0)),IF(AND($F47=\"week 3\",AR$9=\"bi-weekly\",$G47=\"Sun\"),OFFSET($J$10,,MATCH(BV$24,$K$8:$AV$8,0)),BW46+1))))","v":0},{"$f":"IF(AR$9=\"weekly\",OFFSET($J$13,,MATCH(BV$24,$K$8:$AV$8,0))+BV47-1,IF(AR$9=\"bi-weekly\",OFFSET($J$14,,MATCH(BV$24,$K$8:$AV$8,0))+BV47-1,IF(AR$9=\"Monthly\",OFFSET($J$15,,MATCH(BV$24,$K$8:$AV$8,0))+BV47-1,0)))","v":0},{"$f":"IF(AS$9=\"none\",0,IF(AND($F47=\"week 1\",$G47=\"Sun\"),OFFSET($J$10,,MATCH(BX$24,$K$8:$AV$8,0)),IF(AND(OR($F47=\"week 2\",$F47=\"week 3\",$F47=\"week 4\"),AS$9=\"weekly\",$G47=\"Sun\"),OFFSET($J$10,,MATCH(BX$24,$K$8:$AV$8,0)),IF(AND($F47=\"week 3\",AS$9=\"bi-weekly\",$G47=\"Sun\"),OFFSET($J$10,,MATCH(BX$24,$K$8:$AV$8,0)),BY46+1))))","v":0},{"$f":"IF(AS$9=\"weekly\",OFFSET($J$13,,MATCH(BX$24,$K$8:$AV$8,0))+BX47-1,IF(AS$9=\"bi-weekly\",OFFSET($J$14,,MATCH(BX$24,$K$8:$AV$8,0))+BX47-1,IF(AS$9=\"Monthly\",OFFSET($J$15,,MATCH(BX$24,$K$8:$AV$8,0))+BX47-1,0)))","v":0},{"$f":"IF(AT$9=\"none\",0,IF(AND($F47=\"week 1\",$G47=\"Sun\"),OFFSET($J$10,,MATCH(BZ$24,$K$8:$AV$8,0)),IF(AND(OR($F47=\"week 2\",$F47=\"week 3\",$F47=\"week 4\"),AT$9=\"weekly\",$G47=\"Sun\"),OFFSET($J$10,,MATCH(BZ$24,$K$8:$AV$8,0)),IF(AND($F47=\"week 3\",AT$9=\"bi-weekly\",$G47=\"Sun\"),OFFSET($J$10,,MATCH(BZ$24,$K$8:$AV$8,0)),CA46+1))))","v":0},{"$f":"IF(AT$9=\"weekly\",OFFSET($J$13,,MATCH(BZ$24,$K$8:$AV$8,0))+BZ47-1,IF(AT$9=\"bi-weekly\",OFFSET($J$14,,MATCH(BZ$24,$K$8:$AV$8,0))+BZ47-1,IF(AT$9=\"Monthly\",OFFSET($J$15,,MATCH(BZ$24,$K$8:$AV$8,0))+BZ47-1,0)))","v":0},{"$f":"IF(AU$9=\"none\",0,IF(AND($F47=\"week 1\",$G47=\"Sun\"),OFFSET($J$10,,MATCH(CB$24,$K$8:$AV$8,0)),IF(AND(OR($F47=\"week 2\",$F47=\"week 3\",$F47=\"week 4\"),AU$9=\"weekly\",$G47=\"Sun\"),OFFSET($J$10,,MATCH(CB$24,$K$8:$AV$8,0)),IF(AND($F47=\"week 3\",AU$9=\"bi-weekly\",$G47=\"Sun\"),OFFSET($J$10,,MATCH(CB$24,$K$8:$AV$8,0)),CC46+1))))","v":0},{"$f":"IF(AU$9=\"weekly\",OFFSET($J$13,,MATCH(CB$24,$K$8:$AV$8,0))+CB47-1,IF(AU$9=\"bi-weekly\",OFFSET($J$14,,MATCH(CB$24,$K$8:$AV$8,0))+CB47-1,IF(AU$9=\"Monthly\",OFFSET($J$15,,MATCH(CB$24,$K$8:$AV$8,0))+CB47-1,0)))","v":0},{"$f":"(ROUND(I47,0)-ROUND(H47,0))+(ROUND(K47,0)-ROUND(J47,0))+(ROUND(M47,0)-ROUND(L47,0))+(ROUND(O47,0)-ROUND(N47,0))+(ROUND(Q47,0)-ROUND(P47,0))+(ROUND(S47,0)-ROUND(R47,0))+(ROUND(U47,0)-ROUND(T47,0)+(ROUND(W47,0)-ROUND(V47,0))+(ROUND(Y47,0)-ROUND(X47,0))+(ROUND(AA47,0)-ROUND(Z47,0))+(ROUND(AC47,0)-ROUND(AB47,0))+(ROUND(AE47,0)-ROUND(AD47,0))+(ROUND(AG47,0)-ROUND(AF47,0))+(ROUND(AI47,0)-ROUND(AH47,0))+(ROUND(AK47,0)-ROUND(AJ47,0))+(ROUND(AM47,0)-ROUND(AL47,0))+(ROUND(AO47,0)-ROUND(AN47,0))+(ROUND(AQ47,0)-ROUND(AP47,0))+(ROUND(AS47,0)-ROUND(AR47,0))+(ROUND(AU47,0)-ROUND(AT47,0))+(ROUND(AW47,0)-ROUND(AV47,0))+(ROUND(AY47,0)-ROUND(AX47,0))+(ROUND(BA47,0)-ROUND(AZ47,0))+(ROUND(BC47,0)-ROUND(BB47,0))+(ROUND(BE47,0)-ROUND(BD47,0))+(ROUND(BG47,0)-ROUND(BF47,0))+(ROUND(BI47,0)-ROUND(BH47,0))+(ROUND(BK47,0)-ROUND(BJ47,0))+(ROUND(BM47,0)-ROUND(BL47,0))+(ROUND(BO47,0)-ROUND(BN47,0))+(ROUND(BQ47,0)-ROUND(BP47,0))+(ROUND(BS47,0)-ROUND(BR47,0))+(ROUND(BU47,0)-ROUND(BT47,0))+(ROUND(BW47,0)-ROUND(BV47,0))+(ROUND(BY47,0)-ROUND(BX47,0))+(ROUND(CA47,0)-ROUND(BZ47,0))+(ROUND(CC47,0)-ROUND(CB47,0))+(COUNTIF($H47:$CC47,\">\"&0)/2))","v":150}]
[null,null,null,null,null,"WEEK 3","WED",40.25,41.5,96.714285714285694,101.28571428571426,65.142857142857153,67.857142857142861,74.857142857142861,78.142857142857153,14.75,14.5,54.821428571428555,56.928571428571409,35.392857142857146,36.357142857142861,25.678571428571423,26.071428571428566,22.642857142857142,22.857142857142858,20.214285714285715,20.285714285714288,20.821428571428577,20.928571428571434,19,19,17.785714285714288,17.714285714285715,75.464285714285694,78.785714285714263,69.392857142857139,72.357142857142847,56.642857142857153,58.857142857142868,41.464285714285715,42.785714285714285,31.142857142857149,31.857142857142861,56.035714285714292,58.214285714285722,51.178571428571445,53.071428571428591,73.642857142857139,76.857142857142847,27.285714285714285,34.714285714285715,39.5,51,50,65,11.857142857142858,14.142857142857142,22.571428571428573,28.428571428571431,34.142857142857139,43.857142857142854,7.5714285714285712,8.4285714285714288,53,69,48.714285714285708,63.285714285714278,0,0,0,0,0,0,0,0,0,0,0,0,0,0,{"$f":"(ROUND(I48,0)-ROUND(H48,0))+(ROUND(K48,0)-ROUND(J48,0))+(ROUND(M48,0)-ROUND(L48,0))+(ROUND(O48,0)-ROUND(N48,0))+(ROUND(Q48,0)-ROUND(P48,0))+(ROUND(S48,0)-ROUND(R48,0))+(ROUND(U48,0)-ROUND(T48,0)+(ROUND(W48,0)-ROUND(V48,0))+(ROUND(Y48,0)-ROUND(X48,0))+(ROUND(AA48,0)-ROUND(Z48,0))+(ROUND(AC48,0)-ROUND(AB48,0))+(ROUND(AE48,0)-ROUND(AD48,0))+(ROUND(AG48,0)-ROUND(AF48,0))+(ROUND(AI48,0)-ROUND(AH48,0))+(ROUND(AK48,0)-ROUND(AJ48,0))+(ROUND(AM48,0)-ROUND(AL48,0))+(ROUND(AO48,0)-ROUND(AN48,0))+(ROUND(AQ48,0)-ROUND(AP48,0))+(ROUND(AS48,0)-ROUND(AR48,0))+(ROUND(AU48,0)-ROUND(AT48,0))+(ROUND(AW48,0)-ROUND(AV48,0))+(ROUND(AY48,0)-ROUND(AX48,0))+(ROUND(BA48,0)-ROUND(AZ48,0))+(ROUND(BC48,0)-ROUND(BB48,0))+(ROUND(BE48,0)-ROUND(BD48,0))+(ROUND(BG48,0)-ROUND(BF48,0))+(ROUND(BI48,0)-ROUND(BH48,0))+(ROUND(BK48,0)-ROUND(BJ48,0))+(ROUND(BM48,0)-ROUND(BL48,0))+(ROUND(BO48,0)-ROUND(BN48,0))+(ROUND(BQ48,0)-ROUND(BP48,0))+(ROUND(BS48,0)-ROUND(BR48,0))+(ROUND(BU48,0)-ROUND(BT48,0))+(ROUND(BW48,0)-ROUND(BV48,0))+(ROUND(BY48,0)-ROUND(BX48,0))+(ROUND(CA48,0)-ROUND(BZ48,0))+(ROUND(CC48,0)-ROUND(CB48,0))+(COUNTIF($H48:$CC48,\">\"&0)/2))","v":145}]
[null,null,null,null,null,"WEEK 3","THU",42.5,43.75,102.28571428571426,106.85714285714283,68.857142857142861,71.571428571428569,79.142857142857153,82.428571428571445,15.5,15.25,57.928571428571409,60.035714285714263,37.357142857142861,38.321428571428577,27.071428571428566,27.464285714285708,23.857142857142858,24.071428571428573,21.285714285714288,21.357142857142861,21.928571428571434,22.035714285714292,20,20,18.714285714285715,18.642857142857142,79.785714285714263,83.107142857142833,73.357142857142847,76.321428571428555,59.857142857142868,62.071428571428584,43.785714285714285,45.107142857142854,32.857142857142861,33.571428571428577,59.214285714285722,61.392857142857153,54.071428571428591,55.964285714285737,77.857142857142847,81.071428571428555,35.714285714285715,43.142857142857146,52,63.5,66,81,15.142857142857142,17.428571428571427,29.428571428571431,35.285714285714285,44.857142857142854,54.571428571428569,9.4285714285714288,10.285714285714286,70,86,64.285714285714278,78.857142857142847,0,0,0,0,0,0,0,0,0,0,0,0,0,0,145]
[null,null,null,null,null,"WEEK 3","FRI",44.75,46,107.85714285714283,112.4285714285714,72.571428571428569,75.285714285714278,83.428571428571445,86.714285714285737,16.25,16,61.035714285714263,63.142857142857125,39.321428571428577,40.285714285714292,28.464285714285708,28.857142857142851,25.071428571428573,25.285714285714288,22.357142857142861,22.428571428571434,23.035714285714292,23.142857142857149,21,21,19.642857142857142,19.571428571428569,84.107142857142833,87.428571428571402,77.321428571428555,80.285714285714263,63.071428571428584,65.285714285714292,46.107142857142854,47.428571428571423,34.571428571428577,35.285714285714292,62.392857142857153,64.571428571428584,56.964285714285737,58.857142857142883,82.071428571428555,85.285714285714263,44.142857142857146,51.571428571428577,64.5,76,82,97,18.428571428571427,20.714285714285712,36.285714285714285,42.142857142857139,55.571428571428569,65.285714285714278,11.285714285714286,12.142857142857144,87,103,79.857142857142847,94.428571428571416,0,0,0,0,0,0,0,0,0,0,0,0,0,0,145]
[null,null,null,null,null,"WEEK 3","שבת",47,48.25,113.4285714285714,117.99999999999997,76.285714285714278,78.999999999999986,87.714285714285737,91.000000000000028,17,16.75,64.142857142857125,66.249999999999986,41.285714285714292,42.250000000000007,29.857142857142851,30.249999999999993,26.285714285714288,26.500000000000004,23.428571428571434,23.500000000000007,24.142857142857149,24.250000000000007,22,22,20.571428571428569,20.499999999999996,88.428571428571402,91.749999999999972,81.285714285714263,84.249999999999972,66.285714285714292,68.5,48.428571428571423,49.749999999999993,36.285714285714292,37.000000000000007,65.571428571428584,67.750000000000014,59.857142857142883,61.750000000000028,86.285714285714263,89.499999999999972,52.571428571428577,60.000000000000007,77,88.5,98,113,21.714285714285712,23.999999999999996,43.142857142857139,48.999999999999993,66.285714285714278,75.999999999999986,13.142857142857144,14.000000000000002,104,120,95.428571428571416,109.99999999999999,0,0,0,0,0,0,0,0,0,0,0,0,0,0,152]
[null,null,null,null,null,null,"WEEK FOUR",null,null,null,null,null,null,null,null,null,null,null,null,null,null,null,null,null,null,null,null,null,null,null,null,null,null,"WEEK FOUR"]
[null,null,null,null,null,"WEEK 4","SUN",{"$f":"IF(K$9=\"none\",0,IF(AND($F53=\"week 1\",$G53=\"Sun\"),OFFSET($J$10,,MATCH(H$24,$K$8:$AV$8,0)),IF(AND(OR($F53=\"week 2\",$F53=\"week 3\",$F53=\"week 4\"),K$9=\"weekly\",$G53=\"Sun\"),OFFSET($J$10,,MATCH(H$24,$K$8:$AV$8,0)),IF(AND($F53=\"week 3\",K$9=\"bi-weekly\",$G53=\"Sun\"),OFFSET($J$10,,MATCH(H$24,$K$8:$AV$8,0)),I51+1))))","v":49.25},{"$f":"IF(K$9=\"weekly\",OFFSET($J$13,,MATCH(H$24,$K$8:$AV$8,0))+H53-1,IF(K$9=\"bi-weekly\",OFFSET($J$14,,MATCH(H$24,$K$8:$AV$8,0))+H53-1,IF(K$9=\"Monthly\",OFFSET($J$15,,MATCH(H$24,$K$8:$AV$8,0))+H53-1,0)))","v":50.5},{"$f":"IF(L$9=\"none\",0,IF(AND($F53=\"week 1\",$G53=\"Sun\"),OFFSET($J$10,,MATCH(J$24,$K$8:$AV$8,0)),IF(AND(OR($F53=\"week 2\",$F53=\"week 3\",$F53=\"week 4\"),L$9=\"weekly\",$G53=\"Sun\"),OFFSET($J$10,,MATCH(J$24,$K$8:$AV$8,0)),IF(AND($F53=\"week 3\",L$9=\"bi-weekly\",$G53=\"Sun\"),OFFSET($J$10,,MATCH(J$24,$K$8:$AV$8,0)),K51+1))))","v":118.99999999999997},{"$f":"IF(L$9=\"weekly\",OFFSET($J$13,,MATCH(J$24,$K$8:$AV$8,0))+J53-1,IF(L$9=\"bi-weekly\",OFFSET($J$14,,MATCH(J$24,$K$8:$AV$8,0))+J53-1,IF(L$9=\"Monthly\",OFFSET($J$15,,MATCH(J$24,$K$8:$AV$8,0))+J53-1,0)))","v":123.57142857142854},{"$f":"IF(M$9=\"none\",0,IF(AND($F53=\"week 1\",$G53=\"Sun\"),OFFSET($J$10,,MATCH(L$24,$K$8:$AV$8,0)),IF(AND(OR($F53=\"week 2\",$F53=\"week 3\",$F53=\"week 4\"),M$9=\"weekly\",$G53=\"Sun\"),OFFSET($J$10,,MATCH(L$24,$K$8:$AV$8,0)),IF(AND($F53=\"week 3\",M$9=\"bi-weekly\",$G53=\"Sun\"),OFFSET($J$10,,MATCH(L$24,$K$8:$AV$8,0)),M51+1))))","v":79.999999999999986},{"$f":"IF(M$9=\"weekly\",OFFSET($J$13,,MATCH(L$24,$K$8:$AV$8,0))+L53-1,IF(M$9=\"bi-weekly\",OFFSET($J$14,,MATCH(L$24,$K$8:$AV$8,0))+L53-1,IF(M$9=\"Monthly\",OFFSET($J$15,,MATCH(L$24,$K$8:$AV$8,0))+L53-1,0)))","v":82.714285714285694},{"$f":"IF(N$9=\"none\",0,IF(AND($F53=\"week 1\",$G53=\"Sun\"),OFFSET($J$10,,MATCH(N$24,$K$8:$AV$8,0)),IF(AND(OR($F53=\"week 2\",$F53=\"week 3\",$F53=\"week 4\"),N$9=\"weekly\",$G53=\"Sun\"),OFFSET($J$10,,MATCH(N$24,$K$8:$AV$8,0)),IF(AND($F53=\"week 3\",N$9=\"bi-weekly\",$G53=\"Sun\"),OFFSET($J$10,,MATCH(N$24,$K$8:$AV$8,0)),O51+1))))","v":92.000000000000028},{"$f":"IF(N$9=\"weekly\",OFFSET($J$13,,MATCH(N$24,$K$8:$AV$8,0))+N53-1,IF(N$9=\"bi-weekly\",OFFSET($J$14,,MATCH(N$24,$K$8:$AV$8,0))+N53-1,IF(N$9=\"Monthly\",OFFSET($J$15,,MATCH(N$24,$K$8:$AV$8,0))+N53-1,0)))","v":95.28571428571432},{"$f":"IF(O$9=\"none\",0,IF(AND($F53=\"week 1\",$G53=\"Sun\"),OFFSET($J$10,,MATCH(P$24,$K$8:$AV$8,0)),IF(AND(OR($F53=\"week 2\",$F53=\"week 3\",$F53=\"week 4\"),O$9=\"weekly\",$G53=\"Sun\"),OFFSET($J$10,,MATCH(P$24,$K$8:$AV$8,0)),IF(AND($F53=\"week 3\",O$9=\"bi-weekly\",$G53=\"Sun\"),OFFSET($J$10,,MATCH(P$24,$K$8:$AV$8,0)),Q51+1))))","v":17.75},{"$f":"IF(O$9=\"weekly\",OFFSET($J$13,,MATCH(P$24,$K$8:$AV$8,0))+P53-1,IF(O$9=\"bi-weekly\",OFFSET($J$14,,MATCH(P$24,$K$8:$AV$8,0))+P53-1,IF(O$9=\"Monthly\",OFFSET($J$15,,MATCH(P$24,$K$8:$AV$8,0))+P53-1,0)))","v":17.5},{"$f":"IF(P$9=\"none\",0,IF(AND($F53=\"week 1\",$G53=\"Sun\"),OFFSET($J$10,,MATCH(R$24,$K$8:$AV$8,0)),IF(AND(OR($F53=\"week 2\",$F53=\"week 3\",$F53=\"week 4\"),P$9=\"weekly\",$G53=\"Sun\"),OFFSET($J$10,,MATCH(R$24,$K$8:$AV$8,0)),IF(AND($F53=\"week 3\",P$9=\"bi-weekly\",$G53=\"Sun\"),OFFSET($J$10,,MATCH(R$24,$K$8:$AV$8,0)),S51+1))))","v":67.249999999999986},{"$f":"IF(P$9=\"weekly\",OFFSET($J$13,,MATCH(R$24,$K$8:$AV$8,0))+R53-1,IF(P$9=\"bi-weekly\",OFFSET($J$14,,MATCH(R$24,$K$8:$AV$8,0))+R53-1,IF(P$9=\"Monthly\",OFFSET($J$15,,MATCH(R$24,$K$8:$AV$8,0))+R53-1,0)))","v":69.357142857142847},{"$f":"IF(Q$9=\"none\",0,IF(AND($F53=\"week 1\",$G53=\"Sun\"),OFFSET($J$10,,MATCH(T$24,$K$8:$AV$8,0)),IF(AND(OR($F53=\"week 2\",$F53=\"week 3\",$F53=\"week 4\"),Q$9=\"weekly\",$G53=\"Sun\"),OFFSET($J$10,,MATCH(T$24,$K$8:$AV$8,0)),IF(AND($F53=\"week 3\",Q$9=\"bi-weekly\",$G53=\"Sun\"),OFFSET($J$10,,MATCH(T$24,$K$8:$AV$8,0)),U51+1))))","v":43.250000000000007},{"$f":"IF(Q$9=\"weekly\",OFFSET($J$13,,MATCH(T$24,$K$8:$AV$8,0))+T53-1,IF(Q$9=\"bi-weekly\",OFFSET($J$14,,MATCH(T$24,$K$8:$AV$8,0))+T53-1,IF(Q$9=\"Monthly\",OFFSET($J$15,,MATCH(T$24,$K$8:$AV$8,0))+T53-1,0)))","v":44.214285714285722},{"$f":"IF(R$9=\"none\",0,IF(AND($F53=\"week 1\",$G53=\"Sun\"),OFFSET($J$10,,MATCH(V$24,$K$8:$AV$8,0)),IF(AND(OR($F53=\"week 2\",$F53=\"week 3\",$F53=\"week 4\"),R$9=\"weekly\",$G53=\"Sun\"),OFFSET($J$10,,MATCH(V$24,$K$8:$AV$8,0)),IF(AND($F53=\"week 3\",R$9=\"bi-weekly\",$G53=\"Sun\"),OFFSET($J$10,,MATCH(V$24,$K$8:$AV$8,0)),W51+1))))","v":31.249999999999993},{"$f":"IF(R$9=\"weekly\",OFFSET($J$13,,MATCH(V$24,$K$8:$AV$8,0))+V53-1,IF(R$9=\"bi-weekly\",OFFSET($J$14,,MATCH(V$24,$K$8:$AV$8,0))+V53-1,IF(R$9=\"Monthly\",OFFSET($J$15,,MATCH(V$24,$K$8:$AV$8,0))+V53-1,0)))","v":31.642857142857139},{"$f":"IF(S$9=\"none\",0,IF(AND($F53=\"week 1\",$G53=\"Sun\"),OFFSET($J$10,,MATCH(X$24,$K$8:$AV$8,0)),IF(AND(OR($F53=\"week 2\",$F53=\"week 3\",$F53=\"week 4\"),S$9=\"weekly\",$G53=\"Sun\"),OFFSET($J$10,,MATCH(X$24,$K$8:$AV$8,0)),IF(AND($F53=\"week 3\",S$9=\"bi-weekly\",$G53=\"Sun\"),OFFSET($J$10,,MATCH(X$24,$K$8:$AV$8,0)),Y51+1))))","v":27.500000000000004},{"$f":"IF(S$9=\"weekly\",OFFSET($J$13,,MATCH(X$24,$K$8:$AV$8,0))+X53-1,IF(S$9=\"bi-weekly\",OFFSET($J$14,,MATCH(X$24,$K$8:$AV$8,0))+X53-1,IF(S$9=\"Monthly\",OFFSET($J$15,,MATCH(X$24,$K$8:$AV$8,0))+X53-1,0)))","v":27.714285714285719},{"$f":"IF(T$9=\"none\",0,IF(AND($F53=\"week 1\",$G53=\"Sun\"),OFFSET($J$10,,MATCH(Z$24,$K$8:$AV$8,0)),IF(AND(OR($F53=\"week 2\",$F53=\"week 3\",$F53=\"week 4\"),T$9=\"weekly\",$G53=\"Sun\"),OFFSET($J$10,,MATCH(Z$24,$K$8:$AV$8,0)),IF(AND($F53=\"week 3\",T$9=\"bi-weekly\",$G53=\"Sun\"),OFFSET($J$10,,MATCH(Z$24,$K$8:$AV$8,0)),AA51+1))))","v":24.500000000000007},{"$f":"IF(T$9=\"weekly\",OFFSET($J$13,,MATCH(Z$24,$K$8:$AV$8,0))+Z53-1,IF(T$9=\"bi-weekly\",OFFSET($J$14,,MATCH(Z$24,$K$8:$AV$8,0))+Z53-1,IF(T$9=\"Monthly\",OFFSET($J$15,,MATCH(Z$24,$K$8:$AV$8,0))+Z53-1,0)))","v":24.57142857142858},{"$f":"IF(U$9=\"none\",0,IF(AND($F53=\"week 1\",$G53=\"Sun\"),OFFSET($J$10,,MATCH(AB$24,$K$8:$AV$8,0)),IF(AND(OR($F53=\"week 2\",$F53=\"week 3\",$F53=\"week 4\"),U$9=\"weekly\",$G53=\"Sun\"),OFFSET($J$10,,MATCH(AB$24,$K$8:$AV$8,0)),IF(AND($F53=\"week 3\",U$9=\"bi-weekly\",$G53=\"Sun\"),OFFSET($J$10,,MATCH(AB$24,$K$8:$AV$8,0)),AC51+1))))","v":25.250000000000007},{"$f":"IF(U$9=\"weekly\",OFFSET($J$13,,MATCH(AB$24,$K$8:$AV$8,0))+AB53-1,IF(U$9=\"bi-weekly\",OFFSET($J$14,,MATCH(AB$24,$K$8:$AV$8,0))+AB53-1,IF(U$9=\"Monthly\",OFFSET($J$15,,MATCH(AB$24,$K$8:$AV$8,0))+AB53-1,0)))","v":25.357142857142865},{"$f":"IF(V$9=\"none\",0,IF(AND($F53=\"week 1\",$G53=\"Sun\"),OFFSET($J$10,,MATCH(AD$24,$K$8:$AV$8,0)),IF(AND(OR($F53=\"week 2\",$F53=\"week 3\",$F53=\"week 4\"),V$9=\"weekly\",$G53=\"Sun\"),OFFSET($J$10,,MATCH(AD$24,$K$8:$AV$8,0)),IF(AND($F53=\"week 3\",V$9=\"bi-weekly\",$G53=\"Sun\"),OFFSET($J$10,,MATCH(AD$24,$K$8:$AV$8,0)),AE51+1))))","v":23},{"$f":"IF(V$9=\"weekly\",OFFSET($J$13,,MATCH(AD$24,$K$8:$AV$8,0))+AD53-1,IF(V$9=\"bi-weekly\",OFFSET($J$14,,MATCH(AD$24,$K$8:$AV$8,0))+AD53-1,IF(V$9=\"Monthly\",OFFSET($J$15,,MATCH(AD$24,$K$8:$AV$8,0))+AD53-1,0)))","v":23},{"$f":"IF(W$9=\"none\",0,IF(AND($F53=\"week 1\",$G53=\"Sun\"),OFFSET($J$10,,MATCH(AF$24,$K$8:$AV$8,0)),IF(AND(OR($F53=\"week 2\",$F53=\"week 3\",$F53=\"week 4\"),W$9=\"weekly\",$G53=\"Sun\"),OFFSET($J$10,,MATCH(AF$24,$K$8:$AV$8,0)),IF(AND($F53=\"week 3\",W$9=\"bi-weekly\",$G53=\"Sun\"),OFFSET($J$10,,MATCH(AF$24,$K$8:$AV$8,0)),AG51+1))))","v":21.499999999999996},{"$f":"IF(W$9=\"weekly\",OFFSET($J$13,,MATCH(AF$24,$K$8:$AV$8,0))+AF53-1,IF(W$9=\"bi-weekly\",OFFSET($J$14,,MATCH(AF$24,$K$8:$AV$8,0))+AF53-1,IF(W$9=\"Monthly\",OFFSET($J$15,,MATCH(AF$24,$K$8:$AV$8,0))+AF53-1,0)))","v":21.428571428571423},{"$f":"IF(X$9=\"none\",0,IF(AND($F53=\"week 1\",$G53=\"Sun\"),OFFSET($J$10,,MATCH(AH$24,$K$8:$AV$8,0)),IF(AND(OR($F53=\"week 2\",$F53=\"week 3\",$F53=\"week 4\"),X$9=\"weekly\",$G53=\"Sun\"),OFFSET($J$10,,MATCH(AH$24,$K$8:$AV$8,0)),IF(AND($F53=\"week 3\",X$9=\"bi-weekly\",$G53=\"Sun\"),OFFSET($J$10,,MATCH(AH$24,$K$8:$AV$8,0)),AI51+1))))","v":92.749999999999972},{"$f":"IF(X$9=\"weekly\",OFFSET($J$13,,MATCH(AH$24,$K$8:$AV$8,0))+AH53-1,IF(X$9=\"bi-weekly\",OFFSET($J$14,,MATCH(AH$24,$K$8:$AV$8,0))+AH53-1,IF(X$9=\"Monthly\",OFFSET($J$15,,MATCH(AH$24,$K$8:$AV$8,0))+AH53-1,0)))","v":96.071428571428541},{"$f":"IF(Y$9=\"none\",0,IF(AND($F53=\"week 1\",$G53=\"Sun\"),OFFSET($J$10,,MATCH(AJ$24,$K$8:$AV$8,0)),IF(AND(OR($F53=\"week 2\",$F53=\"week 3\",$F53=\"week 4\"),Y$9=\"weekly\",$G53=\"Sun\"),OFFSET($J$10,,MATCH(AJ$24,$K$8:$AV$8,0)),IF(AND($F53=\"week 3\",Y$9=\"bi-weekly\",$G53=\"Sun\"),OFFSET($J$10,,MATCH(AJ$24,$K$8:$AV$8,0)),AK51+1))))","v":85.249999999999972},{"$f":"IF(Y$9=\"weekly\",OFFSET($J$13,,MATCH(AJ$24,$K$8:$AV$8,0))+AJ53-1,IF(Y$9=\"bi-weekly\",OFFSET($J$14,,MATCH(AJ$24,$K$8:$AV$8,0))+AJ53-1,IF(Y$9=\"Monthly\",OFFSET($J$15,,MATCH(AJ$24,$K$8:$AV$8,0))+AJ53-1,0)))","v":88.21428571428568},{"$f":"IF(Z$9=\"none\",0,IF(AND($F53=\"week 1\",$G53=\"Sun\"),OFFSET($J$10,,MATCH(AL$24,$K$8:$AV$8,0)),IF(AND(OR($F53=\"week 2\",$F53=\"week 3\",$F53=\"week 4\"),Z$9=\"weekly\",$G53=\"Sun\"),OFFSET($J$10,,MATCH(AL$24,$K$8:$AV$8,0)),IF(AND($F53=\"week 3\",Z$9=\"bi-weekly\",$G53=\"Sun\"),OFFSET($J$10,,MATCH(AL$24,$K$8:$AV$8,0)),AM51+1))))","v":69.5},{"$f":"IF(Z$9=\"weekly\",OFFSET($J$13,,MATCH(AL$24,$K$8:$AV$8,0))+AL53-1,IF(Z$9=\"bi-weekly\",OFFSET($J$14,,MATCH(AL$24,$K$8:$AV$8,0))+AL53-1,IF(Z$9=\"Monthly\",OFFSET($J$15,,MATCH(AL$24,$K$8:$AV$8,0))+AL53-1,0)))","v":71.714285714285708},{"$f":"IF(AA$9=\"none\",0,IF(AND($F53=\"week 1\",$G53=\"Sun\"),OFFSET($J$10,,MATCH(AN$24,$K$8:$AV$8,0)),IF(AND(OR($F53=\"week 2\",$F53=\"week 3\",$F53=\"week 4\"),AA$9=\"weekly\",$G53=\"Sun\"),OFFSET($J$10,,MATCH(AN$24,$K$8:$AV$8,0)),IF(AND($F53=\"week 3\",AA$9=\"bi-weekly\",$G53=\"Sun\"),OFFSET($J$10,,MATCH(AN$24,$K$8:$AV$8,0)),AO51+1))))","v":50.749999999999993},{"$f":"IF(AA$9=\"weekly\",OFFSET($J$13,,MATCH(AN$24,$K$8:$AV$8,0))+AN53-1,IF(AA$9=\"bi-weekly\",OFFSET($J$14,,MATCH(AN$24,$K$8:$AV$8,0))+AN53-1,IF(AA$9=\"Monthly\",OFFSET($J$15,,MATCH(AN$24,$K$8:$AV$8,0))+AN53-1,0)))","v":52.071428571428562},{"$f":"IF(AB$9=\"none\",0,IF(AND($F53=\"week 1\",$G53=\"Sun\"),OFFSET($J$10,,MATCH(AP$24,$K$8:$AV$8,0)),IF(AND(OR($F53=\"week 2\",$F53=\"week 3\",$F53=\"week 4\"),AB$9=\"weekly\",$G53=\"Sun\"),OFFSET($J$10,,MATCH(AP$24,$K$8:$AV$8,0)),IF(AND($F53=\"week 3\",AB$9=\"bi-weekly\",$G53=\"Sun\"),OFFSET($J$10,,MATCH(AP$24,$K$8:$AV$8,0)),AQ51+1))))","v":38.000000000000007},{"$f":"IF(AB$9=\"weekly\",OFFSET($J$13,,MATCH(AP$24,$K$8:$AV$8,0))+AP53-1,IF(AB$9=\"bi-weekly\",OFFSET($J$14,,MATCH(AP$24,$K$8:$AV$8,0))+AP53-1,IF(AB$9=\"Monthly\",OFFSET($J$15,,MATCH(AP$24,$K$8:$AV$8,0))+AP53-1,0)))","v":38.714285714285722},{"$f":"IF(AC$9=\"none\",0,IF(AND($F53=\"week 1\",$G53=\"Sun\"),OFFSET($J$10,,MATCH(AR$24,$K$8:$AV$8,0)),IF(AND(OR($F53=\"week 2\",$F53=\"week 3\",$F53=\"week 4\"),AC$9=\"weekly\",$G53=\"Sun\"),OFFSET($J$10,,MATCH(AR$24,$K$8:$AV$8,0)),IF(AND($F53=\"week 3\",AC$9=\"bi-weekly\",$G53=\"Sun\"),OFFSET($J$10,,MATCH(AR$24,$K$8:$AV$8,0)),AS51+1))))","v":68.750000000000014},{"$f":"IF(AC$9=\"weekly\",OFFSET($J$13,,MATCH(AR$24,$K$8:$AV$8,0))+AR53-1,IF(AC$9=\"bi-weekly\",OFFSET($J$14,,MATCH(AR$24,$K$8:$AV$8,0))+AR53-1,IF(AC$9=\"Monthly\",OFFSET($J$15,,MATCH(AR$24,$K$8:$AV$8,0))+AR53-1,0)))","v":70.928571428571445},{"$f":"IF(AD$9=\"none\",0,IF(AND($F53=\"week 1\",$G53=\"Sun\"),OFFSET($J$10,,MATCH(AT$24,$K$8:$AV$8,0)),IF(AND(OR($F53=\"week 2\",$F53=\"week 3\",$F53=\"week 4\"),AD$9=\"weekly\",$G53=\"Sun\"),OFFSET($J$10,,MATCH(AT$24,$K$8:$AV$8,0)),IF(AND($F53=\"week 3\",AD$9=\"bi-weekly\",$G53=\"Sun\"),OFFSET($J$10,,MATCH(AT$24,$K$8:$AV$8,0)),AU51+1))))","v":62.750000000000028},{"$f":"IF(AD$9=\"weekly\",OFFSET($J$13,,MATCH(AT$24,$K$8:$AV$8,0))+AT53-1,IF(AD$9=\"bi-weekly\",OFFSET($J$14,,MATCH(AT$24,$K$8:$AV$8,0))+AT53-1,IF(AD$9=\"Monthly\",OFFSET($J$15,,MATCH(AT$24,$K$8:$AV$8,0))+AT53-1,0)))","v":64.642857142857167},{"$f":"IF(AE$9=\"none\",0,IF(AND($F53=\"week 1\",$G53=\"Sun\"),OFFSET($J$10,,MATCH(AV$24,$K$8:$AV$8,0)),IF(AND(OR($F53=\"week 2\",$F53=\"week 3\",$F53=\"week 4\"),AE$9=\"weekly\",$G53=\"Sun\"),OFFSET($J$10,,MATCH(AV$24,$K$8:$AV$8,0)),IF(AND($F53=\"week 3\",AE$9=\"bi-weekly\",$G53=\"Sun\"),OFFSET($J$10,,MATCH(AV$24,$K$8:$AV$8,0)),AW51+1))))","v":90.499999999999972},{"$f":"IF(AE$9=\"weekly\",OFFSET($J$13,,MATCH(AV$24,$K$8:$AV$8,0))+AV53-1,IF(AE$9=\"bi-weekly\",OFFSET($J$14,,MATCH(AV$24,$K$8:$AV$8,0))+AV53-1,IF(AE$9=\"Monthly\",OFFSET($J$15,,MATCH(AV$24,$K$8:$AV$8,0))+AV53-1,0)))","v":93.71428571428568},{"$f":"IF(AF$9=\"none\",0,IF(AND($F53=\"week 1\",$G53=\"Sun\"),OFFSET($J$10,,MATCH(AX$24,$K$8:$AV$8,0)),IF(AND(OR($F53=\"week 2\",$F53=\"week 3\",$F53=\"week 4\"),AF$9=\"weekly\",$G53=\"Sun\"),OFFSET($J$10,,MATCH(AX$24,$K$8:$AV$8,0)),IF(AND($F53=\"week 3\",AF$9=\"bi-weekly\",$G53=\"Sun\"),OFFSET($J$10,,MATCH(AX$24,$K$8:$AV$8,0)),AY51+1))))","v":61.000000000000007},{"$f":"IF(AF$9=\"weekly\",OFFSET($J$13,,MATCH(AX$24,$K$8:$AV$8,0))+AX53-1,IF(AF$9=\"bi-weekly\",OFFSET($J$14,,MATCH(AX$24,$K$8:$AV$8,0))+AX53-1,IF(AF$9=\"Monthly\",OFFSET($J$15,,MATCH(AX$24,$K$8:$AV$8,0))+AX53-1,0)))","v":68.428571428571431},{"$f":"IF(AG$9=\"none\",0,IF(AND($F53=\"week 1\",$G53=\"Sun\"),OFFSET($J$10,,MATCH(AZ$24,$K$8:$AV$8,0)),IF(AND(OR($F53=\"week 2\",$F53=\"week 3\",$F53=\"week 4\"),AG$9=\"weekly\",$G53=\"Sun\"),OFFSET($J$10,,MATCH(AZ$24,$K$8:$AV$8,0)),IF(AND($F53=\"week 3\",AG$9=\"bi-weekly\",$G53=\"Sun\"),OFFSET($J$10,,MATCH(AZ$24,$K$8:$AV$8,0)),BA51+1))))","v":89.5},{"$f":"IF(AG$9=\"weekly\",OFFSET($J$13,,MATCH(AZ$24,$K$8:$AV$8,0))+AZ53-1,IF(AG$9=\"bi-weekly\",OFFSET($J$14,,MATCH(AZ$24,$K$8:$AV$8,0))+AZ53-1,IF(AG$9=\"Monthly\",OFFSET($J$15,,MATCH(AZ$24,$K$8:$AV$8,0))+AZ53-1,0)))","v":101},{"$f":"IF(AH$9=\"none\",0,IF(AND($F53=\"week 1\",$G53=\"Sun\"),OFFSET($J$10,,MATCH(BB$24,$K$8:$AV$8,0)),IF(AND(OR($F53=\"week 2\",$F53=\"week 3\",$F53=\"week 4\"),AH$9=\"weekly\",$G53=\"Sun\"),OFFSET($J$10,,MATCH(BB$24,$K$8:$AV$8,0)),IF(AND($F53=\"week 3\",AH$9=\"bi-weekly\",$G53=\"Sun\"),OFFSET($J$10,,MATCH(BB$24,$K$8:$AV$8,0)),BC51+1))))","v":2},{"$f":"IF(AH$9=\"weekly\",OFFSET($J$13,,MATCH(BB$24,$K$8:$AV$8,0))+BB53-1,IF(AH$9=\"bi-weekly\",OFFSET($J$14,,MATCH(BB$24,$K$8:$AV$8,0))+BB53-1,IF(AH$9=\"Monthly\",OFFSET($J$15,,MATCH(BB$24,$K$8:$AV$8,0))+BB53-1,0)))","v":17},{"$f":"IF(AI$9=\"none\",0,IF(AND($F53=\"week 1\",$G53=\"Sun\"),OFFSET($J$10,,MATCH(BD$24,$K$8:$AV$8,0)),IF(AND(OR($F53=\"week 2\",$F53=\"week 3\",$F53=\"week 4\"),AI$9=\"weekly\",$G53=\"Sun\"),OFFSET($J$10,,MATCH(BD$24,$K$8:$AV$8,0)),IF(AND($F53=\"week 3\",AI$9=\"bi-weekly\",$G53=\"Sun\"),OFFSET($J$10,,MATCH(BD$24,$K$8:$AV$8,0)),BE51+1))))","v":2},{"$f":"IF(AI$9=\"weekly\",OFFSET($J$13,,MATCH(BD$24,$K$8:$AV$8,0))+BD53-1,IF(AI$9=\"bi-weekly\",OFFSET($J$14,,MATCH(BD$24,$K$8:$AV$8,0))+BD53-1,IF(AI$9=\"Monthly\",OFFSET($J$15,,MATCH(BD$24,$K$8:$AV$8,0))+BD53-1,0)))","v":4.2857142857142856},{"$f":"IF(AJ$9=\"none\",0,IF(AND($F53=\"week 1\",$G53=\"Sun\"),OFFSET($J$10,,MATCH(BF$24,$K$8:$AV$8,0)),IF(AND(OR($F53=\"week 2\",$F53=\"week 3\",$F53=\"week 4\"),AJ$9=\"weekly\",$G53=\"Sun\"),OFFSET($J$10,,MATCH(BF$24,$K$8:$AV$8,0)),IF(AND($F53=\"week 3\",AJ$9=\"bi-weekly\",$G53=\"Sun\"),OFFSET($J$10,,MATCH(BF$24,$K$8:$AV$8,0)),BG51+1))))","v":2},{"$f":"IF(AJ$9=\"weekly\",OFFSET($J$13,,MATCH(BF$24,$K$8:$AV$8,0))+BF53-1,IF(AJ$9=\"bi-weekly\",OFFSET($J$14,,MATCH(BF$24,$K$8:$AV$8,0))+BF53-1,IF(AJ$9=\"Monthly\",OFFSET($J$15,,MATCH(BF$24,$K$8:$AV$8,0))+BF53-1,0)))","v":7.8571428571428577},{"$f":"IF(AK$9=\"none\",0,IF(AND($F53=\"week 1\",$G53=\"Sun\"),OFFSET($J$10,,MATCH(BH$24,$K$8:$AV$8,0)),IF(AND(OR($F53=\"week 2\",$F53=\"week 3\",$F53=\"week 4\"),AK$9=\"weekly\",$G53=\"Sun\"),OFFSET($J$10,,MATCH(BH$24,$K$8:$AV$8,0)),IF(AND($F53=\"week 3\",AK$9=\"bi-weekly\",$G53=\"Sun\"),OFFSET($J$10,,MATCH(BH$24,$K$8:$AV$8,0)),BI51+1))))","v":2},{"$f":"IF(AK$9=\"weekly\",OFFSET($J$13,,MATCH(BH$24,$K$8:$AV$8,0))+BH53-1,IF(AK$9=\"bi-weekly\",OFFSET($J$14,,MATCH(BH$24,$K$8:$AV$8,0))+BH53-1,IF(AK$9=\"Monthly\",OFFSET($J$15,,MATCH(BH$24,$K$8:$AV$8,0))+BH53-1,0)))","v":11.714285714285714},{"$f":"IF(AL$9=\"none\",0,IF(AND($F53=\"week 1\",$G53=\"Sun\"),OFFSET($J$10,,MATCH(BJ$24,$K$8:$AV$8,0)),IF(AND(OR($F53=\"week 2\",$F53=\"week 3\",$F53=\"week 4\"),AL$9=\"weekly\",$G53=\"Sun\"),OFFSET($J$10,,MATCH(BJ$24,$K$8:$AV$8,0)),IF(AND($F53=\"week 3\",AL$9=\"bi-weekly\",$G53=\"Sun\"),OFFSET($J$10,,MATCH(BJ$24,$K$8:$AV$8,0)),BK51+1))))","v":2},{"$f":"IF(AL$9=\"weekly\",OFFSET($J$13,,MATCH(BJ$24,$K$8:$AV$8,0))+BJ53-1,IF(AL$9=\"bi-weekly\",OFFSET($J$14,,MATCH(BJ$24,$K$8:$AV$8,0))+BJ53-1,IF(AL$9=\"Monthly\",OFFSET($J$15,,MATCH(BJ$24,$K$8:$AV$8,0))+BJ53-1,0)))","v":2.8571428571428572},{"$f":"IF(AM$9=\"none\",0,IF(AND($F53=\"week 1\",$G53=\"Sun\"),OFFSET($J$10,,MATCH(BL$24,$K$8:$AV$8,0)),IF(AND(OR($F53=\"week 2\",$F53=\"week 3\",$F53=\"week 4\"),AM$9=\"weekly\",$G53=\"Sun\"),OFFSET($J$10,,MATCH(BL$24,$K$8:$AV$8,0)),IF(AND($F53=\"week 3\",AM$9=\"bi-weekly\",$G53=\"Sun\"),OFFSET($J$10,,MATCH(BL$24,$K$8:$AV$8,0)),BM51+1))))","v":2},{"$f":"IF(AM$9=\"weekly\",OFFSET($J$13,,MATCH(BL$24,$K$8:$AV$8,0))+BL53-1,IF(AM$9=\"bi-weekly\",OFFSET($J$14,,MATCH(BL$24,$K$8:$AV$8,0))+BL53-1,IF(AM$9=\"Monthly\",OFFSET($J$15,,MATCH(BL$24,$K$8:$AV$8,0))+BL53-1,0)))","v":18},{"$f":"IF(AN$9=\"none\",0,IF(AND($F53=\"week 1\",$G53=\"Sun\"),OFFSET($J$10,,MATCH(BN$24,$K$8:$AV$8,0)),IF(AND(OR($F53=\"week 2\",$F53=\"week 3\",$F53=\"week 4\"),AN$9=\"weekly\",$G53=\"Sun\"),OFFSET($J$10,,MATCH(BN$24,$K$8:$AV$8,0)),IF(AND($F53=\"week 3\",AN$9=\"bi-weekly\",$G53=\"Sun\"),OFFSET($J$10,,MATCH(BN$24,$K$8:$AV$8,0)),BO51+1))))","v":2},{"$f":"IF(AN$9=\"weekly\",OFFSET($J$13,,MATCH(BN$24,$K$8:$AV$8,0))+BN53-1,IF(AN$9=\"bi-weekly\",OFFSET($J$14,,MATCH(BN$24,$K$8:$AV$8,0))+BN53-1,IF(AN$9=\"Monthly\",OFFSET($J$15,,MATCH(BN$24,$K$8:$AV$8,0))+BN53-1,0)))","v":16.571428571428569},{"$f":"IF(AO$9=\"none\",0,IF(AND($F53=\"week 1\",$G53=\"Sun\"),OFFSET($J$10,,MATCH(BP$24,$K$8:$AV$8,0)),IF(AND(OR($F53=\"week 2\",$F53=\"week 3\",$F53=\"week 4\"),AO$9=\"weekly\",$G53=\"Sun\"),OFFSET($J$10,,MATCH(BP$24,$K$8:$AV$8,0)),IF(AND($F53=\"week 3\",AO$9=\"bi-weekly\",$G53=\"Sun\"),OFFSET($J$10,,MATCH(BP$24,$K$8:$AV$8,0)),BQ51+1))))","v":0},{"$f":"IF(AO$9=\"weekly\",OFFSET($J$13,,MATCH(BP$24,$K$8:$AV$8,0))+BP53-1,IF(AO$9=\"bi-weekly\",OFFSET($J$14,,MATCH(BP$24,$K$8:$AV$8,0))+BP53-1,IF(AO$9=\"Monthly\",OFFSET($J$15,,MATCH(BP$24,$K$8:$AV$8,0))+BP53-1,0)))","v":0},{"$f":"IF(AP$9=\"none\",0,IF(AND($F53=\"week 1\",$G53=\"Sun\"),OFFSET($J$10,,MATCH(BR$24,$K$8:$AV$8,0)),IF(AND(OR($F53=\"week 2\",$F53=\"week 3\",$F53=\"week 4\"),AP$9=\"weekly\",$G53=\"Sun\"),OFFSET($J$10,,MATCH(BR$24,$K$8:$AV$8,0)),IF(AND($F53=\"week 3\",AP$9=\"bi-weekly\",$G53=\"Sun\"),OFFSET($J$10,,MATCH(BR$24,$K$8:$AV$8,0)),BS51+1))))","v":0},{"$f":"IF(AP$9=\"weekly\",OFFSET($J$13,,MATCH(BR$24,$K$8:$AV$8,0))+BR53-1,IF(AP$9=\"bi-weekly\",OFFSET($J$14,,MATCH(BR$24,$K$8:$AV$8,0))+BR53-1,IF(AP$9=\"Monthly\",OFFSET($J$15,,MATCH(BR$24,$K$8:$AV$8,0))+BR53-1,0)))","v":0},{"$f":"IF(AQ$9=\"none\",0,IF(AND($F53=\"week 1\",$G53=\"Sun\"),OFFSET($J$10,,MATCH(BT$24,$K$8:$AV$8,0)),IF(AND(OR($F53=\"week 2\",$F53=\"week 3\",$F53=\"week 4\"),AQ$9=\"weekly\",$G53=\"Sun\"),OFFSET($J$10,,MATCH(BT$24,$K$8:$AV$8,0)),IF(AND($F53=\"week 3\",AQ$9=\"bi-weekly\",$G53=\"Sun\"),OFFSET($J$10,,MATCH(BT$24,$K$8:$AV$8,0)),BU51+1))))","v":0},{"$f":"IF(AQ$9=\"weekly\",OFFSET($J$13,,MATCH(BT$24,$K$8:$AV$8,0))+BT53-1,IF(AQ$9=\"bi-weekly\",OFFSET($J$14,,MATCH(BT$24,$K$8:$AV$8,0))+BT53-1,IF(AQ$9=\"Monthly\",OFFSET($J$15,,MATCH(BT$24,$K$8:$AV$8,0))+BT53-1,0)))","v":0},{"$f":"IF(AR$9=\"none\",0,IF(AND($F53=\"week 1\",$G53=\"Sun\"),OFFSET($J$10,,MATCH(BV$24,$K$8:$AV$8,0)),IF(AND(OR($F53=\"week 2\",$F53=\"week 3\",$F53=\"week 4\"),AR$9=\"weekly\",$G53=\"Sun\"),OFFSET($J$10,,MATCH(BV$24,$K$8:$AV$8,0)),IF(AND($F53=\"week 3\",AR$9=\"bi-weekly\",$G53=\"Sun\"),OFFSET($J$10,,MATCH(BV$24,$K$8:$AV$8,0)),BW51+1))))","v":0},{"$f":"IF(AR$9=\"weekly\",OFFSET($J$13,,MATCH(BV$24,$K$8:$AV$8,0))+BV53-1,IF(AR$9=\"bi-weekly\",OFFSET($J$14,,MATCH(BV$24,$K$8:$AV$8,0))+BV53-1,IF(AR$9=\"Monthly\",OFFSET($J$15,,MATCH(BV$24,$K$8:$AV$8,0))+BV53-1,0)))","v":0},{"$f":"IF(AS$9=\"none\",0,IF(AND($F53=\"week 1\",$G53=\"Sun\"),OFFSET($J$10,,MATCH(BX$24,$K$8:$AV$8,0)),IF(AND(OR($F53=\"week 2\",$F53=\"week 3\",$F53=\"week 4\"),AS$9=\"weekly\",$G53=\"Sun\"),OFFSET($J$10,,MATCH(BX$24,$K$8:$AV$8,0)),IF(AND($F53=\"week 3\",AS$9=\"bi-weekly\",$G53=\"Sun\"),OFFSET($J$10,,MATCH(BX$24,$K$8:$AV$8,0)),BY51+1))))","v":0},{"$f":"IF(AS$9=\"weekly\",OFFSET($J$13,,MATCH(BX$24,$K$8:$AV$8,0))+BX53-1,IF(AS$9=\"bi-weekly\",OFFSET($J$14,,MATCH(BX$24,$K$8:$AV$8,0))+BX53-1,IF(AS$9=\"Monthly\",OFFSET($J$15,,MATCH(BX$24,$K$8:$AV$8,0))+BX53-1,0)))","v":0},{"$f":"IF(AT$9=\"none\",0,IF(AND($F53=\"week 1\",$G53=\"Sun\"),OFFSET($J$10,,MATCH(BZ$24,$K$8:$AV$8,0)),IF(AND(OR($F53=\"week 2\",$F53=\"week 3\",$F53=\"week 4\"),AT$9=\"weekly\",$G53=\"Sun\"),OFFSET($J$10,,MATCH(BZ$24,$K$8:$AV$8,0)),IF(AND($F53=\"week 3\",AT$9=\"bi-weekly\",$G53=\"Sun\"),OFFSET($J$10,,MATCH(BZ$24,$K$8:$AV$8,0)),CA51+1))))","v":0},{"$f":"IF(AT$9=\"weekly\",OFFSET($J$13,,MATCH(BZ$24,$K$8:$AV$8,0))+BZ53-1,IF(AT$9=\"bi-weekly\",OFFSET($J$14,,MATCH(BZ$24,$K$8:$AV$8,0))+BZ53-1,IF(AT$9=\"Monthly\",OFFSET($J$15,,MATCH(BZ$24,$K$8:$AV$8,0))+BZ53-1,0)))","v":0},{"$f":"IF(AU$9=\"none\",0,IF(AND($F53=\"week 1\",$G53=\"Sun\"),OFFSET($J$10,,MATCH(CB$24,$K$8:$AV$8,0)),IF(AND(OR($F53=\"week 2\",$F53=\"week 3\",$F53=\"week 4\"),AU$9=\"weekly\",$G53=\"Sun\"),OFFSET($J$10,,MATCH(CB$24,$K$8:$AV$8,0)),IF(AND($F53=\"week 3\",AU$9=\"bi-weekly\",$G53=\"Sun\"),OFFSET($J$10,,MATCH(CB$24,$K$8:$AV$8,0)),CC51+1))))","v":0},{"$f":"IF(AU$9=\"weekly\",OFFSET($J$13,,MATCH(CB$24,$K$8:$AV$8,0))+CB53-1,IF(AU$9=\"bi-weekly\",OFFSET($J$14,,MATCH(CB$24,$K$8:$AV$8,0))+CB53-1,IF(AU$9=\"Monthly\",OFFSET($J$15,,MATCH(CB$24,$K$8:$AV$8,0))+CB53-1,0)))","v":0},{"$f":"(ROUND(I53,0)-ROUND(H53,0))+(ROUND(K53,0)-ROUND(J53,0))+(ROUND(M53,0)-ROUND(L53,0))+(ROUND(O53,0)-ROUND(N53,0))+(ROUND(Q53,0)-ROUND(P53,0))+(ROUND(S53,0)-ROUND(R53,0))+(ROUND(U53,0)-ROUND(T53,0)+(ROUND(W53,0)-ROUND(V53,0))+(ROUND(Y53,0)-ROUND(X53,0))+(ROUND(AA53,0)-ROUND(Z53,0))+(ROUND(AC53,0)-ROUND(AB53,0))+(ROUND(AE53,0)-ROUND(AD53,0))+(ROUND(AG53,0)-ROUND(AF53,0))+(ROUND(AI53,0)-ROUND(AH53,0))+(ROUND(AK53,0)-ROUND(AJ53,0))+(ROUND(AM53,0)-ROUND(AL53,0))+(ROUND(AO53,0)-ROUND(AN53,0))+(ROUND(AQ53,0)-ROUND(AP53,0))+(ROUND(AS53,0)-ROUND(AR53,0))+(ROUND(AU53,0)-ROUND(AT53,0))+(ROUND(AW53,0)-ROUND(AV53,0))+(ROUND(AY53,0)-ROUND(AX53,0))+(ROUND(BA53,0)-ROUND(AZ53,0))+(ROUND(BC53,0)-ROUND(BB53,0))+(ROUND(BE53,0)-ROUND(BD53,0))+(ROUND(BG53,0)-ROUND(BF53,0))+(ROUND(BI53,0)-ROUND(BH53,0))+(ROUND(BK53,0)-ROUND(BJ53,0))+(ROUND(BM53,0)-ROUND(BL53,0))+(ROUND(BO53,0)-ROUND(BN53,0))+(ROUND(BQ53,0)-ROUND(BP53,0))+(ROUND(BS53,0)-ROUND(BR53,0))+(ROUND(BU53,0)-ROUND(BT53,0))+(ROUND(BW53,0)-ROUND(BV53,0))+(ROUND(BY53,0)-ROUND(BX53,0))+(ROUND(CA53,0)-ROUND(BZ53,0))+(ROUND(CC53,0)-ROUND(CB53,0))+(COUNTIF($H53:$CC53,\">\"&0)/2))","v":146}]
[null,null,null,null,null,"WEEK 4","MON",{"$f":"IF(K$9=\"none\",0,IF(AND($F54=\"week 1\",$G54=\"Sun\"),OFFSET($J$10,,MATCH(H$24,$K$8:$AV$8,0)),IF(AND(OR($F54=\"week 2\",$F54=\"week 3\",$F54=\"week 4\"),K$9=\"weekly\",$G54=\"Sun\"),OFFSET($J$10,,MATCH(H$24,$K$8:$AV$8,0)),IF(AND($F54=\"week 3\",K$9=\"bi-weekly\",$G54=\"Sun\"),OFFSET($J$10,,MATCH(H$24,$K$8:$AV$8,0)),I53+1))))","v":51.5},52.75,{"$f":"IF(L$9=\"none\",0,IF(AND($F54=\"week 1\",$G54=\"Sun\"),OFFSET($J$10,,MATCH(J$24,$K$8:$AV$8,0)),IF(AND(OR($F54=\"week 2\",$F54=\"week 3\",$F54=\"week 4\"),L$9=\"weekly\",$G54=\"Sun\"),OFFSET($J$10,,MATCH(J$24,$K$8:$AV$8,0)),IF(AND($F54=\"week 3\",L$9=\"bi-weekly\",$G54=\"Sun\"),OFFSET($J$10,,MATCH(J$24,$K$8:$AV$8,0)),K53+1))))","v":124.57142857142854},129.14285714285711,{"$f":"IF(M$9=\"none\",0,IF(AND($F54=\"week 1\",$G54=\"Sun\"),OFFSET($J$10,,MATCH(L$24,$K$8:$AV$8,0)),IF(AND(OR($F54=\"week 2\",$F54=\"week 3\",$F54=\"week 4\"),M$9=\"weekly\",$G54=\"Sun\"),OFFSET($J$10,,MATCH(L$24,$K$8:$AV$8,0)),IF(AND($F54=\"week 3\",M$9=\"bi-weekly\",$G54=\"Sun\"),OFFSET($J$10,,MATCH(L$24,$K$8:$AV$8,0)),M53+1))))","v":83.714285714285694},86.428571428571402,{"$f":"IF(N$9=\"none\",0,IF(AND($F54=\"week 1\",$G54=\"Sun\"),OFFSET($J$10,,MATCH(N$24,$K$8:$AV$8,0)),IF(AND(OR($F54=\"week 2\",$F54=\"week 3\",$F54=\"week 4\"),N$9=\"weekly\",$G54=\"Sun\"),OFFSET($J$10,,MATCH(N$24,$K$8:$AV$8,0)),IF(AND($F54=\"week 3\",N$9=\"bi-weekly\",$G54=\"Sun\"),OFFSET($J$10,,MATCH(N$24,$K$8:$AV$8,0)),O53+1))))","v":96.28571428571432},99.571428571428612,{"$f":"IF(O$9=\"none\",0,IF(AND($F54=\"week 1\",$G54=\"Sun\"),OFFSET($J$10,,MATCH(P$24,$K$8:$AV$8,0)),IF(AND(OR($F54=\"week 2\",$F54=\"week 3\",$F54=\"week 4\"),O$9=\"weekly\",$G54=\"Sun\"),OFFSET($J$10,,MATCH(P$24,$K$8:$AV$8,0)),IF(AND($F54=\"week 3\",O$9=\"bi-weekly\",$G54=\"Sun\"),OFFSET($J$10,,MATCH(P$24,$K$8:$AV$8,0)),Q53+1))))","v":18.5},18.25,{"$f":"IF(P$9=\"none\",0,IF(AND($F54=\"week 1\",$G54=\"Sun\"),OFFSET($J$10,,MATCH(R$24,$K$8:$AV$8,0)),IF(AND(OR($F54=\"week 2\",$F54=\"week 3\",$F54=\"week 4\"),P$9=\"weekly\",$G54=\"Sun\"),OFFSET($J$10,,MATCH(R$24,$K$8:$AV$8,0)),IF(AND($F54=\"week 3\",P$9=\"bi-weekly\",$G54=\"Sun\"),OFFSET($J$10,,MATCH(R$24,$K$8:$AV$8,0)),S53+1))))","v":70.357142857142847},72.464285714285708,{"$f":"IF(Q$9=\"none\",0,IF(AND($F54=\"week 1\",$G54=\"Sun\"),OFFSET($J$10,,MATCH(T$24,$K$8:$AV$8,0)),IF(AND(OR($F54=\"week 2\",$F54=\"week 3\",$F54=\"week 4\"),Q$9=\"weekly\",$G54=\"Sun\"),OFFSET($J$10,,MATCH(T$24,$K$8:$AV$8,0)),IF(AND($F54=\"week 3\",Q$9=\"bi-weekly\",$G54=\"Sun\"),OFFSET($J$10,,MATCH(T$24,$K$8:$AV$8,0)),U53+1))))","v":45.214285714285722},46.178571428571438,{"$f":"IF(R$9=\"none\",0,IF(AND($F54=\"week 1\",$G54=\"Sun\"),OFFSET($J$10,,MATCH(V$24,$K$8:$AV$8,0)),IF(AND(OR($F54=\"week 2\",$F54=\"week 3\",$F54=\"week 4\"),R$9=\"weekly\",$G54=\"Sun\"),OFFSET($J$10,,MATCH(V$24,$K$8:$AV$8,0)),IF(AND($F54=\"week 3\",R$9=\"bi-weekly\",$G54=\"Sun\"),OFFSET($J$10,,MATCH(V$24,$K$8:$AV$8,0)),W53+1))))","v":32.642857142857139},33.035714285714285,{"$f":"IF(S$9=\"none\",0,IF(AND($F54=\"week 1\",$G54=\"Sun\"),OFFSET($J$10,,MATCH(X$24,$K$8:$AV$8,0)),IF(AND(OR($F54=\"week 2\",$F54=\"week 3\",$F54=\"week 4\"),S$9=\"weekly\",$G54=\"Sun\"),OFFSET($J$10,,MATCH(X$24,$K$8:$AV$8,0)),IF(AND($F54=\"week 3\",S$9=\"bi-weekly\",$G54=\"Sun\"),OFFSET($J$10,,MATCH(X$24,$K$8:$AV$8,0)),Y53+1))))","v":28.714285714285719},28.928571428571434,{"$f":"IF(T$9=\"none\",0,IF(AND($F54=\"week 1\",$G54=\"Sun\"),OFFSET($J$10,,MATCH(Z$24,$K$8:$AV$8,0)),IF(AND(OR($F54=\"week 2\",$F54=\"week 3\",$F54=\"week 4\"),T$9=\"weekly\",$G54=\"Sun\"),OFFSET($J$10,,MATCH(Z$24,$K$8:$AV$8,0)),IF(AND($F54=\"week 3\",T$9=\"bi-weekly\",$G54=\"Sun\"),OFFSET($J$10,,MATCH(Z$24,$K$8:$AV$8,0)),AA53+1))))","v":25.57142857142858},25.642857142857153,{"$f":"IF(U$9=\"none\",0,IF(AND($F54=\"week 1\",$G54=\"Sun\"),OFFSET($J$10,,MATCH(AB$24,$K$8:$AV$8,0)),IF(AND(OR($F54=\"week 2\",$F54=\"week 3\",$F54=\"week 4\"),U$9=\"weekly\",$G54=\"Sun\"),OFFSET($J$10,,MATCH(AB$24,$K$8:$AV$8,0)),IF(AND($F54=\"week 3\",U$9=\"bi-weekly\",$G54=\"Sun\"),OFFSET($J$10,,MATCH(AB$24,$K$8:$AV$8,0)),AC53+1))))","v":26.357142857142865},26.464285714285722,{"$f":"IF(V$9=\"none\",0,IF(AND($F54=\"week 1\",$G54=\"Sun\"),OFFSET($J$10,,MATCH(AD$24,$K$8:$AV$8,0)),IF(AND(OR($F54=\"week 2\",$F54=\"week 3\",$F54=\"week 4\"),V$9=\"weekly\",$G54=\"Sun\"),OFFSET($J$10,,MATCH(AD$24,$K$8:$AV$8,0)),IF(AND($F54=\"week 3\",V$9=\"bi-weekly\",$G54=\"Sun\"),OFFSET($J$10,,MATCH(AD$24,$K$8:$AV$8,0)),AE53+1))))","v":24},24,{"$f":"IF(W$9=\"none\",0,IF(AND($F54=\"week 1\",$G54=\"Sun\"),OFFSET($J$10,,MATCH(AF$24,$K$8:$AV$8,0)),IF(AND(OR($F54=\"week 2\",$F54=\"week 3\",$F54=\"week 4\"),W$9=\"weekly\",$G54=\"Sun\"),OFFSET($J$10,,MATCH(AF$24,$K$8:$AV$8,0)),IF(AND($F54=\"week 3\",W$9=\"bi-weekly\",$G54=\"Sun\"),OFFSET($J$10,,MATCH(AF$24,$K$8:$AV$8,0)),AG53+1))))","v":22.428571428571423},22.357142857142851,{"$f":"IF(X$9=\"none\",0,IF(AND($F54=\"week 1\",$G54=\"Sun\"),OFFSET($J$10,,MATCH(AH$24,$K$8:$AV$8,0)),IF(AND(OR($F54=\"week 2\",$F54=\"week 3\",$F54=\"week 4\"),X$9=\"weekly\",$G54=\"Sun\"),OFFSET($J$10,,MATCH(AH$24,$K$8:$AV$8,0)),IF(AND($F54=\"week 3\",X$9=\"bi-weekly\",$G54=\"Sun\"),OFFSET($J$10,,MATCH(AH$24,$K$8:$AV$8,0)),AI53+1))))","v":97.071428571428541},100.39285714285711,{"$f":"IF(Y$9=\"none\",0,IF(AND($F54=\"week 1\",$G54=\"Sun\"),OFFSET($J$10,,MATCH(AJ$24,$K$8:$AV$8,0)),IF(AND(OR($F54=\"week 2\",$F54=\"week 3\",$F54=\"week 4\"),Y$9=\"weekly\",$G54=\"Sun\"),OFFSET($J$10,,MATCH(AJ$24,$K$8:$AV$8,0)),IF(AND($F54=\"week 3\",Y$9=\"bi-weekly\",$G54=\"Sun\"),OFFSET($J$10,,MATCH(AJ$24,$K$8:$AV$8,0)),AK53+1))))","v":89.21428571428568},92.178571428571388,{"$f":"IF(Z$9=\"none\",0,IF(AND($F54=\"week 1\",$G54=\"Sun\"),OFFSET($J$10,,MATCH(AL$24,$K$8:$AV$8,0)),IF(AND(OR($F54=\"week 2\",$F54=\"week 3\",$F54=\"week 4\"),Z$9=\"weekly\",$G54=\"Sun\"),OFFSET($J$10,,MATCH(AL$24,$K$8:$AV$8,0)),IF(AND($F54=\"week 3\",Z$9=\"bi-weekly\",$G54=\"Sun\"),OFFSET($J$10,,MATCH(AL$24,$K$8:$AV$8,0)),AM53+1))))","v":72.714285714285708},74.928571428571416,{"$f":"IF(AA$9=\"none\",0,IF(AND($F54=\"week 1\",$G54=\"Sun\"),OFFSET($J$10,,MATCH(AN$24,$K$8:$AV$8,0)),IF(AND(OR($F54=\"week 2\",$F54=\"week 3\",$F54=\"week 4\"),AA$9=\"weekly\",$G54=\"Sun\"),OFFSET($J$10,,MATCH(AN$24,$K$8:$AV$8,0)),IF(AND($F54=\"week 3\",AA$9=\"bi-weekly\",$G54=\"Sun\"),OFFSET($J$10,,MATCH(AN$24,$K$8:$AV$8,0)),AO53+1))))","v":53.071428571428562},54.392857142857132,{"$f":"IF(AB$9=\"none\",0,IF(AND($F54=\"week 1\",$G54=\"Sun\"),OFFSET($J$10,,MATCH(AP$24,$K$8:$AV$8,0)),IF(AND(OR($F54=\"week 2\",$F54=\"week 3\",$F54=\"week 4\"),AB$9=\"weekly\",$G54=\"Sun\"),OFFSET($J$10,,MATCH(AP$24,$K$8:$AV$8,0)),IF(AND($F54=\"week 3\",AB$9=\"bi-weekly\",$G54=\"Sun\"),OFFSET($J$10,,MATCH(AP$24,$K$8:$AV$8,0)),AQ53+1))))","v":39.714285714285722},{"$f":"IF(AB$9=\"weekly\",OFFSET($J$13,,MATCH(AP$24,$K$8:$AV$8,0))+AP54-1,IF(AB$9=\"bi-weekly\",OFFSET($J$14,,MATCH(AP$24,$K$8:$AV$8,0))+AP54-1,IF(AB$9=\"Monthly\",OFFSET($J$15,,MATCH(AP$24,$K$8:$AV$8,0))+AP54-1,0)))","v":40.428571428571438},{"$f":"IF(AC$9=\"none\",0,IF(AND($F54=\"week 1\",$G54=\"Sun\"),OFFSET($J$10,,MATCH(AR$24,$K$8:$AV$8,0)),IF(AND(OR($F54=\"week 2\",$F54=\"week 3\",$F54=\"week 4\"),AC$9=\"weekly\",$G54=\"Sun\"),OFFSET($J$10,,MATCH(AR$24,$K$8:$AV$8,0)),IF(AND($F54=\"week 3\",AC$9=\"bi-weekly\",$G54=\"Sun\"),OFFSET($J$10,,MATCH(AR$24,$K$8:$AV$8,0)),AS53+1))))","v":71.928571428571445},74.107142857142875,{"$f":"IF(AD$9=\"none\",0,IF(AND($F54=\"week 1\",$G54=\"Sun\"),OFFSET($J$10,,MATCH(AT$24,$K$8:$AV$8,0)),IF(AND(OR($F54=\"week 2\",$F54=\"week 3\",$F54=\"week 4\"),AD$9=\"weekly\",$G54=\"Sun\"),OFFSET($J$10,,MATCH(AT$24,$K$8:$AV$8,0)),IF(AND($F54=\"week 3\",AD$9=\"bi-weekly\",$G54=\"Sun\"),OFFSET($J$10,,MATCH(AT$24,$K$8:$AV$8,0)),AU53+1))))","v":65.642857142857167},67.535714285714306,{"$f":"IF(AE$9=\"none\",0,IF(AND($F54=\"week 1\",$G54=\"Sun\"),OFFSET($J$10,,MATCH(AV$24,$K$8:$AV$8,0)),IF(AND(OR($F54=\"week 2\",$F54=\"week 3\",$F54=\"week 4\"),AE$9=\"weekly\",$G54=\"Sun\"),OFFSET($J$10,,MATCH(AV$24,$K$8:$AV$8,0)),IF(AND($F54=\"week 3\",AE$9=\"bi-weekly\",$G54=\"Sun\"),OFFSET($J$10,,MATCH(AV$24,$K$8:$AV$8,0)),AW53+1))))","v":94.71428571428568},97.928571428571388,{"$f":"IF(AF$9=\"none\",0,IF(AND($F54=\"week 1\",$G54=\"Sun\"),OFFSET($J$10,,MATCH(AX$24,$K$8:$AV$8,0)),IF(AND(OR($F54=\"week 2\",$F54=\"week 3\",$F54=\"week 4\"),AF$9=\"weekly\",$G54=\"Sun\"),OFFSET($J$10,,MATCH(AX$24,$K$8:$AV$8,0)),IF(AND($F54=\"week 3\",AF$9=\"bi-weekly\",$G54=\"Sun\"),OFFSET($J$10,,MATCH(AX$24,$K$8:$AV$8,0)),AY53+1))))","v":69.428571428571431},76.857142857142861,{"$f":"IF(AG$9=\"none\",0,IF(AND($F54=\"week 1\",$G54=\"Sun\"),OFFSET($J$10,,MATCH(AZ$24,$K$8:$AV$8,0)),IF(AND(OR($F54=\"week 2\",$F54=\"week 3\",$F54=\"week 4\"),AG$9=\"weekly\",$G54=\"Sun\"),OFFSET($J$10,,MATCH(AZ$24,$K$8:$AV$8,0)),IF(AND($F54=\"week 3\",AG$9=\"bi-weekly\",$G54=\"Sun\"),OFFSET($J$10,,MATCH(AZ$24,$K$8:$AV$8,0)),BA53+1))))","v":102},113.5,{"$f":"IF(AH$9=\"none\",0,IF(AND($F54=\"week 1\",$G54=\"Sun\"),OFFSET($J$10,,MATCH(BB$24,$K$8:$AV$8,0)),IF(AND(OR($F54=\"week 2\",$F54=\"week 3\",$F54=\"week 4\"),AH$9=\"weekly\",$G54=\"Sun\"),OFFSET($J$10,,MATCH(BB$24,$K$8:$AV$8,0)),IF(AND($F54=\"week 3\",AH$9=\"bi-weekly\",$G54=\"Sun\"),OFFSET($J$10,,MATCH(BB$24,$K$8:$AV$8,0)),BC53+1))))","v":18},33,{"$f":"IF(AI$9=\"none\",0,IF(AND($F54=\"week 1\",$G54=\"Sun\"),OFFSET($J$10,,MATCH(BD$24,$K$8:$AV$8,0)),IF(AND(OR($F54=\"week 2\",$F54=\"week 3\",$F54=\"week 4\"),AI$9=\"weekly\",$G54=\"Sun\"),OFFSET($J$10,,MATCH(BD$24,$K$8:$AV$8,0)),IF(AND($F54=\"week 3\",AI$9=\"bi-weekly\",$G54=\"Sun\"),OFFSET($J$10,,MATCH(BD$24,$K$8:$AV$8,0)),BE53+1))))","v":5.2857142857142856},7.5714285714285712,{"$f":"IF(AJ$9=\"none\",0,IF(AND($F54=\"week 1\",$G54=\"Sun\"),OFFSET($J$10,,MATCH(BF$24,$K$8:$AV$8,0)),IF(AND(OR($F54=\"week 2\",$F54=\"week 3\",$F54=\"week 4\"),AJ$9=\"weekly\",$G54=\"Sun\"),OFFSET($J$10,,MATCH(BF$24,$K$8:$AV$8,0)),IF(AND($F54=\"week 3\",AJ$9=\"bi-weekly\",$G54=\"Sun\"),OFFSET($J$10,,MATCH(BF$24,$K$8:$AV$8,0)),BG53+1))))","v":8.8571428571428577},14.714285714285715,{"$f":"IF(AK$9=\"none\",0,IF(AND($F54=\"week 1\",$G54=\"Sun\"),OFFSET($J$10,,MATCH(BH$24,$K$8:$AV$8,0)),IF(AND(OR($F54=\"week 2\",$F54=\"week 3\",$F54=\"week 4\"),AK$9=\"weekly\",$G54=\"Sun\"),OFFSET($J$10,,MATCH(BH$24,$K$8:$AV$8,0)),IF(AND($F54=\"week 3\",AK$9=\"bi-weekly\",$G54=\"Sun\"),OFFSET($J$10,,MATCH(BH$24,$K$8:$AV$8,0)),BI53+1))))","v":12.714285714285714},22.428571428571427,{"$f":"IF(AL$9=\"none\",0,IF(AND($F54=\"week 1\",$G54=\"Sun\"),OFFSET($J$10,,MATCH(BJ$24,$K$8:$AV$8,0)),IF(AND(OR($F54=\"week 2\",$F54=\"week 3\",$F54=\"week 4\"),AL$9=\"weekly\",$G54=\"Sun\"),OFFSET($J$10,,MATCH(BJ$24,$K$8:$AV$8,0)),IF(AND($F54=\"week 3\",AL$9=\"bi-weekly\",$G54=\"Sun\"),OFFSET($J$10,,MATCH(BJ$24,$K$8:$AV$8,0)),BK53+1))))","v":3.8571428571428572},{"$f":"IF(AL$9=\"weekly\",OFFSET($J$13,,MATCH(BJ$24,$K$8:$AV$8,0))+BJ54-1,IF(AL$9=\"bi-weekly\",OFFSET($J$14,,MATCH(BJ$24,$K$8:$AV$8,0))+BJ54-1,IF(AL$9=\"Monthly\",OFFSET($J$15,,MATCH(BJ$24,$K$8:$AV$8,0))+BJ54-1,0)))","v":4.7142857142857144},{"$f":"IF(AM$9=\"none\",0,IF(AND($F54=\"week 1\",$G54=\"Sun\"),OFFSET($J$10,,MATCH(BL$24,$K$8:$AV$8,0)),IF(AND(OR($F54=\"week 2\",$F54=\"week 3\",$F54=\"week 4\"),AM$9=\"weekly\",$G54=\"Sun\"),OFFSET($J$10,,MATCH(BL$24,$K$8:$AV$8,0)),IF(AND($F54=\"week 3\",AM$9=\"bi-weekly\",$G54=\"Sun\"),OFFSET($J$10,,MATCH(BL$24,$K$8:$AV$8,0)),BM53+1))))","v":19},{"$f":"IF(AM$9=\"weekly\",OFFSET($J$13,,MATCH(BL$24,$K$8:$AV$8,0))+BL54-1,IF(AM$9=\"bi-weekly\",OFFSET($J$14,,MATCH(BL$24,$K$8:$AV$8,0))+BL54-1,IF(AM$9=\"Monthly\",OFFSET($J$15,,MATCH(BL$24,$K$8:$AV$8,0))+BL54-1,0)))","v":35},{"$f":"IF(AN$9=\"none\",0,IF(AND($F54=\"week 1\",$G54=\"Sun\"),OFFSET($J$10,,MATCH(BN$24,$K$8:$AV$8,0)),IF(AND(OR($F54=\"week 2\",$F54=\"week 3\",$F54=\"week 4\"),AN$9=\"weekly\",$G54=\"Sun\"),OFFSET($J$10,,MATCH(BN$24,$K$8:$AV$8,0)),IF(AND($F54=\"week 3\",AN$9=\"bi-weekly\",$G54=\"Sun\"),OFFSET($J$10,,MATCH(BN$24,$K$8:$AV$8,0)),BO53+1))))","v":17.571428571428569},{"$f":"IF(AN$9=\"weekly\",OFFSET($J$13,,MATCH(BN$24,$K$8:$AV$8,0))+BN54-1,IF(AN$9=\"bi-weekly\",OFFSET($J$14,,MATCH(BN$24,$K$8:$AV$8,0))+BN54-1,IF(AN$9=\"Monthly\",OFFSET($J$15,,MATCH(BN$24,$K$8:$AV$8,0))+BN54-1,0)))","v":32.142857142857139},{"$f":"IF(AO$9=\"none\",0,IF(AND($F54=\"week 1\",$G54=\"Sun\"),OFFSET($J$10,,MATCH(BP$24,$K$8:$AV$8,0)),IF(AND(OR($F54=\"week 2\",$F54=\"week 3\",$F54=\"week 4\"),AO$9=\"weekly\",$G54=\"Sun\"),OFFSET($J$10,,MATCH(BP$24,$K$8:$AV$8,0)),IF(AND($F54=\"week 3\",AO$9=\"bi-weekly\",$G54=\"Sun\"),OFFSET($J$10,,MATCH(BP$24,$K$8:$AV$8,0)),BQ53+1))))","v":0},{"$f":"IF(AO$9=\"weekly\",OFFSET($J$13,,MATCH(BP$24,$K$8:$AV$8,0))+BP54-1,IF(AO$9=\"bi-weekly\",OFFSET($J$14,,MATCH(BP$24,$K$8:$AV$8,0))+BP54-1,IF(AO$9=\"Monthly\",OFFSET($J$15,,MATCH(BP$24,$K$8:$AV$8,0))+BP54-1,0)))","v":0},{"$f":"IF(AP$9=\"none\",0,IF(AND($F54=\"week 1\",$G54=\"Sun\"),OFFSET($J$10,,MATCH(BR$24,$K$8:$AV$8,0)),IF(AND(OR($F54=\"week 2\",$F54=\"week 3\",$F54=\"week 4\"),AP$9=\"weekly\",$G54=\"Sun\"),OFFSET($J$10,,MATCH(BR$24,$K$8:$AV$8,0)),IF(AND($F54=\"week 3\",AP$9=\"bi-weekly\",$G54=\"Sun\"),OFFSET($J$10,,MATCH(BR$24,$K$8:$AV$8,0)),BS53+1))))","v":0},0,{"$f":"IF(AQ$9=\"none\",0,IF(AND($F54=\"week 1\",$G54=\"Sun\"),OFFSET($J$10,,MATCH(BT$24,$K$8:$AV$8,0)),IF(AND(OR($F54=\"week 2\",$F54=\"week 3\",$F54=\"week 4\"),AQ$9=\"weekly\",$G54=\"Sun\"),OFFSET($J$10,,MATCH(BT$24,$K$8:$AV$8,0)),IF(AND($F54=\"week 3\",AQ$9=\"bi-weekly\",$G54=\"Sun\"),OFFSET($J$10,,MATCH(BT$24,$K$8:$AV$8,0)),BU53+1))))","v":0},{"$f":"IF(AQ$9=\"weekly\",OFFSET($J$13,,MATCH(BT$24,$K$8:$AV$8,0))+BT54-1,IF(AQ$9=\"bi-weekly\",OFFSET($J$14,,MATCH(BT$24,$K$8:$AV$8,0))+BT54-1,IF(AQ$9=\"Monthly\",OFFSET($J$15,,MATCH(BT$24,$K$8:$AV$8,0))+BT54-1,0)))","v":0},{"$f":"IF(AR$9=\"none\",0,IF(AND($F54=\"week 1\",$G54=\"Sun\"),OFFSET($J$10,,MATCH(BV$24,$K$8:$AV$8,0)),IF(AND(OR($F54=\"week 2\",$F54=\"week 3\",$F54=\"week 4\"),AR$9=\"weekly\",$G54=\"Sun\"),OFFSET($J$10,,MATCH(BV$24,$K$8:$AV$8,0)),IF(AND($F54=\"week 3\",AR$9=\"bi-weekly\",$G54=\"Sun\"),OFFSET($J$10,,MATCH(BV$24,$K$8:$AV$8,0)),BW53+1))))","v":0},{"$f":"IF(AR$9=\"weekly\",OFFSET($J$13,,MATCH(BV$24,$K$8:$AV$8,0))+BV54-1,IF(AR$9=\"bi-weekly\",OFFSET($J$14,,MATCH(BV$24,$K$8:$AV$8,0))+BV54-1,IF(AR$9=\"Monthly\",OFFSET($J$15,,MATCH(BV$24,$K$8:$AV$8,0))+BV54-1,0)))","v":0},{"$f":"IF(AS$9=\"none\",0,IF(AND($F54=\"week 1\",$G54=\"Sun\"),OFFSET($J$10,,MATCH(BX$24,$K$8:$AV$8,0)),IF(AND(OR($F54=\"week 2\",$F54=\"week 3\",$F54=\"week 4\"),AS$9=\"weekly\",$G54=\"Sun\"),OFFSET($J$10,,MATCH(BX$24,$K$8:$AV$8,0)),IF(AND($F54=\"week 3\",AS$9=\"bi-weekly\",$G54=\"Sun\"),OFFSET($J$10,,MATCH(BX$24,$K$8:$AV$8,0)),BY53+1))))","v":0},{"$f":"IF(AS$9=\"weekly\",OFFSET($J$13,,MATCH(BX$24,$K$8:$AV$8,0))+BX54-1,IF(AS$9=\"bi-weekly\",OFFSET($J$14,,MATCH(BX$24,$K$8:$AV$8,0))+BX54-1,IF(AS$9=\"Monthly\",OFFSET($J$15,,MATCH(BX$24,$K$8:$AV$8,0))+BX54-1,0)))","v":0},{"$f":"IF(AT$9=\"none\",0,IF(AND($F54=\"week 1\",$G54=\"Sun\"),OFFSET($J$10,,MATCH(BZ$24,$K$8:$AV$8,0)),IF(AND(OR($F54=\"week 2\",$F54=\"week 3\",$F54=\"week 4\"),AT$9=\"weekly\",$G54=\"Sun\"),OFFSET($J$10,,MATCH(BZ$24,$K$8:$AV$8,0)),IF(AND($F54=\"week 3\",AT$9=\"bi-weekly\",$G54=\"Sun\"),OFFSET($J$10,,MATCH(BZ$24,$K$8:$AV$8,0)),CA53+1))))","v":0},{"$f":"IF(AT$9=\"weekly\",OFFSET($J$13,,MATCH(BZ$24,$K$8:$AV$8,0))+BZ54-1,IF(AT$9=\"bi-weekly\",OFFSET($J$14,,MATCH(BZ$24,$K$8:$AV$8,0))+BZ54-1,IF(AT$9=\"Monthly\",OFFSET($J$15,,MATCH(BZ$24,$K$8:$AV$8,0))+BZ54-1,0)))","v":0},{"$f":"IF(AU$9=\"none\",0,IF(AND($F54=\"week 1\",$G54=\"Sun\"),OFFSET($J$10,,MATCH(CB$24,$K$8:$AV$8,0)),IF(AND(OR($F54=\"week 2\",$F54=\"week 3\",$F54=\"week 4\"),AU$9=\"weekly\",$G54=\"Sun\"),OFFSET($J$10,,MATCH(CB$24,$K$8:$AV$8,0)),IF(AND($F54=\"week 3\",AU$9=\"bi-weekly\",$G54=\"Sun\"),OFFSET($J$10,,MATCH(CB$24,$K$8:$AV$8,0)),CC53+1))))","v":0},{"$f":"IF(AU$9=\"weekly\",OFFSET($J$13,,MATCH(CB$24,$K$8:$AV$8,0))+CB54-1,IF(AU$9=\"bi-weekly\",OFFSET($J$14,,MATCH(CB$24,$K$8:$AV$8,0))+CB54-1,IF(AU$9=\"Monthly\",OFFSET($J$15,,MATCH(CB$24,$K$8:$AV$8,0))+CB54-1,0)))","v":0},{"$f":"(ROUND(I54,0)-ROUND(H54,0))+(ROUND(K54,0)-ROUND(J54,0))+(ROUND(M54,0)-ROUND(L54,0))+(ROUND(O54,0)-ROUND(N54,0))+(ROUND(Q54,0)-ROUND(P54,0))+(ROUND(S54,0)-ROUND(R54,0))+(ROUND(U54,0)-ROUND(T54,0)+(ROUND(W54,0)-ROUND(V54,0))+(ROUND(Y54,0)-ROUND(X54,0))+(ROUND(AA54,0)-ROUND(Z54,0))+(ROUND(AC54,0)-ROUND(AB54,0))+(ROUND(AE54,0)-ROUND(AD54,0))+(ROUND(AG54,0)-ROUND(AF54,0))+(ROUND(AI54,0)-ROUND(AH54,0))+(ROUND(AK54,0)-ROUND(AJ54,0))+(ROUND(AM54,0)-ROUND(AL54,0))+(ROUND(AO54,0)-ROUND(AN54,0))+(ROUND(AQ54,0)-ROUND(AP54,0))+(ROUND(AS54,0)-ROUND(AR54,0))+(ROUND(AU54,0)-ROUND(AT54,0))+(ROUND(AW54,0)-ROUND(AV54,0))+(ROUND(AY54,0)-ROUND(AX54,0))+(ROUND(BA54,0)-ROUND(AZ54,0))+(ROUND(BC54,0)-ROUND(BB54,0))+(ROUND(BE54,0)-ROUND(BD54,0))+(ROUND(BG54,0)-ROUND(BF54,0))+(ROUND(BI54,0)-ROUND(BH54,0))+(ROUND(BK54,0)-ROUND(BJ54,0))+(ROUND(BM54,0)-ROUND(BL54,0))+(ROUND(BO54,0)-ROUND(BN54,0))+(ROUND(BQ54,0)-ROUND(BP54,0))+(ROUND(BS54,0)-ROUND(BR54,0))+(ROUND(BU54,0)-ROUND(BT54,0))+(ROUND(BW54,0)-ROUND(BV54,0))+(ROUND(BY54,0)-ROUND(BX54,0))+(ROUND(CA54,0)-ROUND(BZ54,0))+(ROUND(CC54,0)-ROUND(CB54,0))+(COUNTIF($H54:$CC54,\">\"&0)/2))","v":143}]
[null,null,null,null,null,"WEEK 4","TUE",53.75,55,130.14285714285711,134.71428571428569,87.428571428571402,90.14285714285711,100.57142857142861,103.8571428571429,19.25,19,73.464285714285708,75.571428571428569,47.178571428571438,48.142857142857153,34.035714285714285,34.428571428571431,29.928571428571434,30.142857142857149,26.642857142857153,26.714285714285726,27.464285714285722,27.57142857142858,25,25,23.357142857142851,23.285714285714278,101.39285714285711,104.71428571428568,93.178571428571388,96.142857142857096,75.928571428571416,78.142857142857125,55.392857142857132,56.714285714285701,{"$f":"IF(AB$9=\"none\",0,IF(AND($F55=\"week 1\",$G55=\"Sun\"),OFFSET($J$10,,MATCH(AP$24,$K$8:$AV$8,0)),IF(AND(OR($F55=\"week 2\",$F55=\"week 3\",$F55=\"week 4\"),AB$9=\"weekly\",$G55=\"Sun\"),OFFSET($J$10,,MATCH(AP$24,$K$8:$AV$8,0)),IF(AND($F55=\"week 3\",AB$9=\"bi-weekly\",$G55=\"Sun\"),OFFSET($J$10,,MATCH(AP$24,$K$8:$AV$8,0)),AQ54+1))))","v":41.428571428571438},{"$f":"IF(AB$9=\"weekly\",OFFSET($J$13,,MATCH(AP$24,$K$8:$AV$8,0))+AP55-1,IF(AB$9=\"bi-weekly\",OFFSET($J$14,,MATCH(AP$24,$K$8:$AV$8,0))+AP55-1,IF(AB$9=\"Monthly\",OFFSET($J$15,,MATCH(AP$24,$K$8:$AV$8,0))+AP55-1,0)))","v":42.142857142857153},75.107142857142875,77.285714285714306,68.535714285714306,70.428571428571445,98.928571428571388,102.1428571428571,77.857142857142861,85.285714285714292,114.5,126,34,49,8.5714285714285712,10.857142857142858,15.714285714285715,21.571428571428573,23.428571428571427,33.142857142857139,{"$f":"IF(AL$9=\"none\",0,IF(AND($F55=\"week 1\",$G55=\"Sun\"),OFFSET($J$10,,MATCH(BJ$24,$K$8:$AV$8,0)),IF(AND(OR($F55=\"week 2\",$F55=\"week 3\",$F55=\"week 4\"),AL$9=\"weekly\",$G55=\"Sun\"),OFFSET($J$10,,MATCH(BJ$24,$K$8:$AV$8,0)),IF(AND($F55=\"week 3\",AL$9=\"bi-weekly\",$G55=\"Sun\"),OFFSET($J$10,,MATCH(BJ$24,$K$8:$AV$8,0)),BK54+1))))","v":5.7142857142857144},{"$f":"IF(AL$9=\"weekly\",OFFSET($J$13,,MATCH(BJ$24,$K$8:$AV$8,0))+BJ55-1,IF(AL$9=\"bi-weekly\",OFFSET($J$14,,MATCH(BJ$24,$K$8:$AV$8,0))+BJ55-1,IF(AL$9=\"Monthly\",OFFSET($J$15,,MATCH(BJ$24,$K$8:$AV$8,0))+BJ55-1,0)))","v":6.5714285714285712},{"$f":"IF(AM$9=\"none\",0,IF(AND($F55=\"week 1\",$G55=\"Sun\"),OFFSET($J$10,,MATCH(BL$24,$K$8:$AV$8,0)),IF(AND(OR($F55=\"week 2\",$F55=\"week 3\",$F55=\"week 4\"),AM$9=\"weekly\",$G55=\"Sun\"),OFFSET($J$10,,MATCH(BL$24,$K$8:$AV$8,0)),IF(AND($F55=\"week 3\",AM$9=\"bi-weekly\",$G55=\"Sun\"),OFFSET($J$10,,MATCH(BL$24,$K$8:$AV$8,0)),BM54+1))))","v":36},{"$f":"IF(AM$9=\"weekly\",OFFSET($J$13,,MATCH(BL$24,$K$8:$AV$8,0))+BL55-1,IF(AM$9=\"bi-weekly\",OFFSET($J$14,,MATCH(BL$24,$K$8:$AV$8,0))+BL55-1,IF(AM$9=\"Monthly\",OFFSET($J$15,,MATCH(BL$24,$K$8:$AV$8,0))+BL55-1,0)))","v":52},{"$f":"IF(AN$9=\"none\",0,IF(AND($F55=\"week 1\",$G55=\"Sun\"),OFFSET($J$10,,MATCH(BN$24,$K$8:$AV$8,0)),IF(AND(OR($F55=\"week 2\",$F55=\"week 3\",$F55=\"week 4\"),AN$9=\"weekly\",$G55=\"Sun\"),OFFSET($J$10,,MATCH(BN$24,$K$8:$AV$8,0)),IF(AND($F55=\"week 3\",AN$9=\"bi-weekly\",$G55=\"Sun\"),OFFSET($J$10,,MATCH(BN$24,$K$8:$AV$8,0)),BO54+1))))","v":33.142857142857139},{"$f":"IF(AN$9=\"weekly\",OFFSET($J$13,,MATCH(BN$24,$K$8:$AV$8,0))+BN55-1,IF(AN$9=\"bi-weekly\",OFFSET($J$14,,MATCH(BN$24,$K$8:$AV$8,0))+BN55-1,IF(AN$9=\"Monthly\",OFFSET($J$15,,MATCH(BN$24,$K$8:$AV$8,0))+BN55-1,0)))","v":47.714285714285708},{"$f":"IF(AO$9=\"none\",0,IF(AND($F55=\"week 1\",$G55=\"Sun\"),OFFSET($J$10,,MATCH(BP$24,$K$8:$AV$8,0)),IF(AND(OR($F55=\"week 2\",$F55=\"week 3\",$F55=\"week 4\"),AO$9=\"weekly\",$G55=\"Sun\"),OFFSET($J$10,,MATCH(BP$24,$K$8:$AV$8,0)),IF(AND($F55=\"week 3\",AO$9=\"bi-weekly\",$G55=\"Sun\"),OFFSET($J$10,,MATCH(BP$24,$K$8:$AV$8,0)),BQ54+1))))","v":0},{"$f":"IF(AO$9=\"weekly\",OFFSET($J$13,,MATCH(BP$24,$K$8:$AV$8,0))+BP55-1,IF(AO$9=\"bi-weekly\",OFFSET($J$14,,MATCH(BP$24,$K$8:$AV$8,0))+BP55-1,IF(AO$9=\"Monthly\",OFFSET($J$15,,MATCH(BP$24,$K$8:$AV$8,0))+BP55-1,0)))","v":0},0,0,{"$f":"IF(AQ$9=\"none\",0,IF(AND($F55=\"week 1\",$G55=\"Sun\"),OFFSET($J$10,,MATCH(BT$24,$K$8:$AV$8,0)),IF(AND(OR($F55=\"week 2\",$F55=\"week 3\",$F55=\"week 4\"),AQ$9=\"weekly\",$G55=\"Sun\"),OFFSET($J$10,,MATCH(BT$24,$K$8:$AV$8,0)),IF(AND($F55=\"week 3\",AQ$9=\"bi-weekly\",$G55=\"Sun\"),OFFSET($J$10,,MATCH(BT$24,$K$8:$AV$8,0)),BU54+1))))","v":0},{"$f":"IF(AQ$9=\"weekly\",OFFSET($J$13,,MATCH(BT$24,$K$8:$AV$8,0))+BT55-1,IF(AQ$9=\"bi-weekly\",OFFSET($J$14,,MATCH(BT$24,$K$8:$AV$8,0))+BT55-1,IF(AQ$9=\"Monthly\",OFFSET($J$15,,MATCH(BT$24,$K$8:$AV$8,0))+BT55-1,0)))","v":0},{"$f":"IF(AR$9=\"none\",0,IF(AND($F55=\"week 1\",$G55=\"Sun\"),OFFSET($J$10,,MATCH(BV$24,$K$8:$AV$8,0)),IF(AND(OR($F55=\"week 2\",$F55=\"week 3\",$F55=\"week 4\"),AR$9=\"weekly\",$G55=\"Sun\"),OFFSET($J$10,,MATCH(BV$24,$K$8:$AV$8,0)),IF(AND($F55=\"week 3\",AR$9=\"bi-weekly\",$G55=\"Sun\"),OFFSET($J$10,,MATCH(BV$24,$K$8:$AV$8,0)),BW54+1))))","v":0},{"$f":"IF(AR$9=\"weekly\",OFFSET($J$13,,MATCH(BV$24,$K$8:$AV$8,0))+BV55-1,IF(AR$9=\"bi-weekly\",OFFSET($J$14,,MATCH(BV$24,$K$8:$AV$8,0))+BV55-1,IF(AR$9=\"Monthly\",OFFSET($J$15,,MATCH(BV$24,$K$8:$AV$8,0))+BV55-1,0)))","v":0},{"$f":"IF(AS$9=\"none\",0,IF(AND($F55=\"week 1\",$G55=\"Sun\"),OFFSET($J$10,,MATCH(BX$24,$K$8:$AV$8,0)),IF(AND(OR($F55=\"week 2\",$F55=\"week 3\",$F55=\"week 4\"),AS$9=\"weekly\",$G55=\"Sun\"),OFFSET($J$10,,MATCH(BX$24,$K$8:$AV$8,0)),IF(AND($F55=\"week 3\",AS$9=\"bi-weekly\",$G55=\"Sun\"),OFFSET($J$10,,MATCH(BX$24,$K$8:$AV$8,0)),BY54+1))))","v":0},{"$f":"IF(AS$9=\"weekly\",OFFSET($J$13,,MATCH(BX$24,$K$8:$AV$8,0))+BX55-1,IF(AS$9=\"bi-weekly\",OFFSET($J$14,,MATCH(BX$24,$K$8:$AV$8,0))+BX55-1,IF(AS$9=\"Monthly\",OFFSET($J$15,,MATCH(BX$24,$K$8:$AV$8,0))+BX55-1,0)))","v":0},{"$f":"IF(AT$9=\"none\",0,IF(AND($F55=\"week 1\",$G55=\"Sun\"),OFFSET($J$10,,MATCH(BZ$24,$K$8:$AV$8,0)),IF(AND(OR($F55=\"week 2\",$F55=\"week 3\",$F55=\"week 4\"),AT$9=\"weekly\",$G55=\"Sun\"),OFFSET($J$10,,MATCH(BZ$24,$K$8:$AV$8,0)),IF(AND($F55=\"week 3\",AT$9=\"bi-weekly\",$G55=\"Sun\"),OFFSET($J$10,,MATCH(BZ$24,$K$8:$AV$8,0)),CA54+1))))","v":0},{"$f":"IF(AT$9=\"weekly\",OFFSET($J$13,,MATCH(BZ$24,$K$8:$AV$8,0))+BZ55-1,IF(AT$9=\"bi-weekly\",OFFSET($J$14,,MATCH(BZ$24,$K$8:$AV$8,0))+BZ55-1,IF(AT$9=\"Monthly\",OFFSET($J$15,,MATCH(BZ$24,$K$8:$AV$8,0))+BZ55-1,0)))","v":0},{"$f":"IF(AU$9=\"none\",0,IF(AND($F55=\"week 1\",$G55=\"Sun\"),OFFSET($J$10,,MATCH(CB$24,$K$8:$AV$8,0)),IF(AND(OR($F55=\"week 2\",$F55=\"week 3\",$F55=\"week 4\"),AU$9=\"weekly\",$G55=\"Sun\"),OFFSET($J$10,,MATCH(CB$24,$K$8:$AV$8,0)),IF(AND($F55=\"week 3\",AU$9=\"bi-weekly\",$G55=\"Sun\"),OFFSET($J$10,,MATCH(CB$24,$K$8:$AV$8,0)),CC54+1))))","v":0},{"$f":"IF(AU$9=\"weekly\",OFFSET($J$13,,MATCH(CB$24,$K$8:$AV$8,0))+CB55-1,IF(AU$9=\"bi-weekly\",OFFSET($J$14,,MATCH(CB$24,$K$8:$AV$8,0))+CB55-1,IF(AU$9=\"Monthly\",OFFSET($J$15,,MATCH(CB$24,$K$8:$AV$8,0))+CB55-1,0)))","v":0},{"$f":"(ROUND(I55,0)-ROUND(H55,0))+(ROUND(K55,0)-ROUND(J55,0))+(ROUND(M55,0)-ROUND(L55,0))+(ROUND(O55,0)-ROUND(N55,0))+(ROUND(Q55,0)-ROUND(P55,0))+(ROUND(S55,0)-ROUND(R55,0))+(ROUND(U55,0)-ROUND(T55,0)+(ROUND(W55,0)-ROUND(V55,0))+(ROUND(Y55,0)-ROUND(X55,0))+(ROUND(AA55,0)-ROUND(Z55,0))+(ROUND(AC55,0)-ROUND(AB55,0))+(ROUND(AE55,0)-ROUND(AD55,0))+(ROUND(AG55,0)-ROUND(AF55,0))+(ROUND(AI55,0)-ROUND(AH55,0))+(ROUND(AK55,0)-ROUND(AJ55,0))+(ROUND(AM55,0)-ROUND(AL55,0))+(ROUND(AO55,0)-ROUND(AN55,0))+(ROUND(AQ55,0)-ROUND(AP55,0))+(ROUND(AS55,0)-ROUND(AR55,0))+(ROUND(AU55,0)-ROUND(AT55,0))+(ROUND(AW55,0)-ROUND(AV55,0))+(ROUND(AY55,0)-ROUND(AX55,0))+(ROUND(BA55,0)-ROUND(AZ55,0))+(ROUND(BC55,0)-ROUND(BB55,0))+(ROUND(BE55,0)-ROUND(BD55,0))+(ROUND(BG55,0)-ROUND(BF55,0))+(ROUND(BI55,0)-ROUND(BH55,0))+(ROUND(BK55,0)-ROUND(BJ55,0))+(ROUND(BM55,0)-ROUND(BL55,0))+(ROUND(BO55,0)-ROUND(BN55,0))+(ROUND(BQ55,0)-ROUND(BP55,0))+(ROUND(BS55,0)-ROUND(BR55,0))+(ROUND(BU55,0)-ROUND(BT55,0))+(ROUND(BW55,0)-ROUND(BV55,0))+(ROUND(BY55,0)-ROUND(BX55,0))+(ROUND(CA55,0)-ROUND(BZ55,0))+(ROUND(CC55,0)-ROUND(CB55,0))+(COUNTIF($H55:$CC55,\">\"&0)/2))","v":148}]
[null,null,null,null,null,"WEEK 4","WED",56,57.25,135.71428571428569,140.28571428571428,91.14285714285711,93.857142857142819,104.8571428571429,108.1428571428572,20,19.75,76.571428571428569,78.678571428571431,49.142857142857153,50.107142857142868,35.428571428571431,35.821428571428577,31.142857142857149,31.357142857142861,27.714285714285726,27.785714285714299,28.57142857142858,28.678571428571438,26,26,24.285714285714278,24.214285714285705,105.71428571428568,109.03571428571425,97.142857142857096,100.1071428571428,79.142857142857125,81.357142857142833,57.714285714285701,59.03571428571427,43.142857142857153,43.857142857142868,78.285714285714306,80.464285714285737,71.428571428571445,73.321428571428584,103.1428571428571,106.3571428571428,86.285714285714292,93.714285714285722,127,138.5,50,65,11.857142857142858,14.142857142857142,22.571428571428573,28.428571428571431,34.142857142857139,43.857142857142854,7.5714285714285712,8.4285714285714288,53,69,48.714285714285708,63.285714285714278,0,0,0,0,0,0,0,0,0,0,0,0,0,0,{"$f":"(ROUND(I56,0)-ROUND(H56,0))+(ROUND(K56,0)-ROUND(J56,0))+(ROUND(M56,0)-ROUND(L56,0))+(ROUND(O56,0)-ROUND(N56,0))+(ROUND(Q56,0)-ROUND(P56,0))+(ROUND(S56,0)-ROUND(R56,0))+(ROUND(U56,0)-ROUND(T56,0)+(ROUND(W56,0)-ROUND(V56,0))+(ROUND(Y56,0)-ROUND(X56,0))+(ROUND(AA56,0)-ROUND(Z56,0))+(ROUND(AC56,0)-ROUND(AB56,0))+(ROUND(AE56,0)-ROUND(AD56,0))+(ROUND(AG56,0)-ROUND(AF56,0))+(ROUND(AI56,0)-ROUND(AH56,0))+(ROUND(AK56,0)-ROUND(AJ56,0))+(ROUND(AM56,0)-ROUND(AL56,0))+(ROUND(AO56,0)-ROUND(AN56,0))+(ROUND(AQ56,0)-ROUND(AP56,0))+(ROUND(AS56,0)-ROUND(AR56,0))+(ROUND(AU56,0)-ROUND(AT56,0))+(ROUND(AW56,0)-ROUND(AV56,0))+(ROUND(AY56,0)-ROUND(AX56,0))+(ROUND(BA56,0)-ROUND(AZ56,0))+(ROUND(BC56,0)-ROUND(BB56,0))+(ROUND(BE56,0)-ROUND(BD56,0))+(ROUND(BG56,0)-ROUND(BF56,0))+(ROUND(BI56,0)-ROUND(BH56,0))+(ROUND(BK56,0)-ROUND(BJ56,0))+(ROUND(BM56,0)-ROUND(BL56,0))+(ROUND(BO56,0)-ROUND(BN56,0))+(ROUND(BQ56,0)-ROUND(BP56,0))+(ROUND(BS56,0)-ROUND(BR56,0))+(ROUND(BU56,0)-ROUND(BT56,0))+(ROUND(BW56,0)-ROUND(BV56,0))+(ROUND(BY56,0)-ROUND(BX56,0))+(ROUND(CA56,0)-ROUND(BZ56,0))+(ROUND(CC56,0)-ROUND(CB56,0))+(COUNTIF($H56:$CC56,\">\"&0)/2))","v":144}]
[null,null,null,null,null,"WEEK 4","THU",58.25,59.5,141.28571428571428,145.85714285714286,94.857142857142819,97.571428571428527,109.1428571428572,112.42857142857149,20.75,20.5,79.678571428571431,81.785714285714292,51.107142857142868,52.071428571428584,36.821428571428577,37.214285714285722,32.357142857142861,32.571428571428577,28.785714285714299,28.857142857142872,29.678571428571438,29.785714285714295,27,27,25.214285714285705,25.142857142857132,110.03571428571425,113.35714285714282,101.1071428571428,104.07142857142851,82.357142857142833,84.571428571428541,60.03571428571427,61.35714285714284,44.857142857142868,45.571428571428584,81.464285714285737,83.642857142857167,74.321428571428584,76.214285714285722,107.3571428571428,110.57142857142851,94.714285714285722,102.14285714285715,139.5,151,66,81,15.142857142857142,17.428571428571427,29.428571428571431,35.285714285714285,44.857142857142854,54.571428571428569,9.4285714285714288,10.285714285714286,70,86,64.285714285714278,78.857142857142847,0,0,0,0,0,0,0,0,0,0,0,0,0,0,150]
[null,null,null,null,null,"WEEK 4","FRI",60.5,61.75,146.85714285714286,151.42857142857144,98.571428571428527,101.28571428571423,113.42857142857149,116.71428571428578,21.5,21.25,82.785714285714292,84.892857142857153,53.071428571428584,54.035714285714299,38.214285714285722,38.607142857142868,33.571428571428577,33.785714285714292,29.857142857142872,29.928571428571445,30.785714285714295,30.892857142857153,28,28,26.142857142857132,26.071428571428559,114.35714285714282,117.67857142857139,105.07142857142851,108.03571428571422,85.571428571428541,87.785714285714249,62.35714285714284,63.678571428571416,46.571428571428584,47.285714285714299,84.642857142857167,86.821428571428598,77.214285714285722,79.107142857142861,111.57142857142851,114.78571428571422,103.14285714285715,110.57142857142858,152,163.5,82,97,18.428571428571427,20.714285714285712,36.285714285714285,42.142857142857139,55.571428571428569,65.285714285714278,11.285714285714286,12.142857142857144,87,103,79.857142857142847,94.428571428571416,0,0,0,0,0,0,0,0,0,0,0,0,0,0,146]
[null,null,null,null,null,"WEEK 4","שבת",62.75,64,152.42857142857144,157.00000000000003,102.28571428571423,104.99999999999994,117.71428571428578,121.00000000000007,22.25,22,85.892857142857153,88.000000000000014,55.035714285714299,56.000000000000014,39.607142857142868,40.000000000000014,34.785714285714292,35.000000000000007,30.928571428571445,31.000000000000014,31.892857142857153,32.000000000000007,29,29,27.071428571428559,26.999999999999986,118.67857142857139,121.99999999999996,109.03571428571422,111.99999999999993,88.785714285714249,90.999999999999957,64.678571428571416,65.999999999999986,48.285714285714299,49.000000000000014,87.821428571428598,90.000000000000028,80.107142857142861,82,115.78571428571422,118.99999999999993,111.57142857142858,119.00000000000001,164.5,176,98,113,21.714285714285712,23.999999999999996,43.142857142857139,48.999999999999993,66.285714285714278,75.999999999999986,13.142857142857144,14.000000000000002,104,120,95.428571428571416,109.99999999999999,0,0,0,0,0,0,0,0,0,0,0,0,0,0,145]

{"sheet":"Info","index":1,"n_rows":6,"n_cols":2,"rows_kept":6,"cut":false,"hidden":true,"merged":[]}
["Today's Daf",{"$f":"VLOOKUP(NOW(),Schedule!A:C,3)","v":"Chullin 6"}]
["Last Space",{"$f":"FIND(\"/\", SUBSTITUTE(B1,\" \",\"/\", LEN(B1)-LEN(SUBSTITUTE(B1,\" \",\"\"))))","v":8}]
["Current Daf #",{"$f":"IF(NOW()<=B4,VALUE(RIGHT(B1,LEN(B1)-B2)),112)","v":112}]
["Next Masechta Date","2025-04-10"]
[]
["Print Area (Monthly)",{"$f":"IF(COUNTIF('Chazarah Schedule'!K9:AG9,\"Monthly\")>0, 36, IF(COUNTIF('Chazarah Schedule'!K9:AG9,\"Bi-weekly\")>0,20,12))","v":36}]

{"sheet":"Schedule","index":2,"n_rows":2712,"n_cols":37,"rows_kept":2712,"cut":false,"hidden":false,"merged":[]}
["Day","Weekday","Daf","# of Daf","# of Simanim","% of Shas","Started Shabbos %","Started Eruvin %","Started Pesachim %","Started Shekalim %","Started Yoma %","Started Succah %","Masechet","Seder"]
["2020-01-05",{"$f":"WEEKDAY(A2)","v":1},"Berachos 2",{"$f":"COUNT($A$2:A2)","v":1},{"$f":"D2*3","v":3},{"$f":"D2/2711","v":3.6886757654002215E-4},null,null,null,null,null,null,{"$f":"LEFT(C2,FIND(\"☃\",SUBSTITUTE(C2,\" \",\"☃\",LEN(C2)-LEN(SUBSTITUTE(C2,\" \",\"\")))))","v":"Berachos "},{"$f":"VLOOKUP(Schedule!M2,#REF!,2,FALSE)","v":{"$error":"#REF!"}}]
["2020-01-06",{"$f":"WEEKDAY(A3)","v":2},"Berachos 3",{"$f":"COUNT($A$2:A3)","v":2},6,{"$f":"D3/2711","v":7.377351530800443E-4},null,null,null,null,null,null,"Berachos ",{"$f":"VLOOKUP(Schedule!M3,#REF!,2,FALSE)","v":{"$error":"#REF!"}},null,0.01,{"$f":"2711*0.01","v":27.11},null,"Today's Daf","# of Daf","% of Shas",null,"# of Simanim",0.01,0.02,0.03,0.04,0.05,0.1,0.15,0.2,0.25,0.3,0.35,0.4,0.45,0.5]
["2020-01-07",3,"Berachos 4",{"$f":"COUNT($A$2:A4)","v":3},9,1.1066027296200663E-3,null,null,null,null,null,null,"Berachos ",{"$f":"VLOOKUP(Schedule!M4,#REF!,2,FALSE)","v":{"$error":"#REF!"}},null,0.05,{"$f":"2711*0.05","v":135.55000000000001},null,{"$f":"VLOOKUP(NOW(),A:F,3)","v":"Chullin 6"},{"$f":"VLOOKUP(NOW(),A:F,4)","v":2314},{"$f":"VLOOKUP(NOW(),A:F,6)","v":0.85355957211361122},null,{"$f":"T4*3","v":6942},{"$f":"#REF! + ROUNDUP(27.11*X3*100,0)-1","v":{"$error":"#REF!"}},{"$f":"#REF! + ROUNDUP(27.11*Y3*100,0)-1","v":{"$error":"#REF!"}},{"$f":"#REF! + ROUNDUP(27.11*Z3*100,0)-1","v":{"$error":"#REF!"}},{"$f":"#REF! + ROUNDUP(27.11*AA3*100,0)-1","v":{"$error":"#REF!"}},{"$f":"#REF! + ROUNDUP(27.11*AB3*100,0)-1","v":{"$error":"#REF!"}},{"$f":"#REF! + ROUNDUP(27.11*AC3*100,0)-1","v":{"$error":"#REF!"}},{"$f":"#REF! + ROUNDUP(27.11*AD3*100,0)-1","v":{"$error":"#REF!"}},{"$f":"#REF! + ROUNDUP(27.11*AE3*100,0)-1","v":{"$error":"#REF!"}},{"$f":"#REF! + ROUNDUP(27.11*AF3*100,0)-1","v":{"$error":"#REF!"}},{"$f":"#REF! + ROUNDUP(27.11*AG3*100,0)-1","v":{"$error":"#REF!"}},{"$f":"#REF! + ROUNDUP(27.11*AH3*100,0)-1","v":{"$error":"#REF!"}},{"$f":"#REF! + ROUNDUP(27.11*AI3*100,0)-1","v":{"$error":"#REF!"}},{"$f":"#REF! + ROUNDUP(27.11*AJ3*100,0)-1","v":{"$error":"#REF!"}},{"$f":"#REF! + ROUNDUP(27.11*AK3*100,0)-1","v":{"$error":"#REF!"}}]
["2020-01-08",4,"Berachos 5",{"$f":"COUNT($A$2:A5)","v":4},12,1.4754703061600886E-3,null,null,null,null,null,null,"Berachos ",{"$f":"VLOOKUP(Schedule!M5,#REF!,2,FALSE)","v":{"$error":"#REF!"}},null,0.1,{"$f":"2711*0.1","v":271.10000000000002},null,"Custom",{"$f":"VLOOKUP(NOW(),A:F,4)-VLOOKUP('Chazarah Schedule'!#REF!,A:F,4)+1","v":{"$error":"#REF!"}},{"$f":"T5/2711","v":{"$error":"#REF!"}},null,{"$error":"#REF!"},{"$f":"'Chazarah Schedule'!#REF! + ROUNDUP(27.11*X3*100,0)-1","v":{"$error":"#REF!"}},{"$f":"'Chazarah Schedule'!#REF! + ROUNDUP(27.11*Y3*100,0)-1","v":{"$error":"#REF!"}},{"$f":"'Chazarah Schedule'!#REF! + ROUNDUP(27.11*Z3*100,0)-1","v":{"$error":"#REF!"}},{"$f":"'Chazarah Schedule'!#REF! + ROUNDUP(27.11*AA3*100,0)-1","v":{"$error":"#REF!"}},{"$f":"'Chazarah Schedule'!#REF! + ROUNDUP(27.11*AB3*100,0)-1","v":{"$error":"#REF!"}},{"$f":"'Chazarah Schedule'!#REF! + ROUNDUP(27.11*AC3*100,0)-1","v":{"$error":"#REF!"}},{"$f":"'Chazarah Schedule'!#REF! + ROUNDUP(27.11*AD3*100,0)-1","v":{"$error":"#REF!"}},{"$f":"'Chazarah Schedule'!#REF! + ROUNDUP(27.11*AE3*100,0)-1","v":{"$error":"#REF!"}},{"$f":"'Chazarah Schedule'!#REF! + ROUNDUP(27.11*AF3*100,0)-1","v":{"$error":"#REF!"}},{"$f":"'Chazarah Schedule'!#REF! + ROUNDUP(27.11*AG3*100,0)-1","v":{"$error":"#REF!"}},{"$f":"'Chazarah Schedule'!#REF! + ROUNDUP(27.11*AH3*100,0)-1","v":{"$error":"#REF!"}},{"$f":"'Chazarah Schedule'!#REF! + ROUNDUP(27.11*AI3*100,0)-1","v":{"$error":"#REF!"}},{"$f":"'Chazarah Schedule'!#REF! + ROUNDUP(27.11*AJ3*100,0)-1","v":{"$error":"#REF!"}},{"$f":"'Chazarah Schedule'!#REF! + ROUNDUP(27.11*AK3*100,0)-1","v":{"$error":"#REF!"}}]
["2020-01-09",5,"Berachos 6",{"$f":"COUNT($A$2:A6)","v":5},15,1.8443378827001106E-3,null,null,null,null,null,null,"Berachos ",{"$f":"VLOOKUP(Schedule!M6,#REF!,2,FALSE)","v":{"$error":"#REF!"}},null,0.15,{"$f":"2711*0.15","v":406.65},null,"Started Shabbos",{"$f":"$T$4-#REF!","v":{"$error":"#REF!"}},{"$error":"#REF!"},null,{"$error":"#REF!"},{"$f":"#REF! + ROUNDUP(27.11*X3*100,0)-1","v":{"$error":"#REF!"}},{"$f":"#REF! + ROUNDUP(27.11*Y3*100,0)-1","v":{"$error":"#REF!"}},{"$f":"#REF! + ROUNDUP(27.11*Z3*100,0)-1","v":{"$error":"#REF!"}},{"$f":"#REF! + ROUNDUP(27.11*AA3*100,0)-1","v":{"$error":"#REF!"}},{"$f":"#REF! + ROUNDUP(27.11*AB3*100,0)-1","v":{"$error":"#REF!"}},{"$f":"#REF! + ROUNDUP(27.11*AC3*100,0)-1","v":{"$error":"#REF!"}},{"$f":"#REF! + ROUNDUP(27.11*AD3*100,0)-1","v":{"$error":"#REF!"}},{"$f":"#REF! + ROUNDUP(27.11*AE3*100,0)-1","v":{"$error":"#REF!"}},{"$f":"#REF! + ROUNDUP(27.11*AF3*100,0)-1","v":{"$error":"#REF!"}},{"$f":"#REF! + ROUNDUP(27.11*AG3*100,0)-1","v":{"$error":"#REF!"}},{"$f":"#REF! + ROUNDUP(27.11*AH3*100,0)-1","v":{"$error":"#REF!"}},{"$f":"#REF! + ROUNDUP(27.11*AI3*100,0)-1","v":{"$error":"#REF!"}},{"$f":"#REF! + ROUNDUP(27.11*AJ3*100,0)-1","v":{"$error":"#REF!"}},{"$f":"#REF! + ROUNDUP(27.11*AK3*100,0)-1","v":{"$error":"#REF!"}}]
["2020-01-10",6,"Berachos 7",{"$f":"COUNT($A$2:A7)","v":6},18,2.2132054592401327E-3,null,null,null,null,null,null,"Berachos ",{"$f":"VLOOKUP(Schedule!M7,#REF!,2,FALSE)","v":{"$error":"#REF!"}},null,0.2,{"$f":"2711*0.2","v":542.20000000000005},null,"Started Eruvin",{"$f":"$T$4-#REF!","v":{"$error":"#REF!"}},{"$error":"#REF!"},null,{"$error":"#REF!"},{"$f":"#REF! + ROUNDUP(27.11*X3*100,0)-1","v":{"$error":"#REF!"}},{"$f":"#REF! + ROUNDUP(27.11*Y3*100,0)-1","v":{"$error":"#REF!"}},{"$f":"#REF! + ROUNDUP(27.11*Z3*100,0)-1","v":{"$error":"#REF!"}},{"$f":"#REF! + ROUNDUP(27.11*AA3*100,0)-1","v":{"$error":"#REF!"}},{"$f":"#REF! + ROUNDUP(27.11*AB3*100,0)-1","v":{"$error":"#REF!"}},{"$f":"#REF! + ROUNDUP(27.11*AC3*100,0)-1","v":{"$error":"#REF!"}},{"$f":"#REF! + ROUNDUP(27.11*AD3*100,0)-1","v":{"$error":"#REF!"}},{"$f":"#REF! + ROUNDUP(27.11*AE3*100,0)-1","v":{"$error":"#REF!"}},{"$f":"#REF! + ROUNDUP(27.11*AF3*100,0)-1","v":{"$error":"#REF!"}},{"$f":"#REF! + ROUNDUP(27.11*AG3*100,0)-1","v":{"$error":"#REF!"}},{"$f":"#REF! + ROUNDUP(27.11*AH3*100,0)-1","v":{"$error":"#REF!"}},{"$f":"#REF! + ROUNDUP(27.11*AI3*100,0)-1","v":{"$error":"#REF!"}},{"$f":"#REF! + ROUNDUP(27.11*AJ3*100,0)-1","v":{"$error":"#REF!"}},{"$f":"#REF! + ROUNDUP(27.11*AK3*100,0)-1","v":{"$error":"#REF!"}}]
["2020-01-11",7,"Berachos 8",{"$f":"COUNT($A$2:A8)","v":7},21,2.5820730357801547E-3,null,null,null,null,null,null,"Berachos ",{"$f":"VLOOKUP(Schedule!M8,#REF!,2,FALSE)","v":{"$error":"#REF!"}},null,0.25,{"$f":"2711*0.25","v":677.75},null,"Started Pesachim",{"$f":"$T$4-#REF!","v":{"$error":"#REF!"}},{"$error":"#REF!"},null,{"$error":"#REF!"}]
["2020-01-12",1,"Berachos 9",{"$f":"COUNT($A$2:A9)","v":8},24,2.9509406123201772E-3,null,null,null,null,null,null,"Berachos ",{"$f":"VLOOKUP(Schedule!M9,#REF!,2,FALSE)","v":{"$error":"#REF!"}},null,0.33,{"$f":"2711*0.33","v":894.63},null,"Started Shekalim",{"$f":"$T$4-#REF!","v":{"$error":"#REF!"}},{"$error":"#REF!"},null,{"$error":"#REF!"}]
["2020-01-13",2,"Berachos 10",{"$f":"COUNT($A$2:A10)","v":9},27,3.3198081888601992E-3,null,null,null,null,null,null,"Berachos ",{"$f":"VLOOKUP(Schedule!M10,#REF!,2,FALSE)","v":{"$error":"#REF!"}},null,0.5,{"$f":"2711*0.5","v":1355.5},null,"Started Yoma",{"$f":"$T$4-#REF!","v":{"$error":"#REF!"}},{"$error":"#REF!"},null,{"$error":"#REF!"}]
["2020-01-14",3,"Berachos 11",{"$f":"COUNT($A$2:A11)","v":10},30,3.6886757654002213E-3,null,null,null,null,null,null,"Berachos ",{"$f":"VLOOKUP(Schedule!M11,#REF!,2,FALSE)","v":{"$error":"#REF!"}},null,0.75,{"$f":"2711*0.75","v":2033.25},null,"Started Succah",{"$f":"$T$4-#REF!","v":{"$error":"#REF!"}},{"$error":"#REF!"},null,{"$error":"#REF!"}]
["2020-01-15",4,"Berachos 12",{"$f":"COUNT($A$2:A12)","v":11},33,4.0575433419402437E-3,null,null,null,null,null,null,"Berachos ",{"$f":"VLOOKUP(Schedule!M12,#REF!,2,FALSE)","v":{"$error":"#REF!"}}]
["2020-01-16",5,"Berachos 13",{"$f":"COUNT($A$2:A13)","v":12},36,4.4264109184802653E-3,null,null,null,null,null,null,"Berachos ",{"$f":"VLOOKUP(Schedule!M13,#REF!,2,FALSE)","v":{"$error":"#REF!"}}]
["2020-01-17",6,"Berachos 14",{"$f":"COUNT($A$2:A14)","v":13},39,4.7952784950202878E-3,null,null,null,null,null,null,"Berachos ",{"$f":"VLOOKUP(Schedule!M14,#REF!,2,FALSE)","v":{"$error":"#REF!"}},null,null,null,null,null,null,null,null,null,null,null,"Avg Time / Daf",2]
["2020-01-18",7,"Berachos 15",{"$f":"COUNT($A$2:A15)","v":14},42,5.1641460715603094E-3,null,null,null,null,null,null,"Berachos ",{"$f":"VLOOKUP(Schedule!M15,#REF!,2,FALSE)","v":{"$error":"#REF!"}}]
["2020-01-19",1,"Berachos 16",{"$f":"COUNT($A$2:A16)","v":15},45,5.5330136481003319E-3,null,null,null,null,null,null,"Berachos ",{"$f":"VLOOKUP(Schedule!M16,#REF!,2,FALSE)","v":{"$error":"#REF!"}},null,null,null,1,"Masechet","Total Daf","% of Daf",null,"Seder","Total Daf","% of Daf","Review Mins",null,"Seder","Total Daf","# of Masechet","% of Shas","Covered","% Complete",0.25,0.5,0.75,1]
["2020-01-20",2,"Berachos 17",{"$f":"COUNT($A$2:A17)","v":16},48,5.9018812246403544E-3,null,null,null,null,null,null,"Berachos ",{"$f":"VLOOKUP(Schedule!M17,#REF!,2,FALSE)","v":{"$error":"#REF!"}},null,null,null,2,"Bava Basra ",175,6.4551825894503867E-2,null,"מועד",731,0.26964219845075615,{"$f":"GETPIVOTDATA(\"Total Daf\",$W$16,\"Seder\",\"מועד\")/AA14","v":365.5},{"$f":"Z17/60","v":6.0916666666666668},"זרעים",63,1,2.3238657322021395E-2,null,null,{"$f":"INDEX(A2:N2712,ROUND((AC17*0.25),0),1)","v":"2020-01-20"},{"$f":"INDEX(A2:N2712,ROUND((AC17*0.5),0),1)","v":"2020-02-05"},{"$f":"INDEX(A2:N2712,ROUND((AC17*0.75),0),1)","v":"2020-02-20"},{"$f":"INDEX(A2:N2712,AC17,1)","v":"2020-03-07"}]
["2020-01-21",3,"Berachos 18",{"$f":"COUNT($A$2:A18)","v":17},51,6.270748801180376E-3,null,null,null,null,null,null,"Berachos ",{"$f":"VLOOKUP(Schedule!M18,#REF!,2,FALSE)","v":{"$error":"#REF!"}},null,null,null,3,"Shabbos ",156,5.754334194024345E-2,null,"נזיקין",682,0.2515676872002951,{"$f":"GETPIVOTDATA(\"Total Daf\",$W$16,\"Seder\",\"נזיקין\")/AA14","v":341},5.6833333333333336,"מועד",731,12,0.26964219845075615,{"$f":"T4-AC17","v":2251},{"$f":"(T4-AC17)/AC18","v":3.0793433652530782},{"$f":"INDEX(A2:N2712,AC17+ROUND((AC18*0.25),0),1)","v":"2020-09-06"},{"$f":"INDEX(A2:N2712,AC17+ROUND((AC18*0.5),0),1)","v":"2021-03-08"},{"$f":"INDEX(A2:N2712,AC17+ROUND((AC18*0.75),0),1)","v":"2021-09-06"},{"$f":"INDEX(A2:N2712,AC17+AC18,1)","v":"2022-03-08"}]
["2020-01-22",4,"Berachos 19",{"$f":"COUNT($A$2:A19)","v":18},54,6.6396163777203985E-3,null,null,null,null,null,null,"Berachos ",{"$f":"VLOOKUP(Schedule!M19,#REF!,2,FALSE)","v":{"$error":"#REF!"}},null,null,null,4,"Chullin ",141,5.2010328292143124E-2,null,"נשים",605,0.2231648838067134,{"$f":"GETPIVOTDATA(\"Total Daf\",$W$16,\"Seder\",\"נשים\")/AA14","v":302.5},5.041666666666667,"נשים",605,7,0.2231648838067134,null,null,{"$f":"INDEX(A2:N2712,AC17+AC18+ROUND((AC19*0.25),0),1)","v":"2022-08-06"},{"$f":"INDEX(A2:N2712,AC17+AC18+ROUND((AC19*0.5),0),1)","v":"2023-01-05"},{"$f":"INDEX(A2:N2712,AC17+AC18+ROUND((AC19*0.75),0),1)","v":"2023-06-05"},{"$f":"INDEX(A2:N2712,AC17+AC18+AC19,1)","v":"2023-11-03"}]
["2020-01-23",5,"Berachos 20",{"$f":"COUNT($A$2:A20)","v":19},57,7.0084839542604209E-3,null,null,null,null,null,null,"Berachos ",{"$f":"VLOOKUP(Schedule!M20,#REF!,2,FALSE)","v":{"$error":"#REF!"}},null,null,null,5,"Yevamos ",121,4.4632976761342681E-2,null,"קדשים",558,0.20582810770933235,{"$f":"GETPIVOTDATA(\"Total Daf\",$W$16,\"Seder\",\"קדשים\")/AA14","v":279},4.6500000000000004,"נזיקין",682,8,0.2515676872002951,null,null,{"$f":"INDEX(A2:N2712,AC17+AC18+AC19+ROUND((AC20*0.25),0),1)","v":"2024-04-22"},{"$f":"INDEX(A2:N2712,AC17+AC18+AC19+ROUND((AC20*0.5),0),1)","v":"2024-10-09"},{"$f":"INDEX(A2:N2712,AC17+AC18+AC19+ROUND((AC20*0.75),0),1)","v":"2025-03-29"},{"$f":"INDEX(A2:N2712,AC17+AC18+AC19+AC20,1)","v":"2025-09-15"}]
["2020-01-24",6,"Berachos 21",{"$f":"COUNT($A$2:A21)","v":20},60,7.3773515308004425E-3,null,null,null,null,null,null,"Berachos ",{"$f":"VLOOKUP(Schedule!M21,#REF!,2,FALSE)","v":{"$error":"#REF!"}},null,null,null,6,"Pesachim ",120,4.4264109184802655E-2,null,"טהרות",72,2.6558465510881594E-2,{"$f":"GETPIVOTDATA(\"Total Daf\",$W$16,\"Seder\",\"טהרות\")/AA14","v":36},0.6,"קדשים",558,8,0.20582810770933235,null,null,{"$f":"INDEX(A2:N2712,AC17+AC18+AC19+AC20+ROUND((AC21*0.25),0),1)","v":"2026-02-02"},{"$f":"INDEX(A2:N2712,AC17+AC18+AC19+AC20+ROUND((AC21*0.5),0),1)","v":"2026-06-21"},{"$f":"INDEX(A2:N2712,AC17+AC18+AC19+AC20+ROUND((AC21*0.75),0),1)","v":"2026-11-08"},{"$f":"INDEX(A2:N2712,AC17+AC18+AC19+AC20+AC21,1)","v":"2027-03-27"}]
["2020-01-25",7,"Berachos 22",{"$f":"COUNT($A$2:A22)","v":21},63,7.746219107340465E-3,null,null,null,null,null,null,"Berachos ",{"$f":"VLOOKUP(Schedule!M22,#REF!,2,FALSE)","v":{"$error":"#REF!"}},null,null,null,7,"Zevachim ",119,4.3895241608262636E-2,null,"זרעים",63,2.3238657322021395E-2,{"$f":"GETPIVOTDATA(\"Total Daf\",$W$16,\"Seder\",\"זרעים\")/AA14","v":31.5},0.52500000000000002,"טהרות",72,1,2.6558465510881594E-2,null,null,{"$f":"INDEX(A2:N2712,AC17+AC18+AC19+AC20+AC21+ROUND((AC22*0.25),0),1)","v":"2027-04-14"},{"$f":"INDEX(A2:N2712,AC17+AC18+AC19+AC20+AC21+ROUND((AC22*0.5),0),1)","v":"2027-05-02"},{"$f":"INDEX(A2:N2712,AC17+AC18+AC19+AC20+AC21+ROUND((AC22*0.75),0),1)","v":"2027-05-20"},{"$f":"INDEX(A2:N2712,AC17+AC18+AC19+AC20+AC21+AC22,1)","v":"2027-06-07"}]
["2020-01-26",1,"Berachos 23",{"$f":"COUNT($A$2:A23)","v":22},66,8.1150866838804875E-3,null,null,null,null,null,null,"Berachos ",{"$f":"VLOOKUP(Schedule!M23,#REF!,2,FALSE)","v":{"$error":"#REF!"}},null,null,null,8,"Bava Metzia ",118,4.352637403172261E-2,null,"Grand Total",2711,1,null,null,"Grand Total",2711,{"$f":"SUM(AD17:AD22)","v":37},1]
["2020-01-27",2,"Berachos 24",{"$f":"COUNT($A$2:A24)","v":23},69,8.4839542604205082E-3,null,null,null,null,null,null,"Berachos ",{"$f":"VLOOKUP(Schedule!M24,#REF!,2,FALSE)","v":{"$error":"#REF!"}},null,null,null,9,"Bava Kamma ",118,4.352637403172261E-2]
["2020-01-28",3,"Berachos 25",{"$f":"COUNT($A$2:A25)","v":24},72,8.8528218369605307E-3,null,null,null,null,null,null,"Berachos ",{"$f":"VLOOKUP(Schedule!M25,#REF!,2,FALSE)","v":{"$error":"#REF!"}},null,null,null,10,"Sanhedrin ",112,4.1313168572482475E-2,null,"Masechet","Total Daf","% of Daf"]
["2020-01-29",4,"Berachos 26",{"$f":"COUNT($A$2:A26)","v":25},75,9.2216894135005532E-3,null,null,null,null,null,null,"Berachos ",{"$f":"VLOOKUP(Schedule!M26,#REF!,2,FALSE)","v":{"$error":"#REF!"}},null,null,null,11,"Kesuvos ",111,4.0944300995942456E-2,null,"זרעים",63,2.3238657322021395E-2]
["2020-01-30",5,"Berachos 27",{"$f":"COUNT($A$2:A27)","v":26},78,9.5905569900405756E-3,null,null,null,null,null,null,"Berachos ",{"$f":"VLOOKUP(Schedule!M27,#REF!,2,FALSE)","v":{"$error":"#REF!"}},null,null,null,12,"Menachos ",109,4.0206565842862411E-2,null,"Berachos ",63,2.3238657322021395E-2]
["2020-01-31",6,"Berachos 28",{"$f":"COUNT($A$2:A28)","v":27},81,9.9594245665805981E-3,null,null,null,null,null,null,"Berachos ",{"$f":"VLOOKUP(Schedule!M28,#REF!,2,FALSE)","v":{"$error":"#REF!"}},null,null,null,13,"Eruvin ",104,3.8362227960162303E-2,null,"טהרות",72,2.6558465510881594E-2]
["2020-02-01",7,"Berachos 29",{"$f":"COUNT($A$2:A29)","v":28},84,1.0328292143120619E-2,null,null,null,null,null,null,"Berachos ",{"$f":"VLOOKUP(Schedule!M29,#REF!,2,FALSE)","v":{"$error":"#REF!"}},null,null,null,14,"Nedarim ",90,3.3198081888601995E-2,null,"Niddah ",72,2.6558465510881594E-2]
["2020-02-02",1,"Berachos 30",{"$f":"COUNT($A$2:A30)","v":29},87,1.0697159719660641E-2,null,null,null,null,null,null,"Berachos ",{"$f":"VLOOKUP(Schedule!M30,#REF!,2,FALSE)","v":{"$error":"#REF!"}},null,null,null,15,"Gittin ",89,3.2829214312061969E-2,null,"מועד",731,0.26964219845075615]
["2020-02-03",2,"Berachos 31",{"$f":"COUNT($A$2:A31)","v":30},90,1.1066027296200664E-2,null,null,null,null,null,null,"Berachos ",{"$f":"VLOOKUP(Schedule!M31,#REF!,2,FALSE)","v":{"$error":"#REF!"}},null,null,null,16,"Yoma ",87,3.2091479158981924E-2,null,"Beitzah ",39,1.4385835485060863E-2]
["2020-02-04",3,"Berachos 32",{"$f":"COUNT($A$2:A32)","v":31},93,1.1434894872740686E-2,null,null,null,null,null,null,"Berachos ",{"$f":"VLOOKUP(Schedule!M32,#REF!,2,FALSE)","v":{"$error":"#REF!"}},null,null,null,17,"Kiddushin ",81,2.9878273699741793E-2,null,"Chagigah ",26,9.5905569900405756E-3]
["2020-02-05",4,"Berachos 33",{"$f":"COUNT($A$2:A33)","v":32},96,1.1803762449280709E-2,null,null,null,null,null,null,"Berachos ",{"$f":"VLOOKUP(Schedule!M33,#REF!,2,FALSE)","v":{"$error":"#REF!"}},null,null,null,18,"Avodah Zara ",75,2.7665068240501661E-2,null,"Eruvin ",104,3.8362227960162303E-2]
["2020-02-06",5,"Berachos 34",{"$f":"COUNT($A$2:A34)","v":33},99,1.2172630025820731E-2,null,null,null,null,null,null,{"$f":"LEFT(C34,FIND(\"☃\",SUBSTITUTE(C34,\" \",\"☃\",LEN(C34)-LEN(SUBSTITUTE(C34,\" \",\"\")))))","v":"Berachos "},{"$f":"VLOOKUP(Schedule!M34,#REF!,2,FALSE)","v":{"$error":"#REF!"}},null,null,null,19,"Niddah ",72,2.6558465510881594E-2,null,"Megillah ",31,1.1434894872740686E-2]
["2020-02-07",6,"Berachos 35",{"$f":"COUNT($A$2:A35)","v":34},102,1.2541497602360752E-2,null,null,null,null,null,null,"Berachos ",{"$f":"VLOOKUP(Schedule!M35,#REF!,2,FALSE)","v":{"$error":"#REF!"}},null,null,null,20,"Nazir ",65,2.397639247510144E-2,null,"Moed Katan ",28,1.0328292143120619E-2]
["2020-02-08",7,"Berachos 36",{"$f":"COUNT($A$2:A36)","v":35},105,1.2910365178900774E-2,null,null,null,null,null,null,"Berachos ",{"$f":"VLOOKUP(Schedule!M36,#REF!,2,FALSE)","v":{"$error":"#REF!"}},null,null,null,21,"Berachos ",63,2.3238657322021395E-2,null,"Pesachim ",120,4.4264109184802655E-2]
["2020-02-09",1,"Berachos 37",{"$f":"COUNT($A$2:A37)","v":36},108,1.3279232755440797E-2,null,null,null,null,null,null,"Berachos ",{"$f":"VLOOKUP(Schedule!M37,#REF!,2,FALSE)","v":{"$error":"#REF!"}},null,null,null,22,"Bechoros ",60,2.2132054592401328E-2,null,"Rosh Hashanah ",34,1.2541497602360752E-2]
["2020-02-10",2,"Berachos 38",{"$f":"COUNT($A$2:A38)","v":37},111,1.3648100331980819E-2,null,null,null,null,null,null,"Berachos ",{"$f":"VLOOKUP(Schedule!M38,#REF!,2,FALSE)","v":{"$error":"#REF!"}},null,null,null,23,"Succah ",55,2.0287716709701219E-2,null,"Shabbos ",156,5.754334194024345E-2]
["2020-02-11",3,"Berachos 39",{"$f":"COUNT($A$2:A39)","v":38},114,1.4016967908520842E-2,null,null,null,null,null,null,"Berachos ",{"$f":"VLOOKUP(Schedule!M39,#REF!,2,FALSE)","v":{"$error":"#REF!"}},null,null,null,24,"Sotah ",48,1.7705643673921061E-2,null,"Shekalim ",21,7.746219107340465E-3]
["2020-02-12",4,"Berachos 40",{"$f":"COUNT($A$2:A40)","v":39},117,1.4385835485060863E-2,null,null,null,null,null,null,"Berachos ",{"$f":"VLOOKUP(Schedule!M40,#REF!,2,FALSE)","v":{"$error":"#REF!"}},null,null,null,25,"Shevuos ",48,1.7705643673921061E-2,null,"Succah ",55,2.0287716709701219E-2]
["2020-02-13",5,"Berachos 41",{"$f":"COUNT($A$2:A41)","v":40},120,1.4754703061600885E-2,null,null,null,null,null,null,"Berachos ",{"$f":"VLOOKUP(Schedule!M41,#REF!,2,FALSE)","v":{"$error":"#REF!"}},null,null,null,26,"Beitzah ",39,1.4385835485060863E-2,null,"Taanis ",30,1.1066027296200664E-2]
["2020-02-14",6,"Berachos 42",{"$f":"COUNT($A$2:A42)","v":41},123,1.5123570638140908E-2,null,null,null,null,null,null,"Berachos ",{"$f":"VLOOKUP(Schedule!M42,#REF!,2,FALSE)","v":{"$error":"#REF!"}},null,null,null,27,"Meilah, etc ",36,1.3279232755440797E-2,null,"Yoma ",87,3.2091479158981924E-2]
["2020-02-15",7,"Berachos 43",{"$f":"COUNT($A$2:A43)","v":42},126,1.549243821468093E-2,null,null,null,null,null,null,"Berachos ",{"$f":"VLOOKUP(Schedule!M43,#REF!,2,FALSE)","v":{"$error":"#REF!"}},null,null,null,28,"Rosh Hashanah ",34,1.2541497602360752E-2,null,"נזיקין",682,0.2515676872002951]
["2020-02-16",1,"Berachos 44",{"$f":"COUNT($A$2:A44)","v":43},129,1.5861305791220952E-2,null,null,null,null,null,null,"Berachos ",{"$f":"VLOOKUP(Schedule!M44,#REF!,2,FALSE)","v":{"$error":"#REF!"}},null,null,null,29,"Temurah ",33,1.2172630025820731E-2,null,"Avodah Zara ",75,2.7665068240501661E-2]
["2020-02-17",2,"Berachos 45",{"$f":"COUNT($A$2:A45)","v":44},132,1.6230173367760975E-2,null,null,null,null,null,null,"Berachos ",{"$f":"VLOOKUP(Schedule!M45,#REF!,2,FALSE)","v":{"$error":"#REF!"}},null,null,null,30,"Arachin ",33,1.2172630025820731E-2,null,"Bava Basra ",175,6.4551825894503867E-2]
["2020-02-18",3,"Berachos 46",{"$f":"COUNT($A$2:A46)","v":45},135,1.6599040944300997E-2,null,null,null,null,null,null,"Berachos ",{"$f":"VLOOKUP(Schedule!M46,#REF!,2,FALSE)","v":{"$error":"#REF!"}},null,null,null,31,"Megillah ",31,1.1434894872740686E-2,null,"Bava Kamma ",118,4.352637403172261E-2]
["2020-02-19",4,"Berachos 47",{"$f":"COUNT($A$2:A47)","v":46},138,1.6967908520841016E-2,null,null,null,null,null,null,"Berachos ",{"$f":"VLOOKUP(Schedule!M47,#REF!,2,FALSE)","v":{"$error":"#REF!"}},null,null,null,32,"Taanis ",30,1.1066027296200664E-2,null,"Bava Metzia ",118,4.352637403172261E-2]
["2020-02-20",5,"Berachos 48",{"$f":"COUNT($A$2:A48)","v":47},141,1.7336776097381039E-2,null,null,null,null,null,null,"Berachos ",{"$f":"VLOOKUP(Schedule!M48,#REF!,2,FALSE)","v":{"$error":"#REF!"}},null,null,null,33,"Moed Katan ",28,1.0328292143120619E-2,null,"Horayos ",13,4.7952784950202878E-3]
["2020-02-21",6,"Berachos 49",{"$f":"COUNT($A$2:A49)","v":48},144,1.7705643673921061E-2,null,null,null,null,null,null,"Berachos ",{"$f":"VLOOKUP(Schedule!M49,#REF!,2,FALSE)","v":{"$error":"#REF!"}},null,null,null,34,"Kereisos ",27,9.9594245665805981E-3,null,"Makkos ",23,8.4839542604205082E-3]
["2020-02-22",7,"Berachos 50",{"$f":"COUNT($A$2:A50)","v":49},147,1.8074511250461084E-2,null,null,null,null,null,null,"Berachos ",{"$f":"VLOOKUP(Schedule!M50,#REF!,2,FALSE)","v":{"$error":"#REF!"}},null,null,null,35,"Chagigah ",26,9.5905569900405756E-3,null,"Sanhedrin ",112,4.1313168572482475E-2]
["2020-02-23",1,"Berachos 51",{"$f":"COUNT($A$2:A51)","v":50},150,1.8443378827001106E-2,null,null,null,null,null,null,"Berachos ",{"$f":"VLOOKUP(Schedule!M51,#REF!,2,FALSE)","v":{"$error":"#REF!"}},null,null,null,36,"Makkos ",23,8.4839542604205082E-3,null,"Shevuos ",48,1.7705643673921061E-2]
["2020-02-24",2,"Berachos 52",{"$f":"COUNT($A$2:A52)","v":51},153,1.8812246403541129E-2,null,null,null,null,null,null,"Berachos ",{"$f":"VLOOKUP(Schedule!M52,#REF!,2,FALSE)","v":{"$error":"#REF!"}},null,null,null,37,"Shekalim ",21,7.746219107340465E-3,null,"נשים",605,0.2231648838067134]
["2020-02-25",3,"Berachos 53",{"$f":"COUNT($A$2:A53)","v":52},156,1.9181113980081151E-2,null,null,null,null,null,null,"Berachos ",{"$f":"VLOOKUP(Schedule!M53,#REF!,2,FALSE)","v":{"$error":"#REF!"}},null,null,null,null,"Horayos ",13,4.7952784950202878E-3,null,"Gittin ",89,3.2829214312061969E-2]
["2020-02-26",4,"Berachos 54",{"$f":"COUNT($A$2:A54)","v":53},159,1.9549981556621174E-2,null,null,null,null,null,null,"Berachos ",{"$f":"VLOOKUP(Schedule!M54,#REF!,2,FALSE)","v":{"$error":"#REF!"}},null,null,null,null,"Grand Total",2711,1,null,"Kesuvos ",111,4.0944300995942456E-2]
["2020-02-27",5,"Berachos 55",{"$f":"COUNT($A$2:A55)","v":54},162,1.9918849133161196E-2,null,null,null,null,null,null,"Berachos ",{"$f":"VLOOKUP(Schedule!M55,#REF!,2,FALSE)","v":{"$error":"#REF!"}},null,null,null,null,null,null,null,null,"Kiddushin ",81,2.9878273699741793E-2]
["2020-02-28",6,"Berachos 56",{"$f":"COUNT($A$2:A56)","v":55},165,2.0287716709701219E-2,null,null,null,null,null,null,"Berachos ",{"$f":"VLOOKUP(Schedule!M56,#REF!,2,FALSE)","v":{"$error":"#REF!"}},null,null,null,null,null,null,null,null,"Nazir ",65,2.397639247510144E-2]
["2020-02-29",7,"Berachos 57",{"$f":"COUNT($A$2:A57)","v":56},168,2.0656584286241238E-2,null,null,null,null,null,null,"Berachos ",{"$f":"VLOOKUP(Schedule!M57,#REF!,2,FALSE)","v":{"$error":"#REF!"}},null,null,null,null,null,null,null,null,"Nedarim ",90,3.3198081888601995E-2]
["2020-03-01",1,"Berachos 58",{"$f":"COUNT($A$2:A58)","v":57},171,2.102545186278126E-2,null,null,null,null,null,null,"Berachos ",{"$f":"VLOOKUP(Schedule!M58,#REF!,2,FALSE)","v":{"$error":"#REF!"}},null,null,null,null,null,null,null,null,"Sotah ",48,1.7705643673921061E-2]
["2020-03-02",2,"Berachos 59",{"$f":"COUNT($A$2:A59)","v":58},174,2.1394319439321283E-2,null,null,null,null,null,null,"Berachos ",{"$f":"VLOOKUP(Schedule!M59,#REF!,2,FALSE)","v":{"$error":"#REF!"}},null,null,null,null,null,null,null,null,"Yevamos ",121,4.4632976761342681E-2]
["2020-03-03",3,"Berachos 60",{"$f":"COUNT($A$2:A60)","v":59},177,2.1763187015861305E-2,null,null,null,null,null,null,"Berachos ",{"$f":"VLOOKUP(Schedule!M60,#REF!,2,FALSE)","v":{"$error":"#REF!"}},null,null,null,null,null,null,null,null,"קדשים",558,0.20582810770933235]
["2020-03-04",4,"Berachos 61",{"$f":"COUNT($A$2:A61)","v":60},180,2.2132054592401328E-2,null,null,null,null,null,null,"Berachos ",{"$f":"VLOOKUP(Schedule!M61,#REF!,2,FALSE)","v":{"$error":"#REF!"}},null,null,null,null,null,null,null,null,"Bechoros ",60,2.2132054592401328E-2]
["2020-03-05",5,"Berachos 62",{"$f":"COUNT($A$2:A62)","v":61},183,2.250092216894135E-2,null,null,null,null,null,null,"Berachos ",{"$f":"VLOOKUP(Schedule!M62,#REF!,2,FALSE)","v":{"$error":"#REF!"}},null,null,null,null,null,null,null,null,"Chullin ",141,5.2010328292143124E-2]
["2020-03-06",6,"Berachos 63",{"$f":"COUNT($A$2:A63)","v":62},186,2.2869789745481373E-2,null,null,null,null,null,null,"Berachos ",{"$f":"VLOOKUP(Schedule!M63,#REF!,2,FALSE)","v":{"$error":"#REF!"}},null,null,null,null,null,null,null,null,"Arachin ",33,1.2172630025820731E-2]
["2020-03-07",7,"Berachos 64",{"$f":"COUNT($A$2:A64)","v":63},189,2.3238657322021395E-2,null,null,null,null,null,null,"Berachos ",{"$f":"VLOOKUP(Schedule!M64,#REF!,2,FALSE)","v":{"$error":"#REF!"}},null,null,null,null,null,null,null,null,"Kereisos ",27,9.9594245665805981E-3]
["2020-03-08",1,"Shabbos 2",{"$f":"COUNT($A$2:A65)","v":64},192,2.3607524898561418E-2,{"$f":"(D65-63)/2711","v":3.6886757654002215E-4},null,null,null,null,null,"Shabbos ",{"$f":"VLOOKUP(Schedule!M65,#REF!,2,FALSE)","v":{"$error":"#REF!"}},null,null,null,null,null,null,null,null,"Meilah, etc ",36,1.3279232755440797E-2]
["2020-03-09",2,"Shabbos 3",{"$f":"COUNT($A$2:A66)","v":65},{"$f":"D66*3","v":195},2.397639247510144E-2,{"$f":"(D66-63)/2711","v":7.377351530800443E-4},null,null,null,null,null,"Shabbos ",{"$f":"VLOOKUP(Schedule!M66,#REF!,2,FALSE)","v":{"$error":"#REF!"}},null,null,null,null,null,null,null,null,"Menachos ",109,4.0206565842862411E-2]
["2020-03-10",{"$f":"WEEKDAY(A67)","v":3},"Shabbos 4",{"$f":"COUNT($A$2:A67)","v":66},198,{"$f":"D67/2711","v":2.4345260051641462E-2},1.1066027296200663E-3,null,null,null,null,null,{"$f":"LEFT(C67,FIND(\"☃\",SUBSTITUTE(C67,\" \",\"☃\",LEN(C67)-LEN(SUBSTITUTE(C67,\" \",\"\")))))","v":"Shabbos "},{"$f":"VLOOKUP(Schedule!M67,#REF!,2,FALSE)","v":{"$error":"#REF!"}},null,null,null,null,null,null,null,null,"Temurah ",33,1.2172630025820731E-2]
["2020-03-11",4,"Shabbos 5",{"$f":"COUNT($A$2:A68)","v":67},201,2.4714127628181481E-2,1.4754703061600886E-3,null,null,null,null,null,"Shabbos ",{"$f":"VLOOKUP(Schedule!M68,#REF!,2,FALSE)","v":{"$error":"#REF!"}},null,null,null,null,null,null,null,null,"Zevachim ",119,4.3895241608262636E-2]
["2020-03-12",5,"Shabbos 6",{"$f":"COUNT($A$2:A69)","v":68},204,2.5082995204721504E-2,1.8443378827001106E-3,null,null,null,null,null,"Shabbos ",{"$f":"VLOOKUP(Schedule!M69,#REF!,2,FALSE)","v":{"$error":"#REF!"}},null,null,null,null,null,null,null,null,"Grand Total",2711,1]
["2020-03-13",6,"Shabbos 7",{"$f":"COUNT($A$2:A70)","v":69},207,2.5451862781261526E-2,2.2132054592401327E-3,null,null,null,null,null,"Shabbos ",{"$f":"VLOOKUP(Schedule!M70,#REF!,2,FALSE)","v":{"$error":"#REF!"}}]
["2020-03-14",7,"Shabbos 8",{"$f":"COUNT($A$2:A71)","v":70},210,2.5820730357801549E-2,2.5820730357801547E-3,null,null,null,null,null,"Shabbos ",{"$f":"VLOOKUP(Schedule!M71,#REF!,2,FALSE)","v":{"$error":"#REF!"}}]
["2020-03-15",1,"Shabbos 9",{"$f":"COUNT($A$2:A72)","v":71},213,2.6189597934341571E-2,2.9509406123201772E-3,null,null,null,null,null,"Shabbos ",{"$f":"VLOOKUP(Schedule!M72,#REF!,2,FALSE)","v":{"$error":"#REF!"}}]
["2020-03-16",2,"Shabbos 10",{"$f":"COUNT($A$2:A73)","v":72},216,2.6558465510881594E-2,3.3198081888601992E-3,null,null,null,null,null,"Shabbos ",{"$f":"VLOOKUP(Schedule!M73,#REF!,2,FALSE)","v":{"$error":"#REF!"}}]
["2020-03-17",3,"Shabbos 11",{"$f":"COUNT($A$2:A74)","v":73},219,2.6927333087421616E-2,3.6886757654002213E-3,null,null,null,null,null,"Shabbos ",{"$f":"VLOOKUP(Schedule!M74,#REF!,2,FALSE)","v":{"$error":"#REF!"}}]
["2020-03-18",4,"Shabbos 12",{"$f":"COUNT($A$2:A75)","v":74},222,2.7296200663961639E-2,4.0575433419402437E-3,null,null,null,null,null,"Shabbos ",{"$f":"VLOOKUP(Schedule!M75,#REF!,2,FALSE)","v":{"$error":"#REF!"}}]
["2020-03-19",5,"Shabbos 13",{"$f":"COUNT($A$2:A76)","v":75},225,2.7665068240501661E-2,4.4264109184802653E-3,null,null,null,null,null,"Shabbos ",{"$f":"VLOOKUP(Schedule!M76,#REF!,2,FALSE)","v":{"$error":"#REF!"}}]
["2020-03-20",6,"Shabbos 14",{"$f":"COUNT($A$2:A77)","v":76},228,2.8033935817041684E-2,4.7952784950202878E-3,null,null,null,null,null,"Shabbos ",{"$f":"VLOOKUP(Schedule!M77,#REF!,2,FALSE)","v":{"$error":"#REF!"}}]
["2020-03-21",7,"Shabbos 15",{"$f":"COUNT($A$2:A78)","v":77},231,2.8402803393581703E-2,5.1641460715603094E-3,null,null,null,null,null,"Shabbos ",{"$f":"VLOOKUP(Schedule!M78,#REF!,2,FALSE)","v":{"$error":"#REF!"}}]
["2020-03-22",1,"Shabbos 16",{"$f":"COUNT($A$2:A79)","v":78},234,2.8771670970121725E-2,5.5330136481003319E-3,null,null,null,null,null,"Shabbos ",{"$f":"VLOOKUP(Schedule!M79,#REF!,2,FALSE)","v":{"$error":"#REF!"}}]
["2020-03-23",2,"Shabbos 17",{"$f":"COUNT($A$2:A80)","v":79},237,2.9140538546661748E-2,5.9018812246403544E-3,null,null,null,null,null,"Shabbos ",{"$f":"VLOOKUP(Schedule!M80,#REF!,2,FALSE)","v":{"$error":"#REF!"}}]
["2020-03-24",3,"Shabbos 18",{"$f":"COUNT($A$2:A81)","v":80},240,2.950940612320177E-2,6.270748801180376E-3,null,null,null,null,null,"Shabbos ",{"$f":"VLOOKUP(Schedule!M81,#REF!,2,FALSE)","v":{"$error":"#REF!"}}]
["2020-03-25",4,"Shabbos 19",{"$f":"COUNT($A$2:A82)","v":81},243,2.9878273699741793E-2,6.6396163777203985E-3,null,null,null,null,null,"Shabbos ",{"$f":"VLOOKUP(Schedule!M82,#REF!,2,FALSE)","v":{"$error":"#REF!"}}]
["2020-03-26",5,"Shabbos 20",{"$f":"COUNT($A$2:A83)","v":82},246,3.0247141276281815E-2,7.0084839542604209E-3,null,null,null,null,null,"Shabbos ",{"$f":"VLOOKUP(Schedule!M83,#REF!,2,FALSE)","v":{"$error":"#REF!"}}]
["2020-03-27",6,"Shabbos 21",{"$f":"COUNT($A$2:A84)","v":83},249,3.0616008852821838E-2,7.3773515308004425E-3,null,null,null,null,null,"Shabbos ",{"$f":"VLOOKUP(Schedule!M84,#REF!,2,FALSE)","v":{"$error":"#REF!"}}]
["2020-03-28",7,"Shabbos 22",{"$f":"COUNT($A$2:A85)","v":84},252,3.098487642936186E-2,7.746219107340465E-3,null,null,null,null,null,"Shabbos ",{"$f":"VLOOKUP(Schedule!M85,#REF!,2,FALSE)","v":{"$error":"#REF!"}}]
["2020-03-29",1,"Shabbos 23",{"$f":"COUNT($A$2:A86)","v":85},255,3.1353744005901879E-2,8.1150866838804875E-3,null,null,null,null,null,"Shabbos ",{"$f":"VLOOKUP(Schedule!M86,#REF!,2,FALSE)","v":{"$error":"#REF!"}}]
["2020-03-30",2,"Shabbos 24",{"$f":"COUNT($A$2:A87)","v":86},258,3.1722611582441905E-2,8.4839542604205082E-3,null,null,null,null,null,"Shabbos ",{"$f":"VLOOKUP(Schedule!M87,#REF!,2,FALSE)","v":{"$error":"#REF!"}}]
["2020-03-31",3,"Shabbos 25",{"$f":"COUNT($A$2:A88)","v":87},261,3.2091479158981924E-2,8.8528218369605307E-3,null,null,null,null,null,"Shabbos ",{"$f":"VLOOKUP(Schedule!M88,#REF!,2,FALSE)","v":{"$error":"#REF!"}}]
["2020-04-01",4,"Shabbos 26",{"$f":"COUNT($A$2:A89)","v":88},264,3.246034673552195E-2,9.2216894135005532E-3,null,null,null,null,null,"Shabbos ",{"$f":"VLOOKUP(Schedule!M89,#REF!,2,FALSE)","v":{"$error":"#REF!"}}]
["2020-04-02",5,"Shabbos 27",{"$f":"COUNT($A$2:A90)","v":89},267,3.2829214312061969E-2,9.5905569900405756E-3,null,null,null,null,null,"Shabbos ",{"$f":"VLOOKUP(Schedule!M90,#REF!,2,FALSE)","v":{"$error":"#REF!"}}]
["2020-04-03",6,"Shabbos 28",{"$f":"COUNT($A$2:A91)","v":90},270,3.3198081888601995E-2,9.9594245665805981E-3,null,null,null,null,null,"Shabbos ",{"$f":"VLOOKUP(Schedule!M91,#REF!,2,FALSE)","v":{"$error":"#REF!"}}]
["2020-04-04",7,"Shabbos 29",{"$f":"COUNT($A$2:A92)","v":91},273,3.3566949465142014E-2,1.0328292143120619E-2,null,null,null,null,null,"Shabbos ",{"$f":"VLOOKUP(Schedule!M92,#REF!,2,FALSE)","v":{"$error":"#REF!"}}]
["2020-04-05",1,"Shabbos 30",{"$f":"COUNT($A$2:A93)","v":92},276,3.3935817041682033E-2,1.0697159719660641E-2,null,null,null,null,null,"Shabbos ",{"$f":"VLOOKUP(Schedule!M93,#REF!,2,FALSE)","v":{"$error":"#REF!"}}]
["2020-04-06",2,"Shabbos 31",{"$f":"COUNT($A$2:A94)","v":93},279,3.4304684618222059E-2,1.1066027296200664E-2,null,null,null,null,null,"Shabbos ",{"$f":"VLOOKUP(Schedule!M94,#REF!,2,FALSE)","v":{"$error":"#REF!"}}]
["2020-04-07",3,"Shabbos 32",{"$f":"COUNT($A$2:A95)","v":94},282,3.4673552194762078E-2,1.1434894872740686E-2,null,null,null,null,null,"Shabbos ",{"$f":"VLOOKUP(Schedule!M95,#REF!,2,FALSE)","v":{"$error":"#REF!"}}]
["2020-04-08",4,"Shabbos 33",{"$f":"COUNT($A$2:A96)","v":95},285,3.5042419771302104E-2,1.1803762449280709E-2,null,null,null,null,null,"Shabbos ",{"$f":"VLOOKUP(Schedule!M96,#REF!,2,FALSE)","v":{"$error":"#REF!"}}]
["2020-04-09",5,"Shabbos 34",{"$f":"COUNT($A$2:A97)","v":96},288,3.5411287347842123E-2,1.2172630025820731E-2,null,null,null,null,null,"Shabbos ",{"$f":"VLOOKUP(Schedule!M97,#REF!,2,FALSE)","v":{"$error":"#REF!"}}]
["2020-04-10",6,"Shabbos 35",{"$f":"COUNT($A$2:A98)","v":97},291,3.5780154924382149E-2,1.2541497602360752E-2,null,null,null,null,null,"Shabbos ",{"$f":"VLOOKUP(Schedule!M98,#REF!,2,FALSE)","v":{"$error":"#REF!"}}]
["2020-04-11",7,"Shabbos 36",{"$f":"COUNT($A$2:A99)","v":98},294,3.6149022500922168E-2,1.2910365178900774E-2,null,null,null,null,null,"Shabbos ",{"$f":"VLOOKUP(Schedule!M99,#REF!,2,FALSE)","v":{"$error":"#REF!"}}]
["2020-04-12",1,"Shabbos 37",{"$f":"COUNT($A$2:A100)","v":99},297,3.6517890077462194E-2,1.3279232755440797E-2,null,null,null,null,null,"Shabbos ",{"$f":"VLOOKUP(Schedule!M100,#REF!,2,FALSE)","v":{"$error":"#REF!"}}]
["2020-04-13",2,"Shabbos 38",{"$f":"COUNT($A$2:A101)","v":100},300,3.6886757654002213E-2,1.3648100331980819E-2,null,null,null,null,null,"Shabbos ",{"$f":"VLOOKUP(Schedule!M101,#REF!,2,FALSE)","v":{"$error":"#REF!"}}]
["2020-04-14",3,"Shabbos 39",{"$f":"COUNT($A$2:A102)","v":101},303,3.7255625230542239E-2,1.4016967908520842E-2,null,null,null,null,null,"Shabbos ",{"$f":"VLOOKUP(Schedule!M102,#REF!,2,FALSE)","v":{"$error":"#REF!"}}]
["2020-04-15",4,"Shabbos 40",{"$f":"COUNT($A$2:A103)","v":102},306,3.7624492807082258E-2,1.4385835485060863E-2,null,null,null,null,null,"Shabbos ",{"$f":"VLOOKUP(Schedule!M103,#REF!,2,FALSE)","v":{"$error":"#REF!"}}]
["2020-04-16",5,"Shabbos 41",{"$f":"COUNT($A$2:A104)","v":103},309,3.7993360383622277E-2,1.4754703061600885E-2,null,null,null,null,null,"Shabbos ",{"$f":"VLOOKUP(Schedule!M104,#REF!,2,FALSE)","v":{"$error":"#REF!"}}]
["2020-04-17",6,"Shabbos 42",{"$f":"COUNT($A$2:A105)","v":104},312,3.8362227960162303E-2,1.5123570638140908E-2,null,null,null,null,null,"Shabbos ",{"$f":"VLOOKUP(Schedule!M105,#REF!,2,FALSE)","v":{"$error":"#REF!"}}]
["2020-04-18",7,"Shabbos 43",{"$f":"COUNT($A$2:A106)","v":105},315,3.8731095536702322E-2,1.549243821468093E-2,null,null,null,null,null,"Shabbos ",{"$f":"VLOOKUP(Schedule!M106,#REF!,2,FALSE)","v":{"$error":"#REF!"}}]
["2020-04-19",1,"Shabbos 44",{"$f":"COUNT($A$2:A107)","v":106},318,3.9099963113242348E-2,1.5861305791220952E-2,null,null,null,null,null,"Shabbos ",{"$f":"VLOOKUP(Schedule!M107,#REF!,2,FALSE)","v":{"$error":"#REF!"}}]
["2020-04-20",2,"Shabbos 45",{"$f":"COUNT($A$2:A108)","v":107},321,3.9468830689782367E-2,1.6230173367760975E-2,null,null,null,null,null,"Shabbos ",{"$f":"VLOOKUP(Schedule!M108,#REF!,2,FALSE)","v":{"$error":"#REF!"}}]
["2020-04-21",3,"Shabbos 46",{"$f":"COUNT($A$2:A109)","v":108},324,3.9837698266322392E-2,1.6599040944300997E-2,null,null,null,null,null,"Shabbos ",{"$f":"VLOOKUP(Schedule!M109,#REF!,2,FALSE)","v":{"$error":"#REF!"}}]
["2020-04-22",4,"Shabbos 47",{"$f":"COUNT($A$2:A110)","v":109},327,4.0206565842862411E-2,1.6967908520841016E-2,null,null,null,null,null,"Shabbos ",{"$f":"VLOOKUP(Schedule!M110,#REF!,2,FALSE)","v":{"$error":"#REF!"}}]
["2020-04-23",5,"Shabbos 48",{"$f":"COUNT($A$2:A111)","v":110},330,4.0575433419402437E-2,1.7336776097381039E-2,null,null,null,null,null,"Shabbos ",{"$f":"VLOOKUP(Schedule!M111,#REF!,2,FALSE)","v":{"$error":"#REF!"}}]
["2020-04-24",6,"Shabbos 49",{"$f":"COUNT($A$2:A112)","v":111},333,4.0944300995942456E-2,1.7705643673921061E-2,null,null,null,null,null,"Shabbos ",{"$f":"VLOOKUP(Schedule!M112,#REF!,2,FALSE)","v":{"$error":"#REF!"}}]
["2020-04-25",7,"Shabbos 50",{"$f":"COUNT($A$2:A113)","v":112},336,4.1313168572482475E-2,1.8074511250461084E-2,null,null,null,null,null,"Shabbos ",{"$f":"VLOOKUP(Schedule!M113,#REF!,2,FALSE)","v":{"$error":"#REF!"}}]
["2020-04-26",1,"Shabbos 51",{"$f":"COUNT($A$2:A114)","v":113},339,4.1682036149022501E-2,1.8443378827001106E-2,null,null,null,null,null,"Shabbos ",{"$f":"VLOOKUP(Schedule!M114,#REF!,2,FALSE)","v":{"$error":"#REF!"}}]
["2020-04-27",2,"Shabbos 52",{"$f":"COUNT($A$2:A115)","v":114},342,4.205090372556252E-2,1.8812246403541129E-2,null,null,null,null,null,"Shabbos ",{"$f":"VLOOKUP(Schedule!M115,#REF!,2,FALSE)","v":{"$error":"#REF!"}}]
["2020-04-28",3,"Shabbos 53",{"$f":"COUNT($A$2:A116)","v":115},345,4.2419771302102546E-2,1.9181113980081151E-2,null,null,null,null,null,"Shabbos ",{"$f":"VLOOKUP(Schedule!M116,#REF!,2,FALSE)","v":{"$error":"#REF!"}}]
["2020-04-29",4,"Shabbos 54",{"$f":"COUNT($A$2:A117)","v":116},348,4.2788638878642565E-2,1.9549981556621174E-2,null,null,null,null,null,"Shabbos ",{"$f":"VLOOKUP(Schedule!M117,#REF!,2,FALSE)","v":{"$error":"#REF!"}}]
["2020-04-30",5,"Shabbos 55",{"$f":"COUNT($A$2:A118)","v":117},351,4.3157506455182591E-2,1.9918849133161196E-2,null,null,null,null,null,"Shabbos ",{"$f":"VLOOKUP(Schedule!M118,#REF!,2,FALSE)","v":{"$error":"#REF!"}}]
["2020-05-01",6,"Shabbos 56",{"$f":"COUNT($A$2:A119)","v":118},354,4.352637403172261E-2,2.0287716709701219E-2,null,null,null,null,null,"Shabbos ",{"$f":"VLOOKUP(Schedule!M119,#REF!,2,FALSE)","v":{"$error":"#REF!"}}]
["2020-05-02",7,"Shabbos 57",{"$f":"COUNT($A$2:A120)","v":119},357,4.3895241608262636E-2,2.0656584286241238E-2,null,null,null,null,null,"Shabbos ",{"$f":"VLOOKUP(Schedule!M120,#REF!,2,FALSE)","v":{"$error":"#REF!"}}]
["2020-05-03",1,"Shabbos 58",{"$f":"COUNT($A$2:A121)","v":120},360,4.4264109184802655E-2,2.102545186278126E-2,null,null,null,null,null,"Shabbos ",{"$f":"VLOOKUP(Schedule!M121,#REF!,2,FALSE)","v":{"$error":"#REF!"}}]
["2020-05-04",2,"Shabbos 59",{"$f":"COUNT($A$2:A122)","v":121},363,4.4632976761342681E-2,2.1394319439321283E-2,null,null,null,null,null,"Shabbos ",{"$f":"VLOOKUP(Schedule!M122,#REF!,2,FALSE)","v":{"$error":"#REF!"}}]
["2020-05-05",3,"Shabbos 60",{"$f":"COUNT($A$2:A123)","v":122},366,4.50018443378827E-2,2.1763187015861305E-2,null,null,null,null,null,"Shabbos ",{"$f":"VLOOKUP(Schedule!M123,#REF!,2,FALSE)","v":{"$error":"#REF!"}}]
["2020-05-06",4,"Shabbos 61",{"$f":"COUNT($A$2:A124)","v":123},369,4.5370711914422719E-2,2.2132054592401328E-2,null,null,null,null,null,"Shabbos ",{"$f":"VLOOKUP(Schedule!M124,#REF!,2,FALSE)","v":{"$error":"#REF!"}}]
["2020-05-07",5,"Shabbos 62",{"$f":"COUNT($A$2:A125)","v":124},372,4.5739579490962745E-2,2.250092216894135E-2,null,null,null,null,null,"Shabbos ",{"$f":"VLOOKUP(Schedule!M125,#REF!,2,FALSE)","v":{"$error":"#REF!"}}]
["2020-05-08",6,"Shabbos 63",{"$f":"COUNT($A$2:A126)","v":125},375,4.6108447067502764E-2,2.2869789745481373E-2,null,null,null,null,null,"Shabbos ",{"$f":"VLOOKUP(Schedule!M126,#REF!,2,FALSE)","v":{"$error":"#REF!"}}]
["2020-05-09",7,"Shabbos 64",{"$f":"COUNT($A$2:A127)","v":126},378,4.647731464404279E-2,2.3238657322021395E-2,null,null,null,null,null,"Shabbos ",{"$f":"VLOOKUP(Schedule!M127,#REF!,2,FALSE)","v":{"$error":"#REF!"}}]
["2020-05-10",1,"Shabbos 65",{"$f":"COUNT($A$2:A128)","v":127},381,4.6846182220582809E-2,2.3607524898561418E-2,null,null,null,null,null,"Shabbos ",{"$f":"VLOOKUP(Schedule!M128,#REF!,2,FALSE)","v":{"$error":"#REF!"}}]
["2020-05-11",2,"Shabbos 66",{"$f":"COUNT($A$2:A129)","v":128},384,4.7215049797122835E-2,2.397639247510144E-2,null,null,null,null,null,"Shabbos ",{"$f":"VLOOKUP(Schedule!M129,#REF!,2,FALSE)","v":{"$error":"#REF!"}}]
["2020-05-12",3,"Shabbos 67",{"$f":"COUNT($A$2:A130)","v":129},{"$f":"D130*3","v":387},4.7583917373662854E-2,{"$f":"(D130-63)/2711","v":2.4345260051641462E-2},null,null,null,null,null,"Shabbos ",{"$f":"VLOOKUP(Schedule!M130,#REF!,2,FALSE)","v":{"$error":"#REF!"}}]
["2020-05-13",{"$f":"WEEKDAY(A131)","v":4},"Shabbos 68",{"$f":"COUNT($A$2:A131)","v":130},390,{"$f":"D131/2711","v":4.795278495020288E-2},2.4714127628181481E-2,null,null,null,null,null,{"$f":"LEFT(C131,FIND(\"☃\",SUBSTITUTE(C131,\" \",\"☃\",LEN(C131)-LEN(SUBSTITUTE(C131,\" \",\"\")))))","v":"Shabbos "},{"$f":"VLOOKUP(Schedule!M131,#REF!,2,FALSE)","v":{"$error":"#REF!"}}]
["2020-05-14",5,"Shabbos 69",{"$f":"COUNT($A$2:A132)","v":131},393,4.8321652526742899E-2,2.5082995204721504E-2,null,null,null,null,null,"Shabbos ",{"$f":"VLOOKUP(Schedule!M132,#REF!,2,FALSE)","v":{"$error":"#REF!"}}]
["2020-05-15",6,"Shabbos 70",{"$f":"COUNT($A$2:A133)","v":132},396,4.8690520103282925E-2,2.5451862781261526E-2,null,null,null,null,null,"Shabbos ",{"$f":"VLOOKUP(Schedule!M133,#REF!,2,FALSE)","v":{"$error":"#REF!"}}]
["2020-05-16",7,"Shabbos 71",{"$f":"COUNT($A$2:A134)","v":133},399,4.9059387679822944E-2,2.5820730357801549E-2,null,null,null,null,null,"Shabbos ",{"$f":"VLOOKUP(Schedule!M134,#REF!,2,FALSE)","v":{"$error":"#REF!"}}]
["2020-05-17",1,"Shabbos 72",{"$f":"COUNT($A$2:A135)","v":134},402,4.9428255256362963E-2,2.6189597934341571E-2,null,null,null,null,null,"Shabbos ",{"$f":"VLOOKUP(Schedule!M135,#REF!,2,FALSE)","v":{"$error":"#REF!"}}]
["2020-05-18",2,"Shabbos 73",{"$f":"COUNT($A$2:A136)","v":135},405,4.9797122832902989E-2,2.6558465510881594E-2,null,null,null,null,null,"Shabbos ",{"$f":"VLOOKUP(Schedule!M136,#REF!,2,FALSE)","v":{"$error":"#REF!"}}]
["2020-05-19",3,"Shabbos 74",{"$f":"COUNT($A$2:A137)","v":136},408,5.0165990409443008E-2,2.6927333087421616E-2,null,null,null,null,null,"Shabbos ",{"$f":"VLOOKUP(Schedule!M137,#REF!,2,FALSE)","v":{"$error":"#REF!"}}]
["2020-05-20",4,"Shabbos 75",{"$f":"COUNT($A$2:A138)","v":137},411,5.0534857985983034E-2,2.7296200663961639E-2,null,null,null,null,null,"Shabbos ",{"$f":"VLOOKUP(Schedule!M138,#REF!,2,FALSE)","v":{"$error":"#REF!"}}]
["2020-05-21",5,"Shabbos 76",{"$f":"COUNT($A$2:A139)","v":138},414,5.0903725562523053E-2,2.7665068240501661E-2,null,null,null,null,null,"Shabbos ",{"$f":"VLOOKUP(Schedule!M139,#REF!,2,FALSE)","v":{"$error":"#REF!"}}]
["2020-05-22",6,"Shabbos 77",{"$f":"COUNT($A$2:A140)","v":139},417,5.1272593139063079E-2,2.8033935817041684E-2,null,null,null,null,null,"Shabbos ",{"$f":"VLOOKUP(Schedule!M140,#REF!,2,FALSE)","v":{"$error":"#REF!"}}]
["2020-05-23",7,"Shabbos 78",{"$f":"COUNT($A$2:A141)","v":140},420,5.1641460715603098E-2,2.8402803393581703E-2,null,null,null,null,null,"Shabbos ",{"$f":"VLOOKUP(Schedule!M141,#REF!,2,FALSE)","v":{"$error":"#REF!"}}]
["2020-05-24",1,"Shabbos 79",{"$f":"COUNT($A$2:A142)","v":141},423,5.2010328292143124E-2,2.8771670970121725E-2,null,null,null,null,null,"Shabbos ",{"$f":"VLOOKUP(Schedule!M142,#REF!,2,FALSE)","v":{"$error":"#REF!"}}]
["2020-05-25",2,"Shabbos 80",{"$f":"COUNT($A$2:A143)","v":142},426,5.2379195868683143E-2,2.9140538546661748E-2,null,null,null,null,null,"Shabbos ",{"$f":"VLOOKUP(Schedule!M143,#REF!,2,FALSE)","v":{"$error":"#REF!"}}]
["2020-05-26",3,"Shabbos 81",{"$f":"COUNT($A$2:A144)","v":143},429,5.2748063445223162E-2,2.950940612320177E-2,null,null,null,null,null,"Shabbos ",{"$f":"VLOOKUP(Schedule!M144,#REF!,2,FALSE)","v":{"$error":"#REF!"}}]
["2020-05-27",4,"Shabbos 82",{"$f":"COUNT($A$2:A145)","v":144},432,5.3116931021763188E-2,2.9878273699741793E-2,null,null,null,null,null,"Shabbos ",{"$f":"VLOOKUP(Schedule!M145,#REF!,2,FALSE)","v":{"$error":"#REF!"}}]
["2020-05-28",5,"Shabbos 83",{"$f":"COUNT($A$2:A146)","v":145},435,5.3485798598303207E-2,3.0247141276281815E-2,null,null,null,null,null,"Shabbos ",{"$f":"VLOOKUP(Schedule!M146,#REF!,2,FALSE)","v":{"$error":"#REF!"}}]
["2020-05-29",6,"Shabbos 84",{"$f":"COUNT($A$2:A147)","v":146},438,5.3854666174843233E-2,3.0616008852821838E-2,null,null,null,null,null,"Shabbos ",{"$f":"VLOOKUP(Schedule!M147,#REF!,2,FALSE)","v":{"$error":"#REF!"}}]
["2020-05-30",7,"Shabbos 85",{"$f":"COUNT($A$2:A148)","v":147},441,5.4223533751383252E-2,3.098487642936186E-2,null,null,null,null,null,"Shabbos ",{"$f":"VLOOKUP(Schedule!M148,#REF!,2,FALSE)","v":{"$error":"#REF!"}}]
["2020-05-31",1,"Shabbos 86",{"$f":"COUNT($A$2:A149)","v":148},444,5.4592401327923278E-2,3.1353744005901879E-2,null,null,null,null,null,"Shabbos ",{"$f":"VLOOKUP(Schedule!M149,#REF!,2,FALSE)","v":{"$error":"#REF!"}}]
["2020-06-01",2,"Shabbos 87",{"$f":"COUNT($A$2:A150)","v":149},447,5.4961268904463297E-2,3.1722611582441905E-2,null,null,null,null,null,"Shabbos ",{"$f":"VLOOKUP(Schedule!M150,#REF!,2,FALSE)","v":{"$error":"#REF!"}}]
["2020-06-02",3,"Shabbos 88",{"$f":"COUNT($A$2:A151)","v":150},450,5.5330136481003322E-2,3.2091479158981924E-2,null,null,null,null,null,"Shabbos ",{"$f":"VLOOKUP(Schedule!M151,#REF!,2,FALSE)","v":{"$error":"#REF!"}}]
["2020-06-03",4,"Shabbos 89",{"$f":"COUNT($A$2:A152)","v":151},453,5.5699004057543341E-2,3.246034673552195E-2,null,null,null,null,null,"Shabbos ",{"$f":"VLOOKUP(Schedule!M152,#REF!,2,FALSE)","v":{"$error":"#REF!"}}]
["2020-06-04",5,"Shabbos 90",{"$f":"COUNT($A$2:A153)","v":152},456,5.6067871634083367E-2,3.2829214312061969E-2,null,null,null,null,null,"Shabbos ",{"$f":"VLOOKUP(Schedule!M153,#REF!,2,FALSE)","v":{"$error":"#REF!"}}]
["2020-06-05",6,"Shabbos 91",{"$f":"COUNT($A$2:A154)","v":153},459,5.6436739210623386E-2,3.3198081888601995E-2,null,null,null,null,null,"Shabbos ",{"$f":"VLOOKUP(Schedule!M154,#REF!,2,FALSE)","v":{"$error":"#REF!"}}]
["2020-06-06",7,"Shabbos 92",{"$f":"COUNT($A$2:A155)","v":154},462,5.6805606787163405E-2,3.3566949465142014E-2,null,null,null,null,null,"Shabbos ",{"$f":"VLOOKUP(Schedule!M155,#REF!,2,FALSE)","v":{"$error":"#REF!"}}]
["2020-06-07",1,"Shabbos 93",{"$f":"COUNT($A$2:A156)","v":155},465,5.7174474363703431E-2,3.3935817041682033E-2,null,null,null,null,null,"Shabbos ",{"$f":"VLOOKUP(Schedule!M156,#REF!,2,FALSE)","v":{"$error":"#REF!"}}]
["2020-06-08",2,"Shabbos 94",{"$f":"COUNT($A$2:A157)","v":156},468,5.754334194024345E-2,3.4304684618222059E-2,null,null,null,null,null,"Shabbos ",{"$f":"VLOOKUP(Schedule!M157,#REF!,2,FALSE)","v":{"$error":"#REF!"}}]
["2020-06-09",3,"Shabbos 95",{"$f":"COUNT($A$2:A158)","v":157},471,5.7912209516783476E-2,3.4673552194762078E-2,null,null,null,null,null,"Shabbos ",{"$f":"VLOOKUP(Schedule!M158,#REF!,2,FALSE)","v":{"$error":"#REF!"}}]
["2020-06-10",4,"Shabbos 96",{"$f":"COUNT($A$2:A159)","v":158},474,5.8281077093323495E-2,3.5042419771302104E-2,null,null,null,null,null,"Shabbos ",{"$f":"VLOOKUP(Schedule!M159,#REF!,2,FALSE)","v":{"$error":"#REF!"}}]
["2020-06-11",5,"Shabbos 97",{"$f":"COUNT($A$2:A160)","v":159},477,5.8649944669863521E-2,3.5411287347842123E-2,null,null,null,null,null,"Shabbos ",{"$f":"VLOOKUP(Schedule!M160,#REF!,2,FALSE)","v":{"$error":"#REF!"}}]
["2020-06-12",6,"Shabbos 98",{"$f":"COUNT($A$2:A161)","v":160},480,5.901881224640354E-2,3.5780154924382149E-2,null,null,null,null,null,"Shabbos ",{"$f":"VLOOKUP(Schedule!M161,#REF!,2,FALSE)","v":{"$error":"#REF!"}}]
["2020-06-13",7,"Shabbos 99",{"$f":"COUNT($A$2:A162)","v":161},483,5.9387679822943566E-2,3.6149022500922168E-2,null,null,null,null,null,"Shabbos ",{"$f":"VLOOKUP(Schedule!M162,#REF!,2,FALSE)","v":{"$error":"#REF!"}}]
["2020-06-14",1,"Shabbos 100",{"$f":"COUNT($A$2:A163)","v":162},486,5.9756547399483585E-2,3.6517890077462194E-2,null,null,null,null,null,"Shabbos ",{"$f":"VLOOKUP(Schedule!M163,#REF!,2,FALSE)","v":{"$error":"#REF!"}}]
["2020-06-15",2,"Shabbos 101",{"$f":"COUNT($A$2:A164)","v":163},489,6.0125414976023604E-2,3.6886757654002213E-2,null,null,null,null,null,"Shabbos ",{"$f":"VLOOKUP(Schedule!M164,#REF!,2,FALSE)","v":{"$error":"#REF!"}}]
["2020-06-16",3,"Shabbos 102",{"$f":"COUNT($A$2:A165)","v":164},492,6.049428255256363E-2,3.7255625230542239E-2,null,null,null,null,null,"Shabbos ",{"$f":"VLOOKUP(Schedule!M165,#REF!,2,FALSE)","v":{"$error":"#REF!"}}]
["2020-06-17",4,"Shabbos 103",{"$f":"COUNT($A$2:A166)","v":165},495,6.0863150129103649E-2,3.7624492807082258E-2,null,null,null,null,null,"Shabbos ",{"$f":"VLOOKUP(Schedule!M166,#REF!,2,FALSE)","v":{"$error":"#REF!"}}]
["2020-06-18",5,"Shabbos 104",{"$f":"COUNT($A$2:A167)","v":166},498,6.1232017705643675E-2,3.7993360383622277E-2,null,null,null,null,null,"Shabbos ",{"$f":"VLOOKUP(Schedule!M167,#REF!,2,FALSE)","v":{"$error":"#REF!"}}]
["2020-06-19",6,"Shabbos 105",{"$f":"COUNT($A$2:A168)","v":167},501,6.1600885282183694E-2,3.8362227960162303E-2,null,null,null,null,null,"Shabbos ",{"$f":"VLOOKUP(Schedule!M168,#REF!,2,FALSE)","v":{"$error":"#REF!"}}]
["2020-06-20",7,"Shabbos 106",{"$f":"COUNT($A$2:A169)","v":168},504,6.196975285872372E-2,3.8731095536702322E-2,null,null,null,null,null,"Shabbos ",{"$f":"VLOOKUP(Schedule!M169,#REF!,2,FALSE)","v":{"$error":"#REF!"}}]
["2020-06-21",1,"Shabbos 107",{"$f":"COUNT($A$2:A170)","v":169},507,6.2338620435263739E-2,3.9099963113242348E-2,null,null,null,null,null,"Shabbos ",{"$f":"VLOOKUP(Schedule!M170,#REF!,2,FALSE)","v":{"$error":"#REF!"}}]
["2020-06-22",2,"Shabbos 108",{"$f":"COUNT($A$2:A171)","v":170},510,6.2707488011803758E-2,3.9468830689782367E-2,null,null,null,null,null,"Shabbos ",{"$f":"VLOOKUP(Schedule!M171,#REF!,2,FALSE)","v":{"$error":"#REF!"}}]
["2020-06-23",3,"Shabbos 109",{"$f":"COUNT($A$2:A172)","v":171},513,6.3076355588343791E-2,3.9837698266322392E-2,null,null,null,null,null,"Shabbos ",{"$f":"VLOOKUP(Schedule!M172,#REF!,2,FALSE)","v":{"$error":"#REF!"}}]
["2020-06-24",4,"Shabbos 110",{"$f":"COUNT($A$2:A173)","v":172},516,6.344522316488381E-2,4.0206565842862411E-2,null,null,null,null,null,"Shabbos ",{"$f":"VLOOKUP(Schedule!M173,#REF!,2,FALSE)","v":{"$error":"#REF!"}}]
["2020-06-25",5,"Shabbos 111",{"$f":"COUNT($A$2:A174)","v":173},519,6.3814090741423829E-2,4.0575433419402437E-2,null,null,null,null,null,"Shabbos ",{"$f":"VLOOKUP(Schedule!M174,#REF!,2,FALSE)","v":{"$error":"#REF!"}}]
["2020-06-26",6,"Shabbos 112",{"$f":"COUNT($A$2:A175)","v":174},522,6.4182958317963848E-2,4.0944300995942456E-2,null,null,null,null,null,"Shabbos ",{"$f":"VLOOKUP(Schedule!M175,#REF!,2,FALSE)","v":{"$error":"#REF!"}}]
["2020-06-27",7,"Shabbos 113",{"$f":"COUNT($A$2:A176)","v":175},525,6.4551825894503867E-2,4.1313168572482475E-2,null,null,null,null,null,"Shabbos ",{"$f":"VLOOKUP(Schedule!M176,#REF!,2,FALSE)","v":{"$error":"#REF!"}}]
["2020-06-28",1,"Shabbos 114",{"$f":"COUNT($A$2:A177)","v":176},528,6.49206934710439E-2,4.1682036149022501E-2,null,null,null,null,null,"Shabbos ",{"$f":"VLOOKUP(Schedule!M177,#REF!,2,FALSE)","v":{"$error":"#REF!"}}]
["2020-06-29",2,"Shabbos 115",{"$f":"COUNT($A$2:A178)","v":177},531,6.5289561047583919E-2,4.205090372556252E-2,null,null,null,null,null,"Shabbos ",{"$f":"VLOOKUP(Schedule!M178,#REF!,2,FALSE)","v":{"$error":"#REF!"}}]
["2020-06-30",3,"Shabbos 116",{"$f":"COUNT($A$2:A179)","v":178},534,6.5658428624123938E-2,4.2419771302102546E-2,null,null,null,null,null,"Shabbos ",{"$f":"VLOOKUP(Schedule!M179,#REF!,2,FALSE)","v":{"$error":"#REF!"}}]
["2020-07-01",4,"Shabbos 117",{"$f":"COUNT($A$2:A180)","v":179},537,6.6027296200663957E-2,4.2788638878642565E-2,null,null,null,null,null,"Shabbos ",{"$f":"VLOOKUP(Schedule!M180,#REF!,2,FALSE)","v":{"$error":"#REF!"}}]
["2020-07-02",5,"Shabbos 118",{"$f":"COUNT($A$2:A181)","v":180},540,6.639616377720399E-2,4.3157506455182591E-2,null,null,null,null,null,"Shabbos ",{"$f":"VLOOKUP(Schedule!M181,#REF!,2,FALSE)","v":{"$error":"#REF!"}}]
["2020-07-03",6,"Shabbos 119",{"$f":"COUNT($A$2:A182)","v":181},543,6.6765031353744009E-2,4.352637403172261E-2,null,null,null,null,null,"Shabbos ",{"$f":"VLOOKUP(Schedule!M182,#REF!,2,FALSE)","v":{"$error":"#REF!"}}]
["2020-07-04",7,"Shabbos 120",{"$f":"COUNT($A$2:A183)","v":182},546,6.7133898930284028E-2,4.3895241608262636E-2,null,null,null,null,null,"Shabbos ",{"$f":"VLOOKUP(Schedule!M183,#REF!,2,FALSE)","v":{"$error":"#REF!"}}]
["2020-07-05",1,"Shabbos 121",{"$f":"COUNT($A$2:A184)","v":183},549,6.7502766506824047E-2,4.4264109184802655E-2,null,null,null,null,null,"Shabbos ",{"$f":"VLOOKUP(Schedule!M184,#REF!,2,FALSE)","v":{"$error":"#REF!"}}]
["2020-07-06",2,"Shabbos 122",{"$f":"COUNT($A$2:A185)","v":184},552,6.7871634083364066E-2,4.4632976761342681E-2,null,null,null,null,null,"Shabbos ",{"$f":"VLOOKUP(Schedule!M185,#REF!,2,FALSE)","v":{"$error":"#REF!"}}]
["2020-07-07",3,"Shabbos 123",{"$f":"COUNT($A$2:A186)","v":185},555,6.8240501659904099E-2,4.50018443378827E-2,null,null,null,null,null,"Shabbos ",{"$f":"VLOOKUP(Schedule!M186,#REF!,2,FALSE)","v":{"$error":"#REF!"}}]
["2020-07-08",4,"Shabbos 124",{"$f":"COUNT($A$2:A187)","v":186},558,6.8609369236444118E-2,4.5370711914422719E-2,null,null,null,null,null,"Shabbos ",{"$f":"VLOOKUP(Schedule!M187,#REF!,2,FALSE)","v":{"$error":"#REF!"}}]
["2020-07-09",5,"Shabbos 125",{"$f":"COUNT($A$2:A188)","v":187},561,6.8978236812984137E-2,4.5739579490962745E-2,null,null,null,null,null,"Shabbos ",{"$f":"VLOOKUP(Schedule!M188,#REF!,2,FALSE)","v":{"$error":"#REF!"}}]
["2020-07-10",6,"Shabbos 126",{"$f":"COUNT($A$2:A189)","v":188},564,6.9347104389524156E-2,4.6108447067502764E-2,null,null,null,null,null,"Shabbos ",{"$f":"VLOOKUP(Schedule!M189,#REF!,2,FALSE)","v":{"$error":"#REF!"}}]
["2020-07-11",7,"Shabbos 127",{"$f":"COUNT($A$2:A190)","v":189},567,6.9715971966064189E-2,4.647731464404279E-2,null,null,null,null,null,"Shabbos ",{"$f":"VLOOKUP(Schedule!M190,#REF!,2,FALSE)","v":{"$error":"#REF!"}}]
["2020-07-12",1,"Shabbos 128",{"$f":"COUNT($A$2:A191)","v":190},570,7.0084839542604208E-2,4.6846182220582809E-2,null,null,null,null,null,"Shabbos ",{"$f":"VLOOKUP(Schedule!M191,#REF!,2,FALSE)","v":{"$error":"#REF!"}}]
["2020-07-13",2,"Shabbos 129",{"$f":"COUNT($A$2:A192)","v":191},573,7.0453707119144227E-2,4.7215049797122835E-2,null,null,null,null,null,"Shabbos ",{"$f":"VLOOKUP(Schedule!M192,#REF!,2,FALSE)","v":{"$error":"#REF!"}}]
["2020-07-14",3,"Shabbos 130",{"$f":"COUNT($A$2:A193)","v":192},576,7.0822574695684246E-2,4.7583917373662854E-2,null,null,null,null,null,"Shabbos ",{"$f":"VLOOKUP(Schedule!M193,#REF!,2,FALSE)","v":{"$error":"#REF!"}}]
["2020-07-15",4,"Shabbos 131",{"$f":"COUNT($A$2:A194)","v":193},{"$f":"D194*3","v":579},7.1191442272224265E-2,{"$f":"(D194-63)/2711","v":4.795278495020288E-2},null,null,null,null,null,"Shabbos ",{"$f":"VLOOKUP(Schedule!M194,#REF!,2,FALSE)","v":{"$error":"#REF!"}}]
["2020-07-16",{"$f":"WEEKDAY(A195)","v":5},"Shabbos 132",{"$f":"COUNT($A$2:A195)","v":194},582,{"$f":"D195/2711","v":7.1560309848764297E-2},4.8321652526742899E-2,null,null,null,null,null,{"$f":"LEFT(C195,FIND(\"☃\",SUBSTITUTE(C195,\" \",\"☃\",LEN(C195)-LEN(SUBSTITUTE(C195,\" \",\"\")))))","v":"Shabbos "},{"$f":"VLOOKUP(Schedule!M195,#REF!,2,FALSE)","v":{"$error":"#REF!"}}]
["2020-07-17",6,"Shabbos 133",{"$f":"COUNT($A$2:A196)","v":195},585,7.1929177425304316E-2,4.8690520103282925E-2,null,null,null,null,null,"Shabbos ",{"$f":"VLOOKUP(Schedule!M196,#REF!,2,FALSE)","v":{"$error":"#REF!"}}]
["2020-07-18",7,"Shabbos 134",{"$f":"COUNT($A$2:A197)","v":196},588,7.2298045001844335E-2,4.9059387679822944E-2,null,null,null,null,null,"Shabbos ",{"$f":"VLOOKUP(Schedule!M197,#REF!,2,FALSE)","v":{"$error":"#REF!"}}]
["2020-07-19",1,"Shabbos 135",{"$f":"COUNT($A$2:A198)","v":197},591,7.2666912578384354E-2,4.9428255256362963E-2,null,null,null,null,null,"Shabbos ",{"$f":"VLOOKUP(Schedule!M198,#REF!,2,FALSE)","v":{"$error":"#REF!"}}]
["2020-07-20",2,"Shabbos 136",{"$f":"COUNT($A$2:A199)","v":198},594,7.3035780154924387E-2,4.9797122832902989E-2,null,null,null,null,null,"Shabbos ",{"$f":"VLOOKUP(Schedule!M199,#REF!,2,FALSE)","v":{"$error":"#REF!"}}]
["2020-07-21",3,"Shabbos 137",{"$f":"COUNT($A$2:A200)","v":199},597,7.3404647731464406E-2,5.0165990409443008E-2,null,null,null,null,null,"Shabbos ",{"$f":"VLOOKUP(Schedule!M200,#REF!,2,FALSE)","v":{"$error":"#REF!"}}]
["2020-07-22",4,"Shabbos 138",{"$f":"COUNT($A$2:A201)","v":200},600,7.3773515308004425E-2,5.0534857985983034E-2,null,null,null,null,null,"Shabbos ",{"$f":"VLOOKUP(Schedule!M201,#REF!,2,FALSE)","v":{"$error":"#REF!"}}]
["2020-07-23",5,"Shabbos 139",{"$f":"COUNT($A$2:A202)","v":201},603,7.4142382884544444E-2,5.0903725562523053E-2,null,null,null,null,null,"Shabbos ",{"$f":"VLOOKUP(Schedule!M202,#REF!,2,FALSE)","v":{"$error":"#REF!"}}]
["2020-07-24",6,"Shabbos 140",{"$f":"COUNT($A$2:A203)","v":202},606,7.4511250461084477E-2,5.1272593139063079E-2,null,null,null,null,null,"Shabbos ",{"$f":"VLOOKUP(Schedule!M203,#REF!,2,FALSE)","v":{"$error":"#REF!"}}]
["2020-07-25",7,"Shabbos 141",{"$f":"COUNT($A$2:A204)","v":203},609,7.4880118037624496E-2,5.1641460715603098E-2,null,null,null,null,null,"Shabbos ",{"$f":"VLOOKUP(Schedule!M204,#REF!,2,FALSE)","v":{"$error":"#REF!"}}]
["2020-07-26",1,"Shabbos 142",{"$f":"COUNT($A$2:A205)","v":204},612,7.5248985614164515E-2,5.2010328292143124E-2,null,null,null,null,null,"Shabbos ",{"$f":"VLOOKUP(Schedule!M205,#REF!,2,FALSE)","v":{"$error":"#REF!"}}]
["2020-07-27",2,"Shabbos 143",{"$f":"COUNT($A$2:A206)","v":205},615,7.5617853190704534E-2,5.2379195868683143E-2,null,null,null,null,null,"Shabbos ",{"$f":"VLOOKUP(Schedule!M206,#REF!,2,FALSE)","v":{"$error":"#REF!"}}]
["2020-07-28",3,"Shabbos 144",{"$f":"COUNT($A$2:A207)","v":206},618,7.5986720767244553E-2,5.2748063445223162E-2,null,null,null,null,null,"Shabbos ",{"$f":"VLOOKUP(Schedule!M207,#REF!,2,FALSE)","v":{"$error":"#REF!"}}]
["2020-07-29",4,"Shabbos 145",{"$f":"COUNT($A$2:A208)","v":207},621,7.6355588343784586E-2,5.3116931021763188E-2,null,null,null,null,null,"Shabbos ",{"$f":"VLOOKUP(Schedule!M208,#REF!,2,FALSE)","v":{"$error":"#REF!"}}]
["2020-07-30",5,"Shabbos 146",{"$f":"COUNT($A$2:A209)","v":208},624,7.6724455920324605E-2,5.3485798598303207E-2,null,null,null,null,null,"Shabbos ",{"$f":"VLOOKUP(Schedule!M209,#REF!,2,FALSE)","v":{"$error":"#REF!"}}]
["2020-07-31",6,"Shabbos 147",{"$f":"COUNT($A$2:A210)","v":209},627,7.7093323496864624E-2,5.3854666174843233E-2,null,null,null,null,null,"Shabbos ",{"$f":"VLOOKUP(Schedule!M210,#REF!,2,FALSE)","v":{"$error":"#REF!"}}]
["2020-08-01",7,"Shabbos 148",{"$f":"COUNT($A$2:A211)","v":210},630,7.7462191073404643E-2,5.4223533751383252E-2,null,null,null,null,null,"Shabbos ",{"$f":"VLOOKUP(Schedule!M211,#REF!,2,FALSE)","v":{"$error":"#REF!"}}]
["2020-08-02",1,"Shabbos 149",{"$f":"COUNT($A$2:A212)","v":211},633,7.7831058649944676E-2,5.4592401327923278E-2,null,null,null,null,null,"Shabbos ",{"$f":"VLOOKUP(Schedule!M212,#REF!,2,FALSE)","v":{"$error":"#REF!"}}]
["2020-08-03",2,"Shabbos 150",{"$f":"COUNT($A$2:A213)","v":212},636,7.8199926226484695E-2,5.4961268904463297E-2,null,null,null,null,null,"Shabbos ",{"$f":"VLOOKUP(Schedule!M213,#REF!,2,FALSE)","v":{"$error":"#REF!"}}]
["2020-08-04",3,"Shabbos 151",{"$f":"COUNT($A$2:A214)","v":213},639,7.8568793803024714E-2,5.5330136481003322E-2,null,null,null,null,null,"Shabbos ",{"$f":"VLOOKUP(Schedule!M214,#REF!,2,FALSE)","v":{"$error":"#REF!"}}]
["2020-08-05",4,"Shabbos 152",{"$f":"COUNT($A$2:A215)","v":214},642,7.8937661379564733E-2,5.5699004057543341E-2,null,null,null,null,null,"Shabbos ",{"$f":"VLOOKUP(Schedule!M215,#REF!,2,FALSE)","v":{"$error":"#REF!"}}]
["2020-08-06",5,"Shabbos 153",{"$f":"COUNT($A$2:A216)","v":215},645,7.9306528956104752E-2,5.6067871634083367E-2,null,null,null,null,null,"Shabbos ",{"$f":"VLOOKUP(Schedule!M216,#REF!,2,FALSE)","v":{"$error":"#REF!"}}]
["2020-08-07",6,"Shabbos 154",{"$f":"COUNT($A$2:A217)","v":216},648,7.9675396532644785E-2,5.6436739210623386E-2,null,null,null,null,null,"Shabbos ",{"$f":"VLOOKUP(Schedule!M217,#REF!,2,FALSE)","v":{"$error":"#REF!"}}]
["2020-08-08",7,"Shabbos 155",{"$f":"COUNT($A$2:A218)","v":217},651,8.0044264109184804E-2,5.6805606787163405E-2,null,null,null,null,null,"Shabbos ",{"$f":"VLOOKUP(Schedule!M218,#REF!,2,FALSE)","v":{"$error":"#REF!"}}]
["2020-08-09",1,"Shabbos 156",{"$f":"COUNT($A$2:A219)","v":218},654,8.0413131685724823E-2,5.7174474363703431E-2,null,null,null,null,null,"Shabbos ",{"$f":"VLOOKUP(Schedule!M219,#REF!,2,FALSE)","v":{"$error":"#REF!"}}]
["2020-08-10",2,"Shabbos 157",{"$f":"COUNT($A$2:A220)","v":219},657,8.0781999262264842E-2,5.754334194024345E-2,null,null,null,null,null,"Shabbos ",{"$f":"VLOOKUP(Schedule!M220,#REF!,2,FALSE)","v":{"$error":"#REF!"}}]
["2020-08-11",3,"Eruvin 2",{"$f":"COUNT($A$2:A221)","v":220},660,8.1150866838804875E-2,5.7912209516783476E-2,{"$f":"(D221-219)/2711","v":3.6886757654002215E-4},null,null,null,null,"Eruvin ",{"$f":"VLOOKUP(Schedule!M221,#REF!,2,FALSE)","v":{"$error":"#REF!"}}]
["2020-08-12",4,"Eruvin 3",{"$f":"COUNT($A$2:A222)","v":221},663,8.1519734415344894E-2,5.8281077093323495E-2,{"$f":"(D222-219)/2711","v":7.377351530800443E-4},null,null,null,null,"Eruvin ",{"$f":"VLOOKUP(Schedule!M222,#REF!,2,FALSE)","v":{"$error":"#REF!"}}]
["2020-08-13",5,"Eruvin 4",{"$f":"COUNT($A$2:A223)","v":222},666,8.1888601991884913E-2,5.8649944669863521E-2,1.1066027296200663E-3,null,null,null,null,"Eruvin ",{"$f":"VLOOKUP(Schedule!M223,#REF!,2,FALSE)","v":{"$error":"#REF!"}}]
["2020-08-14",6,"Eruvin 5",{"$f":"COUNT($A$2:A224)","v":223},669,8.2257469568424932E-2,5.901881224640354E-2,1.4754703061600886E-3,null,null,null,null,"Eruvin ",{"$f":"VLOOKUP(Schedule!M224,#REF!,2,FALSE)","v":{"$error":"#REF!"}}]
["2020-08-15",7,"Eruvin 6",{"$f":"COUNT($A$2:A225)","v":224},672,8.2626337144964951E-2,5.9387679822943566E-2,1.8443378827001106E-3,null,null,null,null,"Eruvin ",{"$f":"VLOOKUP(Schedule!M225,#REF!,2,FALSE)","v":{"$error":"#REF!"}}]
["2020-08-16",1,"Eruvin 7",{"$f":"COUNT($A$2:A226)","v":225},675,8.2995204721504984E-2,5.9756547399483585E-2,2.2132054592401327E-3,null,null,null,null,"Eruvin ",{"$f":"VLOOKUP(Schedule!M226,#REF!,2,FALSE)","v":{"$error":"#REF!"}}]
["2020-08-17",2,"Eruvin 8",{"$f":"COUNT($A$2:A227)","v":226},678,8.3364072298045003E-2,6.0125414976023604E-2,2.5820730357801547E-3,null,null,null,null,"Eruvin ",{"$f":"VLOOKUP(Schedule!M227,#REF!,2,FALSE)","v":{"$error":"#REF!"}}]
["2020-08-18",3,"Eruvin 9",{"$f":"COUNT($A$2:A228)","v":227},681,8.3732939874585022E-2,6.049428255256363E-2,2.9509406123201772E-3,null,null,null,null,"Eruvin ",{"$f":"VLOOKUP(Schedule!M228,#REF!,2,FALSE)","v":{"$error":"#REF!"}}]
["2020-08-19",4,"Eruvin 10",{"$f":"COUNT($A$2:A229)","v":228},684,8.4101807451125041E-2,6.0863150129103649E-2,3.3198081888601992E-3,null,null,null,null,"Eruvin ",{"$f":"VLOOKUP(Schedule!M229,#REF!,2,FALSE)","v":{"$error":"#REF!"}}]
["2020-08-20",5,"Eruvin 11",{"$f":"COUNT($A$2:A230)","v":229},687,8.4470675027665074E-2,6.1232017705643675E-2,3.6886757654002213E-3,null,null,null,null,"Eruvin ",{"$f":"VLOOKUP(Schedule!M230,#REF!,2,FALSE)","v":{"$error":"#REF!"}}]
["2020-08-21",6,"Eruvin 12",{"$f":"COUNT($A$2:A231)","v":230},690,8.4839542604205093E-2,6.1600885282183694E-2,4.0575433419402437E-3,null,null,null,null,"Eruvin ",{"$f":"VLOOKUP(Schedule!M231,#REF!,2,FALSE)","v":{"$error":"#REF!"}}]
["2020-08-22",7,"Eruvin 13",{"$f":"COUNT($A$2:A232)","v":231},693,8.5208410180745112E-2,6.196975285872372E-2,4.4264109184802653E-3,null,null,null,null,"Eruvin ",{"$f":"VLOOKUP(Schedule!M232,#REF!,2,FALSE)","v":{"$error":"#REF!"}}]
["2020-08-23",1,"Eruvin 14",{"$f":"COUNT($A$2:A233)","v":232},696,8.5577277757285131E-2,6.2338620435263739E-2,4.7952784950202878E-3,null,null,null,null,"Eruvin ",{"$f":"VLOOKUP(Schedule!M233,#REF!,2,FALSE)","v":{"$error":"#REF!"}}]
["2020-08-24",2,"Eruvin 15",{"$f":"COUNT($A$2:A234)","v":233},699,8.5946145333825164E-2,6.2707488011803758E-2,5.1641460715603094E-3,null,null,null,null,"Eruvin ",{"$f":"VLOOKUP(Schedule!M234,#REF!,2,FALSE)","v":{"$error":"#REF!"}}]
["2020-08-25",3,"Eruvin 16",{"$f":"COUNT($A$2:A235)","v":234},702,8.6315012910365183E-2,6.3076355588343791E-2,5.5330136481003319E-3,null,null,null,null,"Eruvin ",{"$f":"VLOOKUP(Schedule!M235,#REF!,2,FALSE)","v":{"$error":"#REF!"}}]
["2020-08-26",4,"Eruvin 17",{"$f":"COUNT($A$2:A236)","v":235},705,8.6683880486905202E-2,6.344522316488381E-2,5.9018812246403544E-3,null,null,null,null,"Eruvin ",{"$f":"VLOOKUP(Schedule!M236,#REF!,2,FALSE)","v":{"$error":"#REF!"}}]
["2020-08-27",5,"Eruvin 18",{"$f":"COUNT($A$2:A237)","v":236},708,8.7052748063445221E-2,6.3814090741423829E-2,6.270748801180376E-3,null,null,null,null,"Eruvin ",{"$f":"VLOOKUP(Schedule!M237,#REF!,2,FALSE)","v":{"$error":"#REF!"}}]
["2020-08-28",6,"Eruvin 19",{"$f":"COUNT($A$2:A238)","v":237},711,8.742161563998524E-2,6.4182958317963848E-2,6.6396163777203985E-3,null,null,null,null,"Eruvin ",{"$f":"VLOOKUP(Schedule!M238,#REF!,2,FALSE)","v":{"$error":"#REF!"}}]
["2020-08-29",7,"Eruvin 20",{"$f":"COUNT($A$2:A239)","v":238},714,8.7790483216525272E-2,6.4551825894503867E-2,7.0084839542604209E-3,null,null,null,null,"Eruvin ",{"$f":"VLOOKUP(Schedule!M239,#REF!,2,FALSE)","v":{"$error":"#REF!"}}]
["2020-08-30",1,"Eruvin 21",{"$f":"COUNT($A$2:A240)","v":239},717,8.8159350793065291E-2,6.49206934710439E-2,7.3773515308004425E-3,null,null,null,null,"Eruvin ",{"$f":"VLOOKUP(Schedule!M240,#REF!,2,FALSE)","v":{"$error":"#REF!"}}]
["2020-08-31",2,"Eruvin 22",{"$f":"COUNT($A$2:A241)","v":240},720,8.852821836960531E-2,6.5289561047583919E-2,7.746219107340465E-3,null,null,null,null,"Eruvin ",{"$f":"VLOOKUP(Schedule!M241,#REF!,2,FALSE)","v":{"$error":"#REF!"}}]
["2020-09-01",3,"Eruvin 23",{"$f":"COUNT($A$2:A242)","v":241},723,8.8897085946145329E-2,6.5658428624123938E-2,8.1150866838804875E-3,null,null,null,null,"Eruvin ",{"$f":"VLOOKUP(Schedule!M242,#REF!,2,FALSE)","v":{"$error":"#REF!"}}]
["2020-09-02",4,"Eruvin 24",{"$f":"COUNT($A$2:A243)","v":242},726,8.9265953522685362E-2,6.6027296200663957E-2,8.4839542604205082E-3,null,null,null,null,"Eruvin ",{"$f":"VLOOKUP(Schedule!M243,#REF!,2,FALSE)","v":{"$error":"#REF!"}}]
["2020-09-03",5,"Eruvin 25",{"$f":"COUNT($A$2:A244)","v":243},729,8.9634821099225381E-2,6.639616377720399E-2,8.8528218369605307E-3,null,null,null,null,"Eruvin ",{"$f":"VLOOKUP(Schedule!M244,#REF!,2,FALSE)","v":{"$error":"#REF!"}}]
["2020-09-04",6,"Eruvin 26",{"$f":"COUNT($A$2:A245)","v":244},732,9.00036886757654E-2,6.6765031353744009E-2,9.2216894135005532E-3,null,null,null,null,"Eruvin ",{"$f":"VLOOKUP(Schedule!M245,#REF!,2,FALSE)","v":{"$error":"#REF!"}}]
["2020-09-05",7,"Eruvin 27",{"$f":"COUNT($A$2:A246)","v":245},735,9.0372556252305419E-2,6.7133898930284028E-2,9.5905569900405756E-3,null,null,null,null,"Eruvin ",{"$f":"VLOOKUP(Schedule!M246,#REF!,2,FALSE)","v":{"$error":"#REF!"}}]
["2020-09-06",1,"Eruvin 28",{"$f":"COUNT($A$2:A247)","v":246},738,9.0741423828845438E-2,6.7502766506824047E-2,9.9594245665805981E-3,null,null,null,null,"Eruvin ",{"$f":"VLOOKUP(Schedule!M247,#REF!,2,FALSE)","v":{"$error":"#REF!"}}]
["2020-09-07",2,"Eruvin 29",{"$f":"COUNT($A$2:A248)","v":247},741,9.1110291405385471E-2,6.7871634083364066E-2,1.0328292143120619E-2,null,null,null,null,"Eruvin ",{"$f":"VLOOKUP(Schedule!M248,#REF!,2,FALSE)","v":{"$error":"#REF!"}}]
["2020-09-08",3,"Eruvin 30",{"$f":"COUNT($A$2:A249)","v":248},744,9.147915898192549E-2,6.8240501659904099E-2,1.0697159719660641E-2,null,null,null,null,"Eruvin ",{"$f":"VLOOKUP(Schedule!M249,#REF!,2,FALSE)","v":{"$error":"#REF!"}}]
["2020-09-09",4,"Eruvin 31",{"$f":"COUNT($A$2:A250)","v":249},747,9.1848026558465509E-2,6.8609369236444118E-2,1.1066027296200664E-2,null,null,null,null,"Eruvin ",{"$f":"VLOOKUP(Schedule!M250,#REF!,2,FALSE)","v":{"$error":"#REF!"}}]
["2020-09-10",5,"Eruvin 32",{"$f":"COUNT($A$2:A251)","v":250},750,9.2216894135005528E-2,6.8978236812984137E-2,1.1434894872740686E-2,null,null,null,null,"Eruvin ",{"$f":"VLOOKUP(Schedule!M251,#REF!,2,FALSE)","v":{"$error":"#REF!"}}]
["2020-09-11",6,"Eruvin 33",{"$f":"COUNT($A$2:A252)","v":251},753,9.2585761711545561E-2,6.9347104389524156E-2,1.1803762449280709E-2,null,null,null,null,"Eruvin ",{"$f":"VLOOKUP(Schedule!M252,#REF!,2,FALSE)","v":{"$error":"#REF!"}}]
["2020-09-12",7,"Eruvin 34",{"$f":"COUNT($A$2:A253)","v":252},756,9.295462928808558E-2,6.9715971966064189E-2,1.2172630025820731E-2,null,null,null,null,"Eruvin ",{"$f":"VLOOKUP(Schedule!M253,#REF!,2,FALSE)","v":{"$error":"#REF!"}}]
["2020-09-13",1,"Eruvin 35",{"$f":"COUNT($A$2:A254)","v":253},759,9.3323496864625599E-2,7.0084839542604208E-2,1.2541497602360752E-2,null,null,null,null,"Eruvin ",{"$f":"VLOOKUP(Schedule!M254,#REF!,2,FALSE)","v":{"$error":"#REF!"}}]
["2020-09-14",2,"Eruvin 36",{"$f":"COUNT($A$2:A255)","v":254},762,9.3692364441165618E-2,7.0453707119144227E-2,1.2910365178900774E-2,null,null,null,null,"Eruvin ",{"$f":"VLOOKUP(Schedule!M255,#REF!,2,FALSE)","v":{"$error":"#REF!"}}]
["2020-09-15",3,"Eruvin 37",{"$f":"COUNT($A$2:A256)","v":255},765,9.4061232017705637E-2,7.0822574695684246E-2,1.3279232755440797E-2,null,null,null,null,"Eruvin ",{"$f":"VLOOKUP(Schedule!M256,#REF!,2,FALSE)","v":{"$error":"#REF!"}}]
["2020-09-16",4,"Eruvin 38",{"$f":"COUNT($A$2:A257)","v":256},768,9.443009959424567E-2,7.1191442272224265E-2,1.3648100331980819E-2,null,null,null,null,"Eruvin ",{"$f":"VLOOKUP(Schedule!M257,#REF!,2,FALSE)","v":{"$error":"#REF!"}}]
["2020-09-17",5,"Eruvin 39",{"$f":"COUNT($A$2:A258)","v":257},{"$f":"D258*3","v":771},9.4798967170785689E-2,{"$f":"(D258-63)/2711","v":7.1560309848764297E-2},1.4016967908520842E-2,null,null,null,null,"Eruvin ",{"$f":"VLOOKUP(Schedule!M258,#REF!,2,FALSE)","v":{"$error":"#REF!"}}]
["2020-09-18",{"$f":"WEEKDAY(A259)","v":6},"Eruvin 40",{"$f":"COUNT($A$2:A259)","v":258},774,{"$f":"D259/2711","v":9.5167834747325708E-2},7.1929177425304316E-2,1.4385835485060863E-2,null,null,null,null,{"$f":"LEFT(C259,FIND(\"☃\",SUBSTITUTE(C259,\" \",\"☃\",LEN(C259)-LEN(SUBSTITUTE(C259,\" \",\"\")))))","v":"Eruvin "},{"$f":"VLOOKUP(Schedule!M259,#REF!,2,FALSE)","v":{"$error":"#REF!"}}]
["2020-09-19",7,"Eruvin 41",{"$f":"COUNT($A$2:A260)","v":259},777,9.5536702323865727E-2,7.2298045001844335E-2,1.4754703061600885E-2,null,null,null,null,"Eruvin ",{"$f":"VLOOKUP(Schedule!M260,#REF!,2,FALSE)","v":{"$error":"#REF!"}}]
["2020-09-20",1,"Eruvin 42",{"$f":"COUNT($A$2:A261)","v":260},780,9.590556990040576E-2,7.2666912578384354E-2,1.5123570638140908E-2,null,null,null,null,"Eruvin ",{"$f":"VLOOKUP(Schedule!M261,#REF!,2,FALSE)","v":{"$error":"#REF!"}}]
["2020-09-21",2,"Eruvin 43",{"$f":"COUNT($A$2:A262)","v":261},783,9.6274437476945779E-2,7.3035780154924387E-2,1.549243821468093E-2,null,null,null,null,"Eruvin ",{"$f":"VLOOKUP(Schedule!M262,#REF!,2,FALSE)","v":{"$error":"#REF!"}}]
["2020-09-22",3,"Eruvin 44",{"$f":"COUNT($A$2:A263)","v":262},786,9.6643305053485798E-2,7.3404647731464406E-2,1.5861305791220952E-2,null,null,null,null,"Eruvin ",{"$f":"VLOOKUP(Schedule!M263,#REF!,2,FALSE)","v":{"$error":"#REF!"}}]
["2020-09-23",4,"Eruvin 45",{"$f":"COUNT($A$2:A264)","v":263},789,9.7012172630025817E-2,7.3773515308004425E-2,1.6230173367760975E-2,null,null,null,null,"Eruvin ",{"$f":"VLOOKUP(Schedule!M264,#REF!,2,FALSE)","v":{"$error":"#REF!"}}]
["2020-09-24",5,"Eruvin 46",{"$f":"COUNT($A$2:A265)","v":264},792,9.738104020656585E-2,7.4142382884544444E-2,1.6599040944300997E-2,null,null,null,null,"Eruvin ",{"$f":"VLOOKUP(Schedule!M265,#REF!,2,FALSE)","v":{"$error":"#REF!"}}]
["2020-09-25",6,"Eruvin 47",{"$f":"COUNT($A$2:A266)","v":265},795,9.7749907783105869E-2,7.4511250461084477E-2,1.6967908520841016E-2,null,null,null,null,"Eruvin ",{"$f":"VLOOKUP(Schedule!M266,#REF!,2,FALSE)","v":{"$error":"#REF!"}}]
["2020-09-26",7,"Eruvin 48",{"$f":"COUNT($A$2:A267)","v":266},798,9.8118775359645888E-2,7.4880118037624496E-2,1.7336776097381039E-2,null,null,null,null,"Eruvin ",{"$f":"VLOOKUP(Schedule!M267,#REF!,2,FALSE)","v":{"$error":"#REF!"}}]
["2020-09-27",1,"Eruvin 49",{"$f":"COUNT($A$2:A268)","v":267},801,9.8487642936185907E-2,7.5248985614164515E-2,1.7705643673921061E-2,null,null,null,null,"Eruvin ",{"$f":"VLOOKUP(Schedule!M268,#REF!,2,FALSE)","v":{"$error":"#REF!"}}]
["2020-09-28",2,"Eruvin 50",{"$f":"COUNT($A$2:A269)","v":268},804,9.8856510512725926E-2,7.5617853190704534E-2,1.8074511250461084E-2,null,null,null,null,"Eruvin ",{"$f":"VLOOKUP(Schedule!M269,#REF!,2,FALSE)","v":{"$error":"#REF!"}}]
["2020-09-29",3,"Eruvin 51",{"$f":"COUNT($A$2:A270)","v":269},807,9.9225378089265959E-2,7.5986720767244553E-2,1.8443378827001106E-2,null,null,null,null,"Eruvin ",{"$f":"VLOOKUP(Schedule!M270,#REF!,2,FALSE)","v":{"$error":"#REF!"}}]
["2020-09-30",4,"Eruvin 52",{"$f":"COUNT($A$2:A271)","v":270},810,9.9594245665805978E-2,7.6355588343784586E-2,1.8812246403541129E-2,null,null,null,null,"Eruvin ",{"$f":"VLOOKUP(Schedule!M271,#REF!,2,FALSE)","v":{"$error":"#REF!"}}]
["2020-10-01",5,"Eruvin 53",{"$f":"COUNT($A$2:A272)","v":271},813,9.9963113242345997E-2,7.6724455920324605E-2,1.9181113980081151E-2,null,null,null,null,"Eruvin ",{"$f":"VLOOKUP(Schedule!M272,#REF!,2,FALSE)","v":{"$error":"#REF!"}}]
["2020-10-02",6,"Eruvin 54",{"$f":"COUNT($A$2:A273)","v":272},816,0.10033198081888602,7.7093323496864624E-2,1.9549981556621174E-2,null,null,null,null,"Eruvin ",{"$f":"VLOOKUP(Schedule!M273,#REF!,2,FALSE)","v":{"$error":"#REF!"}}]
["2020-10-03",7,"Eruvin 55",{"$f":"COUNT($A$2:A274)","v":273},819,0.10070084839542605,7.7462191073404643E-2,1.9918849133161196E-2,null,null,null,null,"Eruvin ",{"$f":"VLOOKUP(Schedule!M274,#REF!,2,FALSE)","v":{"$error":"#REF!"}}]
["2020-10-04",1,"Eruvin 56",{"$f":"COUNT($A$2:A275)","v":274},822,0.10106971597196607,7.7831058649944676E-2,2.0287716709701219E-2,null,null,null,null,"Eruvin ",{"$f":"VLOOKUP(Schedule!M275,#REF!,2,FALSE)","v":{"$error":"#REF!"}}]
["2020-10-05",2,"Eruvin 57",{"$f":"COUNT($A$2:A276)","v":275},825,0.10143858354850609,7.8199926226484695E-2,2.0656584286241238E-2,null,null,null,null,"Eruvin ",{"$f":"VLOOKUP(Schedule!M276,#REF!,2,FALSE)","v":{"$error":"#REF!"}}]
["2020-10-06",3,"Eruvin 58",{"$f":"COUNT($A$2:A277)","v":276},828,0.10180745112504611,7.8568793803024714E-2,2.102545186278126E-2,null,null,null,null,"Eruvin ",{"$f":"VLOOKUP(Schedule!M277,#REF!,2,FALSE)","v":{"$error":"#REF!"}}]
["2020-10-07",4,"Eruvin 59",{"$f":"COUNT($A$2:A278)","v":277},831,0.10217631870158612,7.8937661379564733E-2,2.1394319439321283E-2,null,null,null,null,"Eruvin ",{"$f":"VLOOKUP(Schedule!M278,#REF!,2,FALSE)","v":{"$error":"#REF!"}}]
["2020-10-08",5,"Eruvin 60",{"$f":"COUNT($A$2:A279)","v":278},834,0.10254518627812616,7.9306528956104752E-2,2.1763187015861305E-2,null,null,null,null,"Eruvin ",{"$f":"VLOOKUP(Schedule!M279,#REF!,2,FALSE)","v":{"$error":"#REF!"}}]
["2020-10-09",6,"Eruvin 61",{"$f":"COUNT($A$2:A280)","v":279},837,0.10291405385466618,7.9675396532644785E-2,2.2132054592401328E-2,null,null,null,null,"Eruvin ",{"$f":"VLOOKUP(Schedule!M280,#REF!,2,FALSE)","v":{"$error":"#REF!"}}]
["2020-10-10",7,"Eruvin 62",{"$f":"COUNT($A$2:A281)","v":280},840,0.1032829214312062,8.0044264109184804E-2,2.250092216894135E-2,null,null,null,null,"Eruvin ",{"$f":"VLOOKUP(Schedule!M281,#REF!,2,FALSE)","v":{"$error":"#REF!"}}]
["2020-10-11",1,"Eruvin 63",{"$f":"COUNT($A$2:A282)","v":281},843,0.10365178900774621,8.0413131685724823E-2,2.2869789745481373E-2,null,null,null,null,"Eruvin ",{"$f":"VLOOKUP(Schedule!M282,#REF!,2,FALSE)","v":{"$error":"#REF!"}}]
["2020-10-12",2,"Eruvin 64",{"$f":"COUNT($A$2:A283)","v":282},846,0.10402065658428625,8.0781999262264842E-2,2.3238657322021395E-2,null,null,null,null,"Eruvin ",{"$f":"VLOOKUP(Schedule!M283,#REF!,2,FALSE)","v":{"$error":"#REF!"}}]
["2020-10-13",3,"Eruvin 65",{"$f":"COUNT($A$2:A284)","v":283},849,0.10438952416082627,8.1150866838804875E-2,2.3607524898561418E-2,null,null,null,null,"Eruvin ",{"$f":"VLOOKUP(Schedule!M284,#REF!,2,FALSE)","v":{"$error":"#REF!"}}]
["2020-10-14",4,"Eruvin 66",{"$f":"COUNT($A$2:A285)","v":284},852,0.10475839173736629,8.1519734415344894E-2,2.397639247510144E-2,null,null,null,null,"Eruvin ",{"$f":"VLOOKUP(Schedule!M285,#REF!,2,FALSE)","v":{"$error":"#REF!"}}]
["2020-10-15",5,"Eruvin 67",{"$f":"COUNT($A$2:A286)","v":285},855,0.1051272593139063,8.1888601991884913E-2,{"$f":"(D286-219)/2711","v":2.4345260051641462E-2},null,null,null,null,"Eruvin ",{"$f":"VLOOKUP(Schedule!M286,#REF!,2,FALSE)","v":{"$error":"#REF!"}}]
["2020-10-16",6,"Eruvin 68",{"$f":"COUNT($A$2:A287)","v":286},858,0.10549612689044632,8.2257469568424932E-2,2.4714127628181481E-2,null,null,null,null,"Eruvin ",{"$f":"VLOOKUP(Schedule!M287,#REF!,2,FALSE)","v":{"$error":"#REF!"}}]
["2020-10-17",7,"Eruvin 69",{"$f":"COUNT($A$2:A288)","v":287},861,0.10586499446698636,8.2626337144964951E-2,2.5082995204721504E-2,null,null,null,null,"Eruvin ",{"$f":"VLOOKUP(Schedule!M288,#REF!,2,FALSE)","v":{"$error":"#REF!"}}]
["2020-10-18",1,"Eruvin 70",{"$f":"COUNT($A$2:A289)","v":288},864,0.10623386204352638,8.2995204721504984E-2,2.5451862781261526E-2,null,null,null,null,"Eruvin ",{"$f":"VLOOKUP(Schedule!M289,#REF!,2,FALSE)","v":{"$error":"#REF!"}}]
["2020-10-19",2,"Eruvin 71",{"$f":"COUNT($A$2:A290)","v":289},867,0.10660272962006639,8.3364072298045003E-2,2.5820730357801549E-2,null,null,null,null,"Eruvin ",{"$f":"VLOOKUP(Schedule!M290,#REF!,2,FALSE)","v":{"$error":"#REF!"}}]
["2020-10-20",3,"Eruvin 72",{"$f":"COUNT($A$2:A291)","v":290},870,0.10697159719660641,8.3732939874585022E-2,2.6189597934341571E-2,null,null,null,null,"Eruvin ",{"$f":"VLOOKUP(Schedule!M291,#REF!,2,FALSE)","v":{"$error":"#REF!"}}]
["2020-10-21",4,"Eruvin 73",{"$f":"COUNT($A$2:A292)","v":291},873,0.10734046477314645,8.4101807451125041E-2,2.6558465510881594E-2,null,null,null,null,"Eruvin ",{"$f":"VLOOKUP(Schedule!M292,#REF!,2,FALSE)","v":{"$error":"#REF!"}}]
["2020-10-22",5,"Eruvin 74",{"$f":"COUNT($A$2:A293)","v":292},876,0.10770933234968647,8.4470675027665074E-2,2.6927333087421616E-2,null,null,null,null,"Eruvin ",{"$f":"VLOOKUP(Schedule!M293,#REF!,2,FALSE)","v":{"$error":"#REF!"}}]
["2020-10-23",6,"Eruvin 75",{"$f":"COUNT($A$2:A294)","v":293},879,0.10807819992622648,8.4839542604205093E-2,2.7296200663961639E-2,null,null,null,null,"Eruvin ",{"$f":"VLOOKUP(Schedule!M294,#REF!,2,FALSE)","v":{"$error":"#REF!"}}]
["2020-10-24",7,"Eruvin 76",{"$f":"COUNT($A$2:A295)","v":294},882,0.1084470675027665,8.5208410180745112E-2,2.7665068240501661E-2,null,null,null,null,"Eruvin ",{"$f":"VLOOKUP(Schedule!M295,#REF!,2,FALSE)","v":{"$error":"#REF!"}}]
["2020-10-25",1,"Eruvin 77",{"$f":"COUNT($A$2:A296)","v":295},885,0.10881593507930652,8.5577277757285131E-2,2.8033935817041684E-2,null,null,null,null,"Eruvin ",{"$f":"VLOOKUP(Schedule!M296,#REF!,2,FALSE)","v":{"$error":"#REF!"}}]
["2020-10-26",2,"Eruvin 78",{"$f":"COUNT($A$2:A297)","v":296},888,0.10918480265584656,8.5946145333825164E-2,2.8402803393581703E-2,null,null,null,null,"Eruvin ",{"$f":"VLOOKUP(Schedule!M297,#REF!,2,FALSE)","v":{"$error":"#REF!"}}]
["2020-10-27",3,"Eruvin 79",{"$f":"COUNT($A$2:A298)","v":297},891,0.10955367023238657,8.6315012910365183E-2,2.8771670970121725E-2,null,null,null,null,"Eruvin ",{"$f":"VLOOKUP(Schedule!M298,#REF!,2,FALSE)","v":{"$error":"#REF!"}}]
["2020-10-28",4,"Eruvin 80",{"$f":"COUNT($A$2:A299)","v":298},894,0.10992253780892659,8.6683880486905202E-2,2.9140538546661748E-2,null,null,null,null,"Eruvin ",{"$f":"VLOOKUP(Schedule!M299,#REF!,2,FALSE)","v":{"$error":"#REF!"}}]
["2020-10-29",5,"Eruvin 81",{"$f":"COUNT($A$2:A300)","v":299},897,0.11029140538546661,8.7052748063445221E-2,2.950940612320177E-2,null,null,null,null,"Eruvin ",{"$f":"VLOOKUP(Schedule!M300,#REF!,2,FALSE)","v":{"$error":"#REF!"}}]
["2020-10-30",6,"Eruvin 82",{"$f":"COUNT($A$2:A301)","v":300},900,0.11066027296200664,8.742161563998524E-2,2.9878273699741793E-2,null,null,null,null,"Eruvin ",{"$f":"VLOOKUP(Schedule!M301,#REF!,2,FALSE)","v":{"$error":"#REF!"}}]
["2020-10-31",7,"Eruvin 83",{"$f":"COUNT($A$2:A302)","v":301},903,0.11102914053854666,8.7790483216525272E-2,3.0247141276281815E-2,null,null,null,null,"Eruvin ",{"$f":"VLOOKUP(Schedule!M302,#REF!,2,FALSE)","v":{"$error":"#REF!"}}]
["2020-11-01",1,"Eruvin 84",{"$f":"COUNT($A$2:A303)","v":302},906,0.11139800811508668,8.8159350793065291E-2,3.0616008852821838E-2,null,null,null,null,"Eruvin ",{"$f":"VLOOKUP(Schedule!M303,#REF!,2,FALSE)","v":{"$error":"#REF!"}}]
["2020-11-02",2,"Eruvin 85",{"$f":"COUNT($A$2:A304)","v":303},909,0.1117668756916267,8.852821836960531E-2,3.098487642936186E-2,null,null,null,null,"Eruvin ",{"$f":"VLOOKUP(Schedule!M304,#REF!,2,FALSE)","v":{"$error":"#REF!"}}]
["2020-11-03",3,"Eruvin 86",{"$f":"COUNT($A$2:A305)","v":304},912,0.11213574326816673,8.8897085946145329E-2,3.1353744005901879E-2,null,null,null,null,"Eruvin ",{"$f":"VLOOKUP(Schedule!M305,#REF!,2,FALSE)","v":{"$error":"#REF!"}}]
["2020-11-04",4,"Eruvin 87",{"$f":"COUNT($A$2:A306)","v":305},915,0.11250461084470675,8.9265953522685362E-2,3.1722611582441905E-2,null,null,null,null,"Eruvin ",{"$f":"VLOOKUP(Schedule!M306,#REF!,2,FALSE)","v":{"$error":"#REF!"}}]
["2020-11-05",5,"Eruvin 88",{"$f":"COUNT($A$2:A307)","v":306},918,0.11287347842124677,8.9634821099225381E-2,3.2091479158981924E-2,null,null,null,null,"Eruvin ",{"$f":"VLOOKUP(Schedule!M307,#REF!,2,FALSE)","v":{"$error":"#REF!"}}]
["2020-11-06",6,"Eruvin 89",{"$f":"COUNT($A$2:A308)","v":307},921,0.11324234599778679,9.00036886757654E-2,3.246034673552195E-2,null,null,null,null,"Eruvin ",{"$f":"VLOOKUP(Schedule!M308,#REF!,2,FALSE)","v":{"$error":"#REF!"}}]
["2020-11-07",7,"Eruvin 90",{"$f":"COUNT($A$2:A309)","v":308},924,0.11361121357432681,9.0372556252305419E-2,3.2829214312061969E-2,null,null,null,null,"Eruvin ",{"$f":"VLOOKUP(Schedule!M309,#REF!,2,FALSE)","v":{"$error":"#REF!"}}]
["2020-11-08",1,"Eruvin 91",{"$f":"COUNT($A$2:A310)","v":309},927,0.11398008115086684,9.0741423828845438E-2,3.3198081888601995E-2,null,null,null,null,"Eruvin ",{"$f":"VLOOKUP(Schedule!M310,#REF!,2,FALSE)","v":{"$error":"#REF!"}}]
["2020-11-09",2,"Eruvin 92",{"$f":"COUNT($A$2:A311)","v":310},930,0.11434894872740686,9.1110291405385471E-2,3.3566949465142014E-2,null,null,null,null,"Eruvin ",{"$f":"VLOOKUP(Schedule!M311,#REF!,2,FALSE)","v":{"$error":"#REF!"}}]
["2020-11-10",3,"Eruvin 93",{"$f":"COUNT($A$2:A312)","v":311},933,0.11471781630394688,9.147915898192549E-2,3.3935817041682033E-2,null,null,null,null,"Eruvin ",{"$f":"VLOOKUP(Schedule!M312,#REF!,2,FALSE)","v":{"$error":"#REF!"}}]
["2020-11-11",4,"Eruvin 94",{"$f":"COUNT($A$2:A313)","v":312},936,0.1150866838804869,9.1848026558465509E-2,3.4304684618222059E-2,null,null,null,null,"Eruvin ",{"$f":"VLOOKUP(Schedule!M313,#REF!,2,FALSE)","v":{"$error":"#REF!"}}]
["2020-11-12",5,"Eruvin 95",{"$f":"COUNT($A$2:A314)","v":313},939,0.11545555145702693,9.2216894135005528E-2,3.4673552194762078E-2,null,null,null,null,"Eruvin ",{"$f":"VLOOKUP(Schedule!M314,#REF!,2,FALSE)","v":{"$error":"#REF!"}}]
["2020-11-13",6,"Eruvin 96",{"$f":"COUNT($A$2:A315)","v":314},942,0.11582441903356695,9.2585761711545561E-2,3.5042419771302104E-2,null,null,null,null,"Eruvin ",{"$f":"VLOOKUP(Schedule!M315,#REF!,2,FALSE)","v":{"$error":"#REF!"}}]
["2020-11-14",7,"Eruvin 97",{"$f":"COUNT($A$2:A316)","v":315},945,0.11619328661010697,9.295462928808558E-2,3.5411287347842123E-2,null,null,null,null,"Eruvin ",{"$f":"VLOOKUP(Schedule!M316,#REF!,2,FALSE)","v":{"$error":"#REF!"}}]
["2020-11-15",1,"Eruvin 98",{"$f":"COUNT($A$2:A317)","v":316},948,0.11656215418664699,9.3323496864625599E-2,3.5780154924382149E-2,null,null,null,null,"Eruvin ",{"$f":"VLOOKUP(Schedule!M317,#REF!,2,FALSE)","v":{"$error":"#REF!"}}]
["2020-11-16",2,"Eruvin 99",{"$f":"COUNT($A$2:A318)","v":317},951,0.11693102176318701,9.3692364441165618E-2,3.6149022500922168E-2,null,null,null,null,"Eruvin ",{"$f":"VLOOKUP(Schedule!M318,#REF!,2,FALSE)","v":{"$error":"#REF!"}}]
["2020-11-17",3,"Eruvin 100",{"$f":"COUNT($A$2:A319)","v":318},954,0.11729988933972704,9.4061232017705637E-2,3.6517890077462194E-2,null,null,null,null,"Eruvin ",{"$f":"VLOOKUP(Schedule!M319,#REF!,2,FALSE)","v":{"$error":"#REF!"}}]
["2020-11-18",4,"Eruvin 101",{"$f":"COUNT($A$2:A320)","v":319},957,0.11766875691626706,9.443009959424567E-2,3.6886757654002213E-2,null,null,null,null,"Eruvin ",{"$f":"VLOOKUP(Schedule!M320,#REF!,2,FALSE)","v":{"$error":"#REF!"}}]
["2020-11-19",5,"Eruvin 102",{"$f":"COUNT($A$2:A321)","v":320},960,0.11803762449280708,9.4798967170785689E-2,3.7255625230542239E-2,null,null,null,null,"Eruvin ",{"$f":"VLOOKUP(Schedule!M321,#REF!,2,FALSE)","v":{"$error":"#REF!"}}]
["2020-11-20",6,"Eruvin 103",{"$f":"COUNT($A$2:A322)","v":321},{"$f":"D322*3","v":963},0.1184064920693471,{"$f":"(D322-63)/2711","v":9.5167834747325708E-2},3.7624492807082258E-2,null,null,null,null,"Eruvin ",{"$f":"VLOOKUP(Schedule!M322,#REF!,2,FALSE)","v":{"$error":"#REF!"}}]
["2020-11-21",{"$f":"WEEKDAY(A323)","v":7},"Eruvin 104",{"$f":"COUNT($A$2:A323)","v":322},966,{"$f":"D323/2711","v":0.11877535964588713},9.5536702323865727E-2,3.7993360383622277E-2,null,null,null,null,{"$f":"LEFT(C323,FIND(\"☃\",SUBSTITUTE(C323,\" \",\"☃\",LEN(C323)-LEN(SUBSTITUTE(C323,\" \",\"\")))))","v":"Eruvin "},{"$f":"VLOOKUP(Schedule!M323,#REF!,2,FALSE)","v":{"$error":"#REF!"}}]
["2020-11-22",1,"Eruvin 105",{"$f":"COUNT($A$2:A324)","v":323},969,0.11914422722242715,9.590556990040576E-2,3.8362227960162303E-2,null,null,null,null,"Eruvin ",{"$f":"VLOOKUP(Schedule!M324,#REF!,2,FALSE)","v":{"$error":"#REF!"}}]
["2020-11-23",2,"Pesachim 2",{"$f":"COUNT($A$2:A325)","v":324},972,0.11951309479896717,9.6274437476945779E-2,3.8731095536702322E-2,{"$f":"(D325-323)/2711","v":3.6886757654002215E-4},null,null,null,"Pesachim ",{"$f":"VLOOKUP(Schedule!M325,#REF!,2,FALSE)","v":{"$error":"#REF!"}}]
["2020-11-24",3,"Pesachim 3",{"$f":"COUNT($A$2:A326)","v":325},975,0.11988196237550719,9.6643305053485798E-2,3.9099963113242348E-2,{"$f":"(D326-323)/2711","v":7.377351530800443E-4},null,null,null,"Pesachim ",{"$f":"VLOOKUP(Schedule!M326,#REF!,2,FALSE)","v":{"$error":"#REF!"}}]
["2020-11-25",4,"Pesachim 4",{"$f":"COUNT($A$2:A327)","v":326},978,0.12025082995204721,9.7012172630025817E-2,3.9468830689782367E-2,1.1066027296200663E-3,null,null,null,"Pesachim ",{"$f":"VLOOKUP(Schedule!M327,#REF!,2,FALSE)","v":{"$error":"#REF!"}}]
["2020-11-26",5,"Pesachim 5",{"$f":"COUNT($A$2:A328)","v":327},981,0.12061969752858724,9.738104020656585E-2,3.9837698266322392E-2,1.4754703061600886E-3,null,null,null,"Pesachim ",{"$f":"VLOOKUP(Schedule!M328,#REF!,2,FALSE)","v":{"$error":"#REF!"}}]
["2020-11-27",6,"Pesachim 6",{"$f":"COUNT($A$2:A329)","v":328},984,0.12098856510512726,9.7749907783105869E-2,4.0206565842862411E-2,1.8443378827001106E-3,null,null,null,"Pesachim ",{"$f":"VLOOKUP(Schedule!M329,#REF!,2,FALSE)","v":{"$error":"#REF!"}}]
["2020-11-28",7,"Pesachim 7",{"$f":"COUNT($A$2:A330)","v":329},987,0.12135743268166728,9.8118775359645888E-2,4.0575433419402437E-2,2.2132054592401327E-3,null,null,null,"Pesachim ",{"$f":"VLOOKUP(Schedule!M330,#REF!,2,FALSE)","v":{"$error":"#REF!"}}]
["2020-11-29",1,"Pesachim 8",{"$f":"COUNT($A$2:A331)","v":330},990,0.1217263002582073,9.8487642936185907E-2,4.0944300995942456E-2,2.5820730357801547E-3,null,null,null,"Pesachim ",{"$f":"VLOOKUP(Schedule!M331,#REF!,2,FALSE)","v":{"$error":"#REF!"}}]
["2020-11-30",2,"Pesachim 9",{"$f":"COUNT($A$2:A332)","v":331},993,0.12209516783474733,9.8856510512725926E-2,4.1313168572482475E-2,2.9509406123201772E-3,null,null,null,"Pesachim ",{"$f":"VLOOKUP(Schedule!M332,#REF!,2,FALSE)","v":{"$error":"#REF!"}}]
["2020-12-01",3,"Pesachim 10",{"$f":"COUNT($A$2:A333)","v":332},996,0.12246403541128735,9.9225378089265959E-2,4.1682036149022501E-2,3.3198081888601992E-3,null,null,null,"Pesachim ",{"$f":"VLOOKUP(Schedule!M333,#REF!,2,FALSE)","v":{"$error":"#REF!"}}]
["2020-12-02",4,"Pesachim 11",{"$f":"COUNT($A$2:A334)","v":333},999,0.12283290298782737,9.9594245665805978E-2,4.205090372556252E-2,3.6886757654002213E-3,null,null,null,"Pesachim ",{"$f":"VLOOKUP(Schedule!M334,#REF!,2,FALSE)","v":{"$error":"#REF!"}}]
["2020-12-03",5,"Pesachim 12",{"$f":"COUNT($A$2:A335)","v":334},1002,0.12320177056436739,9.9963113242345997E-2,4.2419771302102546E-2,4.0575433419402437E-3,null,null,null,"Pesachim ",{"$f":"VLOOKUP(Schedule!M335,#REF!,2,FALSE)","v":{"$error":"#REF!"}}]
["2020-12-04",6,"Pesachim 13",{"$f":"COUNT($A$2:A336)","v":335},1005,0.12357063814090742,0.10033198081888602,4.2788638878642565E-2,4.4264109184802653E-3,null,null,null,"Pesachim ",{"$f":"VLOOKUP(Schedule!M336,#REF!,2,FALSE)","v":{"$error":"#REF!"}}]
["2020-12-05",7,"Pesachim 14",{"$f":"COUNT($A$2:A337)","v":336},1008,0.12393950571744744,0.10070084839542605,4.3157506455182591E-2,4.7952784950202878E-3,null,null,null,"Pesachim ",{"$f":"VLOOKUP(Schedule!M337,#REF!,2,FALSE)","v":{"$error":"#REF!"}}]
["2020-12-06",1,"Pesachim 15",{"$f":"COUNT($A$2:A338)","v":337},1011,0.12430837329398746,0.10106971597196607,4.352637403172261E-2,5.1641460715603094E-3,null,null,null,"Pesachim ",{"$f":"VLOOKUP(Schedule!M338,#REF!,2,FALSE)","v":{"$error":"#REF!"}}]
["2020-12-07",2,"Pesachim 16",{"$f":"COUNT($A$2:A339)","v":338},1014,0.12467724087052748,0.10143858354850609,4.3895241608262636E-2,5.5330136481003319E-3,null,null,null,"Pesachim ",{"$f":"VLOOKUP(Schedule!M339,#REF!,2,FALSE)","v":{"$error":"#REF!"}}]
["2020-12-08",3,"Pesachim 17",{"$f":"COUNT($A$2:A340)","v":339},1017,0.12504610844706751,0.10180745112504611,4.4264109184802655E-2,5.9018812246403544E-3,null,null,null,"Pesachim ",{"$f":"VLOOKUP(Schedule!M340,#REF!,2,FALSE)","v":{"$error":"#REF!"}}]
["2020-12-09",4,"Pesachim 18",{"$f":"COUNT($A$2:A341)","v":340},1020,0.12541497602360752,0.10217631870158612,4.4632976761342681E-2,6.270748801180376E-3,null,null,null,"Pesachim ",{"$f":"VLOOKUP(Schedule!M341,#REF!,2,FALSE)","v":{"$error":"#REF!"}}]
["2020-12-10",5,"Pesachim 19",{"$f":"COUNT($A$2:A342)","v":341},1023,0.12578384360014755,0.10254518627812616,4.50018443378827E-2,6.6396163777203985E-3,null,null,null,"Pesachim ",{"$f":"VLOOKUP(Schedule!M342,#REF!,2,FALSE)","v":{"$error":"#REF!"}}]
["2020-12-11",6,"Pesachim 20",{"$f":"COUNT($A$2:A343)","v":342},1026,0.12615271117668758,0.10291405385466618,4.5370711914422719E-2,7.0084839542604209E-3,null,null,null,"Pesachim ",{"$f":"VLOOKUP(Schedule!M343,#REF!,2,FALSE)","v":{"$error":"#REF!"}}]
["2020-12-12",7,"Pesachim 21",{"$f":"COUNT($A$2:A344)","v":343},1029,0.12652157875322759,0.1032829214312062,4.5739579490962745E-2,7.3773515308004425E-3,null,null,null,"Pesachim ",{"$f":"VLOOKUP(Schedule!M344,#REF!,2,FALSE)","v":{"$error":"#REF!"}}]
["2020-12-13",1,"Pesachim 22",{"$f":"COUNT($A$2:A345)","v":344},1032,0.12689044632976762,0.10365178900774621,4.6108447067502764E-2,7.746219107340465E-3,null,null,null,"Pesachim ",{"$f":"VLOOKUP(Schedule!M345,#REF!,2,FALSE)","v":{"$error":"#REF!"}}]
["2020-12-14",2,"Pesachim 23",{"$f":"COUNT($A$2:A346)","v":345},1035,0.12725931390630763,0.10402065658428625,4.647731464404279E-2,8.1150866838804875E-3,null,null,null,"Pesachim ",{"$f":"VLOOKUP(Schedule!M346,#REF!,2,FALSE)","v":{"$error":"#REF!"}}]
["2020-12-15",3,"Pesachim 24",{"$f":"COUNT($A$2:A347)","v":346},1038,0.12762818148284766,0.10438952416082627,4.6846182220582809E-2,8.4839542604205082E-3,null,null,null,"Pesachim ",{"$f":"VLOOKUP(Schedule!M347,#REF!,2,FALSE)","v":{"$error":"#REF!"}}]
["2020-12-16",4,"Pesachim 25",{"$f":"COUNT($A$2:A348)","v":347},1041,0.12799704905938769,0.10475839173736629,4.7215049797122835E-2,8.8528218369605307E-3,null,null,null,"Pesachim ",{"$f":"VLOOKUP(Schedule!M348,#REF!,2,FALSE)","v":{"$error":"#REF!"}}]
["2020-12-17",5,"Pesachim 26",{"$f":"COUNT($A$2:A349)","v":348},1044,0.1283659166359277,0.1051272593139063,4.7583917373662854E-2,9.2216894135005532E-3,null,null,null,"Pesachim ",{"$f":"VLOOKUP(Schedule!M349,#REF!,2,FALSE)","v":{"$error":"#REF!"}}]
["2020-12-18",6,"Pesachim 27",{"$f":"COUNT($A$2:A350)","v":349},1047,0.12873478421246773,0.10549612689044632,{"$f":"(D350-219)/2711","v":4.795278495020288E-2},9.5905569900405756E-3,null,null,null,"Pesachim ",{"$f":"VLOOKUP(Schedule!M350,#REF!,2,FALSE)","v":{"$error":"#REF!"}}]
["2020-12-19",7,"Pesachim 28",{"$f":"COUNT($A$2:A351)","v":350},1050,0.12910365178900773,0.10586499446698636,4.8321652526742899E-2,9.9594245665805981E-3,null,null,null,"Pesachim ",{"$f":"VLOOKUP(Schedule!M351,#REF!,2,FALSE)","v":{"$error":"#REF!"}}]
["2020-12-20",1,"Pesachim 29",{"$f":"COUNT($A$2:A352)","v":351},1053,0.12947251936554777,0.10623386204352638,4.8690520103282925E-2,1.0328292143120619E-2,null,null,null,"Pesachim ",{"$f":"VLOOKUP(Schedule!M352,#REF!,2,FALSE)","v":{"$error":"#REF!"}}]
["2020-12-21",2,"Pesachim 30",{"$f":"COUNT($A$2:A353)","v":352},1056,0.1298413869420878,0.10660272962006639,4.9059387679822944E-2,1.0697159719660641E-2,null,null,null,"Pesachim ",{"$f":"VLOOKUP(Schedule!M353,#REF!,2,FALSE)","v":{"$error":"#REF!"}}]
["2020-12-22",3,"Pesachim 31",{"$f":"COUNT($A$2:A354)","v":353},1059,0.1302102545186278,0.10697159719660641,4.9428255256362963E-2,1.1066027296200664E-2,null,null,null,"Pesachim ",{"$f":"VLOOKUP(Schedule!M354,#REF!,2,FALSE)","v":{"$error":"#REF!"}}]
["2020-12-23",4,"Pesachim 32",{"$f":"COUNT($A$2:A355)","v":354},1062,0.13057912209516784,0.10734046477314645,4.9797122832902989E-2,1.1434894872740686E-2,null,null,null,"Pesachim ",{"$f":"VLOOKUP(Schedule!M355,#REF!,2,FALSE)","v":{"$error":"#REF!"}}]
["2020-12-24",5,"Pesachim 33",{"$f":"COUNT($A$2:A356)","v":355},1065,0.13094798967170787,0.10770933234968647,5.0165990409443008E-2,1.1803762449280709E-2,null,null,null,"Pesachim ",{"$f":"VLOOKUP(Schedule!M356,#REF!,2,FALSE)","v":{"$error":"#REF!"}}]
["2020-12-25",6,"Pesachim 34",{"$f":"COUNT($A$2:A357)","v":356},1068,0.13131685724824788,0.10807819992622648,5.0534857985983034E-2,1.2172630025820731E-2,null,null,null,"Pesachim ",{"$f":"VLOOKUP(Schedule!M357,#REF!,2,FALSE)","v":{"$error":"#REF!"}}]
["2020-12-26",7,"Pesachim 35",{"$f":"COUNT($A$2:A358)","v":357},1071,0.13168572482478791,0.1084470675027665,5.0903725562523053E-2,1.2541497602360752E-2,null,null,null,"Pesachim ",{"$f":"VLOOKUP(Schedule!M358,#REF!,2,FALSE)","v":{"$error":"#REF!"}}]
["2020-12-27",1,"Pesachim 36",{"$f":"COUNT($A$2:A359)","v":358},1074,0.13205459240132791,0.10881593507930652,5.1272593139063079E-2,1.2910365178900774E-2,null,null,null,"Pesachim ",{"$f":"VLOOKUP(Schedule!M359,#REF!,2,FALSE)","v":{"$error":"#REF!"}}]
["2020-12-28",2,"Pesachim 37",{"$f":"COUNT($A$2:A360)","v":359},1077,0.13242345997786795,0.10918480265584656,5.1641460715603098E-2,1.3279232755440797E-2,null,null,null,"Pesachim ",{"$f":"VLOOKUP(Schedule!M360,#REF!,2,FALSE)","v":{"$error":"#REF!"}}]
["2020-12-29",3,"Pesachim 38",{"$f":"COUNT($A$2:A361)","v":360},1080,0.13279232755440798,0.10955367023238657,5.2010328292143124E-2,1.3648100331980819E-2,null,null,null,"Pesachim ",{"$f":"VLOOKUP(Schedule!M361,#REF!,2,FALSE)","v":{"$error":"#REF!"}}]
["2020-12-30",4,"Pesachim 39",{"$f":"COUNT($A$2:A362)","v":361},1083,0.13316119513094798,0.10992253780892659,5.2379195868683143E-2,1.4016967908520842E-2,null,null,null,"Pesachim ",{"$f":"VLOOKUP(Schedule!M362,#REF!,2,FALSE)","v":{"$error":"#REF!"}}]
["2020-12-31",5,"Pesachim 40",{"$f":"COUNT($A$2:A363)","v":362},1086,0.13353006270748802,0.11029140538546661,5.2748063445223162E-2,1.4385835485060863E-2,null,null,null,"Pesachim ",{"$f":"VLOOKUP(Schedule!M363,#REF!,2,FALSE)","v":{"$error":"#REF!"}}]
["2021-01-01",6,"Pesachim 41",{"$f":"COUNT($A$2:A364)","v":363},1089,0.13389893028402802,0.11066027296200664,5.3116931021763188E-2,1.4754703061600885E-2,null,null,null,"Pesachim ",{"$f":"VLOOKUP(Schedule!M364,#REF!,2,FALSE)","v":{"$error":"#REF!"}}]
["2021-01-02",7,"Pesachim 42",{"$f":"COUNT($A$2:A365)","v":364},1092,0.13426779786056806,0.11102914053854666,5.3485798598303207E-2,1.5123570638140908E-2,null,null,null,"Pesachim ",{"$f":"VLOOKUP(Schedule!M365,#REF!,2,FALSE)","v":{"$error":"#REF!"}}]
["2021-01-03",1,"Pesachim 43",{"$f":"COUNT($A$2:A366)","v":365},1095,0.13463666543710809,0.11139800811508668,5.3854666174843233E-2,1.549243821468093E-2,null,null,null,"Pesachim ",{"$f":"VLOOKUP(Schedule!M366,#REF!,2,FALSE)","v":{"$error":"#REF!"}}]
["2021-01-04",2,"Pesachim 44",{"$f":"COUNT($A$2:A367)","v":366},1098,0.13500553301364809,0.1117668756916267,5.4223533751383252E-2,1.5861305791220952E-2,null,null,null,"Pesachim ",{"$f":"VLOOKUP(Schedule!M367,#REF!,2,FALSE)","v":{"$error":"#REF!"}}]
["2021-01-05",3,"Pesachim 45",{"$f":"COUNT($A$2:A368)","v":367},1101,0.13537440059018813,0.11213574326816673,5.4592401327923278E-2,1.6230173367760975E-2,null,null,null,"Pesachim ",{"$f":"VLOOKUP(Schedule!M368,#REF!,2,FALSE)","v":{"$error":"#REF!"}}]
["2021-01-06",4,"Pesachim 46",{"$f":"COUNT($A$2:A369)","v":368},1104,0.13574326816672813,0.11250461084470675,5.4961268904463297E-2,1.6599040944300997E-2,null,null,null,"Pesachim ",{"$f":"VLOOKUP(Schedule!M369,#REF!,2,FALSE)","v":{"$error":"#REF!"}}]
["2021-01-07",5,"Pesachim 47",{"$f":"COUNT($A$2:A370)","v":369},1107,0.13611213574326816,0.11287347842124677,5.5330136481003322E-2,1.6967908520841016E-2,null,null,null,"Pesachim ",{"$f":"VLOOKUP(Schedule!M370,#REF!,2,FALSE)","v":{"$error":"#REF!"}}]
["2021-01-08",6,"Pesachim 48",{"$f":"COUNT($A$2:A371)","v":370},1110,0.1364810033198082,0.11324234599778679,5.5699004057543341E-2,1.7336776097381039E-2,null,null,null,"Pesachim ",{"$f":"VLOOKUP(Schedule!M371,#REF!,2,FALSE)","v":{"$error":"#REF!"}}]
["2021-01-09",7,"Pesachim 49",{"$f":"COUNT($A$2:A372)","v":371},1113,0.1368498708963482,0.11361121357432681,5.6067871634083367E-2,1.7705643673921061E-2,null,null,null,"Pesachim ",{"$f":"VLOOKUP(Schedule!M372,#REF!,2,FALSE)","v":{"$error":"#REF!"}}]
["2021-01-10",1,"Pesachim 50",{"$f":"COUNT($A$2:A373)","v":372},1116,0.13721873847288824,0.11398008115086684,5.6436739210623386E-2,1.8074511250461084E-2,null,null,null,"Pesachim ",{"$f":"VLOOKUP(Schedule!M373,#REF!,2,FALSE)","v":{"$error":"#REF!"}}]
["2021-01-11",2,"Pesachim 51",{"$f":"COUNT($A$2:A374)","v":373},1119,0.13758760604942827,0.11434894872740686,5.6805606787163405E-2,1.8443378827001106E-2,null,null,null,"Pesachim ",{"$f":"VLOOKUP(Schedule!M374,#REF!,2,FALSE)","v":{"$error":"#REF!"}}]
["2021-01-12",3,"Pesachim 52",{"$f":"COUNT($A$2:A375)","v":374},1122,0.13795647362596827,0.11471781630394688,5.7174474363703431E-2,1.8812246403541129E-2,null,null,null,"Pesachim ",{"$f":"VLOOKUP(Schedule!M375,#REF!,2,FALSE)","v":{"$error":"#REF!"}}]
["2021-01-13",4,"Pesachim 53",{"$f":"COUNT($A$2:A376)","v":375},1125,0.13832534120250831,0.1150866838804869,5.754334194024345E-2,1.9181113980081151E-2,null,null,null,"Pesachim ",{"$f":"VLOOKUP(Schedule!M376,#REF!,2,FALSE)","v":{"$error":"#REF!"}}]
["2021-01-14",5,"Pesachim 54",{"$f":"COUNT($A$2:A377)","v":376},1128,0.13869420877904831,0.11545555145702693,5.7912209516783476E-2,1.9549981556621174E-2,null,null,null,"Pesachim ",{"$f":"VLOOKUP(Schedule!M377,#REF!,2,FALSE)","v":{"$error":"#REF!"}}]
["2021-01-15",6,"Pesachim 55",{"$f":"COUNT($A$2:A378)","v":377},1131,0.13906307635558834,0.11582441903356695,5.8281077093323495E-2,1.9918849133161196E-2,null,null,null,"Pesachim ",{"$f":"VLOOKUP(Schedule!M378,#REF!,2,FALSE)","v":{"$error":"#REF!"}}]
["2021-01-16",7,"Pesachim 56",{"$f":"COUNT($A$2:A379)","v":378},1134,0.13943194393212838,0.11619328661010697,5.8649944669863521E-2,2.0287716709701219E-2,null,null,null,"Pesachim ",{"$f":"VLOOKUP(Schedule!M379,#REF!,2,FALSE)","v":{"$error":"#REF!"}}]
["2021-01-17",1,"Pesachim 57",{"$f":"COUNT($A$2:A380)","v":379},1137,0.13980081150866838,0.11656215418664699,5.901881224640354E-2,2.0656584286241238E-2,null,null,null,"Pesachim ",{"$f":"VLOOKUP(Schedule!M380,#REF!,2,FALSE)","v":{"$error":"#REF!"}}]
["2021-01-18",2,"Pesachim 58",{"$f":"COUNT($A$2:A381)","v":380},1140,0.14016967908520842,0.11693102176318701,5.9387679822943566E-2,2.102545186278126E-2,null,null,null,"Pesachim ",{"$f":"VLOOKUP(Schedule!M381,#REF!,2,FALSE)","v":{"$error":"#REF!"}}]
["2021-01-19",3,"Pesachim 59",{"$f":"COUNT($A$2:A382)","v":381},1143,0.14053854666174842,0.11729988933972704,5.9756547399483585E-2,2.1394319439321283E-2,null,null,null,"Pesachim ",{"$f":"VLOOKUP(Schedule!M382,#REF!,2,FALSE)","v":{"$error":"#REF!"}}]
["2021-01-20",4,"Pesachim 60",{"$f":"COUNT($A$2:A383)","v":382},1146,0.14090741423828845,0.11766875691626706,6.0125414976023604E-2,2.1763187015861305E-2,null,null,null,"Pesachim ",{"$f":"VLOOKUP(Schedule!M383,#REF!,2,FALSE)","v":{"$error":"#REF!"}}]
["2021-01-21",5,"Pesachim 61",{"$f":"COUNT($A$2:A384)","v":383},1149,0.14127628181482849,0.11803762449280708,6.049428255256363E-2,2.2132054592401328E-2,null,null,null,"Pesachim ",{"$f":"VLOOKUP(Schedule!M384,#REF!,2,FALSE)","v":{"$error":"#REF!"}}]
["2021-01-22",6,"Pesachim 62",{"$f":"COUNT($A$2:A385)","v":384},1152,0.14164514939136849,0.1184064920693471,6.0863150129103649E-2,2.250092216894135E-2,null,null,null,"Pesachim ",{"$f":"VLOOKUP(Schedule!M385,#REF!,2,FALSE)","v":{"$error":"#REF!"}}]
["2021-01-23",7,"Pesachim 63",{"$f":"COUNT($A$2:A386)","v":385},{"$f":"D386*3","v":1155},0.14201401696790852,{"$f":"(D386-63)/2711","v":0.11877535964588713},6.1232017705643675E-2,2.2869789745481373E-2,null,null,null,"Pesachim ",{"$f":"VLOOKUP(Schedule!M386,#REF!,2,FALSE)","v":{"$error":"#REF!"}}]
["2021-01-24",{"$f":"WEEKDAY(A387)","v":1},"Pesachim 64",{"$f":"COUNT($A$2:A387)","v":386},1158,{"$f":"D387/2711","v":0.14238288454444853},0.11914422722242715,6.1600885282183694E-2,2.3238657322021395E-2,null,null,null,{"$f":"LEFT(C387,FIND(\"☃\",SUBSTITUTE(C387,\" \",\"☃\",LEN(C387)-LEN(SUBSTITUTE(C387,\" \",\"\")))))","v":"Pesachim "},{"$f":"VLOOKUP(Schedule!M387,#REF!,2,FALSE)","v":{"$error":"#REF!"}}]
["2021-01-25",2,"Pesachim 65",{"$f":"COUNT($A$2:A388)","v":387},1161,0.14275175212098856,0.11951309479896717,6.196975285872372E-2,2.3607524898561418E-2,null,null,null,"Pesachim ",{"$f":"VLOOKUP(Schedule!M388,#REF!,2,FALSE)","v":{"$error":"#REF!"}}]
["2021-01-26",3,"Pesachim 66",{"$f":"COUNT($A$2:A389)","v":388},1164,0.14312061969752859,0.11988196237550719,6.2338620435263739E-2,2.397639247510144E-2,null,null,null,"Pesachim ",{"$f":"VLOOKUP(Schedule!M389,#REF!,2,FALSE)","v":{"$error":"#REF!"}}]
["2021-01-27",4,"Pesachim 67",{"$f":"COUNT($A$2:A390)","v":389},1167,0.1434894872740686,0.12025082995204721,6.2707488011803758E-2,{"$f":"(D390-323)/2711","v":2.4345260051641462E-2},null,null,null,"Pesachim ",{"$f":"VLOOKUP(Schedule!M390,#REF!,2,FALSE)","v":{"$error":"#REF!"}}]
["2021-01-28",5,"Pesachim 68",{"$f":"COUNT($A$2:A391)","v":390},1170,0.14385835485060863,0.12061969752858724,6.3076355588343791E-2,2.4714127628181481E-2,null,null,null,"Pesachim ",{"$f":"VLOOKUP(Schedule!M391,#REF!,2,FALSE)","v":{"$error":"#REF!"}}]
["2021-01-29",6,"Pesachim 69",{"$f":"COUNT($A$2:A392)","v":391},1173,0.14422722242714867,0.12098856510512726,6.344522316488381E-2,2.5082995204721504E-2,null,null,null,"Pesachim ",{"$f":"VLOOKUP(Schedule!M392,#REF!,2,FALSE)","v":{"$error":"#REF!"}}]
["2021-01-30",7,"Pesachim 70",{"$f":"COUNT($A$2:A393)","v":392},1176,0.14459609000368867,0.12135743268166728,6.3814090741423829E-2,2.5451862781261526E-2,null,null,null,"Pesachim ",{"$f":"VLOOKUP(Schedule!M393,#REF!,2,FALSE)","v":{"$error":"#REF!"}}]
["2021-01-31",1,"Pesachim 71",{"$f":"COUNT($A$2:A394)","v":393},1179,0.1449649575802287,0.1217263002582073,6.4182958317963848E-2,2.5820730357801549E-2,null,null,null,"Pesachim ",{"$f":"VLOOKUP(Schedule!M394,#REF!,2,FALSE)","v":{"$error":"#REF!"}}]
["2021-02-01",2,"Pesachim 72",{"$f":"COUNT($A$2:A395)","v":394},1182,0.14533382515676871,0.12209516783474733,6.4551825894503867E-2,2.6189597934341571E-2,null,null,null,"Pesachim ",{"$f":"VLOOKUP(Schedule!M395,#REF!,2,FALSE)","v":{"$error":"#REF!"}}]
["2021-02-02",3,"Pesachim 73",{"$f":"COUNT($A$2:A396)","v":395},1185,0.14570269273330874,0.12246403541128735,6.49206934710439E-2,2.6558465510881594E-2,null,null,null,"Pesachim ",{"$f":"VLOOKUP(Schedule!M396,#REF!,2,FALSE)","v":{"$error":"#REF!"}}]
["2021-02-03",4,"Pesachim 74",{"$f":"COUNT($A$2:A397)","v":396},1188,0.14607156030984877,0.12283290298782737,6.5289561047583919E-2,2.6927333087421616E-2,null,null,null,"Pesachim ",{"$f":"VLOOKUP(Schedule!M397,#REF!,2,FALSE)","v":{"$error":"#REF!"}}]
["2021-02-04",5,"Pesachim 75",{"$f":"COUNT($A$2:A398)","v":397},1191,0.14644042788638878,0.12320177056436739,6.5658428624123938E-2,2.7296200663961639E-2,null,null,null,"Pesachim ",{"$f":"VLOOKUP(Schedule!M398,#REF!,2,FALSE)","v":{"$error":"#REF!"}}]
["2021-02-05",6,"Pesachim 76",{"$f":"COUNT($A$2:A399)","v":398},1194,0.14680929546292881,0.12357063814090742,6.6027296200663957E-2,2.7665068240501661E-2,null,null,null,"Pesachim ",{"$f":"VLOOKUP(Schedule!M399,#REF!,2,FALSE)","v":{"$error":"#REF!"}}]
["2021-02-06",7,"Pesachim 77",{"$f":"COUNT($A$2:A400)","v":399},1197,0.14717816303946882,0.12393950571744744,6.639616377720399E-2,2.8033935817041684E-2,null,null,null,"Pesachim ",{"$f":"VLOOKUP(Schedule!M400,#REF!,2,FALSE)","v":{"$error":"#REF!"}}]
["2021-02-07",1,"Pesachim 78",{"$f":"COUNT($A$2:A401)","v":400},1200,0.14754703061600885,0.12430837329398746,6.6765031353744009E-2,2.8402803393581703E-2,null,null,null,"Pesachim ",{"$f":"VLOOKUP(Schedule!M401,#REF!,2,FALSE)","v":{"$error":"#REF!"}}]
["2021-02-08",2,"Pesachim 79",{"$f":"COUNT($A$2:A402)","v":401},1203,0.14791589819254888,0.12467724087052748,6.7133898930284028E-2,2.8771670970121725E-2,null,null,null,"Pesachim ",{"$f":"VLOOKUP(Schedule!M402,#REF!,2,FALSE)","v":{"$error":"#REF!"}}]
["2021-02-09",3,"Pesachim 80",{"$f":"COUNT($A$2:A403)","v":402},1206,0.14828476576908889,0.12504610844706751,6.7502766506824047E-2,2.9140538546661748E-2,null,null,null,"Pesachim ",{"$f":"VLOOKUP(Schedule!M403,#REF!,2,FALSE)","v":{"$error":"#REF!"}}]
["2021-02-10",4,"Pesachim 81",{"$f":"COUNT($A$2:A404)","v":403},1209,0.14865363334562892,0.12541497602360752,6.7871634083364066E-2,2.950940612320177E-2,null,null,null,"Pesachim ",{"$f":"VLOOKUP(Schedule!M404,#REF!,2,FALSE)","v":{"$error":"#REF!"}}]
["2021-02-11",5,"Pesachim 82",{"$f":"COUNT($A$2:A405)","v":404},1212,0.14902250092216895,0.12578384360014755,6.8240501659904099E-2,2.9878273699741793E-2,null,null,null,"Pesachim ",{"$f":"VLOOKUP(Schedule!M405,#REF!,2,FALSE)","v":{"$error":"#REF!"}}]
["2021-02-12",6,"Pesachim 83",{"$f":"COUNT($A$2:A406)","v":405},1215,0.14939136849870896,0.12615271117668758,6.8609369236444118E-2,3.0247141276281815E-2,null,null,null,"Pesachim ",{"$f":"VLOOKUP(Schedule!M406,#REF!,2,FALSE)","v":{"$error":"#REF!"}}]
["2021-02-13",7,"Pesachim 84",{"$f":"COUNT($A$2:A407)","v":406},1218,0.14976023607524899,0.12652157875322759,6.8978236812984137E-2,3.0616008852821838E-2,null,null,null,"Pesachim ",{"$f":"VLOOKUP(Schedule!M407,#REF!,2,FALSE)","v":{"$error":"#REF!"}}]
["2021-02-14",1,"Pesachim 85",{"$f":"COUNT($A$2:A408)","v":407},1221,0.150129103651789,0.12689044632976762,6.9347104389524156E-2,3.098487642936186E-2,null,null,null,"Pesachim ",{"$f":"VLOOKUP(Schedule!M408,#REF!,2,FALSE)","v":{"$error":"#REF!"}}]
["2021-02-15",2,"Pesachim 86",{"$f":"COUNT($A$2:A409)","v":408},1224,0.15049797122832903,0.12725931390630763,6.9715971966064189E-2,3.1353744005901879E-2,null,null,null,"Pesachim ",{"$f":"VLOOKUP(Schedule!M409,#REF!,2,FALSE)","v":{"$error":"#REF!"}}]
["2021-02-16",3,"Pesachim 87",{"$f":"COUNT($A$2:A410)","v":409},1227,0.15086683880486906,0.12762818148284766,7.0084839542604208E-2,3.1722611582441905E-2,null,null,null,"Pesachim ",{"$f":"VLOOKUP(Schedule!M410,#REF!,2,FALSE)","v":{"$error":"#REF!"}}]
["2021-02-17",4,"Pesachim 88",{"$f":"COUNT($A$2:A411)","v":410},1230,0.15123570638140907,0.12799704905938769,7.0453707119144227E-2,3.2091479158981924E-2,null,null,null,"Pesachim ",{"$f":"VLOOKUP(Schedule!M411,#REF!,2,FALSE)","v":{"$error":"#REF!"}}]
["2021-02-18",5,"Pesachim 89",{"$f":"COUNT($A$2:A412)","v":411},1233,0.1516045739579491,0.1283659166359277,7.0822574695684246E-2,3.246034673552195E-2,null,null,null,"Pesachim ",{"$f":"VLOOKUP(Schedule!M412,#REF!,2,FALSE)","v":{"$error":"#REF!"}}]
["2021-02-19",6,"Pesachim 90",{"$f":"COUNT($A$2:A413)","v":412},1236,0.15197344153448911,0.12873478421246773,7.1191442272224265E-2,3.2829214312061969E-2,null,null,null,"Pesachim ",{"$f":"VLOOKUP(Schedule!M413,#REF!,2,FALSE)","v":{"$error":"#REF!"}}]
["2021-02-20",7,"Pesachim 91",{"$f":"COUNT($A$2:A414)","v":413},1239,0.15234230911102914,0.12910365178900773,{"$f":"(D414-219)/2711","v":7.1560309848764297E-2},3.3198081888601995E-2,null,null,null,"Pesachim ",{"$f":"VLOOKUP(Schedule!M414,#REF!,2,FALSE)","v":{"$error":"#REF!"}}]
["2021-02-21",1,"Pesachim 92",{"$f":"COUNT($A$2:A415)","v":414},1242,0.15271117668756917,0.12947251936554777,7.1929177425304316E-2,3.3566949465142014E-2,null,null,null,"Pesachim ",{"$f":"VLOOKUP(Schedule!M415,#REF!,2,FALSE)","v":{"$error":"#REF!"}}]
["2021-02-22",2,"Pesachim 93",{"$f":"COUNT($A$2:A416)","v":415},1245,0.15308004426410918,0.1298413869420878,7.2298045001844335E-2,3.3935817041682033E-2,null,null,null,"Pesachim ",{"$f":"VLOOKUP(Schedule!M416,#REF!,2,FALSE)","v":{"$error":"#REF!"}}]
["2021-02-23",3,"Pesachim 94",{"$f":"COUNT($A$2:A417)","v":416},1248,0.15344891184064921,0.1302102545186278,7.2666912578384354E-2,3.4304684618222059E-2,null,null,null,"Pesachim ",{"$f":"VLOOKUP(Schedule!M417,#REF!,2,FALSE)","v":{"$error":"#REF!"}}]
["2021-02-24",4,"Pesachim 95",{"$f":"COUNT($A$2:A418)","v":417},1251,0.15381777941718922,0.13057912209516784,7.3035780154924387E-2,3.4673552194762078E-2,null,null,null,"Pesachim ",{"$f":"VLOOKUP(Schedule!M418,#REF!,2,FALSE)","v":{"$error":"#REF!"}}]
["2021-02-25",5,"Pesachim 96",{"$f":"COUNT($A$2:A419)","v":418},1254,0.15418664699372925,0.13094798967170787,7.3404647731464406E-2,3.5042419771302104E-2,null,null,null,"Pesachim ",{"$f":"VLOOKUP(Schedule!M419,#REF!,2,FALSE)","v":{"$error":"#REF!"}}]
["2021-02-26",6,"Pesachim 97",{"$f":"COUNT($A$2:A420)","v":419},1257,0.15455551457026928,0.13131685724824788,7.3773515308004425E-2,3.5411287347842123E-2,null,null,null,"Pesachim ",{"$f":"VLOOKUP(Schedule!M420,#REF!,2,FALSE)","v":{"$error":"#REF!"}}]
["2021-02-27",7,"Pesachim 98",{"$f":"COUNT($A$2:A421)","v":420},1260,0.15492438214680929,0.13168572482478791,7.4142382884544444E-2,3.5780154924382149E-2,null,null,null,"Pesachim ",{"$f":"VLOOKUP(Schedule!M421,#REF!,2,FALSE)","v":{"$error":"#REF!"}}]
["2021-02-28",1,"Pesachim 99",{"$f":"COUNT($A$2:A422)","v":421},1263,0.15529324972334932,0.13205459240132791,7.4511250461084477E-2,3.6149022500922168E-2,null,null,null,"Pesachim ",{"$f":"VLOOKUP(Schedule!M422,#REF!,2,FALSE)","v":{"$error":"#REF!"}}]
["2021-03-01",2,"Pesachim 100",{"$f":"COUNT($A$2:A423)","v":422},1266,0.15566211729988935,0.13242345997786795,7.4880118037624496E-2,3.6517890077462194E-2,null,null,null,"Pesachim ",{"$f":"VLOOKUP(Schedule!M423,#REF!,2,FALSE)","v":{"$error":"#REF!"}}]
["2021-03-02",3,"Pesachim 101",{"$f":"COUNT($A$2:A424)","v":423},1269,0.15603098487642936,0.13279232755440798,7.5248985614164515E-2,3.6886757654002213E-2,null,null,null,"Pesachim ",{"$f":"VLOOKUP(Schedule!M424,#REF!,2,FALSE)","v":{"$error":"#REF!"}}]
["2021-03-03",4,"Pesachim 102",{"$f":"COUNT($A$2:A425)","v":424},1272,0.15639985245296939,0.13316119513094798,7.5617853190704534E-2,3.7255625230542239E-2,null,null,null,"Pesachim ",{"$f":"VLOOKUP(Schedule!M425,#REF!,2,FALSE)","v":{"$error":"#REF!"}}]
["2021-03-04",5,"Pesachim 103",{"$f":"COUNT($A$2:A426)","v":425},1275,0.1567687200295094,0.13353006270748802,7.5986720767244553E-2,3.7624492807082258E-2,null,null,null,"Pesachim ",{"$f":"VLOOKUP(Schedule!M426,#REF!,2,FALSE)","v":{"$error":"#REF!"}}]
["2021-03-05",6,"Pesachim 104",{"$f":"COUNT($A$2:A427)","v":426},1278,0.15713758760604943,0.13389893028402802,7.6355588343784586E-2,3.7993360383622277E-2,null,null,null,"Pesachim ",{"$f":"VLOOKUP(Schedule!M427,#REF!,2,FALSE)","v":{"$error":"#REF!"}}]
["2021-03-06",7,"Pesachim 105",{"$f":"COUNT($A$2:A428)","v":427},1281,0.15750645518258946,0.13426779786056806,7.6724455920324605E-2,3.8362227960162303E-2,null,null,null,"Pesachim ",{"$f":"VLOOKUP(Schedule!M428,#REF!,2,FALSE)","v":{"$error":"#REF!"}}]
["2021-03-07",1,"Pesachim 106",{"$f":"COUNT($A$2:A429)","v":428},1284,0.15787532275912947,0.13463666543710809,7.7093323496864624E-2,3.8731095536702322E-2,null,null,null,"Pesachim ",{"$f":"VLOOKUP(Schedule!M429,#REF!,2,FALSE)","v":{"$error":"#REF!"}}]
["2021-03-08",2,"Pesachim 107",{"$f":"COUNT($A$2:A430)","v":429},1287,0.1582441903356695,0.13500553301364809,7.7462191073404643E-2,3.9099963113242348E-2,null,null,null,"Pesachim ",{"$f":"VLOOKUP(Schedule!M430,#REF!,2,FALSE)","v":{"$error":"#REF!"}}]
["2021-03-09",3,"Pesachim 108",{"$f":"COUNT($A$2:A431)","v":430},1290,0.1586130579122095,0.13537440059018813,7.7831058649944676E-2,3.9468830689782367E-2,null,null,null,"Pesachim ",{"$f":"VLOOKUP(Schedule!M431,#REF!,2,FALSE)","v":{"$error":"#REF!"}}]
["2021-03-10",4,"Pesachim 109",{"$f":"COUNT($A$2:A432)","v":431},1293,0.15898192548874954,0.13574326816672813,7.8199926226484695E-2,3.9837698266322392E-2,null,null,null,"Pesachim ",{"$f":"VLOOKUP(Schedule!M432,#REF!,2,FALSE)","v":{"$error":"#REF!"}}]
["2021-03-11",5,"Pesachim 110",{"$f":"COUNT($A$2:A433)","v":432},1296,0.15935079306528957,0.13611213574326816,7.8568793803024714E-2,4.0206565842862411E-2,null,null,null,"Pesachim ",{"$f":"VLOOKUP(Schedule!M433,#REF!,2,FALSE)","v":{"$error":"#REF!"}}]
["2021-03-12",6,"Pesachim 111",{"$f":"COUNT($A$2:A434)","v":433},1299,0.15971966064182958,0.1364810033198082,7.8937661379564733E-2,4.0575433419402437E-2,null,null,null,"Pesachim ",{"$f":"VLOOKUP(Schedule!M434,#REF!,2,FALSE)","v":{"$error":"#REF!"}}]
["2021-03-13",7,"Pesachim 112",{"$f":"COUNT($A$2:A435)","v":434},1302,0.16008852821836961,0.1368498708963482,7.9306528956104752E-2,4.0944300995942456E-2,null,null,null,"Pesachim ",{"$f":"VLOOKUP(Schedule!M435,#REF!,2,FALSE)","v":{"$error":"#REF!"}}]
["2021-03-14",1,"Pesachim 113",{"$f":"COUNT($A$2:A436)","v":435},1305,0.16045739579490964,0.13721873847288824,7.9675396532644785E-2,4.1313168572482475E-2,null,null,null,"Pesachim ",{"$f":"VLOOKUP(Schedule!M436,#REF!,2,FALSE)","v":{"$error":"#REF!"}}]
["2021-03-15",2,"Pesachim 114",{"$f":"COUNT($A$2:A437)","v":436},1308,0.16082626337144965,0.13758760604942827,8.0044264109184804E-2,4.1682036149022501E-2,null,null,null,"Pesachim ",{"$f":"VLOOKUP(Schedule!M437,#REF!,2,FALSE)","v":{"$error":"#REF!"}}]
["2021-03-16",3,"Pesachim 115",{"$f":"COUNT($A$2:A438)","v":437},1311,0.16119513094798968,0.13795647362596827,8.0413131685724823E-2,4.205090372556252E-2,null,null,null,"Pesachim ",{"$f":"VLOOKUP(Schedule!M438,#REF!,2,FALSE)","v":{"$error":"#REF!"}}]
["2021-03-17",4,"Pesachim 116",{"$f":"COUNT($A$2:A439)","v":438},1314,0.16156399852452968,0.13832534120250831,8.0781999262264842E-2,4.2419771302102546E-2,null,null,null,"Pesachim ",{"$f":"VLOOKUP(Schedule!M439,#REF!,2,FALSE)","v":{"$error":"#REF!"}}]
["2021-03-18",5,"Pesachim 117",{"$f":"COUNT($A$2:A440)","v":439},1317,0.16193286610106972,0.13869420877904831,8.1150866838804875E-2,4.2788638878642565E-2,null,null,null,"Pesachim ",{"$f":"VLOOKUP(Schedule!M440,#REF!,2,FALSE)","v":{"$error":"#REF!"}}]
["2021-03-19",6,"Pesachim 118",{"$f":"COUNT($A$2:A441)","v":440},1320,0.16230173367760975,0.13906307635558834,8.1519734415344894E-2,4.3157506455182591E-2,null,null,null,"Pesachim ",{"$f":"VLOOKUP(Schedule!M441,#REF!,2,FALSE)","v":{"$error":"#REF!"}}]
["2021-03-20",7,"Pesachim 119",{"$f":"COUNT($A$2:A442)","v":441},1323,0.16267060125414975,0.13943194393212838,8.1888601991884913E-2,4.352637403172261E-2,null,null,null,"Pesachim ",{"$f":"VLOOKUP(Schedule!M442,#REF!,2,FALSE)","v":{"$error":"#REF!"}}]
["2021-03-21",1,"Pesachim 120",{"$f":"COUNT($A$2:A443)","v":442},1326,0.16303946883068979,0.13980081150866838,8.2257469568424932E-2,4.3895241608262636E-2,null,null,null,"Pesachim ",{"$f":"VLOOKUP(Schedule!M443,#REF!,2,FALSE)","v":{"$error":"#REF!"}}]
["2021-03-22",2,"Pesachim 121",{"$f":"COUNT($A$2:A444)","v":443},1329,0.16340833640722979,0.14016967908520842,8.2626337144964951E-2,4.4264109184802655E-2,null,null,null,"Pesachim ",{"$f":"VLOOKUP(Schedule!M444,#REF!,2,FALSE)","v":{"$error":"#REF!"}}]
["2021-03-23",3,"Shekalim 2",{"$f":"COUNT($A$2:A445)","v":444},1332,0.16377720398376983,0.14053854666174842,8.2995204721504984E-2,4.4632976761342681E-2,{"$f":"(D445-443)/2711","v":3.6886757654002215E-4},null,null,"Shekalim ",{"$f":"VLOOKUP(Schedule!M445,#REF!,2,FALSE)","v":{"$error":"#REF!"}}]
["2021-03-24",4,"Shekalim 3",{"$f":"COUNT($A$2:A446)","v":445},1335,0.16414607156030986,0.14090741423828845,8.3364072298045003E-2,4.50018443378827E-2,{"$f":"(D446-443)/2711","v":7.377351530800443E-4},null,null,"Shekalim ",{"$f":"VLOOKUP(Schedule!M446,#REF!,2,FALSE)","v":{"$error":"#REF!"}}]
["2021-03-25",5,"Shekalim 4",{"$f":"COUNT($A$2:A447)","v":446},1338,0.16451493913684986,0.14127628181482849,8.3732939874585022E-2,4.5370711914422719E-2,1.1066027296200663E-3,null,null,"Shekalim ",{"$f":"VLOOKUP(Schedule!M447,#REF!,2,FALSE)","v":{"$error":"#REF!"}}]
["2021-03-26",6,"Shekalim 5",{"$f":"COUNT($A$2:A448)","v":447},1341,0.1648838067133899,0.14164514939136849,8.4101807451125041E-2,4.5739579490962745E-2,1.4754703061600886E-3,null,null,"Shekalim ",{"$f":"VLOOKUP(Schedule!M448,#REF!,2,FALSE)","v":{"$error":"#REF!"}}]
["2021-03-27",7,"Shekalim 6",{"$f":"COUNT($A$2:A449)","v":448},1344,0.1652526742899299,0.14201401696790852,8.4470675027665074E-2,4.6108447067502764E-2,1.8443378827001106E-3,null,null,"Shekalim ",{"$f":"VLOOKUP(Schedule!M449,#REF!,2,FALSE)","v":{"$error":"#REF!"}}]
["2021-03-28",1,"Shekalim 7",{"$f":"COUNT($A$2:A450)","v":449},{"$f":"D450*3","v":1347},0.16562154186646993,{"$f":"(D450-63)/2711","v":0.14238288454444853},8.4839542604205093E-2,4.647731464404279E-2,2.2132054592401327E-3,null,null,"Shekalim ",{"$f":"VLOOKUP(Schedule!M450,#REF!,2,FALSE)","v":{"$error":"#REF!"}}]
["2021-03-29",{"$f":"WEEKDAY(A451)","v":2},"Shekalim 8",{"$f":"COUNT($A$2:A451)","v":450},1350,{"$f":"D451/2711","v":0.16599040944300997},0.14275175212098856,8.5208410180745112E-2,4.6846182220582809E-2,2.5820730357801547E-3,null,null,{"$f":"LEFT(C451,FIND(\"☃\",SUBSTITUTE(C451,\" \",\"☃\",LEN(C451)-LEN(SUBSTITUTE(C451,\" \",\"\")))))","v":"Shekalim "},{"$f":"VLOOKUP(Schedule!M451,#REF!,2,FALSE)","v":{"$error":"#REF!"}}]
["2021-03-30",3,"Shekalim 9",{"$f":"COUNT($A$2:A452)","v":451},1353,0.16635927701954997,0.14312061969752859,8.5577277757285131E-2,4.7215049797122835E-2,2.9509406123201772E-3,null,null,"Shekalim ",{"$f":"VLOOKUP(Schedule!M452,#REF!,2,FALSE)","v":{"$error":"#REF!"}}]
["2021-03-31",4,"Shekalim 10",{"$f":"COUNT($A$2:A453)","v":452},1356,0.16672814459609001,0.1434894872740686,8.5946145333825164E-2,4.7583917373662854E-2,3.3198081888601992E-3,null,null,"Shekalim ",{"$f":"VLOOKUP(Schedule!M453,#REF!,2,FALSE)","v":{"$error":"#REF!"}}]
["2021-04-01",5,"Shekalim 11",{"$f":"COUNT($A$2:A454)","v":453},1359,0.16709701217263004,0.14385835485060863,8.6315012910365183E-2,{"$f":"(D454-323)/2711","v":4.795278495020288E-2},3.6886757654002213E-3,null,null,"Shekalim ",{"$f":"VLOOKUP(Schedule!M454,#REF!,2,FALSE)","v":{"$error":"#REF!"}}]
["2021-04-02",6,"Shekalim 12",{"$f":"COUNT($A$2:A455)","v":454},1362,0.16746587974917004,0.14422722242714867,8.6683880486905202E-2,4.8321652526742899E-2,4.0575433419402437E-3,null,null,"Shekalim ",{"$f":"VLOOKUP(Schedule!M455,#REF!,2,FALSE)","v":{"$error":"#REF!"}}]
["2021-04-03",7,"Shekalim 13",{"$f":"COUNT($A$2:A456)","v":455},1365,0.16783474732571008,0.14459609000368867,8.7052748063445221E-2,4.8690520103282925E-2,4.4264109184802653E-3,null,null,"Shekalim ",{"$f":"VLOOKUP(Schedule!M456,#REF!,2,FALSE)","v":{"$error":"#REF!"}}]
["2021-04-04",1,"Shekalim 14",{"$f":"COUNT($A$2:A457)","v":456},1368,0.16820361490225008,0.1449649575802287,8.742161563998524E-2,4.9059387679822944E-2,4.7952784950202878E-3,null,null,"Shekalim ",{"$f":"VLOOKUP(Schedule!M457,#REF!,2,FALSE)","v":{"$error":"#REF!"}}]
["2021-04-05",2,"Shekalim 15",{"$f":"COUNT($A$2:A458)","v":457},1371,0.16857248247879011,0.14533382515676871,8.7790483216525272E-2,4.9428255256362963E-2,5.1641460715603094E-3,null,null,"Shekalim ",{"$f":"VLOOKUP(Schedule!M458,#REF!,2,FALSE)","v":{"$error":"#REF!"}}]
["2021-04-06",3,"Shekalim 16",{"$f":"COUNT($A$2:A459)","v":458},1374,0.16894135005533015,0.14570269273330874,8.8159350793065291E-2,4.9797122832902989E-2,5.5330136481003319E-3,null,null,"Shekalim ",{"$f":"VLOOKUP(Schedule!M459,#REF!,2,FALSE)","v":{"$error":"#REF!"}}]
["2021-04-07",4,"Shekalim 17",{"$f":"COUNT($A$2:A460)","v":459},1377,0.16931021763187015,0.14607156030984877,8.852821836960531E-2,5.0165990409443008E-2,5.9018812246403544E-3,null,null,"Shekalim ",{"$f":"VLOOKUP(Schedule!M460,#REF!,2,FALSE)","v":{"$error":"#REF!"}}]
["2021-04-08",5,"Shekalim 18",{"$f":"COUNT($A$2:A461)","v":460},1380,0.16967908520841019,0.14644042788638878,8.8897085946145329E-2,5.0534857985983034E-2,6.270748801180376E-3,null,null,"Shekalim ",{"$f":"VLOOKUP(Schedule!M461,#REF!,2,FALSE)","v":{"$error":"#REF!"}}]
["2021-04-09",6,"Shekalim 19",{"$f":"COUNT($A$2:A462)","v":461},1383,0.17004795278495019,0.14680929546292881,8.9265953522685362E-2,5.0903725562523053E-2,6.6396163777203985E-3,null,null,"Shekalim ",{"$f":"VLOOKUP(Schedule!M462,#REF!,2,FALSE)","v":{"$error":"#REF!"}}]
["2021-04-10",7,"Shekalim 20",{"$f":"COUNT($A$2:A463)","v":462},1386,0.17041682036149022,0.14717816303946882,8.9634821099225381E-2,5.1272593139063079E-2,7.0084839542604209E-3,null,null,"Shekalim ",{"$f":"VLOOKUP(Schedule!M463,#REF!,2,FALSE)","v":{"$error":"#REF!"}}]
["2021-04-11",1,"Shekalim 21",{"$f":"COUNT($A$2:A464)","v":463},1389,0.17078568793803026,0.14754703061600885,9.00036886757654E-2,5.1641460715603098E-2,7.3773515308004425E-3,null,null,"Shekalim ",{"$f":"VLOOKUP(Schedule!M464,#REF!,2,FALSE)","v":{"$error":"#REF!"}}]
["2021-04-12",2,"Shekalim 22",{"$f":"COUNT($A$2:A465)","v":464},1392,0.17115455551457026,0.14791589819254888,9.0372556252305419E-2,5.2010328292143124E-2,7.746219107340465E-3,null,null,"Shekalim ",{"$f":"VLOOKUP(Schedule!M465,#REF!,2,FALSE)","v":{"$error":"#REF!"}}]
["2021-04-13",3,"Yoma 2",{"$f":"COUNT($A$2:A466)","v":465},1395,0.17152342309111029,0.14828476576908889,9.0741423828845438E-2,5.2379195868683143E-2,8.1150866838804875E-3,{"$f":"(D466-464)/2711","v":3.6886757654002215E-4},null,"Yoma ",{"$f":"VLOOKUP(Schedule!M466,#REF!,2,FALSE)","v":{"$error":"#REF!"}}]
["2021-04-14",4,"Yoma 3",{"$f":"COUNT($A$2:A467)","v":466},1398,0.17189229066765033,0.14865363334562892,9.1110291405385471E-2,5.2748063445223162E-2,8.4839542604205082E-3,7.377351530800443E-4,null,"Yoma ",{"$f":"VLOOKUP(Schedule!M467,#REF!,2,FALSE)","v":{"$error":"#REF!"}}]
["2021-04-15",5,"Yoma 4",{"$f":"COUNT($A$2:A468)","v":467},1401,0.17226115824419033,0.14902250092216895,9.147915898192549E-2,5.3116931021763188E-2,8.8528218369605307E-3,1.1066027296200663E-3,null,"Yoma ",{"$f":"VLOOKUP(Schedule!M468,#REF!,2,FALSE)","v":{"$error":"#REF!"}}]
["2021-04-16",6,"Yoma 5",{"$f":"COUNT($A$2:A469)","v":468},1404,0.17263002582073037,0.14939136849870896,9.1848026558465509E-2,5.3485798598303207E-2,9.2216894135005532E-3,1.4754703061600886E-3,null,"Yoma ",{"$f":"VLOOKUP(Schedule!M469,#REF!,2,FALSE)","v":{"$error":"#REF!"}}]
["2021-04-17",7,"Yoma 6",{"$f":"COUNT($A$2:A470)","v":469},1407,0.17299889339727037,0.14976023607524899,9.2216894135005528E-2,5.3854666174843233E-2,9.5905569900405756E-3,1.8443378827001106E-3,null,"Yoma ",{"$f":"VLOOKUP(Schedule!M470,#REF!,2,FALSE)","v":{"$error":"#REF!"}}]
["2021-04-18",1,"Yoma 7",{"$f":"COUNT($A$2:A471)","v":470},1410,0.1733677609738104,0.150129103651789,9.2585761711545561E-2,5.4223533751383252E-2,9.9594245665805981E-3,2.2132054592401327E-3,null,"Yoma ",{"$f":"VLOOKUP(Schedule!M471,#REF!,2,FALSE)","v":{"$error":"#REF!"}}]
["2021-04-19",2,"Yoma 8",{"$f":"COUNT($A$2:A472)","v":471},1413,0.17373662855035044,0.15049797122832903,9.295462928808558E-2,5.4592401327923278E-2,1.0328292143120619E-2,2.5820730357801547E-3,null,"Yoma ",{"$f":"VLOOKUP(Schedule!M472,#REF!,2,FALSE)","v":{"$error":"#REF!"}}]
["2021-04-20",3,"Yoma 9",{"$f":"COUNT($A$2:A473)","v":472},1416,0.17410549612689044,0.15086683880486906,9.3323496864625599E-2,5.4961268904463297E-2,1.0697159719660641E-2,2.9509406123201772E-3,null,"Yoma ",{"$f":"VLOOKUP(Schedule!M473,#REF!,2,FALSE)","v":{"$error":"#REF!"}}]
["2021-04-21",4,"Yoma 10",{"$f":"COUNT($A$2:A474)","v":473},1419,0.17447436370343047,0.15123570638140907,9.3692364441165618E-2,5.5330136481003322E-2,1.1066027296200664E-2,3.3198081888601992E-3,null,"Yoma ",{"$f":"VLOOKUP(Schedule!M474,#REF!,2,FALSE)","v":{"$error":"#REF!"}}]
["2021-04-22",5,"Yoma 11",{"$f":"COUNT($A$2:A475)","v":474},1422,0.17484323127997048,0.1516045739579491,9.4061232017705637E-2,5.5699004057543341E-2,1.1434894872740686E-2,3.6886757654002213E-3,null,"Yoma ",{"$f":"VLOOKUP(Schedule!M475,#REF!,2,FALSE)","v":{"$error":"#REF!"}}]
["2021-04-23",6,"Yoma 12",{"$f":"COUNT($A$2:A476)","v":475},1425,0.17521209885651051,0.15197344153448911,9.443009959424567E-2,5.6067871634083367E-2,1.1803762449280709E-2,4.0575433419402437E-3,null,"Yoma ",{"$f":"VLOOKUP(Schedule!M476,#REF!,2,FALSE)","v":{"$error":"#REF!"}}]
["2021-04-24",7,"Yoma 13",{"$f":"COUNT($A$2:A477)","v":476},1428,0.17558096643305054,0.15234230911102914,9.4798967170785689E-2,5.6436739210623386E-2,1.2172630025820731E-2,4.4264109184802653E-3,null,"Yoma ",{"$f":"VLOOKUP(Schedule!M477,#REF!,2,FALSE)","v":{"$error":"#REF!"}}]
["2021-04-25",1,"Yoma 14",{"$f":"COUNT($A$2:A478)","v":477},1431,0.17594983400959055,0.15271117668756917,{"$f":"(D478-219)/2711","v":9.5167834747325708E-2},5.6805606787163405E-2,1.2541497602360752E-2,4.7952784950202878E-3,null,"Yoma ",{"$f":"VLOOKUP(Schedule!M478,#REF!,2,FALSE)","v":{"$error":"#REF!"}}]
["2021-04-26",2,"Yoma 15",{"$f":"COUNT($A$2:A479)","v":478},1434,0.17631870158613058,0.15308004426410918,9.5536702323865727E-2,5.7174474363703431E-2,1.2910365178900774E-2,5.1641460715603094E-3,null,"Yoma ",{"$f":"VLOOKUP(Schedule!M479,#REF!,2,FALSE)","v":{"$error":"#REF!"}}]
["2021-04-27",3,"Yoma 16",{"$f":"COUNT($A$2:A480)","v":479},1437,0.17668756916267059,0.15344891184064921,9.590556990040576E-2,5.754334194024345E-2,1.3279232755440797E-2,5.5330136481003319E-3,null,"Yoma ",{"$f":"VLOOKUP(Schedule!M480,#REF!,2,FALSE)","v":{"$error":"#REF!"}}]
["2021-04-28",4,"Yoma 17",{"$f":"COUNT($A$2:A481)","v":480},1440,0.17705643673921062,0.15381777941718922,9.6274437476945779E-2,5.7912209516783476E-2,1.3648100331980819E-2,5.9018812246403544E-3,null,"Yoma ",{"$f":"VLOOKUP(Schedule!M481,#REF!,2,FALSE)","v":{"$error":"#REF!"}}]
["2021-04-29",5,"Yoma 18",{"$f":"COUNT($A$2:A482)","v":481},1443,0.17742530431575065,0.15418664699372925,9.6643305053485798E-2,5.8281077093323495E-2,1.4016967908520842E-2,6.270748801180376E-3,null,"Yoma ",{"$f":"VLOOKUP(Schedule!M482,#REF!,2,FALSE)","v":{"$error":"#REF!"}}]
["2021-04-30",6,"Yoma 19",{"$f":"COUNT($A$2:A483)","v":482},1446,0.17779417189229066,0.15455551457026928,9.7012172630025817E-2,5.8649944669863521E-2,1.4385835485060863E-2,6.6396163777203985E-3,null,"Yoma ",{"$f":"VLOOKUP(Schedule!M483,#REF!,2,FALSE)","v":{"$error":"#REF!"}}]
["2021-05-01",7,"Yoma 20",{"$f":"COUNT($A$2:A484)","v":483},1449,0.17816303946883069,0.15492438214680929,9.738104020656585E-2,5.901881224640354E-2,1.4754703061600885E-2,7.0084839542604209E-3,null,"Yoma ",{"$f":"VLOOKUP(Schedule!M484,#REF!,2,FALSE)","v":{"$error":"#REF!"}}]
["2021-05-02",1,"Yoma 21",{"$f":"COUNT($A$2:A485)","v":484},1452,0.17853190704537072,0.15529324972334932,9.7749907783105869E-2,5.9387679822943566E-2,1.5123570638140908E-2,7.3773515308004425E-3,null,"Yoma ",{"$f":"VLOOKUP(Schedule!M485,#REF!,2,FALSE)","v":{"$error":"#REF!"}}]
["2021-05-03",2,"Yoma 22",{"$f":"COUNT($A$2:A486)","v":485},1455,0.17890077462191073,0.15566211729988935,9.8118775359645888E-2,5.9756547399483585E-2,1.549243821468093E-2,7.746219107340465E-3,null,"Yoma ",{"$f":"VLOOKUP(Schedule!M486,#REF!,2,FALSE)","v":{"$error":"#REF!"}}]
["2021-05-04",3,"Yoma 23",{"$f":"COUNT($A$2:A487)","v":486},1458,0.17926964219845076,0.15603098487642936,9.8487642936185907E-2,6.0125414976023604E-2,1.5861305791220952E-2,8.1150866838804875E-3,null,"Yoma ",{"$f":"VLOOKUP(Schedule!M487,#REF!,2,FALSE)","v":{"$error":"#REF!"}}]
["2021-05-05",4,"Yoma 24",{"$f":"COUNT($A$2:A488)","v":487},1461,0.17963850977499077,0.15639985245296939,9.8856510512725926E-2,6.049428255256363E-2,1.6230173367760975E-2,8.4839542604205082E-3,null,"Yoma ",{"$f":"VLOOKUP(Schedule!M488,#REF!,2,FALSE)","v":{"$error":"#REF!"}}]
["2021-05-06",5,"Yoma 25",{"$f":"COUNT($A$2:A489)","v":488},1464,0.1800073773515308,0.1567687200295094,9.9225378089265959E-2,6.0863150129103649E-2,1.6599040944300997E-2,8.8528218369605307E-3,null,"Yoma ",{"$f":"VLOOKUP(Schedule!M489,#REF!,2,FALSE)","v":{"$error":"#REF!"}}]
["2021-05-07",6,"Yoma 26",{"$f":"COUNT($A$2:A490)","v":489},1467,0.18037624492807083,0.15713758760604943,9.9594245665805978E-2,6.1232017705643675E-2,1.6967908520841016E-2,9.2216894135005532E-3,null,"Yoma ",{"$f":"VLOOKUP(Schedule!M490,#REF!,2,FALSE)","v":{"$error":"#REF!"}}]
["2021-05-08",7,"Yoma 27",{"$f":"COUNT($A$2:A491)","v":490},1470,0.18074511250461084,0.15750645518258946,9.9963113242345997E-2,6.1600885282183694E-2,1.7336776097381039E-2,9.5905569900405756E-3,null,"Yoma ",{"$f":"VLOOKUP(Schedule!M491,#REF!,2,FALSE)","v":{"$error":"#REF!"}}]
["2021-05-09",1,"Yoma 28",{"$f":"COUNT($A$2:A492)","v":491},1473,0.18111398008115087,0.15787532275912947,0.10033198081888602,6.196975285872372E-2,1.7705643673921061E-2,9.9594245665805981E-3,null,"Yoma ",{"$f":"VLOOKUP(Schedule!M492,#REF!,2,FALSE)","v":{"$error":"#REF!"}}]
["2021-05-10",2,"Yoma 29",{"$f":"COUNT($A$2:A493)","v":492},1476,0.18148284765769088,0.1582441903356695,0.10070084839542605,6.2338620435263739E-2,1.8074511250461084E-2,1.0328292143120619E-2,null,"Yoma ",{"$f":"VLOOKUP(Schedule!M493,#REF!,2,FALSE)","v":{"$error":"#REF!"}}]
["2021-05-11",3,"Yoma 30",{"$f":"COUNT($A$2:A494)","v":493},1479,0.18185171523423091,0.1586130579122095,0.10106971597196607,6.2707488011803758E-2,1.8443378827001106E-2,1.0697159719660641E-2,null,"Yoma ",{"$f":"VLOOKUP(Schedule!M494,#REF!,2,FALSE)","v":{"$error":"#REF!"}}]
["2021-05-12",4,"Yoma 31",{"$f":"COUNT($A$2:A495)","v":494},1482,0.18222058281077094,0.15898192548874954,0.10143858354850609,6.3076355588343791E-2,1.8812246403541129E-2,1.1066027296200664E-2,null,"Yoma ",{"$f":"VLOOKUP(Schedule!M495,#REF!,2,FALSE)","v":{"$error":"#REF!"}}]
["2021-05-13",5,"Yoma 32",{"$f":"COUNT($A$2:A496)","v":495},1485,0.18258945038731095,0.15935079306528957,0.10180745112504611,6.344522316488381E-2,1.9181113980081151E-2,1.1434894872740686E-2,null,"Yoma ",{"$f":"VLOOKUP(Schedule!M496,#REF!,2,FALSE)","v":{"$error":"#REF!"}}]
["2021-05-14",6,"Yoma 33",{"$f":"COUNT($A$2:A497)","v":496},1488,0.18295831796385098,0.15971966064182958,0.10217631870158612,6.3814090741423829E-2,1.9549981556621174E-2,1.1803762449280709E-2,null,"Yoma ",{"$f":"VLOOKUP(Schedule!M497,#REF!,2,FALSE)","v":{"$error":"#REF!"}}]
["2021-05-15",7,"Yoma 34",{"$f":"COUNT($A$2:A498)","v":497},1491,0.18332718554039101,0.16008852821836961,0.10254518627812616,6.4182958317963848E-2,1.9918849133161196E-2,1.2172630025820731E-2,null,"Yoma ",{"$f":"VLOOKUP(Schedule!M498,#REF!,2,FALSE)","v":{"$error":"#REF!"}}]
["2021-05-16",1,"Yoma 35",{"$f":"COUNT($A$2:A499)","v":498},1494,0.18369605311693102,0.16045739579490964,0.10291405385466618,6.4551825894503867E-2,2.0287716709701219E-2,1.2541497602360752E-2,null,"Yoma ",{"$f":"VLOOKUP(Schedule!M499,#REF!,2,FALSE)","v":{"$error":"#REF!"}}]
["2021-05-17",2,"Yoma 36",{"$f":"COUNT($A$2:A500)","v":499},1497,0.18406492069347105,0.16082626337144965,0.1032829214312062,6.49206934710439E-2,2.0656584286241238E-2,1.2910365178900774E-2,null,"Yoma ",{"$f":"VLOOKUP(Schedule!M500,#REF!,2,FALSE)","v":{"$error":"#REF!"}}]
["2021-05-18",3,"Yoma 37",{"$f":"COUNT($A$2:A501)","v":500},1500,0.18443378827001106,0.16119513094798968,0.10365178900774621,6.5289561047583919E-2,2.102545186278126E-2,1.3279232755440797E-2,null,"Yoma ",{"$f":"VLOOKUP(Schedule!M501,#REF!,2,FALSE)","v":{"$error":"#REF!"}}]
["2021-05-19",4,"Yoma 38",{"$f":"COUNT($A$2:A502)","v":501},1503,0.18480265584655109,0.16156399852452968,0.10402065658428625,6.5658428624123938E-2,2.1394319439321283E-2,1.3648100331980819E-2,null,"Yoma ",{"$f":"VLOOKUP(Schedule!M502,#REF!,2,FALSE)","v":{"$error":"#REF!"}}]
["2021-05-20",5,"Yoma 39",{"$f":"COUNT($A$2:A503)","v":502},1506,0.18517152342309112,0.16193286610106972,0.10438952416082627,6.6027296200663957E-2,2.1763187015861305E-2,1.4016967908520842E-2,null,"Yoma ",{"$f":"VLOOKUP(Schedule!M503,#REF!,2,FALSE)","v":{"$error":"#REF!"}}]
["2021-05-21",6,"Yoma 40",{"$f":"COUNT($A$2:A504)","v":503},1509,0.18554039099963113,0.16230173367760975,0.10475839173736629,6.639616377720399E-2,2.2132054592401328E-2,1.4385835485060863E-2,null,"Yoma ",{"$f":"VLOOKUP(Schedule!M504,#REF!,2,FALSE)","v":{"$error":"#REF!"}}]
["2021-05-22",7,"Yoma 41",{"$f":"COUNT($A$2:A505)","v":504},1512,0.18590925857617116,0.16267060125414975,0.1051272593139063,6.6765031353744009E-2,2.250092216894135E-2,1.4754703061600885E-2,null,"Yoma ",{"$f":"VLOOKUP(Schedule!M505,#REF!,2,FALSE)","v":{"$error":"#REF!"}}]
["2021-05-23",1,"Yoma 42",{"$f":"COUNT($A$2:A506)","v":505},1515,0.18627812615271117,0.16303946883068979,0.10549612689044632,6.7133898930284028E-2,2.2869789745481373E-2,1.5123570638140908E-2,null,"Yoma ",{"$f":"VLOOKUP(Schedule!M506,#REF!,2,FALSE)","v":{"$error":"#REF!"}}]
["2021-05-24",2,"Yoma 43",{"$f":"COUNT($A$2:A507)","v":506},1518,0.1866469937292512,0.16340833640722979,0.10586499446698636,6.7502766506824047E-2,2.3238657322021395E-2,1.549243821468093E-2,null,"Yoma ",{"$f":"VLOOKUP(Schedule!M507,#REF!,2,FALSE)","v":{"$error":"#REF!"}}]
["2021-05-25",3,"Yoma 44",{"$f":"COUNT($A$2:A508)","v":507},1521,0.18701586130579123,0.16377720398376983,0.10623386204352638,6.7871634083364066E-2,2.3607524898561418E-2,1.5861305791220952E-2,null,"Yoma ",{"$f":"VLOOKUP(Schedule!M508,#REF!,2,FALSE)","v":{"$error":"#REF!"}}]
["2021-05-26",4,"Yoma 45",{"$f":"COUNT($A$2:A509)","v":508},1524,0.18738472888233124,0.16414607156030986,0.10660272962006639,6.8240501659904099E-2,2.397639247510144E-2,1.6230173367760975E-2,null,"Yoma ",{"$f":"VLOOKUP(Schedule!M509,#REF!,2,FALSE)","v":{"$error":"#REF!"}}]
["2021-05-27",5,"Yoma 46",{"$f":"COUNT($A$2:A510)","v":509},1527,0.18775359645887127,0.16451493913684986,0.10697159719660641,6.8609369236444118E-2,{"$f":"(D510-443)/2711","v":2.4345260051641462E-2},1.6599040944300997E-2,null,"Yoma ",{"$f":"VLOOKUP(Schedule!M510,#REF!,2,FALSE)","v":{"$error":"#REF!"}}]
["2021-05-28",6,"Yoma 47",{"$f":"COUNT($A$2:A511)","v":510},1530,0.18812246403541127,0.1648838067133899,0.10734046477314645,6.8978236812984137E-2,2.4714127628181481E-2,1.6967908520841016E-2,null,"Yoma ",{"$f":"VLOOKUP(Schedule!M511,#REF!,2,FALSE)","v":{"$error":"#REF!"}}]
["2021-05-29",7,"Yoma 48",{"$f":"COUNT($A$2:A512)","v":511},1533,0.18849133161195131,0.1652526742899299,0.10770933234968647,6.9347104389524156E-2,2.5082995204721504E-2,1.7336776097381039E-2,null,"Yoma ",{"$f":"VLOOKUP(Schedule!M512,#REF!,2,FALSE)","v":{"$error":"#REF!"}}]
["2021-05-30",1,"Yoma 49",{"$f":"COUNT($A$2:A513)","v":512},1536,0.18886019918849134,0.16562154186646993,0.10807819992622648,6.9715971966064189E-2,2.5451862781261526E-2,1.7705643673921061E-2,null,"Yoma ",{"$f":"VLOOKUP(Schedule!M513,#REF!,2,FALSE)","v":{"$error":"#REF!"}}]
["2021-05-31",2,"Yoma 50",{"$f":"COUNT($A$2:A514)","v":513},{"$f":"D514*3","v":1539},0.18922906676503135,{"$f":"(D514-63)/2711","v":0.16599040944300997},0.1084470675027665,7.0084839542604208E-2,2.5820730357801549E-2,1.8074511250461084E-2,null,"Yoma ",{"$f":"VLOOKUP(Schedule!M514,#REF!,2,FALSE)","v":{"$error":"#REF!"}}]
["2021-06-01",{"$f":"WEEKDAY(A515)","v":3},"Yoma 51",{"$f":"COUNT($A$2:A515)","v":514},1542,{"$f":"D515/2711","v":0.18959793434157138},0.16635927701954997,0.10881593507930652,7.0453707119144227E-2,2.6189597934341571E-2,1.8443378827001106E-2,null,{"$f":"LEFT(C515,FIND(\"☃\",SUBSTITUTE(C515,\" \",\"☃\",LEN(C515)-LEN(SUBSTITUTE(C515,\" \",\"\")))))","v":"Yoma "},{"$f":"VLOOKUP(Schedule!M515,#REF!,2,FALSE)","v":{"$error":"#REF!"}}]
["2021-06-02",4,"Yoma 52",{"$f":"COUNT($A$2:A516)","v":515},1545,0.18996680191811141,0.16672814459609001,0.10918480265584656,7.0822574695684246E-2,2.6558465510881594E-2,1.8812246403541129E-2,null,"Yoma ",{"$f":"VLOOKUP(Schedule!M516,#REF!,2,FALSE)","v":{"$error":"#REF!"}}]
["2021-06-03",5,"Yoma 53",{"$f":"COUNT($A$2:A517)","v":516},1548,0.19033566949465142,0.16709701217263004,0.10955367023238657,7.1191442272224265E-2,2.6927333087421616E-2,1.9181113980081151E-2,null,"Yoma ",{"$f":"VLOOKUP(Schedule!M517,#REF!,2,FALSE)","v":{"$error":"#REF!"}}]
["2021-06-04",6,"Yoma 54",{"$f":"COUNT($A$2:A518)","v":517},1551,0.19070453707119145,0.16746587974917004,0.10992253780892659,{"$f":"(D518-323)/2711","v":7.1560309848764297E-2},2.7296200663961639E-2,1.9549981556621174E-2,null,"Yoma ",{"$f":"VLOOKUP(Schedule!M518,#REF!,2,FALSE)","v":{"$error":"#REF!"}}]
["2021-06-05",7,"Yoma 55",{"$f":"COUNT($A$2:A519)","v":518},1554,0.19107340464773145,0.16783474732571008,0.11029140538546661,7.1929177425304316E-2,2.7665068240501661E-2,1.9918849133161196E-2,null,"Yoma ",{"$f":"VLOOKUP(Schedule!M519,#REF!,2,FALSE)","v":{"$error":"#REF!"}}]
["2021-06-06",1,"Yoma 56",{"$f":"COUNT($A$2:A520)","v":519},1557,0.19144227222427149,0.16820361490225008,0.11066027296200664,7.2298045001844335E-2,2.8033935817041684E-2,2.0287716709701219E-2,null,"Yoma ",{"$f":"VLOOKUP(Schedule!M520,#REF!,2,FALSE)","v":{"$error":"#REF!"}}]
["2021-06-07",2,"Yoma 57",{"$f":"COUNT($A$2:A521)","v":520},1560,0.19181113980081152,0.16857248247879011,0.11102914053854666,7.2666912578384354E-2,2.8402803393581703E-2,2.0656584286241238E-2,null,"Yoma ",{"$f":"VLOOKUP(Schedule!M521,#REF!,2,FALSE)","v":{"$error":"#REF!"}}]
["2021-06-08",3,"Yoma 58",{"$f":"COUNT($A$2:A522)","v":521},1563,0.19218000737735152,0.16894135005533015,0.11139800811508668,7.3035780154924387E-2,2.8771670970121725E-2,2.102545186278126E-2,null,"Yoma ",{"$f":"VLOOKUP(Schedule!M522,#REF!,2,FALSE)","v":{"$error":"#REF!"}}]
["2021-06-09",4,"Yoma 59",{"$f":"COUNT($A$2:A523)","v":522},1566,0.19254887495389156,0.16931021763187015,0.1117668756916267,7.3404647731464406E-2,2.9140538546661748E-2,2.1394319439321283E-2,null,"Yoma ",{"$f":"VLOOKUP(Schedule!M523,#REF!,2,FALSE)","v":{"$error":"#REF!"}}]
["2021-06-10",5,"Yoma 60",{"$f":"COUNT($A$2:A524)","v":523},1569,0.19291774253043156,0.16967908520841019,0.11213574326816673,7.3773515308004425E-2,2.950940612320177E-2,2.1763187015861305E-2,null,"Yoma ",{"$f":"VLOOKUP(Schedule!M524,#REF!,2,FALSE)","v":{"$error":"#REF!"}}]
["2021-06-11",6,"Yoma 61",{"$f":"COUNT($A$2:A525)","v":524},1572,0.1932866101069716,0.17004795278495019,0.11250461084470675,7.4142382884544444E-2,2.9878273699741793E-2,2.2132054592401328E-2,null,"Yoma ",{"$f":"VLOOKUP(Schedule!M525,#REF!,2,FALSE)","v":{"$error":"#REF!"}}]
["2021-06-12",7,"Yoma 62",{"$f":"COUNT($A$2:A526)","v":525},1575,0.19365547768351163,0.17041682036149022,0.11287347842124677,7.4511250461084477E-2,3.0247141276281815E-2,2.250092216894135E-2,null,"Yoma ",{"$f":"VLOOKUP(Schedule!M526,#REF!,2,FALSE)","v":{"$error":"#REF!"}}]
["2021-06-13",1,"Yoma 63",{"$f":"COUNT($A$2:A527)","v":526},1578,0.19402434526005163,0.17078568793803026,0.11324234599778679,7.4880118037624496E-2,3.0616008852821838E-2,2.2869789745481373E-2,null,"Yoma ",{"$f":"VLOOKUP(Schedule!M527,#REF!,2,FALSE)","v":{"$error":"#REF!"}}]
["2021-06-14",2,"Yoma 64",{"$f":"COUNT($A$2:A528)","v":527},1581,0.19439321283659167,0.17115455551457026,0.11361121357432681,7.5248985614164515E-2,3.098487642936186E-2,2.3238657322021395E-2,null,"Yoma ",{"$f":"VLOOKUP(Schedule!M528,#REF!,2,FALSE)","v":{"$error":"#REF!"}}]
["2021-06-15",3,"Yoma 65",{"$f":"COUNT($A$2:A529)","v":528},1584,0.1947620804131317,0.17152342309111029,0.11398008115086684,7.5617853190704534E-2,3.1353744005901879E-2,2.3607524898561418E-2,null,"Yoma ",{"$f":"VLOOKUP(Schedule!M529,#REF!,2,FALSE)","v":{"$error":"#REF!"}}]
["2021-06-16",4,"Yoma 66",{"$f":"COUNT($A$2:A530)","v":529},1587,0.1951309479896717,0.17189229066765033,0.11434894872740686,7.5986720767244553E-2,3.1722611582441905E-2,{"$f":"(D530-464)/2711","v":2.397639247510144E-2},null,"Yoma ",{"$f":"VLOOKUP(Schedule!M530,#REF!,2,FALSE)","v":{"$error":"#REF!"}}]
["2021-06-17",5,"Yoma 67",{"$f":"COUNT($A$2:A531)","v":530},1590,0.19549981556621174,0.17226115824419033,0.11471781630394688,7.6355588343784586E-2,3.2091479158981924E-2,2.4345260051641462E-2,null,"Yoma ",{"$f":"VLOOKUP(Schedule!M531,#REF!,2,FALSE)","v":{"$error":"#REF!"}}]
["2021-06-18",6,"Yoma 68",{"$f":"COUNT($A$2:A532)","v":531},1593,0.19586868314275174,0.17263002582073037,0.1150866838804869,7.6724455920324605E-2,3.246034673552195E-2,2.4714127628181481E-2,null,"Yoma ",{"$f":"VLOOKUP(Schedule!M532,#REF!,2,FALSE)","v":{"$error":"#REF!"}}]
["2021-06-19",7,"Yoma 69",{"$f":"COUNT($A$2:A533)","v":532},1596,0.19623755071929178,0.17299889339727037,0.11545555145702693,7.7093323496864624E-2,3.2829214312061969E-2,2.5082995204721504E-2,null,"Yoma ",{"$f":"VLOOKUP(Schedule!M533,#REF!,2,FALSE)","v":{"$error":"#REF!"}}]
["2021-06-20",1,"Yoma 70",{"$f":"COUNT($A$2:A534)","v":533},1599,0.19660641829583181,0.1733677609738104,0.11582441903356695,7.7462191073404643E-2,3.3198081888601995E-2,2.5451862781261526E-2,null,"Yoma ",{"$f":"VLOOKUP(Schedule!M534,#REF!,2,FALSE)","v":{"$error":"#REF!"}}]
["2021-06-21",2,"Yoma 71",{"$f":"COUNT($A$2:A535)","v":534},1602,0.19697528587237181,0.17373662855035044,0.11619328661010697,7.7831058649944676E-2,3.3566949465142014E-2,2.5820730357801549E-2,null,"Yoma ",{"$f":"VLOOKUP(Schedule!M535,#REF!,2,FALSE)","v":{"$error":"#REF!"}}]
["2021-06-22",3,"Yoma 72",{"$f":"COUNT($A$2:A536)","v":535},1605,0.19734415344891185,0.17410549612689044,0.11656215418664699,7.8199926226484695E-2,3.3935817041682033E-2,2.6189597934341571E-2,null,"Yoma ",{"$f":"VLOOKUP(Schedule!M536,#REF!,2,FALSE)","v":{"$error":"#REF!"}}]
["2021-06-23",4,"Yoma 73",{"$f":"COUNT($A$2:A537)","v":536},1608,0.19771302102545185,0.17447436370343047,0.11693102176318701,7.8568793803024714E-2,3.4304684618222059E-2,2.6558465510881594E-2,null,"Yoma ",{"$f":"VLOOKUP(Schedule!M537,#REF!,2,FALSE)","v":{"$error":"#REF!"}}]
["2021-06-24",5,"Yoma 74",{"$f":"COUNT($A$2:A538)","v":537},1611,0.19808188860199188,0.17484323127997048,0.11729988933972704,7.8937661379564733E-2,3.4673552194762078E-2,2.6927333087421616E-2,null,"Yoma ",{"$f":"VLOOKUP(Schedule!M538,#REF!,2,FALSE)","v":{"$error":"#REF!"}}]
["2021-06-25",6,"Yoma 75",{"$f":"COUNT($A$2:A539)","v":538},1614,0.19845075617853192,0.17521209885651051,0.11766875691626706,7.9306528956104752E-2,3.5042419771302104E-2,2.7296200663961639E-2,null,"Yoma ",{"$f":"VLOOKUP(Schedule!M539,#REF!,2,FALSE)","v":{"$error":"#REF!"}}]
["2021-06-26",7,"Yoma 76",{"$f":"COUNT($A$2:A540)","v":539},1617,0.19881962375507192,0.17558096643305054,0.11803762449280708,7.9675396532644785E-2,3.5411287347842123E-2,2.7665068240501661E-2,null,"Yoma ",{"$f":"VLOOKUP(Schedule!M540,#REF!,2,FALSE)","v":{"$error":"#REF!"}}]
["2021-06-27",1,"Yoma 77",{"$f":"COUNT($A$2:A541)","v":540},1620,0.19918849133161196,0.17594983400959055,0.1184064920693471,8.0044264109184804E-2,3.5780154924382149E-2,2.8033935817041684E-2,null,"Yoma ",{"$f":"VLOOKUP(Schedule!M541,#REF!,2,FALSE)","v":{"$error":"#REF!"}}]
["2021-06-28",2,"Yoma 78",{"$f":"COUNT($A$2:A542)","v":541},1623,0.19955735890815196,0.17631870158613058,{"$f":"(D542-219)/2711","v":0.11877535964588713},8.0413131685724823E-2,3.6149022500922168E-2,2.8402803393581703E-2,null,"Yoma ",{"$f":"VLOOKUP(Schedule!M542,#REF!,2,FALSE)","v":{"$error":"#REF!"}}]
["2021-06-29",3,"Yoma 79",{"$f":"COUNT($A$2:A543)","v":542},1626,0.19992622648469199,0.17668756916267059,0.11914422722242715,8.0781999262264842E-2,3.6517890077462194E-2,2.8771670970121725E-2,null,"Yoma ",{"$f":"VLOOKUP(Schedule!M543,#REF!,2,FALSE)","v":{"$error":"#REF!"}}]
["2021-06-30",4,"Yoma 80",{"$f":"COUNT($A$2:A544)","v":543},1629,0.20029509406123203,0.17705643673921062,0.11951309479896717,8.1150866838804875E-2,3.6886757654002213E-2,2.9140538546661748E-2,null,"Yoma ",{"$f":"VLOOKUP(Schedule!M544,#REF!,2,FALSE)","v":{"$error":"#REF!"}}]
["2021-07-01",5,"Yoma 81",{"$f":"COUNT($A$2:A545)","v":544},1632,0.20066396163777203,0.17742530431575065,0.11988196237550719,8.1519734415344894E-2,3.7255625230542239E-2,2.950940612320177E-2,null,"Yoma ",{"$f":"VLOOKUP(Schedule!M545,#REF!,2,FALSE)","v":{"$error":"#REF!"}}]
["2021-07-02",6,"Yoma 82",{"$f":"COUNT($A$2:A546)","v":545},1635,0.20103282921431206,0.17779417189229066,0.12025082995204721,8.1888601991884913E-2,3.7624492807082258E-2,2.9878273699741793E-2,null,"Yoma ",{"$f":"VLOOKUP(Schedule!M546,#REF!,2,FALSE)","v":{"$error":"#REF!"}}]
["2021-07-03",7,"Yoma 83",{"$f":"COUNT($A$2:A547)","v":546},1638,0.2014016967908521,0.17816303946883069,0.12061969752858724,8.2257469568424932E-2,3.7993360383622277E-2,3.0247141276281815E-2,null,"Yoma ",{"$f":"VLOOKUP(Schedule!M547,#REF!,2,FALSE)","v":{"$error":"#REF!"}}]
["2021-07-04",1,"Yoma 84",{"$f":"COUNT($A$2:A548)","v":547},1641,0.2017705643673921,0.17853190704537072,0.12098856510512726,8.2626337144964951E-2,3.8362227960162303E-2,3.0616008852821838E-2,null,"Yoma ",{"$f":"VLOOKUP(Schedule!M548,#REF!,2,FALSE)","v":{"$error":"#REF!"}}]
["2021-07-05",2,"Yoma 85",{"$f":"COUNT($A$2:A549)","v":548},1644,0.20213943194393214,0.17890077462191073,0.12135743268166728,8.2995204721504984E-2,3.8731095536702322E-2,3.098487642936186E-2,null,"Yoma ",{"$f":"VLOOKUP(Schedule!M549,#REF!,2,FALSE)","v":{"$error":"#REF!"}}]
["2021-07-06",3,"Yoma 86",{"$f":"COUNT($A$2:A550)","v":549},1647,0.20250829952047214,0.17926964219845076,0.1217263002582073,8.3364072298045003E-2,3.9099963113242348E-2,3.1353744005901879E-2,null,"Yoma ",{"$f":"VLOOKUP(Schedule!M550,#REF!,2,FALSE)","v":{"$error":"#REF!"}}]
["2021-07-07",4,"Yoma 87",{"$f":"COUNT($A$2:A551)","v":550},1650,0.20287716709701217,0.17963850977499077,0.12209516783474733,8.3732939874585022E-2,3.9468830689782367E-2,3.1722611582441905E-2,null,"Yoma ",{"$f":"VLOOKUP(Schedule!M551,#REF!,2,FALSE)","v":{"$error":"#REF!"}}]
["2021-07-08",5,"Yoma 88",{"$f":"COUNT($A$2:A552)","v":551},1653,0.20324603467355221,0.1800073773515308,0.12246403541128735,8.4101807451125041E-2,3.9837698266322392E-2,3.2091479158981924E-2,null,"Yoma ",{"$f":"VLOOKUP(Schedule!M552,#REF!,2,FALSE)","v":{"$error":"#REF!"}}]
["2021-07-09",6,"Succah 2",{"$f":"COUNT($A$2:A553)","v":552},1656,0.20361490225009221,0.18037624492807083,0.12283290298782737,8.4470675027665074E-2,4.0206565842862411E-2,3.246034673552195E-2,{"$f":"(D553-551)/2711","v":3.6886757654002215E-4},"Succah ",{"$f":"VLOOKUP(Schedule!M553,#REF!,2,FALSE)","v":{"$error":"#REF!"}}]
["2021-07-10",7,"Succah 3",{"$f":"COUNT($A$2:A554)","v":553},1659,0.20398376982663224,0.18074511250461084,0.12320177056436739,8.4839542604205093E-2,4.0575433419402437E-2,3.2829214312061969E-2,{"$f":"(D554-551)/2711","v":7.377351530800443E-4},"Succah ",{"$f":"VLOOKUP(Schedule!M554,#REF!,2,FALSE)","v":{"$error":"#REF!"}}]
["2021-07-11",1,"Succah 4",{"$f":"COUNT($A$2:A555)","v":554},1662,0.20435263740317225,0.18111398008115087,0.12357063814090742,8.5208410180745112E-2,4.0944300995942456E-2,3.3198081888601995E-2,1.1066027296200663E-3,"Succah ",{"$f":"VLOOKUP(Schedule!M555,#REF!,2,FALSE)","v":{"$error":"#REF!"}}]
["2021-07-12",2,"Succah 5",{"$f":"COUNT($A$2:A556)","v":555},1665,0.20472150497971228,0.18148284765769088,0.12393950571744744,8.5577277757285131E-2,4.1313168572482475E-2,3.3566949465142014E-2,1.4754703061600886E-3,"Succah ",{"$f":"VLOOKUP(Schedule!M556,#REF!,2,FALSE)","v":{"$error":"#REF!"}}]
["2021-07-13",3,"Succah 6",{"$f":"COUNT($A$2:A557)","v":556},1668,0.20509037255625231,0.18185171523423091,0.12430837329398746,8.5946145333825164E-2,4.1682036149022501E-2,3.3935817041682033E-2,1.8443378827001106E-3,"Succah ",{"$f":"VLOOKUP(Schedule!M557,#REF!,2,FALSE)","v":{"$error":"#REF!"}}]
["2021-07-14",4,"Succah 7",{"$f":"COUNT($A$2:A558)","v":557},1671,0.20545924013279232,0.18222058281077094,0.12467724087052748,8.6315012910365183E-2,4.205090372556252E-2,3.4304684618222059E-2,2.2132054592401327E-3,"Succah ",{"$f":"VLOOKUP(Schedule!M558,#REF!,2,FALSE)","v":{"$error":"#REF!"}}]
["2021-07-15",5,"Succah 8",{"$f":"COUNT($A$2:A559)","v":558},1674,0.20582810770933235,0.18258945038731095,0.12504610844706751,8.6683880486905202E-2,4.2419771302102546E-2,3.4673552194762078E-2,2.5820730357801547E-3,"Succah ",{"$f":"VLOOKUP(Schedule!M559,#REF!,2,FALSE)","v":{"$error":"#REF!"}}]
["2021-07-16",6,"Succah 9",{"$f":"COUNT($A$2:A560)","v":559},1677,0.20619697528587236,0.18295831796385098,0.12541497602360752,8.7052748063445221E-2,4.2788638878642565E-2,3.5042419771302104E-2,2.9509406123201772E-3,"Succah ",{"$f":"VLOOKUP(Schedule!M560,#REF!,2,FALSE)","v":{"$error":"#REF!"}}]
["2021-07-17",7,"Succah 10",{"$f":"COUNT($A$2:A561)","v":560},1680,0.20656584286241239,0.18332718554039101,0.12578384360014755,8.742161563998524E-2,4.3157506455182591E-2,3.5411287347842123E-2,3.3198081888601992E-3,"Succah ",{"$f":"VLOOKUP(Schedule!M561,#REF!,2,FALSE)","v":{"$error":"#REF!"}}]
["2021-07-18",1,"Succah 11",{"$f":"COUNT($A$2:A562)","v":561},1683,0.20693471043895242,0.18369605311693102,0.12615271117668758,8.7790483216525272E-2,4.352637403172261E-2,3.5780154924382149E-2,3.6886757654002213E-3,"Succah ",{"$f":"VLOOKUP(Schedule!M562,#REF!,2,FALSE)","v":{"$error":"#REF!"}}]
["2021-07-19",2,"Succah 12",{"$f":"COUNT($A$2:A563)","v":562},1686,0.20730357801549243,0.18406492069347105,0.12652157875322759,8.8159350793065291E-2,4.3895241608262636E-2,3.6149022500922168E-2,4.0575433419402437E-3,"Succah ",{"$f":"VLOOKUP(Schedule!M563,#REF!,2,FALSE)","v":{"$error":"#REF!"}}]
["2021-07-20",3,"Succah 13",{"$f":"COUNT($A$2:A564)","v":563},1689,0.20767244559203246,0.18443378827001106,0.12689044632976762,8.852821836960531E-2,4.4264109184802655E-2,3.6517890077462194E-2,4.4264109184802653E-3,"Succah ",{"$f":"VLOOKUP(Schedule!M564,#REF!,2,FALSE)","v":{"$error":"#REF!"}}]
["2021-07-21",4,"Succah 14",{"$f":"COUNT($A$2:A565)","v":564},1692,0.20804131316857249,0.18480265584655109,0.12725931390630763,8.8897085946145329E-2,4.4632976761342681E-2,3.6886757654002213E-2,4.7952784950202878E-3,"Succah ",{"$f":"VLOOKUP(Schedule!M565,#REF!,2,FALSE)","v":{"$error":"#REF!"}}]
["2021-07-22",5,"Succah 15",{"$f":"COUNT($A$2:A566)","v":565},1695,0.2084101807451125,0.18517152342309112,0.12762818148284766,8.9265953522685362E-2,4.50018443378827E-2,3.7255625230542239E-2,5.1641460715603094E-3,"Succah ",{"$f":"VLOOKUP(Schedule!M566,#REF!,2,FALSE)","v":{"$error":"#REF!"}}]
["2021-07-23",6,"Succah 16",{"$f":"COUNT($A$2:A567)","v":566},1698,0.20877904832165253,0.18554039099963113,0.12799704905938769,8.9634821099225381E-2,4.5370711914422719E-2,3.7624492807082258E-2,5.5330136481003319E-3,"Succah ",{"$f":"VLOOKUP(Schedule!M567,#REF!,2,FALSE)","v":{"$error":"#REF!"}}]
["2021-07-24",7,"Succah 17",{"$f":"COUNT($A$2:A568)","v":567},1701,0.20914791589819254,0.18590925857617116,0.1283659166359277,9.00036886757654E-2,4.5739579490962745E-2,3.7993360383622277E-2,5.9018812246403544E-3,"Succah ",{"$f":"VLOOKUP(Schedule!M568,#REF!,2,FALSE)","v":{"$error":"#REF!"}}]
["2021-07-25",1,"Succah 18",{"$f":"COUNT($A$2:A569)","v":568},1704,0.20951678347473257,0.18627812615271117,0.12873478421246773,9.0372556252305419E-2,4.6108447067502764E-2,3.8362227960162303E-2,6.270748801180376E-3,"Succah ",{"$f":"VLOOKUP(Schedule!M569,#REF!,2,FALSE)","v":{"$error":"#REF!"}}]
["2021-07-26",2,"Succah 19",{"$f":"COUNT($A$2:A570)","v":569},1707,0.2098856510512726,0.1866469937292512,0.12910365178900773,9.0741423828845438E-2,4.647731464404279E-2,3.8731095536702322E-2,6.6396163777203985E-3,"Succah ",{"$f":"VLOOKUP(Schedule!M570,#REF!,2,FALSE)","v":{"$error":"#REF!"}}]
["2021-07-27",3,"Succah 20",{"$f":"COUNT($A$2:A571)","v":570},1710,0.21025451862781261,0.18701586130579123,0.12947251936554777,9.1110291405385471E-2,4.6846182220582809E-2,3.9099963113242348E-2,7.0084839542604209E-3,"Succah ",{"$f":"VLOOKUP(Schedule!M571,#REF!,2,FALSE)","v":{"$error":"#REF!"}}]
["2021-07-28",4,"Succah 21",{"$f":"COUNT($A$2:A572)","v":571},1713,0.21062338620435264,0.18738472888233124,0.1298413869420878,9.147915898192549E-2,4.7215049797122835E-2,3.9468830689782367E-2,7.3773515308004425E-3,"Succah ",{"$f":"VLOOKUP(Schedule!M572,#REF!,2,FALSE)","v":{"$error":"#REF!"}}]
["2021-07-29",5,"Succah 22",{"$f":"COUNT($A$2:A573)","v":572},1716,0.21099225378089265,0.18775359645887127,0.1302102545186278,9.1848026558465509E-2,4.7583917373662854E-2,3.9837698266322392E-2,7.746219107340465E-3,"Succah ",{"$f":"VLOOKUP(Schedule!M573,#REF!,2,FALSE)","v":{"$error":"#REF!"}}]
["2021-07-30",6,"Succah 23",{"$f":"COUNT($A$2:A574)","v":573},1719,0.21136112135743268,0.18812246403541127,0.13057912209516784,9.2216894135005528E-2,{"$f":"(D574-443)/2711","v":4.795278495020288E-2},4.0206565842862411E-2,8.1150866838804875E-3,"Succah ",{"$f":"VLOOKUP(Schedule!M574,#REF!,2,FALSE)","v":{"$error":"#REF!"}}]
["2021-07-31",7,"Succah 24",{"$f":"COUNT($A$2:A575)","v":574},1722,0.21172998893397271,0.18849133161195131,0.13094798967170787,9.2585761711545561E-2,4.8321652526742899E-2,4.0575433419402437E-2,8.4839542604205082E-3,"Succah ",{"$f":"VLOOKUP(Schedule!M575,#REF!,2,FALSE)","v":{"$error":"#REF!"}}]
["2021-08-01",1,"Succah 25",{"$f":"COUNT($A$2:A576)","v":575},1725,0.21209885651051272,0.18886019918849134,0.13131685724824788,9.295462928808558E-2,4.8690520103282925E-2,4.0944300995942456E-2,8.8528218369605307E-3,"Succah ",{"$f":"VLOOKUP(Schedule!M576,#REF!,2,FALSE)","v":{"$error":"#REF!"}}]
["2021-08-02",2,"Succah 26",{"$f":"COUNT($A$2:A577)","v":576},1728,0.21246772408705275,0.18922906676503135,0.13168572482478791,9.3323496864625599E-2,4.9059387679822944E-2,4.1313168572482475E-2,9.2216894135005532E-3,"Succah ",{"$f":"VLOOKUP(Schedule!M577,#REF!,2,FALSE)","v":{"$error":"#REF!"}}]
["2021-08-03",3,"Succah 27",{"$f":"COUNT($A$2:A578)","v":577},{"$f":"D578*3","v":1731},0.21283659166359278,{"$f":"(D578-63)/2711","v":0.18959793434157138},0.13205459240132791,9.3692364441165618E-2,4.9428255256362963E-2,4.1682036149022501E-2,9.5905569900405756E-3,"Succah ",{"$f":"VLOOKUP(Schedule!M578,#REF!,2,FALSE)","v":{"$error":"#REF!"}}]
["2021-08-04",{"$f":"WEEKDAY(A579)","v":4},"Succah 28",{"$f":"COUNT($A$2:A579)","v":578},1734,{"$f":"D579/2711","v":0.21320545924013279},0.18996680191811141,0.13242345997786795,9.4061232017705637E-2,4.9797122832902989E-2,4.205090372556252E-2,9.9594245665805981E-3,{"$f":"LEFT(C579,FIND(\"☃\",SUBSTITUTE(C579,\" \",\"☃\",LEN(C579)-LEN(SUBSTITUTE(C579,\" \",\"\")))))","v":"Succah "},{"$f":"VLOOKUP(Schedule!M579,#REF!,2,FALSE)","v":{"$error":"#REF!"}}]
["2021-08-05",5,"Succah 29",{"$f":"COUNT($A$2:A580)","v":579},1737,0.21357432681667282,0.19033566949465142,0.13279232755440798,9.443009959424567E-2,5.0165990409443008E-2,4.2419771302102546E-2,1.0328292143120619E-2,"Succah ",{"$f":"VLOOKUP(Schedule!M580,#REF!,2,FALSE)","v":{"$error":"#REF!"}}]
["2021-08-06",6,"Succah 30",{"$f":"COUNT($A$2:A581)","v":580},1740,0.21394319439321283,0.19070453707119145,0.13316119513094798,9.4798967170785689E-2,5.0534857985983034E-2,4.2788638878642565E-2,1.0697159719660641E-2,"Succah ",{"$f":"VLOOKUP(Schedule!M581,#REF!,2,FALSE)","v":{"$error":"#REF!"}}]
["2021-08-07",7,"Succah 31",{"$f":"COUNT($A$2:A582)","v":581},1743,0.21431206196975286,0.19107340464773145,0.13353006270748802,{"$f":"(D582-323)/2711","v":9.5167834747325708E-2},5.0903725562523053E-2,4.3157506455182591E-2,1.1066027296200664E-2,"Succah ",{"$f":"VLOOKUP(Schedule!M582,#REF!,2,FALSE)","v":{"$error":"#REF!"}}]
["2021-08-08",1,"Succah 32",{"$f":"COUNT($A$2:A583)","v":582},1746,0.21468092954629289,0.19144227222427149,0.13389893028402802,9.5536702323865727E-2,5.1272593139063079E-2,4.352637403172261E-2,1.1434894872740686E-2,"Succah ",{"$f":"VLOOKUP(Schedule!M583,#REF!,2,FALSE)","v":{"$error":"#REF!"}}]
["2021-08-09",2,"Succah 33",{"$f":"COUNT($A$2:A584)","v":583},1749,0.2150497971228329,0.19181113980081152,0.13426779786056806,9.590556990040576E-2,5.1641460715603098E-2,4.3895241608262636E-2,1.1803762449280709E-2,"Succah ",{"$f":"VLOOKUP(Schedule!M584,#REF!,2,FALSE)","v":{"$error":"#REF!"}}]
["2021-08-10",3,"Succah 34",{"$f":"COUNT($A$2:A585)","v":584},1752,0.21541866469937293,0.19218000737735152,0.13463666543710809,9.6274437476945779E-2,5.2010328292143124E-2,4.4264109184802655E-2,1.2172630025820731E-2,"Succah ",{"$f":"VLOOKUP(Schedule!M585,#REF!,2,FALSE)","v":{"$error":"#REF!"}}]
["2021-08-11",4,"Succah 35",{"$f":"COUNT($A$2:A586)","v":585},1755,0.21578753227591294,0.19254887495389156,0.13500553301364809,9.6643305053485798E-2,5.2379195868683143E-2,4.4632976761342681E-2,1.2541497602360752E-2,"Succah ",{"$f":"VLOOKUP(Schedule!M586,#REF!,2,FALSE)","v":{"$error":"#REF!"}}]
["2021-08-12",5,"Succah 36",{"$f":"COUNT($A$2:A587)","v":586},1758,0.21615639985245297,0.19291774253043156,0.13537440059018813,9.7012172630025817E-2,5.2748063445223162E-2,4.50018443378827E-2,1.2910365178900774E-2,"Succah ",{"$f":"VLOOKUP(Schedule!M587,#REF!,2,FALSE)","v":{"$error":"#REF!"}}]
["2021-08-13",6,"Succah 37",{"$f":"COUNT($A$2:A588)","v":587},1761,0.216525267428993,0.1932866101069716,0.13574326816672813,9.738104020656585E-2,5.3116931021763188E-2,4.5370711914422719E-2,1.3279232755440797E-2,"Succah ",{"$f":"VLOOKUP(Schedule!M588,#REF!,2,FALSE)","v":{"$error":"#REF!"}}]
["2021-08-14",7,"Succah 38",{"$f":"COUNT($A$2:A589)","v":588},1764,0.21689413500553301,0.19365547768351163,0.13611213574326816,9.7749907783105869E-2,5.3485798598303207E-2,4.5739579490962745E-2,1.3648100331980819E-2,"Succah ",{"$f":"VLOOKUP(Schedule!M589,#REF!,2,FALSE)","v":{"$error":"#REF!"}}]
["2021-08-15",1,"Succah 39",{"$f":"COUNT($A$2:A590)","v":589},1767,0.21726300258207304,0.19402434526005163,0.1364810033198082,9.8118775359645888E-2,5.3854666174843233E-2,4.6108447067502764E-2,1.4016967908520842E-2,"Succah ",{"$f":"VLOOKUP(Schedule!M590,#REF!,2,FALSE)","v":{"$error":"#REF!"}}]
["2021-08-16",2,"Succah 40",{"$f":"COUNT($A$2:A591)","v":590},1770,0.21763187015861304,0.19439321283659167,0.1368498708963482,9.8487642936185907E-2,5.4223533751383252E-2,4.647731464404279E-2,1.4385835485060863E-2,"Succah ",{"$f":"VLOOKUP(Schedule!M591,#REF!,2,FALSE)","v":{"$error":"#REF!"}}]
["2021-08-17",3,"Succah 41",{"$f":"COUNT($A$2:A592)","v":591},1773,0.21800073773515308,0.1947620804131317,0.13721873847288824,9.8856510512725926E-2,5.4592401327923278E-2,4.6846182220582809E-2,1.4754703061600885E-2,"Succah ",{"$f":"VLOOKUP(Schedule!M592,#REF!,2,FALSE)","v":{"$error":"#REF!"}}]
["2021-08-18",4,"Succah 42",{"$f":"COUNT($A$2:A593)","v":592},1776,0.21836960531169311,0.1951309479896717,0.13758760604942827,9.9225378089265959E-2,5.4961268904463297E-2,4.7215049797122835E-2,1.5123570638140908E-2,"Succah ",{"$f":"VLOOKUP(Schedule!M593,#REF!,2,FALSE)","v":{"$error":"#REF!"}}]
["2021-08-19",5,"Succah 43",{"$f":"COUNT($A$2:A594)","v":593},1779,0.21873847288823312,0.19549981556621174,0.13795647362596827,9.9594245665805978E-2,5.5330136481003322E-2,{"$f":"(D594-464)/2711","v":4.7583917373662854E-2},1.549243821468093E-2,"Succah ",{"$f":"VLOOKUP(Schedule!M594,#REF!,2,FALSE)","v":{"$error":"#REF!"}}]
["2021-08-20",6,"Succah 44",{"$f":"COUNT($A$2:A595)","v":594},1782,0.21910734046477315,0.19586868314275174,0.13832534120250831,9.9963113242345997E-2,5.5699004057543341E-2,4.795278495020288E-2,1.5861305791220952E-2,"Succah ",{"$f":"VLOOKUP(Schedule!M595,#REF!,2,FALSE)","v":{"$error":"#REF!"}}]
["2021-08-21",7,"Succah 45",{"$f":"COUNT($A$2:A596)","v":595},1785,0.21947620804131318,0.19623755071929178,0.13869420877904831,0.10033198081888602,5.6067871634083367E-2,4.8321652526742899E-2,1.6230173367760975E-2,"Succah ",{"$f":"VLOOKUP(Schedule!M596,#REF!,2,FALSE)","v":{"$error":"#REF!"}}]
["2021-08-22",1,"Succah 46",{"$f":"COUNT($A$2:A597)","v":596},1788,0.21984507561785319,0.19660641829583181,0.13906307635558834,0.10070084839542605,5.6436739210623386E-2,4.8690520103282925E-2,1.6599040944300997E-2,"Succah ",{"$f":"VLOOKUP(Schedule!M597,#REF!,2,FALSE)","v":{"$error":"#REF!"}}]
["2021-08-23",2,"Succah 47",{"$f":"COUNT($A$2:A598)","v":597},1791,0.22021394319439322,0.19697528587237181,0.13943194393212838,0.10106971597196607,5.6805606787163405E-2,4.9059387679822944E-2,1.6967908520841016E-2,"Succah ",{"$f":"VLOOKUP(Schedule!M598,#REF!,2,FALSE)","v":{"$error":"#REF!"}}]
["2021-08-24",3,"Succah 48",{"$f":"COUNT($A$2:A599)","v":598},1794,0.22058281077093322,0.19734415344891185,0.13980081150866838,0.10143858354850609,5.7174474363703431E-2,4.9428255256362963E-2,1.7336776097381039E-2,"Succah ",{"$f":"VLOOKUP(Schedule!M599,#REF!,2,FALSE)","v":{"$error":"#REF!"}}]
["2021-08-25",4,"Succah 49",{"$f":"COUNT($A$2:A600)","v":599},1797,0.22095167834747326,0.19771302102545185,0.14016967908520842,0.10180745112504611,5.754334194024345E-2,4.9797122832902989E-2,1.7705643673921061E-2,"Succah ",{"$f":"VLOOKUP(Schedule!M600,#REF!,2,FALSE)","v":{"$error":"#REF!"}}]
["2021-08-26",5,"Succah 50",{"$f":"COUNT($A$2:A601)","v":600},1800,0.22132054592401329,0.19808188860199188,0.14053854666174842,0.10217631870158612,5.7912209516783476E-2,5.0165990409443008E-2,1.8074511250461084E-2,"Succah ",{"$f":"VLOOKUP(Schedule!M601,#REF!,2,FALSE)","v":{"$error":"#REF!"}}]
["2021-08-27",6,"Succah 51",{"$f":"COUNT($A$2:A602)","v":601},1803,0.2216894135005533,0.19845075617853192,0.14090741423828845,0.10254518627812616,5.8281077093323495E-2,5.0534857985983034E-2,1.8443378827001106E-2,"Succah ",{"$f":"VLOOKUP(Schedule!M602,#REF!,2,FALSE)","v":{"$error":"#REF!"}}]
["2021-08-28",7,"Succah 52",{"$f":"COUNT($A$2:A603)","v":602},1806,0.22205828107709333,0.19881962375507192,0.14127628181482849,0.10291405385466618,5.8649944669863521E-2,5.0903725562523053E-2,1.8812246403541129E-2,"Succah ",{"$f":"VLOOKUP(Schedule!M603,#REF!,2,FALSE)","v":{"$error":"#REF!"}}]
["2021-08-29",1,"Succah 53",{"$f":"COUNT($A$2:A604)","v":603},1809,0.22242714865363333,0.19918849133161196,0.14164514939136849,0.1032829214312062,5.901881224640354E-2,5.1272593139063079E-2,1.9181113980081151E-2,"Succah ",{"$f":"VLOOKUP(Schedule!M604,#REF!,2,FALSE)","v":{"$error":"#REF!"}}]
["2021-08-30",2,"Succah 54",{"$f":"COUNT($A$2:A605)","v":604},1812,0.22279601623017337,0.19955735890815196,0.14201401696790852,0.10365178900774621,5.9387679822943566E-2,5.1641460715603098E-2,1.9549981556621174E-2,"Succah ",{"$f":"VLOOKUP(Schedule!M605,#REF!,2,FALSE)","v":{"$error":"#REF!"}}]
["2021-08-31",3,"Succah 55",{"$f":"COUNT($A$2:A606)","v":605},1815,0.2231648838067134,0.19992622648469199,{"$f":"(D606-219)/2711","v":0.14238288454444853},0.10402065658428625,5.9756547399483585E-2,5.2010328292143124E-2,1.9918849133161196E-2,"Succah ",{"$f":"VLOOKUP(Schedule!M606,#REF!,2,FALSE)","v":{"$error":"#REF!"}}]
["2021-09-01",4,"Succah 56",{"$f":"COUNT($A$2:A607)","v":606},1818,0.2235337513832534,0.20029509406123203,0.14275175212098856,0.10438952416082627,6.0125414976023604E-2,5.2379195868683143E-2,2.0287716709701219E-2,"Succah ",{"$f":"VLOOKUP(Schedule!M607,#REF!,2,FALSE)","v":{"$error":"#REF!"}}]
["2021-09-02",5,"Beitzah 2",{"$f":"COUNT($A$2:A608)","v":607},1821,0.22390261895979344,0.20066396163777203,0.14312061969752859,0.10475839173736629,6.049428255256363E-2,5.2748063445223162E-2,2.0656584286241238E-2,"Beitzah ",{"$f":"VLOOKUP(Schedule!M608,#REF!,2,FALSE)","v":{"$error":"#REF!"}}]
["2021-09-03",6,"Beitzah 3",{"$f":"COUNT($A$2:A609)","v":608},1824,0.22427148653633347,0.20103282921431206,0.1434894872740686,0.1051272593139063,6.0863150129103649E-2,5.3116931021763188E-2,2.102545186278126E-2,"Beitzah ",{"$f":"VLOOKUP(Schedule!M609,#REF!,2,FALSE)","v":{"$error":"#REF!"}}]
["2021-09-04",7,"Beitzah 4",{"$f":"COUNT($A$2:A610)","v":609},1827,0.22464035411287347,0.2014016967908521,0.14385835485060863,0.10549612689044632,6.1232017705643675E-2,5.3485798598303207E-2,2.1394319439321283E-2,"Beitzah ",{"$f":"VLOOKUP(Schedule!M610,#REF!,2,FALSE)","v":{"$error":"#REF!"}}]
["2021-09-05",1,"Beitzah 5",{"$f":"COUNT($A$2:A611)","v":610},1830,0.22500922168941351,0.2017705643673921,0.14422722242714867,0.10586499446698636,6.1600885282183694E-2,5.3854666174843233E-2,2.1763187015861305E-2,"Beitzah ",{"$f":"VLOOKUP(Schedule!M611,#REF!,2,FALSE)","v":{"$error":"#REF!"}}]
["2021-09-06",2,"Beitzah 6",{"$f":"COUNT($A$2:A612)","v":611},1833,0.22537808926595351,0.20213943194393214,0.14459609000368867,0.10623386204352638,6.196975285872372E-2,5.4223533751383252E-2,2.2132054592401328E-2,"Beitzah ",{"$f":"VLOOKUP(Schedule!M612,#REF!,2,FALSE)","v":{"$error":"#REF!"}}]
["2021-09-07",3,"Beitzah 7",{"$f":"COUNT($A$2:A613)","v":612},1836,0.22574695684249355,0.20250829952047214,0.1449649575802287,0.10660272962006639,6.2338620435263739E-2,5.4592401327923278E-2,2.250092216894135E-2,"Beitzah ",{"$f":"VLOOKUP(Schedule!M613,#REF!,2,FALSE)","v":{"$error":"#REF!"}}]
["2021-09-08",4,"Beitzah 8",{"$f":"COUNT($A$2:A614)","v":613},1839,0.22611582441903358,0.20287716709701217,0.14533382515676871,0.10697159719660641,6.2707488011803758E-2,5.4961268904463297E-2,2.2869789745481373E-2,"Beitzah ",{"$f":"VLOOKUP(Schedule!M614,#REF!,2,FALSE)","v":{"$error":"#REF!"}}]
["2021-09-09",5,"Beitzah 9",{"$f":"COUNT($A$2:A615)","v":614},1842,0.22648469199557358,0.20324603467355221,0.14570269273330874,0.10734046477314645,6.3076355588343791E-2,5.5330136481003322E-2,2.3238657322021395E-2,"Beitzah ",{"$f":"VLOOKUP(Schedule!M615,#REF!,2,FALSE)","v":{"$error":"#REF!"}}]
["2021-09-10",6,"Beitzah 10",{"$f":"COUNT($A$2:A616)","v":615},1845,0.22685355957211362,0.20361490225009221,0.14607156030984877,0.10770933234968647,6.344522316488381E-2,5.5699004057543341E-2,2.3607524898561418E-2,"Beitzah ",{"$f":"VLOOKUP(Schedule!M616,#REF!,2,FALSE)","v":{"$error":"#REF!"}}]
["2021-09-11",7,"Beitzah 11",{"$f":"COUNT($A$2:A617)","v":616},1848,0.22722242714865362,0.20398376982663224,0.14644042788638878,0.10807819992622648,6.3814090741423829E-2,5.6067871634083367E-2,2.397639247510144E-2,"Beitzah ",{"$f":"VLOOKUP(Schedule!M617,#REF!,2,FALSE)","v":{"$error":"#REF!"}}]
["2021-09-12",1,"Beitzah 12",{"$f":"COUNT($A$2:A618)","v":617},1851,0.22759129472519365,0.20435263740317225,0.14680929546292881,0.1084470675027665,6.4182958317963848E-2,5.6436739210623386E-2,{"$f":"(D618-551)/2711","v":2.4345260051641462E-2},"Beitzah ",{"$f":"VLOOKUP(Schedule!M618,#REF!,2,FALSE)","v":{"$error":"#REF!"}}]
["2021-09-13",2,"Beitzah 13",{"$f":"COUNT($A$2:A619)","v":618},1854,0.22796016230173369,0.20472150497971228,0.14717816303946882,0.10881593507930652,6.4551825894503867E-2,5.6805606787163405E-2,2.4714127628181481E-2,"Beitzah ",{"$f":"VLOOKUP(Schedule!M619,#REF!,2,FALSE)","v":{"$error":"#REF!"}}]
["2021-09-14",3,"Beitzah 14",{"$f":"COUNT($A$2:A620)","v":619},1857,0.22832902987827369,0.20509037255625231,0.14754703061600885,0.10918480265584656,6.49206934710439E-2,5.7174474363703431E-2,2.5082995204721504E-2,"Beitzah ",{"$f":"VLOOKUP(Schedule!M620,#REF!,2,FALSE)","v":{"$error":"#REF!"}}]
["2021-09-15",4,"Beitzah 15",{"$f":"COUNT($A$2:A621)","v":620},1860,0.22869789745481373,0.20545924013279232,0.14791589819254888,0.10955367023238657,6.5289561047583919E-2,5.754334194024345E-2,2.5451862781261526E-2,"Beitzah ",{"$f":"VLOOKUP(Schedule!M621,#REF!,2,FALSE)","v":{"$error":"#REF!"}}]
["2021-09-16",5,"Beitzah 16",{"$f":"COUNT($A$2:A622)","v":621},1863,0.22906676503135373,0.20582810770933235,0.14828476576908889,0.10992253780892659,6.5658428624123938E-2,5.7912209516783476E-2,2.5820730357801549E-2,"Beitzah ",{"$f":"VLOOKUP(Schedule!M622,#REF!,2,FALSE)","v":{"$error":"#REF!"}}]
["2021-09-17",6,"Beitzah 17",{"$f":"COUNT($A$2:A623)","v":622},1866,0.22943563260789376,0.20619697528587236,0.14865363334562892,0.11029140538546661,6.6027296200663957E-2,5.8281077093323495E-2,2.6189597934341571E-2,"Beitzah ",{"$f":"VLOOKUP(Schedule!M623,#REF!,2,FALSE)","v":{"$error":"#REF!"}}]
["2021-09-18",7,"Beitzah 18",{"$f":"COUNT($A$2:A624)","v":623},1869,0.2298045001844338,0.20656584286241239,0.14902250092216895,0.11066027296200664,6.639616377720399E-2,5.8649944669863521E-2,2.6558465510881594E-2,"Beitzah ",{"$f":"VLOOKUP(Schedule!M624,#REF!,2,FALSE)","v":{"$error":"#REF!"}}]
["2021-09-19",1,"Beitzah 19",{"$f":"COUNT($A$2:A625)","v":624},1872,0.2301733677609738,0.20693471043895242,0.14939136849870896,0.11102914053854666,6.6765031353744009E-2,5.901881224640354E-2,2.6927333087421616E-2,"Beitzah ",{"$f":"VLOOKUP(Schedule!M625,#REF!,2,FALSE)","v":{"$error":"#REF!"}}]
["2021-09-20",2,"Beitzah 20",{"$f":"COUNT($A$2:A626)","v":625},1875,0.23054223533751383,0.20730357801549243,0.14976023607524899,0.11139800811508668,6.7133898930284028E-2,5.9387679822943566E-2,2.7296200663961639E-2,"Beitzah ",{"$f":"VLOOKUP(Schedule!M626,#REF!,2,FALSE)","v":{"$error":"#REF!"}}]
["2021-09-21",3,"Beitzah 21",{"$f":"COUNT($A$2:A627)","v":626},1878,0.23091110291405387,0.20767244559203246,0.150129103651789,0.1117668756916267,6.7502766506824047E-2,5.9756547399483585E-2,2.7665068240501661E-2,"Beitzah ",{"$f":"VLOOKUP(Schedule!M627,#REF!,2,FALSE)","v":{"$error":"#REF!"}}]
["2021-09-22",4,"Beitzah 22",{"$f":"COUNT($A$2:A628)","v":627},1881,0.23127997049059387,0.20804131316857249,0.15049797122832903,0.11213574326816673,6.7871634083364066E-2,6.0125414976023604E-2,2.8033935817041684E-2,"Beitzah ",{"$f":"VLOOKUP(Schedule!M628,#REF!,2,FALSE)","v":{"$error":"#REF!"}}]
["2021-09-23",5,"Beitzah 23",{"$f":"COUNT($A$2:A629)","v":628},1884,0.23164883806713391,0.2084101807451125,0.15086683880486906,0.11250461084470675,6.8240501659904099E-2,6.049428255256363E-2,2.8402803393581703E-2,"Beitzah ",{"$f":"VLOOKUP(Schedule!M629,#REF!,2,FALSE)","v":{"$error":"#REF!"}}]
["2021-09-24",6,"Beitzah 24",{"$f":"COUNT($A$2:A630)","v":629},1887,0.23201770564367391,0.20877904832165253,0.15123570638140907,0.11287347842124677,6.8609369236444118E-2,6.0863150129103649E-2,2.8771670970121725E-2,"Beitzah ",{"$f":"VLOOKUP(Schedule!M630,#REF!,2,FALSE)","v":{"$error":"#REF!"}}]
["2021-09-25",7,"Beitzah 25",{"$f":"COUNT($A$2:A631)","v":630},1890,0.23238657322021394,0.20914791589819254,0.1516045739579491,0.11324234599778679,6.8978236812984137E-2,6.1232017705643675E-2,2.9140538546661748E-2,"Beitzah ",{"$f":"VLOOKUP(Schedule!M631,#REF!,2,FALSE)","v":{"$error":"#REF!"}}]
["2021-09-26",1,"Beitzah 26",{"$f":"COUNT($A$2:A632)","v":631},1893,0.23275544079675398,0.20951678347473257,0.15197344153448911,0.11361121357432681,6.9347104389524156E-2,6.1600885282183694E-2,2.950940612320177E-2,"Beitzah ",{"$f":"VLOOKUP(Schedule!M632,#REF!,2,FALSE)","v":{"$error":"#REF!"}}]
["2021-09-27",2,"Beitzah 27",{"$f":"COUNT($A$2:A633)","v":632},1896,0.23312430837329398,0.2098856510512726,0.15234230911102914,0.11398008115086684,6.9715971966064189E-2,6.196975285872372E-2,2.9878273699741793E-2,"Beitzah ",{"$f":"VLOOKUP(Schedule!M633,#REF!,2,FALSE)","v":{"$error":"#REF!"}}]
["2021-09-28",3,"Beitzah 28",{"$f":"COUNT($A$2:A634)","v":633},1899,0.23349317594983401,0.21025451862781261,0.15271117668756917,0.11434894872740686,7.0084839542604208E-2,6.2338620435263739E-2,3.0247141276281815E-2,"Beitzah ",{"$f":"VLOOKUP(Schedule!M634,#REF!,2,FALSE)","v":{"$error":"#REF!"}}]
["2021-09-29",4,"Beitzah 29",{"$f":"COUNT($A$2:A635)","v":634},1902,0.23386204352637402,0.21062338620435264,0.15308004426410918,0.11471781630394688,7.0453707119144227E-2,6.2707488011803758E-2,3.0616008852821838E-2,"Beitzah ",{"$f":"VLOOKUP(Schedule!M635,#REF!,2,FALSE)","v":{"$error":"#REF!"}}]
["2021-09-30",5,"Beitzah 30",{"$f":"COUNT($A$2:A636)","v":635},1905,0.23423091110291405,0.21099225378089265,0.15344891184064921,0.1150866838804869,7.0822574695684246E-2,6.3076355588343791E-2,3.098487642936186E-2,"Beitzah ",{"$f":"VLOOKUP(Schedule!M636,#REF!,2,FALSE)","v":{"$error":"#REF!"}}]
["2021-10-01",6,"Beitzah 31",{"$f":"COUNT($A$2:A637)","v":636},1908,0.23459977867945409,0.21136112135743268,0.15381777941718922,0.11545555145702693,7.1191442272224265E-2,6.344522316488381E-2,3.1353744005901879E-2,"Beitzah ",{"$f":"VLOOKUP(Schedule!M637,#REF!,2,FALSE)","v":{"$error":"#REF!"}}]
["2021-10-02",7,"Beitzah 32",{"$f":"COUNT($A$2:A638)","v":637},1911,0.23496864625599409,0.21172998893397271,0.15418664699372925,0.11582441903356695,{"$f":"(D638-443)/2711","v":7.1560309848764297E-2},6.3814090741423829E-2,3.1722611582441905E-2,"Beitzah ",{"$f":"VLOOKUP(Schedule!M638,#REF!,2,FALSE)","v":{"$error":"#REF!"}}]
["2021-10-03",1,"Beitzah 33",{"$f":"COUNT($A$2:A639)","v":638},1914,0.23533751383253412,0.21209885651051272,0.15455551457026928,0.11619328661010697,7.1929177425304316E-2,6.4182958317963848E-2,3.2091479158981924E-2,"Beitzah ",{"$f":"VLOOKUP(Schedule!M639,#REF!,2,FALSE)","v":{"$error":"#REF!"}}]
["2021-10-04",2,"Beitzah 34",{"$f":"COUNT($A$2:A640)","v":639},1917,0.23570638140907416,0.21246772408705275,0.15492438214680929,0.11656215418664699,7.2298045001844335E-2,6.4551825894503867E-2,3.246034673552195E-2,"Beitzah ",{"$f":"VLOOKUP(Schedule!M640,#REF!,2,FALSE)","v":{"$error":"#REF!"}}]
["2021-10-05",3,"Beitzah 35",{"$f":"COUNT($A$2:A641)","v":640},1920,0.23607524898561416,0.21283659166359278,0.15529324972334932,0.11693102176318701,7.2666912578384354E-2,6.49206934710439E-2,3.2829214312061969E-2,"Beitzah ",{"$f":"VLOOKUP(Schedule!M641,#REF!,2,FALSE)","v":{"$error":"#REF!"}}]
["2021-10-06",4,"Beitzah 36",{"$f":"COUNT($A$2:A642)","v":641},{"$f":"D642*3","v":1923},0.23644411656215419,{"$f":"(D642-63)/2711","v":0.21320545924013279},0.15566211729988935,0.11729988933972704,7.3035780154924387E-2,6.5289561047583919E-2,3.3198081888601995E-2,"Beitzah ",{"$f":"VLOOKUP(Schedule!M642,#REF!,2,FALSE)","v":{"$error":"#REF!"}}]
["2021-10-07",{"$f":"WEEKDAY(A643)","v":5},"Beitzah 37",{"$f":"COUNT($A$2:A643)","v":642},1926,{"$f":"D643/2711","v":0.2368129841386942},0.21357432681667282,0.15603098487642936,0.11766875691626706,7.3404647731464406E-2,6.5658428624123938E-2,3.3566949465142014E-2,{"$f":"LEFT(C643,FIND(\"☃\",SUBSTITUTE(C643,\" \",\"☃\",LEN(C643)-LEN(SUBSTITUTE(C643,\" \",\"\")))))","v":"Beitzah "},{"$f":"VLOOKUP(Schedule!M643,#REF!,2,FALSE)","v":{"$error":"#REF!"}}]
["2021-10-08",6,"Beitzah 38",{"$f":"COUNT($A$2:A644)","v":643},1929,0.23718185171523423,0.21394319439321283,0.15639985245296939,0.11803762449280708,7.3773515308004425E-2,6.6027296200663957E-2,3.3935817041682033E-2,"Beitzah ",{"$f":"VLOOKUP(Schedule!M644,#REF!,2,FALSE)","v":{"$error":"#REF!"}}]
["2021-10-09",7,"Beitzah 39",{"$f":"COUNT($A$2:A645)","v":644},1932,0.23755071929177426,0.21431206196975286,0.1567687200295094,0.1184064920693471,7.4142382884544444E-2,6.639616377720399E-2,3.4304684618222059E-2,"Beitzah ",{"$f":"VLOOKUP(Schedule!M645,#REF!,2,FALSE)","v":{"$error":"#REF!"}}]
["2021-10-10",1,"Beitzah 40",{"$f":"COUNT($A$2:A646)","v":645},1935,0.23791958686831427,0.21468092954629289,0.15713758760604943,{"$f":"(D646-323)/2711","v":0.11877535964588713},7.4511250461084477E-2,6.6765031353744009E-2,3.4673552194762078E-2,"Beitzah ",{"$f":"VLOOKUP(Schedule!M646,#REF!,2,FALSE)","v":{"$error":"#REF!"}}]
["2021-10-11",2,"Rosh Hashanah 2",{"$f":"COUNT($A$2:A647)","v":646},1938,0.2382884544448543,0.2150497971228329,0.15750645518258946,0.11914422722242715,7.4880118037624496E-2,6.7133898930284028E-2,3.5042419771302104E-2,"Rosh Hashanah ",{"$f":"VLOOKUP(Schedule!M647,#REF!,2,FALSE)","v":{"$error":"#REF!"}}]
["2021-10-12",3,"Rosh Hashanah 3",{"$f":"COUNT($A$2:A648)","v":647},1941,0.23865732202139431,0.21541866469937293,0.15787532275912947,0.11951309479896717,7.5248985614164515E-2,6.7502766506824047E-2,3.5411287347842123E-2,"Rosh Hashanah ",{"$f":"VLOOKUP(Schedule!M648,#REF!,2,FALSE)","v":{"$error":"#REF!"}}]
["2021-10-13",4,"Rosh Hashanah 4",{"$f":"COUNT($A$2:A649)","v":648},1944,0.23902618959793434,0.21578753227591294,0.1582441903356695,0.11988196237550719,7.5617853190704534E-2,6.7871634083364066E-2,3.5780154924382149E-2,"Rosh Hashanah ",{"$f":"VLOOKUP(Schedule!M649,#REF!,2,FALSE)","v":{"$error":"#REF!"}}]
["2021-10-14",5,"Rosh Hashanah 5",{"$f":"COUNT($A$2:A650)","v":649},1947,0.23939505717447437,0.21615639985245297,0.1586130579122095,0.12025082995204721,7.5986720767244553E-2,6.8240501659904099E-2,3.6149022500922168E-2,"Rosh Hashanah ",{"$f":"VLOOKUP(Schedule!M650,#REF!,2,FALSE)","v":{"$error":"#REF!"}}]
["2021-10-15",6,"Rosh Hashanah 6",{"$f":"COUNT($A$2:A651)","v":650},1950,0.23976392475101438,0.216525267428993,0.15898192548874954,0.12061969752858724,7.6355588343784586E-2,6.8609369236444118E-2,3.6517890077462194E-2,"Rosh Hashanah ",{"$f":"VLOOKUP(Schedule!M651,#REF!,2,FALSE)","v":{"$error":"#REF!"}}]
["2021-10-16",7,"Rosh Hashanah 7",{"$f":"COUNT($A$2:A652)","v":651},1953,0.24013279232755441,0.21689413500553301,0.15935079306528957,0.12098856510512726,7.6724455920324605E-2,6.8978236812984137E-2,3.6886757654002213E-2,"Rosh Hashanah ",{"$f":"VLOOKUP(Schedule!M652,#REF!,2,FALSE)","v":{"$error":"#REF!"}}]
["2021-10-17",1,"Rosh Hashanah 8",{"$f":"COUNT($A$2:A653)","v":652},1956,0.24050165990409442,0.21726300258207304,0.15971966064182958,0.12135743268166728,7.7093323496864624E-2,6.9347104389524156E-2,3.7255625230542239E-2,"Rosh Hashanah ",{"$f":"VLOOKUP(Schedule!M653,#REF!,2,FALSE)","v":{"$error":"#REF!"}}]
["2021-10-18",2,"Rosh Hashanah 9",{"$f":"COUNT($A$2:A654)","v":653},1959,0.24087052748063445,0.21763187015861304,0.16008852821836961,0.1217263002582073,7.7462191073404643E-2,6.9715971966064189E-2,3.7624492807082258E-2,"Rosh Hashanah ",{"$f":"VLOOKUP(Schedule!M654,#REF!,2,FALSE)","v":{"$error":"#REF!"}}]
["2021-10-19",3,"Rosh Hashanah 10",{"$f":"COUNT($A$2:A655)","v":654},1962,0.24123939505717448,0.21800073773515308,0.16045739579490964,0.12209516783474733,7.7831058649944676E-2,7.0084839542604208E-2,3.7993360383622277E-2,"Rosh Hashanah ",{"$f":"VLOOKUP(Schedule!M655,#REF!,2,FALSE)","v":{"$error":"#REF!"}}]
["2021-10-20",4,"Rosh Hashanah 11",{"$f":"COUNT($A$2:A656)","v":655},1965,0.24160826263371449,0.21836960531169311,0.16082626337144965,0.12246403541128735,7.8199926226484695E-2,7.0453707119144227E-2,3.8362227960162303E-2,"Rosh Hashanah ",{"$f":"VLOOKUP(Schedule!M656,#REF!,2,FALSE)","v":{"$error":"#REF!"}}]
["2021-10-21",5,"Rosh Hashanah 12",{"$f":"COUNT($A$2:A657)","v":656},1968,0.24197713021025452,0.21873847288823312,0.16119513094798968,0.12283290298782737,7.8568793803024714E-2,7.0822574695684246E-2,3.8731095536702322E-2,"Rosh Hashanah ",{"$f":"VLOOKUP(Schedule!M657,#REF!,2,FALSE)","v":{"$error":"#REF!"}}]
["2021-10-22",6,"Rosh Hashanah 13",{"$f":"COUNT($A$2:A658)","v":657},1971,0.24234599778679455,0.21910734046477315,0.16156399852452968,0.12320177056436739,7.8937661379564733E-2,{"$f":"(D658-464)/2711","v":7.1191442272224265E-2},3.9099963113242348E-2,"Rosh Hashanah ",{"$f":"VLOOKUP(Schedule!M658,#REF!,2,FALSE)","v":{"$error":"#REF!"}}]
["2021-10-23",7,"Rosh Hashanah 14",{"$f":"COUNT($A$2:A659)","v":658},1974,0.24271486536333456,0.21947620804131318,0.16193286610106972,0.12357063814090742,7.9306528956104752E-2,7.1560309848764297E-2,3.9468830689782367E-2,"Rosh Hashanah ",{"$f":"VLOOKUP(Schedule!M659,#REF!,2,FALSE)","v":{"$error":"#REF!"}}]
["2021-10-24",1,"Rosh Hashanah 15",{"$f":"COUNT($A$2:A660)","v":659},1977,0.24308373293987459,0.21984507561785319,0.16230173367760975,0.12393950571744744,7.9675396532644785E-2,7.1929177425304316E-2,3.9837698266322392E-2,"Rosh Hashanah ",{"$f":"VLOOKUP(Schedule!M660,#REF!,2,FALSE)","v":{"$error":"#REF!"}}]
["2021-10-25",2,"Rosh Hashanah 16",{"$f":"COUNT($A$2:A661)","v":660},1980,0.2434526005164146,0.22021394319439322,0.16267060125414975,0.12430837329398746,8.0044264109184804E-2,7.2298045001844335E-2,4.0206565842862411E-2,"Rosh Hashanah ",{"$f":"VLOOKUP(Schedule!M661,#REF!,2,FALSE)","v":{"$error":"#REF!"}}]
["2021-10-26",3,"Rosh Hashanah 17",{"$f":"COUNT($A$2:A662)","v":661},1983,0.24382146809295463,0.22058281077093322,0.16303946883068979,0.12467724087052748,8.0413131685724823E-2,7.2666912578384354E-2,4.0575433419402437E-2,"Rosh Hashanah ",{"$f":"VLOOKUP(Schedule!M662,#REF!,2,FALSE)","v":{"$error":"#REF!"}}]
["2021-10-27",4,"Rosh Hashanah 18",{"$f":"COUNT($A$2:A663)","v":662},1986,0.24419033566949466,0.22095167834747326,0.16340833640722979,0.12504610844706751,8.0781999262264842E-2,7.3035780154924387E-2,4.0944300995942456E-2,"Rosh Hashanah ",{"$f":"VLOOKUP(Schedule!M663,#REF!,2,FALSE)","v":{"$error":"#REF!"}}]
["2021-10-28",5,"Rosh Hashanah 19",{"$f":"COUNT($A$2:A664)","v":663},1989,0.24455920324603467,0.22132054592401329,0.16377720398376983,0.12541497602360752,8.1150866838804875E-2,7.3404647731464406E-2,4.1313168572482475E-2,"Rosh Hashanah ",{"$f":"VLOOKUP(Schedule!M664,#REF!,2,FALSE)","v":{"$error":"#REF!"}}]
["2021-10-29",6,"Rosh Hashanah 20",{"$f":"COUNT($A$2:A665)","v":664},1992,0.2449280708225747,0.2216894135005533,0.16414607156030986,0.12578384360014755,8.1519734415344894E-2,7.3773515308004425E-2,4.1682036149022501E-2,"Rosh Hashanah ",{"$f":"VLOOKUP(Schedule!M665,#REF!,2,FALSE)","v":{"$error":"#REF!"}}]
["2021-10-30",7,"Rosh Hashanah 21",{"$f":"COUNT($A$2:A666)","v":665},1995,0.24529693839911471,0.22205828107709333,0.16451493913684986,0.12615271117668758,8.1888601991884913E-2,7.4142382884544444E-2,4.205090372556252E-2,"Rosh Hashanah ",{"$f":"VLOOKUP(Schedule!M666,#REF!,2,FALSE)","v":{"$error":"#REF!"}}]
["2021-10-31",1,"Rosh Hashanah 22",{"$f":"COUNT($A$2:A667)","v":666},1998,0.24566580597565474,0.22242714865363333,0.1648838067133899,0.12652157875322759,8.2257469568424932E-2,7.4511250461084477E-2,4.2419771302102546E-2,"Rosh Hashanah ",{"$f":"VLOOKUP(Schedule!M667,#REF!,2,FALSE)","v":{"$error":"#REF!"}}]
["2021-11-01",2,"Rosh Hashanah 23",{"$f":"COUNT($A$2:A668)","v":667},2001,0.24603467355219477,0.22279601623017337,0.1652526742899299,0.12689044632976762,8.2626337144964951E-2,7.4880118037624496E-2,4.2788638878642565E-2,"Rosh Hashanah ",{"$f":"VLOOKUP(Schedule!M668,#REF!,2,FALSE)","v":{"$error":"#REF!"}}]
["2021-11-02",3,"Rosh Hashanah 24",{"$f":"COUNT($A$2:A669)","v":668},2004,0.24640354112873478,0.2231648838067134,0.16562154186646993,0.12725931390630763,8.2995204721504984E-2,7.5248985614164515E-2,4.3157506455182591E-2,"Rosh Hashanah ",{"$f":"VLOOKUP(Schedule!M669,#REF!,2,FALSE)","v":{"$error":"#REF!"}}]
["2021-11-03",4,"Rosh Hashanah 25",{"$f":"COUNT($A$2:A670)","v":669},2007,0.24677240870527481,0.2235337513832534,{"$f":"(D670-219)/2711","v":0.16599040944300997},0.12762818148284766,8.3364072298045003E-2,7.5617853190704534E-2,4.352637403172261E-2,"Rosh Hashanah ",{"$f":"VLOOKUP(Schedule!M670,#REF!,2,FALSE)","v":{"$error":"#REF!"}}]
["2021-11-04",5,"Rosh Hashanah 26",{"$f":"COUNT($A$2:A671)","v":670},2010,0.24714127628181484,0.22390261895979344,0.16635927701954997,0.12799704905938769,8.3732939874585022E-2,7.5986720767244553E-2,4.3895241608262636E-2,"Rosh Hashanah ",{"$f":"VLOOKUP(Schedule!M671,#REF!,2,FALSE)","v":{"$error":"#REF!"}}]
["2021-11-05",6,"Rosh Hashanah 27",{"$f":"COUNT($A$2:A672)","v":671},2013,0.24751014385835485,0.22427148653633347,0.16672814459609001,0.1283659166359277,8.4101807451125041E-2,7.6355588343784586E-2,4.4264109184802655E-2,"Rosh Hashanah ",{"$f":"VLOOKUP(Schedule!M672,#REF!,2,FALSE)","v":{"$error":"#REF!"}}]
["2021-11-06",7,"Rosh Hashanah 28",{"$f":"COUNT($A$2:A673)","v":672},2016,0.24787901143489488,0.22464035411287347,0.16709701217263004,0.12873478421246773,8.4470675027665074E-2,7.6724455920324605E-2,4.4632976761342681E-2,"Rosh Hashanah ",{"$f":"VLOOKUP(Schedule!M673,#REF!,2,FALSE)","v":{"$error":"#REF!"}}]
["2021-11-07",1,"Rosh Hashanah 29",{"$f":"COUNT($A$2:A674)","v":673},2019,0.24824787901143489,0.22500922168941351,0.16746587974917004,0.12910365178900773,8.4839542604205093E-2,7.7093323496864624E-2,4.50018443378827E-2,"Rosh Hashanah ",{"$f":"VLOOKUP(Schedule!M674,#REF!,2,FALSE)","v":{"$error":"#REF!"}}]
["2021-11-08",2,"Rosh Hashanah 30",{"$f":"COUNT($A$2:A675)","v":674},2022,0.24861674658797492,0.22537808926595351,0.16783474732571008,0.12947251936554777,8.5208410180745112E-2,7.7462191073404643E-2,4.5370711914422719E-2,"Rosh Hashanah ",{"$f":"VLOOKUP(Schedule!M675,#REF!,2,FALSE)","v":{"$error":"#REF!"}}]
["2021-11-09",3,"Rosh Hashanah 31",{"$f":"COUNT($A$2:A676)","v":675},2025,0.24898561416451495,0.22574695684249355,0.16820361490225008,0.1298413869420878,8.5577277757285131E-2,7.7831058649944676E-2,4.5739579490962745E-2,"Rosh Hashanah ",{"$f":"VLOOKUP(Schedule!M676,#REF!,2,FALSE)","v":{"$error":"#REF!"}}]
["2021-11-10",4,"Rosh Hashanah 32",{"$f":"COUNT($A$2:A677)","v":676},2028,0.24935448174105496,0.22611582441903358,0.16857248247879011,0.1302102545186278,8.5946145333825164E-2,7.8199926226484695E-2,4.6108447067502764E-2,"Rosh Hashanah ",{"$f":"VLOOKUP(Schedule!M677,#REF!,2,FALSE)","v":{"$error":"#REF!"}}]
["2021-11-11",5,"Rosh Hashanah 33",{"$f":"COUNT($A$2:A678)","v":677},2031,0.24972334931759499,0.22648469199557358,0.16894135005533015,0.13057912209516784,8.6315012910365183E-2,7.8568793803024714E-2,4.647731464404279E-2,"Rosh Hashanah ",{"$f":"VLOOKUP(Schedule!M678,#REF!,2,FALSE)","v":{"$error":"#REF!"}}]
["2021-11-12",6,"Rosh Hashanah 34",{"$f":"COUNT($A$2:A679)","v":678},2034,0.25009221689413502,0.22685355957211362,0.16931021763187015,0.13094798967170787,8.6683880486905202E-2,7.8937661379564733E-2,4.6846182220582809E-2,"Rosh Hashanah ",{"$f":"VLOOKUP(Schedule!M679,#REF!,2,FALSE)","v":{"$error":"#REF!"}}]
["2021-11-13",7,"Rosh Hashanah 35",{"$f":"COUNT($A$2:A680)","v":679},2037,0.25046108447067505,0.22722242714865362,0.16967908520841019,0.13131685724824788,8.7052748063445221E-2,7.9306528956104752E-2,4.7215049797122835E-2,"Rosh Hashanah ",{"$f":"VLOOKUP(Schedule!M680,#REF!,2,FALSE)","v":{"$error":"#REF!"}}]
["2021-11-14",1,"Taanis 2",{"$f":"COUNT($A$2:A681)","v":680},2040,0.25082995204721503,0.22759129472519365,0.17004795278495019,0.13168572482478791,8.742161563998524E-2,7.9675396532644785E-2,4.7583917373662854E-2,"Taanis ",{"$f":"VLOOKUP(Schedule!M681,#REF!,2,FALSE)","v":{"$error":"#REF!"}}]
["2021-11-15",2,"Taanis 3",{"$f":"COUNT($A$2:A682)","v":681},2043,0.25119881962375507,0.22796016230173369,0.17041682036149022,0.13205459240132791,8.7790483216525272E-2,8.0044264109184804E-2,{"$f":"(D682-551)/2711","v":4.795278495020288E-2},"Taanis ",{"$f":"VLOOKUP(Schedule!M682,#REF!,2,FALSE)","v":{"$error":"#REF!"}}]
["2021-11-16",3,"Taanis 4",{"$f":"COUNT($A$2:A683)","v":682},2046,0.2515676872002951,0.22832902987827369,0.17078568793803026,0.13242345997786795,8.8159350793065291E-2,8.0413131685724823E-2,4.8321652526742899E-2,"Taanis ",{"$f":"VLOOKUP(Schedule!M683,#REF!,2,FALSE)","v":{"$error":"#REF!"}}]
["2021-11-17",4,"Taanis 5",{"$f":"COUNT($A$2:A684)","v":683},2049,0.25193655477683513,0.22869789745481373,0.17115455551457026,0.13279232755440798,8.852821836960531E-2,8.0781999262264842E-2,4.8690520103282925E-2,"Taanis ",{"$f":"VLOOKUP(Schedule!M684,#REF!,2,FALSE)","v":{"$error":"#REF!"}}]
["2021-11-18",5,"Taanis 6",{"$f":"COUNT($A$2:A685)","v":684},2052,0.25230542235337516,0.22906676503135373,0.17152342309111029,0.13316119513094798,8.8897085946145329E-2,8.1150866838804875E-2,4.9059387679822944E-2,"Taanis ",{"$f":"VLOOKUP(Schedule!M685,#REF!,2,FALSE)","v":{"$error":"#REF!"}}]
["2021-11-19",6,"Taanis 7",{"$f":"COUNT($A$2:A686)","v":685},2055,0.25267428992991514,0.22943563260789376,0.17189229066765033,0.13353006270748802,8.9265953522685362E-2,8.1519734415344894E-2,4.9428255256362963E-2,"Taanis ",{"$f":"VLOOKUP(Schedule!M686,#REF!,2,FALSE)","v":{"$error":"#REF!"}}]
["2021-11-20",7,"Taanis 8",{"$f":"COUNT($A$2:A687)","v":686},2058,0.25304315750645517,0.2298045001844338,0.17226115824419033,0.13389893028402802,8.9634821099225381E-2,8.1888601991884913E-2,4.9797122832902989E-2,"Taanis ",{"$f":"VLOOKUP(Schedule!M687,#REF!,2,FALSE)","v":{"$error":"#REF!"}}]
["2021-11-21",1,"Taanis 9",{"$f":"COUNT($A$2:A688)","v":687},2061,0.25341202508299521,0.2301733677609738,0.17263002582073037,0.13426779786056806,9.00036886757654E-2,8.2257469568424932E-2,5.0165990409443008E-2,"Taanis ",{"$f":"VLOOKUP(Schedule!M688,#REF!,2,FALSE)","v":{"$error":"#REF!"}}]
["2021-11-22",2,"Taanis 10",{"$f":"COUNT($A$2:A689)","v":688},2064,0.25378089265953524,0.23054223533751383,0.17299889339727037,0.13463666543710809,9.0372556252305419E-2,8.2626337144964951E-2,5.0534857985983034E-2,"Taanis ",{"$f":"VLOOKUP(Schedule!M689,#REF!,2,FALSE)","v":{"$error":"#REF!"}}]
["2021-11-23",3,"Taanis 11",{"$f":"COUNT($A$2:A690)","v":689},2067,0.25414976023607527,0.23091110291405387,0.1733677609738104,0.13500553301364809,9.0741423828845438E-2,8.2995204721504984E-2,5.0903725562523053E-2,"Taanis ",{"$f":"VLOOKUP(Schedule!M690,#REF!,2,FALSE)","v":{"$error":"#REF!"}}]
["2021-11-24",4,"Taanis 12",{"$f":"COUNT($A$2:A691)","v":690},2070,0.25451862781261525,0.23127997049059387,0.17373662855035044,0.13537440059018813,9.1110291405385471E-2,8.3364072298045003E-2,5.1272593139063079E-2,"Taanis ",{"$f":"VLOOKUP(Schedule!M691,#REF!,2,FALSE)","v":{"$error":"#REF!"}}]
["2021-11-25",5,"Taanis 13",{"$f":"COUNT($A$2:A692)","v":691},2073,0.25488749538915528,0.23164883806713391,0.17410549612689044,0.13574326816672813,9.147915898192549E-2,8.3732939874585022E-2,5.1641460715603098E-2,"Taanis ",{"$f":"VLOOKUP(Schedule!M692,#REF!,2,FALSE)","v":{"$error":"#REF!"}}]
["2021-11-26",6,"Taanis 14",{"$f":"COUNT($A$2:A693)","v":692},2076,0.25525636296569532,0.23201770564367391,0.17447436370343047,0.13611213574326816,9.1848026558465509E-2,8.4101807451125041E-2,5.2010328292143124E-2,"Taanis ",{"$f":"VLOOKUP(Schedule!M693,#REF!,2,FALSE)","v":{"$error":"#REF!"}}]
["2021-11-27",7,"Taanis 15",{"$f":"COUNT($A$2:A694)","v":693},2079,0.25562523054223535,0.23238657322021394,0.17484323127997048,0.1364810033198082,9.2216894135005528E-2,8.4470675027665074E-2,5.2379195868683143E-2,"Taanis ",{"$f":"VLOOKUP(Schedule!M694,#REF!,2,FALSE)","v":{"$error":"#REF!"}}]
["2021-11-28",1,"Taanis 16",{"$f":"COUNT($A$2:A695)","v":694},2082,0.25599409811877538,0.23275544079675398,0.17521209885651051,0.1368498708963482,9.2585761711545561E-2,8.4839542604205093E-2,5.2748063445223162E-2,"Taanis ",{"$f":"VLOOKUP(Schedule!M695,#REF!,2,FALSE)","v":{"$error":"#REF!"}}]
["2021-11-29",2,"Taanis 17",{"$f":"COUNT($A$2:A696)","v":695},2085,0.25636296569531536,0.23312430837329398,0.17558096643305054,0.13721873847288824,9.295462928808558E-2,8.5208410180745112E-2,5.3116931021763188E-2,"Taanis ",{"$f":"VLOOKUP(Schedule!M696,#REF!,2,FALSE)","v":{"$error":"#REF!"}}]
["2021-11-30",3,"Taanis 18",{"$f":"COUNT($A$2:A697)","v":696},2088,0.25673183327185539,0.23349317594983401,0.17594983400959055,0.13758760604942827,9.3323496864625599E-2,8.5577277757285131E-2,5.3485798598303207E-2,"Taanis ",{"$f":"VLOOKUP(Schedule!M697,#REF!,2,FALSE)","v":{"$error":"#REF!"}}]
["2021-12-01",4,"Taanis 19",{"$f":"COUNT($A$2:A698)","v":697},2091,0.25710070084839542,0.23386204352637402,0.17631870158613058,0.13795647362596827,9.3692364441165618E-2,8.5946145333825164E-2,5.3854666174843233E-2,"Taanis ",{"$f":"VLOOKUP(Schedule!M698,#REF!,2,FALSE)","v":{"$error":"#REF!"}}]
["2021-12-02",5,"Taanis 20",{"$f":"COUNT($A$2:A699)","v":698},2094,0.25746956842493546,0.23423091110291405,0.17668756916267059,0.13832534120250831,9.4061232017705637E-2,8.6315012910365183E-2,5.4223533751383252E-2,"Taanis ",{"$f":"VLOOKUP(Schedule!M699,#REF!,2,FALSE)","v":{"$error":"#REF!"}}]
["2021-12-03",6,"Taanis 21",{"$f":"COUNT($A$2:A700)","v":699},2097,0.25783843600147549,0.23459977867945409,0.17705643673921062,0.13869420877904831,9.443009959424567E-2,8.6683880486905202E-2,5.4592401327923278E-2,"Taanis ",{"$f":"VLOOKUP(Schedule!M700,#REF!,2,FALSE)","v":{"$error":"#REF!"}}]
["2021-12-04",7,"Taanis 22",{"$f":"COUNT($A$2:A701)","v":700},2100,0.25820730357801547,0.23496864625599409,0.17742530431575065,0.13906307635558834,9.4798967170785689E-2,8.7052748063445221E-2,5.4961268904463297E-2,"Taanis ",{"$f":"VLOOKUP(Schedule!M701,#REF!,2,FALSE)","v":{"$error":"#REF!"}}]
["2021-12-05",1,"Taanis 23",{"$f":"COUNT($A$2:A702)","v":701},2103,0.2585761711545555,0.23533751383253412,0.17779417189229066,0.13943194393212838,{"$f":"(D702-443)/2711","v":9.5167834747325708E-2},8.742161563998524E-2,5.5330136481003322E-2,"Taanis ",{"$f":"VLOOKUP(Schedule!M702,#REF!,2,FALSE)","v":{"$error":"#REF!"}}]
["2021-12-06",2,"Taanis 24",{"$f":"COUNT($A$2:A703)","v":702},2106,0.25894503873109553,0.23570638140907416,0.17816303946883069,0.13980081150866838,9.5536702323865727E-2,8.7790483216525272E-2,5.5699004057543341E-2,"Taanis ",{"$f":"VLOOKUP(Schedule!M703,#REF!,2,FALSE)","v":{"$error":"#REF!"}}]
["2021-12-07",3,"Taanis 25",{"$f":"COUNT($A$2:A704)","v":703},2109,0.25931390630763557,0.23607524898561416,0.17853190704537072,0.14016967908520842,9.590556990040576E-2,8.8159350793065291E-2,5.6067871634083367E-2,"Taanis ",{"$f":"VLOOKUP(Schedule!M704,#REF!,2,FALSE)","v":{"$error":"#REF!"}}]
["2021-12-08",4,"Taanis 26",{"$f":"COUNT($A$2:A705)","v":704},2112,0.2596827738841756,0.23644411656215419,0.17890077462191073,0.14053854666174842,9.6274437476945779E-2,8.852821836960531E-2,5.6436739210623386E-2,"Taanis ",{"$f":"VLOOKUP(Schedule!M705,#REF!,2,FALSE)","v":{"$error":"#REF!"}}]
["2021-12-09",5,"Taanis 27",{"$f":"COUNT($A$2:A706)","v":705},{"$f":"D706*3","v":2115},0.26005164146071558,{"$f":"(D706-63)/2711","v":0.2368129841386942},0.17926964219845076,0.14090741423828845,9.6643305053485798E-2,8.8897085946145329E-2,5.6805606787163405E-2,"Taanis ",{"$f":"VLOOKUP(Schedule!M706,#REF!,2,FALSE)","v":{"$error":"#REF!"}}]
["2021-12-10",{"$f":"WEEKDAY(A707)","v":6},"Taanis 28",{"$f":"COUNT($A$2:A707)","v":706},2118,{"$f":"D707/2711","v":0.26042050903725561},0.23718185171523423,0.17963850977499077,0.14127628181482849,9.7012172630025817E-2,8.9265953522685362E-2,5.7174474363703431E-2,{"$f":"LEFT(C707,FIND(\"☃\",SUBSTITUTE(C707,\" \",\"☃\",LEN(C707)-LEN(SUBSTITUTE(C707,\" \",\"\")))))","v":"Taanis "},{"$f":"VLOOKUP(Schedule!M707,#REF!,2,FALSE)","v":{"$error":"#REF!"}}]
["2021-12-11",7,"Taanis 29",{"$f":"COUNT($A$2:A708)","v":707},2121,0.26078937661379564,0.23755071929177426,0.1800073773515308,0.14164514939136849,9.738104020656585E-2,8.9634821099225381E-2,5.754334194024345E-2,"Taanis ",{"$f":"VLOOKUP(Schedule!M708,#REF!,2,FALSE)","v":{"$error":"#REF!"}}]
["2021-12-12",1,"Taanis 30",{"$f":"COUNT($A$2:A709)","v":708},2124,0.26115824419033568,0.23791958686831427,0.18037624492807083,0.14201401696790852,9.7749907783105869E-2,9.00036886757654E-2,5.7912209516783476E-2,"Taanis ",{"$f":"VLOOKUP(Schedule!M709,#REF!,2,FALSE)","v":{"$error":"#REF!"}}]
["2021-12-13",2,"Taanis 31",{"$f":"COUNT($A$2:A710)","v":709},2127,0.26152711176687571,0.2382884544448543,0.18074511250461084,{"$f":"(D710-323)/2711","v":0.14238288454444853},9.8118775359645888E-2,9.0372556252305419E-2,5.8281077093323495E-2,"Taanis ",{"$f":"VLOOKUP(Schedule!M710,#REF!,2,FALSE)","v":{"$error":"#REF!"}}]
["2021-12-14",3,"Megillah 2",{"$f":"COUNT($A$2:A711)","v":710},2130,0.26189597934341574,0.23865732202139431,0.18111398008115087,0.14275175212098856,9.8487642936185907E-2,9.0741423828845438E-2,5.8649944669863521E-2,"Megillah ",{"$f":"VLOOKUP(Schedule!M711,#REF!,2,FALSE)","v":{"$error":"#REF!"}}]
["2021-12-15",4,"Megillah 3",{"$f":"COUNT($A$2:A712)","v":711},2133,0.26226484691995572,0.23902618959793434,0.18148284765769088,0.14312061969752859,9.8856510512725926E-2,9.1110291405385471E-2,5.901881224640354E-2,"Megillah ",{"$f":"VLOOKUP(Schedule!M712,#REF!,2,FALSE)","v":{"$error":"#REF!"}}]
["2021-12-16",5,"Megillah 4",{"$f":"COUNT($A$2:A713)","v":712},2136,0.26263371449649575,0.23939505717447437,0.18185171523423091,0.1434894872740686,9.9225378089265959E-2,9.147915898192549E-2,5.9387679822943566E-2,"Megillah ",{"$f":"VLOOKUP(Schedule!M713,#REF!,2,FALSE)","v":{"$error":"#REF!"}}]
["2021-12-17",6,"Megillah 5",{"$f":"COUNT($A$2:A714)","v":713},2139,0.26300258207303578,0.23976392475101438,0.18222058281077094,0.14385835485060863,9.9594245665805978E-2,9.1848026558465509E-2,5.9756547399483585E-2,"Megillah ",{"$f":"VLOOKUP(Schedule!M714,#REF!,2,FALSE)","v":{"$error":"#REF!"}}]
["2021-12-18",7,"Megillah 6",{"$f":"COUNT($A$2:A715)","v":714},2142,0.26337144964957582,0.24013279232755441,0.18258945038731095,0.14422722242714867,9.9963113242345997E-2,9.2216894135005528E-2,6.0125414976023604E-2,"Megillah ",{"$f":"VLOOKUP(Schedule!M715,#REF!,2,FALSE)","v":{"$error":"#REF!"}}]
["2021-12-19",1,"Megillah 7",{"$f":"COUNT($A$2:A716)","v":715},2145,0.26374031722611585,0.24050165990409442,0.18295831796385098,0.14459609000368867,0.10033198081888602,9.2585761711545561E-2,6.049428255256363E-2,"Megillah ",{"$f":"VLOOKUP(Schedule!M716,#REF!,2,FALSE)","v":{"$error":"#REF!"}}]
["2021-12-20",2,"Megillah 8",{"$f":"COUNT($A$2:A717)","v":716},2148,0.26410918480265583,0.24087052748063445,0.18332718554039101,0.1449649575802287,0.10070084839542605,9.295462928808558E-2,6.0863150129103649E-2,"Megillah ",{"$f":"VLOOKUP(Schedule!M717,#REF!,2,FALSE)","v":{"$error":"#REF!"}}]
["2021-12-21",3,"Megillah 9",{"$f":"COUNT($A$2:A718)","v":717},2151,0.26447805237919586,0.24123939505717448,0.18369605311693102,0.14533382515676871,0.10106971597196607,9.3323496864625599E-2,6.1232017705643675E-2,"Megillah ",{"$f":"VLOOKUP(Schedule!M718,#REF!,2,FALSE)","v":{"$error":"#REF!"}}]
["2021-12-22",4,"Megillah 10",{"$f":"COUNT($A$2:A719)","v":718},2154,0.26484691995573589,0.24160826263371449,0.18406492069347105,0.14570269273330874,0.10143858354850609,9.3692364441165618E-2,6.1600885282183694E-2,"Megillah ",{"$f":"VLOOKUP(Schedule!M719,#REF!,2,FALSE)","v":{"$error":"#REF!"}}]
["2021-12-23",5,"Megillah 11",{"$f":"COUNT($A$2:A720)","v":719},2157,0.26521578753227593,0.24197713021025452,0.18443378827001106,0.14607156030984877,0.10180745112504611,9.4061232017705637E-2,6.196975285872372E-2,"Megillah ",{"$f":"VLOOKUP(Schedule!M720,#REF!,2,FALSE)","v":{"$error":"#REF!"}}]
["2021-12-24",6,"Megillah 12",{"$f":"COUNT($A$2:A721)","v":720},2160,0.26558465510881596,0.24234599778679455,0.18480265584655109,0.14644042788638878,0.10217631870158612,9.443009959424567E-2,6.2338620435263739E-2,"Megillah ",{"$f":"VLOOKUP(Schedule!M721,#REF!,2,FALSE)","v":{"$error":"#REF!"}}]
["2021-12-25",7,"Megillah 13",{"$f":"COUNT($A$2:A722)","v":721},2163,0.26595352268535594,0.24271486536333456,0.18517152342309112,0.14680929546292881,0.10254518627812616,{"$f":"(D722-464)/2711","v":9.4798967170785689E-2},6.2707488011803758E-2,"Megillah ",{"$f":"VLOOKUP(Schedule!M722,#REF!,2,FALSE)","v":{"$error":"#REF!"}}]
["2021-12-26",1,"Megillah 14",{"$f":"COUNT($A$2:A723)","v":722},2166,0.26632239026189597,0.24308373293987459,0.18554039099963113,0.14717816303946882,0.10291405385466618,9.5167834747325708E-2,6.3076355588343791E-2,"Megillah ",{"$f":"VLOOKUP(Schedule!M723,#REF!,2,FALSE)","v":{"$error":"#REF!"}}]
["2021-12-27",2,"Megillah 15",{"$f":"COUNT($A$2:A724)","v":723},2169,0.266691257838436,0.2434526005164146,0.18590925857617116,0.14754703061600885,0.1032829214312062,9.5536702323865727E-2,6.344522316488381E-2,"Megillah ",{"$f":"VLOOKUP(Schedule!M724,#REF!,2,FALSE)","v":{"$error":"#REF!"}}]
["2021-12-28",3,"Megillah 16",{"$f":"COUNT($A$2:A725)","v":724},2172,0.26706012541497604,0.24382146809295463,0.18627812615271117,0.14791589819254888,0.10365178900774621,9.590556990040576E-2,6.3814090741423829E-2,"Megillah ",{"$f":"VLOOKUP(Schedule!M725,#REF!,2,FALSE)","v":{"$error":"#REF!"}}]
["2021-12-29",4,"Megillah 17",{"$f":"COUNT($A$2:A726)","v":725},2175,0.26742899299151607,0.24419033566949466,0.1866469937292512,0.14828476576908889,0.10402065658428625,9.6274437476945779E-2,6.4182958317963848E-2,"Megillah ",{"$f":"VLOOKUP(Schedule!M726,#REF!,2,FALSE)","v":{"$error":"#REF!"}}]
["2021-12-30",5,"Megillah 18",{"$f":"COUNT($A$2:A727)","v":726},2178,0.26779786056805605,0.24455920324603467,0.18701586130579123,0.14865363334562892,0.10438952416082627,9.6643305053485798E-2,6.4551825894503867E-2,"Megillah ",{"$f":"VLOOKUP(Schedule!M727,#REF!,2,FALSE)","v":{"$error":"#REF!"}}]
["2021-12-31",6,"Megillah 19",{"$f":"COUNT($A$2:A728)","v":727},2181,0.26816672814459608,0.2449280708225747,0.18738472888233124,0.14902250092216895,0.10475839173736629,9.7012172630025817E-2,6.49206934710439E-2,"Megillah ",{"$f":"VLOOKUP(Schedule!M728,#REF!,2,FALSE)","v":{"$error":"#REF!"}}]
["2022-01-01",7,"Megillah 20",{"$f":"COUNT($A$2:A729)","v":728},2184,0.26853559572113611,0.24529693839911471,0.18775359645887127,0.14939136849870896,0.1051272593139063,9.738104020656585E-2,6.5289561047583919E-2,"Megillah ",{"$f":"VLOOKUP(Schedule!M729,#REF!,2,FALSE)","v":{"$error":"#REF!"}}]
["2022-01-02",1,"Megillah 21",{"$f":"COUNT($A$2:A730)","v":729},2187,0.26890446329767614,0.24566580597565474,0.18812246403541127,0.14976023607524899,0.10549612689044632,9.7749907783105869E-2,6.5658428624123938E-2,"Megillah ",{"$f":"VLOOKUP(Schedule!M730,#REF!,2,FALSE)","v":{"$error":"#REF!"}}]
["2022-01-03",2,"Megillah 22",{"$f":"COUNT($A$2:A731)","v":730},2190,0.26927333087421618,0.24603467355219477,0.18849133161195131,0.150129103651789,0.10586499446698636,9.8118775359645888E-2,6.6027296200663957E-2,"Megillah ",{"$f":"VLOOKUP(Schedule!M731,#REF!,2,FALSE)","v":{"$error":"#REF!"}}]
["2022-01-04",3,"Megillah 23",{"$f":"COUNT($A$2:A732)","v":731},2193,0.26964219845075615,0.24640354112873478,0.18886019918849134,0.15049797122832903,0.10623386204352638,9.8487642936185907E-2,6.639616377720399E-2,"Megillah ",{"$f":"VLOOKUP(Schedule!M732,#REF!,2,FALSE)","v":{"$error":"#REF!"}}]
["2022-01-05",4,"Megillah 24",{"$f":"COUNT($A$2:A733)","v":732},2196,0.27001106602729619,0.24677240870527481,0.18922906676503135,0.15086683880486906,0.10660272962006639,9.8856510512725926E-2,6.6765031353744009E-2,"Megillah ",{"$f":"VLOOKUP(Schedule!M733,#REF!,2,FALSE)","v":{"$error":"#REF!"}}]
["2022-01-06",5,"Megillah 25",{"$f":"COUNT($A$2:A734)","v":733},2199,0.27037993360383622,0.24714127628181484,{"$f":"(D734-219)/2711","v":0.18959793434157138},0.15123570638140907,0.10697159719660641,9.9225378089265959E-2,6.7133898930284028E-2,"Megillah ",{"$f":"VLOOKUP(Schedule!M734,#REF!,2,FALSE)","v":{"$error":"#REF!"}}]
["2022-01-07",6,"Megillah 26",{"$f":"COUNT($A$2:A735)","v":734},2202,0.27074880118037625,0.24751014385835485,0.18996680191811141,0.1516045739579491,0.10734046477314645,9.9594245665805978E-2,6.7502766506824047E-2,"Megillah ",{"$f":"VLOOKUP(Schedule!M735,#REF!,2,FALSE)","v":{"$error":"#REF!"}}]
["2022-01-08",7,"Megillah 27",{"$f":"COUNT($A$2:A736)","v":735},2205,0.27111766875691629,0.24787901143489488,0.19033566949465142,0.15197344153448911,0.10770933234968647,9.9963113242345997E-2,6.7871634083364066E-2,"Megillah ",{"$f":"VLOOKUP(Schedule!M736,#REF!,2,FALSE)","v":{"$error":"#REF!"}}]
["2022-01-09",1,"Megillah 28",{"$f":"COUNT($A$2:A737)","v":736},2208,0.27148653633345626,0.24824787901143489,0.19070453707119145,0.15234230911102914,0.10807819992622648,0.10033198081888602,6.8240501659904099E-2,"Megillah ",{"$f":"VLOOKUP(Schedule!M737,#REF!,2,FALSE)","v":{"$error":"#REF!"}}]
["2022-01-10",2,"Megillah 29",{"$f":"COUNT($A$2:A738)","v":737},2211,0.2718554039099963,0.24861674658797492,0.19107340464773145,0.15271117668756917,0.1084470675027665,0.10070084839542605,6.8609369236444118E-2,"Megillah ",{"$f":"VLOOKUP(Schedule!M738,#REF!,2,FALSE)","v":{"$error":"#REF!"}}]
["2022-01-11",3,"Megillah 30",{"$f":"COUNT($A$2:A739)","v":738},2214,0.27222427148653633,0.24898561416451495,0.19144227222427149,0.15308004426410918,0.10881593507930652,0.10106971597196607,6.8978236812984137E-2,"Megillah ",{"$f":"VLOOKUP(Schedule!M739,#REF!,2,FALSE)","v":{"$error":"#REF!"}}]
["2022-01-12",4,"Megillah 31",{"$f":"COUNT($A$2:A740)","v":739},2217,0.27259313906307636,0.24935448174105496,0.19181113980081152,0.15344891184064921,0.10918480265584656,0.10143858354850609,6.9347104389524156E-2,"Megillah ",{"$f":"VLOOKUP(Schedule!M740,#REF!,2,FALSE)","v":{"$error":"#REF!"}}]
["2022-01-13",5,"Megillah 32",{"$f":"COUNT($A$2:A741)","v":740},2220,0.27296200663961639,0.24972334931759499,0.19218000737735152,0.15381777941718922,0.10955367023238657,0.10180745112504611,6.9715971966064189E-2,"Megillah ",{"$f":"VLOOKUP(Schedule!M741,#REF!,2,FALSE)","v":{"$error":"#REF!"}}]
["2022-01-14",6,"Moed Katan 2",{"$f":"COUNT($A$2:A742)","v":741},2223,0.27333087421615643,0.25009221689413502,0.19254887495389156,0.15418664699372925,0.10992253780892659,0.10217631870158612,7.0084839542604208E-2,"Moed Katan ",{"$f":"VLOOKUP(Schedule!M742,#REF!,2,FALSE)","v":{"$error":"#REF!"}}]
["2022-01-15",7,"Moed Katan 3",{"$f":"COUNT($A$2:A743)","v":742},2226,0.2736997417926964,0.25046108447067505,0.19291774253043156,0.15455551457026928,0.11029140538546661,0.10254518627812616,7.0453707119144227E-2,"Moed Katan ",{"$f":"VLOOKUP(Schedule!M743,#REF!,2,FALSE)","v":{"$error":"#REF!"}}]
["2022-01-16",1,"Moed Katan 4",{"$f":"COUNT($A$2:A744)","v":743},2229,0.27406860936923644,0.25082995204721503,0.1932866101069716,0.15492438214680929,0.11066027296200664,0.10291405385466618,7.0822574695684246E-2,"Moed Katan ",{"$f":"VLOOKUP(Schedule!M744,#REF!,2,FALSE)","v":{"$error":"#REF!"}}]
["2022-01-17",2,"Moed Katan 5",{"$f":"COUNT($A$2:A745)","v":744},2232,0.27443747694577647,0.25119881962375507,0.19365547768351163,0.15529324972334932,0.11102914053854666,0.1032829214312062,7.1191442272224265E-2,"Moed Katan ",{"$f":"VLOOKUP(Schedule!M745,#REF!,2,FALSE)","v":{"$error":"#REF!"}}]
["2022-01-18",3,"Moed Katan 6",{"$f":"COUNT($A$2:A746)","v":745},2235,0.2748063445223165,0.2515676872002951,0.19402434526005163,0.15566211729988935,0.11139800811508668,0.10365178900774621,{"$f":"(D746-551)/2711","v":7.1560309848764297E-2},"Moed Katan ",{"$f":"VLOOKUP(Schedule!M746,#REF!,2,FALSE)","v":{"$error":"#REF!"}}]
["2022-01-19",4,"Moed Katan 7",{"$f":"COUNT($A$2:A747)","v":746},2238,0.27517521209885654,0.25193655477683513,0.19439321283659167,0.15603098487642936,0.1117668756916267,0.10402065658428625,7.1929177425304316E-2,"Moed Katan ",{"$f":"VLOOKUP(Schedule!M747,#REF!,2,FALSE)","v":{"$error":"#REF!"}}]
["2022-01-20",5,"Moed Katan 8",{"$f":"COUNT($A$2:A748)","v":747},2241,0.27554407967539651,0.25230542235337516,0.1947620804131317,0.15639985245296939,0.11213574326816673,0.10438952416082627,7.2298045001844335E-2,"Moed Katan ",{"$f":"VLOOKUP(Schedule!M748,#REF!,2,FALSE)","v":{"$error":"#REF!"}}]
["2022-01-21",6,"Moed Katan 9",{"$f":"COUNT($A$2:A749)","v":748},2244,0.27591294725193655,0.25267428992991514,0.1951309479896717,0.1567687200295094,0.11250461084470675,0.10475839173736629,7.2666912578384354E-2,"Moed Katan ",{"$f":"VLOOKUP(Schedule!M749,#REF!,2,FALSE)","v":{"$error":"#REF!"}}]
["2022-01-22",7,"Moed Katan 10",{"$f":"COUNT($A$2:A750)","v":749},2247,0.27628181482847658,0.25304315750645517,0.19549981556621174,0.15713758760604943,0.11287347842124677,0.1051272593139063,7.3035780154924387E-2,"Moed Katan ",{"$f":"VLOOKUP(Schedule!M750,#REF!,2,FALSE)","v":{"$error":"#REF!"}}]
["2022-01-23",1,"Moed Katan 11",{"$f":"COUNT($A$2:A751)","v":750},2250,0.27665068240501661,0.25341202508299521,0.19586868314275174,0.15750645518258946,0.11324234599778679,0.10549612689044632,7.3404647731464406E-2,"Moed Katan ",{"$f":"VLOOKUP(Schedule!M751,#REF!,2,FALSE)","v":{"$error":"#REF!"}}]
["2022-01-24",2,"Moed Katan 12",{"$f":"COUNT($A$2:A752)","v":751},2253,0.27701954998155665,0.25378089265953524,0.19623755071929178,0.15787532275912947,0.11361121357432681,0.10586499446698636,7.3773515308004425E-2,"Moed Katan ",{"$f":"VLOOKUP(Schedule!M752,#REF!,2,FALSE)","v":{"$error":"#REF!"}}]
["2022-01-25",3,"Moed Katan 13",{"$f":"COUNT($A$2:A753)","v":752},2256,0.27738841755809662,0.25414976023607527,0.19660641829583181,0.1582441903356695,0.11398008115086684,0.10623386204352638,7.4142382884544444E-2,"Moed Katan ",{"$f":"VLOOKUP(Schedule!M753,#REF!,2,FALSE)","v":{"$error":"#REF!"}}]
["2022-01-26",4,"Moed Katan 14",{"$f":"COUNT($A$2:A754)","v":753},2259,0.27775728513463666,0.25451862781261525,0.19697528587237181,0.1586130579122095,0.11434894872740686,0.10660272962006639,7.4511250461084477E-2,"Moed Katan ",{"$f":"VLOOKUP(Schedule!M754,#REF!,2,FALSE)","v":{"$error":"#REF!"}}]
["2022-01-27",5,"Moed Katan 15",{"$f":"COUNT($A$2:A755)","v":754},2262,0.27812615271117669,0.25488749538915528,0.19734415344891185,0.15898192548874954,0.11471781630394688,0.10697159719660641,7.4880118037624496E-2,"Moed Katan ",{"$f":"VLOOKUP(Schedule!M755,#REF!,2,FALSE)","v":{"$error":"#REF!"}}]
["2022-01-28",6,"Moed Katan 16",{"$f":"COUNT($A$2:A756)","v":755},2265,0.27849502028771672,0.25525636296569532,0.19771302102545185,0.15935079306528957,0.1150866838804869,0.10734046477314645,7.5248985614164515E-2,"Moed Katan ",{"$f":"VLOOKUP(Schedule!M756,#REF!,2,FALSE)","v":{"$error":"#REF!"}}]
["2022-01-29",7,"Moed Katan 17",{"$f":"COUNT($A$2:A757)","v":756},2268,0.27886388786425675,0.25562523054223535,0.19808188860199188,0.15971966064182958,0.11545555145702693,0.10770933234968647,7.5617853190704534E-2,"Moed Katan ",{"$f":"VLOOKUP(Schedule!M757,#REF!,2,FALSE)","v":{"$error":"#REF!"}}]
["2022-01-30",1,"Moed Katan 18",{"$f":"COUNT($A$2:A758)","v":757},2271,0.27923275544079673,0.25599409811877538,0.19845075617853192,0.16008852821836961,0.11582441903356695,0.10807819992622648,7.5986720767244553E-2,"Moed Katan ",{"$f":"VLOOKUP(Schedule!M758,#REF!,2,FALSE)","v":{"$error":"#REF!"}}]
["2022-01-31",2,"Moed Katan 19",{"$f":"COUNT($A$2:A759)","v":758},2274,0.27960162301733676,0.25636296569531536,0.19881962375507192,0.16045739579490964,0.11619328661010697,0.1084470675027665,7.6355588343784586E-2,"Moed Katan ",{"$f":"VLOOKUP(Schedule!M759,#REF!,2,FALSE)","v":{"$error":"#REF!"}}]
["2022-02-01",3,"Moed Katan 20",{"$f":"COUNT($A$2:A760)","v":759},2277,0.2799704905938768,0.25673183327185539,0.19918849133161196,0.16082626337144965,0.11656215418664699,0.10881593507930652,7.6724455920324605E-2,"Moed Katan ",{"$f":"VLOOKUP(Schedule!M760,#REF!,2,FALSE)","v":{"$error":"#REF!"}}]
["2022-02-02",4,"Moed Katan 21",{"$f":"COUNT($A$2:A761)","v":760},2280,0.28033935817041683,0.25710070084839542,0.19955735890815196,0.16119513094798968,0.11693102176318701,0.10918480265584656,7.7093323496864624E-2,"Moed Katan ",{"$f":"VLOOKUP(Schedule!M761,#REF!,2,FALSE)","v":{"$error":"#REF!"}}]
["2022-02-03",5,"Moed Katan 22",{"$f":"COUNT($A$2:A762)","v":761},2283,0.28070822574695686,0.25746956842493546,0.19992622648469199,0.16156399852452968,0.11729988933972704,0.10955367023238657,7.7462191073404643E-2,"Moed Katan ",{"$f":"VLOOKUP(Schedule!M762,#REF!,2,FALSE)","v":{"$error":"#REF!"}}]
["2022-02-04",6,"Moed Katan 23",{"$f":"COUNT($A$2:A763)","v":762},2286,0.28107709332349684,0.25783843600147549,0.20029509406123203,0.16193286610106972,0.11766875691626706,0.10992253780892659,7.7831058649944676E-2,"Moed Katan ",{"$f":"VLOOKUP(Schedule!M763,#REF!,2,FALSE)","v":{"$error":"#REF!"}}]
["2022-02-05",7,"Moed Katan 24",{"$f":"COUNT($A$2:A764)","v":763},2289,0.28144596090003687,0.25820730357801547,0.20066396163777203,0.16230173367760975,0.11803762449280708,0.11029140538546661,7.8199926226484695E-2,"Moed Katan ",{"$f":"VLOOKUP(Schedule!M764,#REF!,2,FALSE)","v":{"$error":"#REF!"}}]
["2022-02-06",1,"Moed Katan 25",{"$f":"COUNT($A$2:A765)","v":764},2292,0.28181482847657691,0.2585761711545555,0.20103282921431206,0.16267060125414975,0.1184064920693471,0.11066027296200664,7.8568793803024714E-2,"Moed Katan ",{"$f":"VLOOKUP(Schedule!M765,#REF!,2,FALSE)","v":{"$error":"#REF!"}}]
["2022-02-07",2,"Moed Katan 26",{"$f":"COUNT($A$2:A766)","v":765},2295,0.28218369605311694,0.25894503873109553,0.2014016967908521,0.16303946883068979,{"$f":"(D766-443)/2711","v":0.11877535964588713},0.11102914053854666,7.8937661379564733E-2,"Moed Katan ",{"$f":"VLOOKUP(Schedule!M766,#REF!,2,FALSE)","v":{"$error":"#REF!"}}]
["2022-02-08",3,"Moed Katan 27",{"$f":"COUNT($A$2:A767)","v":766},2298,0.28255256362965697,0.25931390630763557,0.2017705643673921,0.16340833640722979,0.11914422722242715,0.11139800811508668,7.9306528956104752E-2,"Moed Katan ",{"$f":"VLOOKUP(Schedule!M767,#REF!,2,FALSE)","v":{"$error":"#REF!"}}]
["2022-02-09",4,"Moed Katan 28",{"$f":"COUNT($A$2:A768)","v":767},2301,0.28292143120619695,0.2596827738841756,0.20213943194393214,0.16377720398376983,0.11951309479896717,0.1117668756916267,7.9675396532644785E-2,"Moed Katan ",{"$f":"VLOOKUP(Schedule!M768,#REF!,2,FALSE)","v":{"$error":"#REF!"}}]
["2022-02-10",5,"Moed Katan 29",{"$f":"COUNT($A$2:A769)","v":768},2304,0.28329029878273698,0.26005164146071558,0.20250829952047214,0.16414607156030986,0.11988196237550719,0.11213574326816673,8.0044264109184804E-2,"Moed Katan ",{"$f":"VLOOKUP(Schedule!M769,#REF!,2,FALSE)","v":{"$error":"#REF!"}}]
["2022-02-11",6,"Chagigah 2",{"$f":"COUNT($A$2:A770)","v":769},{"$f":"D770*3","v":2307},0.28365916635927702,{"$f":"(D770-63)/2711","v":0.26042050903725561},0.20287716709701217,0.16451493913684986,0.12025082995204721,0.11250461084470675,8.0413131685724823E-2,"Chagigah ",{"$f":"VLOOKUP(Schedule!M770,#REF!,2,FALSE)","v":{"$error":"#REF!"}}]
["2022-02-12",{"$f":"WEEKDAY(A771)","v":7},"Chagigah 3",{"$f":"COUNT($A$2:A771)","v":770},2310,{"$f":"D771/2711","v":0.28402803393581705},0.26078937661379564,0.20324603467355221,0.1648838067133899,0.12061969752858724,0.11287347842124677,8.0781999262264842E-2,{"$f":"LEFT(C771,FIND(\"☃\",SUBSTITUTE(C771,\" \",\"☃\",LEN(C771)-LEN(SUBSTITUTE(C771,\" \",\"\")))))","v":"Chagigah "},{"$f":"VLOOKUP(Schedule!M771,#REF!,2,FALSE)","v":{"$error":"#REF!"}}]
["2022-02-13",1,"Chagigah 4",{"$f":"COUNT($A$2:A772)","v":771},2313,0.28439690151235708,0.26115824419033568,0.20361490225009221,0.1652526742899299,0.12098856510512726,0.11324234599778679,8.1150866838804875E-2,"Chagigah ",{"$f":"VLOOKUP(Schedule!M772,#REF!,2,FALSE)","v":{"$error":"#REF!"}}]
["2022-02-14",2,"Chagigah 5",{"$f":"COUNT($A$2:A773)","v":772},2316,0.28476576908889706,0.26152711176687571,0.20398376982663224,0.16562154186646993,0.12135743268166728,0.11361121357432681,8.1519734415344894E-2,"Chagigah ",{"$f":"VLOOKUP(Schedule!M773,#REF!,2,FALSE)","v":{"$error":"#REF!"}}]
["2022-02-15",3,"Chagigah 6",{"$f":"COUNT($A$2:A774)","v":773},2319,0.28513463666543709,0.26189597934341574,0.20435263740317225,{"$f":"(D774-323)/2711","v":0.16599040944300997},0.1217263002582073,0.11398008115086684,8.1888601991884913E-2,"Chagigah ",{"$f":"VLOOKUP(Schedule!M774,#REF!,2,FALSE)","v":{"$error":"#REF!"}}]
["2022-02-16",4,"Chagigah 7",{"$f":"COUNT($A$2:A775)","v":774},2322,0.28550350424197712,0.26226484691995572,0.20472150497971228,0.16635927701954997,0.12209516783474733,0.11434894872740686,8.2257469568424932E-2,"Chagigah ",{"$f":"VLOOKUP(Schedule!M775,#REF!,2,FALSE)","v":{"$error":"#REF!"}}]
["2022-02-17",5,"Chagigah 8",{"$f":"COUNT($A$2:A776)","v":775},2325,0.28587237181851716,0.26263371449649575,0.20509037255625231,0.16672814459609001,0.12246403541128735,0.11471781630394688,8.2626337144964951E-2,"Chagigah ",{"$f":"VLOOKUP(Schedule!M776,#REF!,2,FALSE)","v":{"$error":"#REF!"}}]
["2022-02-18",6,"Chagigah 9",{"$f":"COUNT($A$2:A777)","v":776},2328,0.28624123939505719,0.26300258207303578,0.20545924013279232,0.16709701217263004,0.12283290298782737,0.1150866838804869,8.2995204721504984E-2,"Chagigah ",{"$f":"VLOOKUP(Schedule!M777,#REF!,2,FALSE)","v":{"$error":"#REF!"}}]
["2022-02-19",7,"Chagigah 10",{"$f":"COUNT($A$2:A778)","v":777},2331,0.28661010697159722,0.26337144964957582,0.20582810770933235,0.16746587974917004,0.12320177056436739,0.11545555145702693,8.3364072298045003E-2,"Chagigah ",{"$f":"VLOOKUP(Schedule!M778,#REF!,2,FALSE)","v":{"$error":"#REF!"}}]
["2022-02-20",1,"Chagigah 11",{"$f":"COUNT($A$2:A779)","v":778},2334,0.2869789745481372,0.26374031722611585,0.20619697528587236,0.16783474732571008,0.12357063814090742,0.11582441903356695,8.3732939874585022E-2,"Chagigah ",{"$f":"VLOOKUP(Schedule!M779,#REF!,2,FALSE)","v":{"$error":"#REF!"}}]
["2022-02-21",2,"Chagigah 12",{"$f":"COUNT($A$2:A780)","v":779},2337,0.28734784212467723,0.26410918480265583,0.20656584286241239,0.16820361490225008,0.12393950571744744,0.11619328661010697,8.4101807451125041E-2,"Chagigah ",{"$f":"VLOOKUP(Schedule!M780,#REF!,2,FALSE)","v":{"$error":"#REF!"}}]
["2022-02-22",3,"Chagigah 13",{"$f":"COUNT($A$2:A781)","v":780},2340,0.28771670970121727,0.26447805237919586,0.20693471043895242,0.16857248247879011,0.12430837329398746,0.11656215418664699,8.4470675027665074E-2,"Chagigah ",{"$f":"VLOOKUP(Schedule!M781,#REF!,2,FALSE)","v":{"$error":"#REF!"}}]
["2022-02-23",4,"Chagigah 14",{"$f":"COUNT($A$2:A782)","v":781},2343,0.2880855772777573,0.26484691995573589,0.20730357801549243,0.16894135005533015,0.12467724087052748,0.11693102176318701,8.4839542604205093E-2,"Chagigah ",{"$f":"VLOOKUP(Schedule!M782,#REF!,2,FALSE)","v":{"$error":"#REF!"}}]
["2022-02-24",5,"Chagigah 15",{"$f":"COUNT($A$2:A783)","v":782},2346,0.28845444485429733,0.26521578753227593,0.20767244559203246,0.16931021763187015,0.12504610844706751,0.11729988933972704,8.5208410180745112E-2,"Chagigah ",{"$f":"VLOOKUP(Schedule!M783,#REF!,2,FALSE)","v":{"$error":"#REF!"}}]
["2022-02-25",6,"Chagigah 16",{"$f":"COUNT($A$2:A784)","v":783},2349,0.28882331243083731,0.26558465510881596,0.20804131316857249,0.16967908520841019,0.12541497602360752,0.11766875691626706,8.5577277757285131E-2,"Chagigah ",{"$f":"VLOOKUP(Schedule!M784,#REF!,2,FALSE)","v":{"$error":"#REF!"}}]
["2022-02-26",7,"Chagigah 17",{"$f":"COUNT($A$2:A785)","v":784},2352,0.28919218000737734,0.26595352268535594,0.2084101807451125,0.17004795278495019,0.12578384360014755,0.11803762449280708,8.5946145333825164E-2,"Chagigah ",{"$f":"VLOOKUP(Schedule!M785,#REF!,2,FALSE)","v":{"$error":"#REF!"}}]
["2022-02-27",1,"Chagigah 18",{"$f":"COUNT($A$2:A786)","v":785},2355,0.28956104758391737,0.26632239026189597,0.20877904832165253,0.17041682036149022,0.12615271117668758,{"$f":"(D786-464)/2711","v":0.1184064920693471},8.6315012910365183E-2,"Chagigah ",{"$f":"VLOOKUP(Schedule!M786,#REF!,2,FALSE)","v":{"$error":"#REF!"}}]
["2022-02-28",2,"Chagigah 19",{"$f":"COUNT($A$2:A787)","v":786},2358,0.28992991516045741,0.266691257838436,0.20914791589819254,0.17078568793803026,0.12652157875322759,0.11877535964588713,8.6683880486905202E-2,"Chagigah ",{"$f":"VLOOKUP(Schedule!M787,#REF!,2,FALSE)","v":{"$error":"#REF!"}}]
["2022-03-01",3,"Chagigah 20",{"$f":"COUNT($A$2:A788)","v":787},2361,0.29029878273699744,0.26706012541497604,0.20951678347473257,0.17115455551457026,0.12689044632976762,0.11914422722242715,8.7052748063445221E-2,"Chagigah ",{"$f":"VLOOKUP(Schedule!M788,#REF!,2,FALSE)","v":{"$error":"#REF!"}}]
["2022-03-02",4,"Chagigah 21",{"$f":"COUNT($A$2:A789)","v":788},2364,0.29066765031353742,0.26742899299151607,0.2098856510512726,0.17152342309111029,0.12725931390630763,0.11951309479896717,8.742161563998524E-2,"Chagigah ",{"$f":"VLOOKUP(Schedule!M789,#REF!,2,FALSE)","v":{"$error":"#REF!"}}]
["2022-03-03",5,"Chagigah 22",{"$f":"COUNT($A$2:A790)","v":789},2367,0.29103651789007745,0.26779786056805605,0.21025451862781261,0.17189229066765033,0.12762818148284766,0.11988196237550719,8.7790483216525272E-2,"Chagigah ",{"$f":"VLOOKUP(Schedule!M790,#REF!,2,FALSE)","v":{"$error":"#REF!"}}]
["2022-03-04",6,"Chagigah 23",{"$f":"COUNT($A$2:A791)","v":790},2370,0.29140538546661748,0.26816672814459608,0.21062338620435264,0.17226115824419033,0.12799704905938769,0.12025082995204721,8.8159350793065291E-2,"Chagigah ",{"$f":"VLOOKUP(Schedule!M791,#REF!,2,FALSE)","v":{"$error":"#REF!"}}]
["2022-03-05",7,"Chagigah 24",{"$f":"COUNT($A$2:A792)","v":791},2373,0.29177425304315752,0.26853559572113611,0.21099225378089265,0.17263002582073037,0.1283659166359277,0.12061969752858724,8.852821836960531E-2,"Chagigah ",{"$f":"VLOOKUP(Schedule!M792,#REF!,2,FALSE)","v":{"$error":"#REF!"}}]
["2022-03-06",1,"Chagigah 25",{"$f":"COUNT($A$2:A793)","v":792},2376,0.29214312061969755,0.26890446329767614,0.21136112135743268,0.17299889339727037,0.12873478421246773,0.12098856510512726,8.8897085946145329E-2,"Chagigah ",{"$f":"VLOOKUP(Schedule!M793,#REF!,2,FALSE)","v":{"$error":"#REF!"}}]
["2022-03-07",2,"Chagigah 26",{"$f":"COUNT($A$2:A794)","v":793},2379,0.29251198819623753,0.26927333087421618,0.21172998893397271,0.1733677609738104,0.12910365178900773,0.12135743268166728,8.9265953522685362E-2,"Chagigah ",{"$f":"VLOOKUP(Schedule!M794,#REF!,2,FALSE)","v":{"$error":"#REF!"}}]
["2022-03-08",3,"Chagigah 27",{"$f":"COUNT($A$2:A795)","v":794},2382,0.29288085577277756,0.26964219845075615,0.21209885651051272,0.17373662855035044,0.12947251936554777,0.1217263002582073,8.9634821099225381E-2,"Chagigah ",{"$f":"VLOOKUP(Schedule!M795,#REF!,2,FALSE)","v":{"$error":"#REF!"}}]
["2022-03-09",4,"Yevamos 2",{"$f":"COUNT($A$2:A796)","v":795},2385,0.29324972334931759,0.27001106602729619,0.21246772408705275,0.17410549612689044,0.1298413869420878,0.12209516783474733,9.00036886757654E-2,"Yevamos ",{"$f":"VLOOKUP(Schedule!M796,#REF!,2,FALSE)","v":{"$error":"#REF!"}}]
["2022-03-10",5,"Yevamos 3",{"$f":"COUNT($A$2:A797)","v":796},2388,0.29361859092585763,0.27037993360383622,0.21283659166359278,0.17447436370343047,0.1302102545186278,0.12246403541128735,9.0372556252305419E-2,"Yevamos ",{"$f":"VLOOKUP(Schedule!M797,#REF!,2,FALSE)","v":{"$error":"#REF!"}}]
["2022-03-11",6,"Yevamos 4",{"$f":"COUNT($A$2:A798)","v":797},2391,0.29398745850239766,0.27074880118037625,{"$f":"(D798-219)/2711","v":0.21320545924013279},0.17484323127997048,0.13057912209516784,0.12283290298782737,9.0741423828845438E-2,"Yevamos ",{"$f":"VLOOKUP(Schedule!M798,#REF!,2,FALSE)","v":{"$error":"#REF!"}}]
["2022-03-12",7,"Yevamos 5",{"$f":"COUNT($A$2:A799)","v":798},2394,0.29435632607893764,0.27111766875691629,0.21357432681667282,0.17521209885651051,0.13094798967170787,0.12320177056436739,9.1110291405385471E-2,"Yevamos ",{"$f":"VLOOKUP(Schedule!M799,#REF!,2,FALSE)","v":{"$error":"#REF!"}}]
["2022-03-13",1,"Yevamos 6",{"$f":"COUNT($A$2:A800)","v":799},2397,0.29472519365547767,0.27148653633345626,0.21394319439321283,0.17558096643305054,0.13131685724824788,0.12357063814090742,9.147915898192549E-2,"Yevamos ",{"$f":"VLOOKUP(Schedule!M800,#REF!,2,FALSE)","v":{"$error":"#REF!"}}]
["2022-03-14",2,"Yevamos 7",{"$f":"COUNT($A$2:A801)","v":800},2400,0.2950940612320177,0.2718554039099963,0.21431206196975286,0.17594983400959055,0.13168572482478791,0.12393950571744744,9.1848026558465509E-2,"Yevamos ",{"$f":"VLOOKUP(Schedule!M801,#REF!,2,FALSE)","v":{"$error":"#REF!"}}]
["2022-03-15",3,"Yevamos 8",{"$f":"COUNT($A$2:A802)","v":801},2403,0.29546292880855773,0.27222427148653633,0.21468092954629289,0.17631870158613058,0.13205459240132791,0.12430837329398746,9.2216894135005528E-2,"Yevamos ",{"$f":"VLOOKUP(Schedule!M802,#REF!,2,FALSE)","v":{"$error":"#REF!"}}]
["2022-03-16",4,"Yevamos 9",{"$f":"COUNT($A$2:A803)","v":802},2406,0.29583179638509777,0.27259313906307636,0.2150497971228329,0.17668756916267059,0.13242345997786795,0.12467724087052748,9.2585761711545561E-2,"Yevamos ",{"$f":"VLOOKUP(Schedule!M803,#REF!,2,FALSE)","v":{"$error":"#REF!"}}]
["2022-03-17",5,"Yevamos 10",{"$f":"COUNT($A$2:A804)","v":803},2409,0.29620066396163774,0.27296200663961639,0.21541866469937293,0.17705643673921062,0.13279232755440798,0.12504610844706751,9.295462928808558E-2,"Yevamos ",{"$f":"VLOOKUP(Schedule!M804,#REF!,2,FALSE)","v":{"$error":"#REF!"}}]
["2022-03-18",6,"Yevamos 11",{"$f":"COUNT($A$2:A805)","v":804},2412,0.29656953153817778,0.27333087421615643,0.21578753227591294,0.17742530431575065,0.13316119513094798,0.12541497602360752,9.3323496864625599E-2,"Yevamos ",{"$f":"VLOOKUP(Schedule!M805,#REF!,2,FALSE)","v":{"$error":"#REF!"}}]
["2022-03-19",7,"Yevamos 12",{"$f":"COUNT($A$2:A806)","v":805},2415,0.29693839911471781,0.2736997417926964,0.21615639985245297,0.17779417189229066,0.13353006270748802,0.12578384360014755,9.3692364441165618E-2,"Yevamos ",{"$f":"VLOOKUP(Schedule!M806,#REF!,2,FALSE)","v":{"$error":"#REF!"}}]
["2022-03-20",1,"Yevamos 13",{"$f":"COUNT($A$2:A807)","v":806},2418,0.29730726669125784,0.27406860936923644,0.216525267428993,0.17816303946883069,0.13389893028402802,0.12615271117668758,9.4061232017705637E-2,"Yevamos ",{"$f":"VLOOKUP(Schedule!M807,#REF!,2,FALSE)","v":{"$error":"#REF!"}}]
["2022-03-21",2,"Yevamos 14",{"$f":"COUNT($A$2:A808)","v":807},2421,0.29767613426779788,0.27443747694577647,0.21689413500553301,0.17853190704537072,0.13426779786056806,0.12652157875322759,9.443009959424567E-2,"Yevamos ",{"$f":"VLOOKUP(Schedule!M808,#REF!,2,FALSE)","v":{"$error":"#REF!"}}]
["2022-03-22",3,"Yevamos 15",{"$f":"COUNT($A$2:A809)","v":808},2424,0.29804500184433791,0.2748063445223165,0.21726300258207304,0.17890077462191073,0.13463666543710809,0.12689044632976762,9.4798967170785689E-2,"Yevamos ",{"$f":"VLOOKUP(Schedule!M809,#REF!,2,FALSE)","v":{"$error":"#REF!"}}]
["2022-03-23",4,"Yevamos 16",{"$f":"COUNT($A$2:A810)","v":809},2427,0.29841386942087789,0.27517521209885654,0.21763187015861304,0.17926964219845076,0.13500553301364809,0.12725931390630763,{"$f":"(D810-551)/2711","v":9.5167834747325708E-2},"Yevamos ",{"$f":"VLOOKUP(Schedule!M810,#REF!,2,FALSE)","v":{"$error":"#REF!"}}]
["2022-03-24",5,"Yevamos 17",{"$f":"COUNT($A$2:A811)","v":810},2430,0.29878273699741792,0.27554407967539651,0.21800073773515308,0.17963850977499077,0.13537440059018813,0.12762818148284766,9.5536702323865727E-2,"Yevamos ",{"$f":"VLOOKUP(Schedule!M811,#REF!,2,FALSE)","v":{"$error":"#REF!"}}]
["2022-03-25",6,"Yevamos 18",{"$f":"COUNT($A$2:A812)","v":811},2433,0.29915160457395795,0.27591294725193655,0.21836960531169311,0.1800073773515308,0.13574326816672813,0.12799704905938769,9.590556990040576E-2,"Yevamos ",{"$f":"VLOOKUP(Schedule!M812,#REF!,2,FALSE)","v":{"$error":"#REF!"}}]
["2022-03-26",7,"Yevamos 19",{"$f":"COUNT($A$2:A813)","v":812},2436,0.29952047215049799,0.27628181482847658,0.21873847288823312,0.18037624492807083,0.13611213574326816,0.1283659166359277,9.6274437476945779E-2,"Yevamos ",{"$f":"VLOOKUP(Schedule!M813,#REF!,2,FALSE)","v":{"$error":"#REF!"}}]
["2022-03-27",1,"Yevamos 20",{"$f":"COUNT($A$2:A814)","v":813},2439,0.29988933972703802,0.27665068240501661,0.21910734046477315,0.18074511250461084,0.1364810033198082,0.12873478421246773,9.6643305053485798E-2,"Yevamos ",{"$f":"VLOOKUP(Schedule!M814,#REF!,2,FALSE)","v":{"$error":"#REF!"}}]
["2022-03-28",2,"Yevamos 21",{"$f":"COUNT($A$2:A815)","v":814},2442,0.300258207303578,0.27701954998155665,0.21947620804131318,0.18111398008115087,0.1368498708963482,0.12910365178900773,9.7012172630025817E-2,"Yevamos ",{"$f":"VLOOKUP(Schedule!M815,#REF!,2,FALSE)","v":{"$error":"#REF!"}}]
["2022-03-29",3,"Yevamos 22",{"$f":"COUNT($A$2:A816)","v":815},2445,0.30062707488011803,0.27738841755809662,0.21984507561785319,0.18148284765769088,0.13721873847288824,0.12947251936554777,9.738104020656585E-2,"Yevamos ",{"$f":"VLOOKUP(Schedule!M816,#REF!,2,FALSE)","v":{"$error":"#REF!"}}]
["2022-03-30",4,"Yevamos 23",{"$f":"COUNT($A$2:A817)","v":816},2448,0.30099594245665806,0.27775728513463666,0.22021394319439322,0.18185171523423091,0.13758760604942827,0.1298413869420878,9.7749907783105869E-2,"Yevamos ",{"$f":"VLOOKUP(Schedule!M817,#REF!,2,FALSE)","v":{"$error":"#REF!"}}]
["2022-03-31",5,"Yevamos 24",{"$f":"COUNT($A$2:A818)","v":817},2451,0.30136481003319809,0.27812615271117669,0.22058281077093322,0.18222058281077094,0.13795647362596827,0.1302102545186278,9.8118775359645888E-2,"Yevamos ",{"$f":"VLOOKUP(Schedule!M818,#REF!,2,FALSE)","v":{"$error":"#REF!"}}]
["2022-04-01",6,"Yevamos 25",{"$f":"COUNT($A$2:A819)","v":818},2454,0.30173367760973813,0.27849502028771672,0.22095167834747326,0.18258945038731095,0.13832534120250831,0.13057912209516784,9.8487642936185907E-2,"Yevamos ",{"$f":"VLOOKUP(Schedule!M819,#REF!,2,FALSE)","v":{"$error":"#REF!"}}]
["2022-04-02",7,"Yevamos 26",{"$f":"COUNT($A$2:A820)","v":819},2457,0.3021025451862781,0.27886388786425675,0.22132054592401329,0.18295831796385098,0.13869420877904831,0.13094798967170787,9.8856510512725926E-2,"Yevamos ",{"$f":"VLOOKUP(Schedule!M820,#REF!,2,FALSE)","v":{"$error":"#REF!"}}]
["2022-04-03",1,"Yevamos 27",{"$f":"COUNT($A$2:A821)","v":820},2460,0.30247141276281814,0.27923275544079673,0.2216894135005533,0.18332718554039101,0.13906307635558834,0.13131685724824788,9.9225378089265959E-2,"Yevamos ",{"$f":"VLOOKUP(Schedule!M821,#REF!,2,FALSE)","v":{"$error":"#REF!"}}]
["2022-04-04",2,"Yevamos 28",{"$f":"COUNT($A$2:A822)","v":821},2463,0.30284028033935817,0.27960162301733676,0.22205828107709333,0.18369605311693102,0.13943194393212838,0.13168572482478791,9.9594245665805978E-2,"Yevamos ",{"$f":"VLOOKUP(Schedule!M822,#REF!,2,FALSE)","v":{"$error":"#REF!"}}]
["2022-04-05",3,"Yevamos 29",{"$f":"COUNT($A$2:A823)","v":822},2466,0.3032091479158982,0.2799704905938768,0.22242714865363333,0.18406492069347105,0.13980081150866838,0.13205459240132791,9.9963113242345997E-2,"Yevamos ",{"$f":"VLOOKUP(Schedule!M823,#REF!,2,FALSE)","v":{"$error":"#REF!"}}]
["2022-04-06",4,"Yevamos 30",{"$f":"COUNT($A$2:A824)","v":823},2469,0.30357801549243824,0.28033935817041683,0.22279601623017337,0.18443378827001106,0.14016967908520842,0.13242345997786795,0.10033198081888602,"Yevamos ",{"$f":"VLOOKUP(Schedule!M824,#REF!,2,FALSE)","v":{"$error":"#REF!"}}]
["2022-04-07",5,"Yevamos 31",{"$f":"COUNT($A$2:A825)","v":824},2472,0.30394688306897821,0.28070822574695686,0.2231648838067134,0.18480265584655109,0.14053854666174842,0.13279232755440798,0.10070084839542605,"Yevamos ",{"$f":"VLOOKUP(Schedule!M825,#REF!,2,FALSE)","v":{"$error":"#REF!"}}]
["2022-04-08",6,"Yevamos 32",{"$f":"COUNT($A$2:A826)","v":825},2475,0.30431575064551825,0.28107709332349684,0.2235337513832534,0.18517152342309112,0.14090741423828845,0.13316119513094798,0.10106971597196607,"Yevamos ",{"$f":"VLOOKUP(Schedule!M826,#REF!,2,FALSE)","v":{"$error":"#REF!"}}]
["2022-04-09",7,"Yevamos 33",{"$f":"COUNT($A$2:A827)","v":826},2478,0.30468461822205828,0.28144596090003687,0.22390261895979344,0.18554039099963113,0.14127628181482849,0.13353006270748802,0.10143858354850609,"Yevamos ",{"$f":"VLOOKUP(Schedule!M827,#REF!,2,FALSE)","v":{"$error":"#REF!"}}]
["2022-04-10",1,"Yevamos 34",{"$f":"COUNT($A$2:A828)","v":827},2481,0.30505348579859831,0.28181482847657691,0.22427148653633347,0.18590925857617116,0.14164514939136849,0.13389893028402802,0.10180745112504611,"Yevamos ",{"$f":"VLOOKUP(Schedule!M828,#REF!,2,FALSE)","v":{"$error":"#REF!"}}]
["2022-04-11",2,"Yevamos 35",{"$f":"COUNT($A$2:A829)","v":828},2484,0.30542235337513834,0.28218369605311694,0.22464035411287347,0.18627812615271117,0.14201401696790852,0.13426779786056806,0.10217631870158612,"Yevamos ",{"$f":"VLOOKUP(Schedule!M829,#REF!,2,FALSE)","v":{"$error":"#REF!"}}]
["2022-04-12",3,"Yevamos 36",{"$f":"COUNT($A$2:A830)","v":829},2487,0.30579122095167832,0.28255256362965697,0.22500922168941351,0.1866469937292512,{"$f":"(D830-443)/2711","v":0.14238288454444853},0.13463666543710809,0.10254518627812616,"Yevamos ",{"$f":"VLOOKUP(Schedule!M830,#REF!,2,FALSE)","v":{"$error":"#REF!"}}]
["2022-04-13",4,"Yevamos 37",{"$f":"COUNT($A$2:A831)","v":830},2490,0.30616008852821835,0.28292143120619695,0.22537808926595351,0.18701586130579123,0.14275175212098856,0.13500553301364809,0.10291405385466618,"Yevamos ",{"$f":"VLOOKUP(Schedule!M831,#REF!,2,FALSE)","v":{"$error":"#REF!"}}]
["2022-04-14",5,"Yevamos 38",{"$f":"COUNT($A$2:A832)","v":831},2493,0.30652895610475839,0.28329029878273698,0.22574695684249355,0.18738472888233124,0.14312061969752859,0.13537440059018813,0.1032829214312062,"Yevamos ",{"$f":"VLOOKUP(Schedule!M832,#REF!,2,FALSE)","v":{"$error":"#REF!"}}]
["2022-04-15",6,"Yevamos 39",{"$f":"COUNT($A$2:A833)","v":832},2496,0.30689782368129842,0.28365916635927702,0.22611582441903358,0.18775359645887127,0.1434894872740686,0.13574326816672813,0.10365178900774621,"Yevamos ",{"$f":"VLOOKUP(Schedule!M833,#REF!,2,FALSE)","v":{"$error":"#REF!"}}]
["2022-04-16",7,"Yevamos 40",{"$f":"COUNT($A$2:A834)","v":833},{"$f":"D834*3","v":2499},0.30726669125783845,{"$f":"(D834-63)/2711","v":0.28402803393581705},0.22648469199557358,0.18812246403541127,0.14385835485060863,0.13611213574326816,0.10402065658428625,"Yevamos ",{"$f":"VLOOKUP(Schedule!M834,#REF!,2,FALSE)","v":{"$error":"#REF!"}}]
["2022-04-17",{"$f":"WEEKDAY(A835)","v":1},"Yevamos 41",{"$f":"COUNT($A$2:A835)","v":834},2502,{"$f":"D835/2711","v":0.30763555883437843},0.28439690151235708,0.22685355957211362,0.18849133161195131,0.14422722242714867,0.1364810033198082,0.10438952416082627,{"$f":"LEFT(C835,FIND(\"☃\",SUBSTITUTE(C835,\" \",\"☃\",LEN(C835)-LEN(SUBSTITUTE(C835,\" \",\"\")))))","v":"Yevamos "},{"$f":"VLOOKUP(Schedule!M835,#REF!,2,FALSE)","v":{"$error":"#REF!"}}]
["2022-04-18",2,"Yevamos 42",{"$f":"COUNT($A$2:A836)","v":835},2505,0.30800442641091846,0.28476576908889706,0.22722242714865362,0.18886019918849134,0.14459609000368867,0.1368498708963482,0.10475839173736629,"Yevamos ",{"$f":"VLOOKUP(Schedule!M836,#REF!,2,FALSE)","v":{"$error":"#REF!"}}]
["2022-04-19",3,"Yevamos 43",{"$f":"COUNT($A$2:A837)","v":836},2508,0.3083732939874585,0.28513463666543709,0.22759129472519365,0.18922906676503135,0.1449649575802287,0.13721873847288824,0.1051272593139063,"Yevamos ",{"$f":"VLOOKUP(Schedule!M837,#REF!,2,FALSE)","v":{"$error":"#REF!"}}]
["2022-04-20",4,"Yevamos 44",{"$f":"COUNT($A$2:A838)","v":837},2511,0.30874216156399853,0.28550350424197712,0.22796016230173369,{"$f":"(D838-323)/2711","v":0.18959793434157138},0.14533382515676871,0.13758760604942827,0.10549612689044632,"Yevamos ",{"$f":"VLOOKUP(Schedule!M838,#REF!,2,FALSE)","v":{"$error":"#REF!"}}]
["2022-04-21",5,"Yevamos 45",{"$f":"COUNT($A$2:A839)","v":838},2514,0.30911102914053856,0.28587237181851716,0.22832902987827369,0.18996680191811141,0.14570269273330874,0.13795647362596827,0.10586499446698636,"Yevamos ",{"$f":"VLOOKUP(Schedule!M839,#REF!,2,FALSE)","v":{"$error":"#REF!"}}]
["2022-04-22",6,"Yevamos 46",{"$f":"COUNT($A$2:A840)","v":839},2517,0.3094798967170786,0.28624123939505719,0.22869789745481373,0.19033566949465142,0.14607156030984877,0.13832534120250831,0.10623386204352638,"Yevamos ",{"$f":"VLOOKUP(Schedule!M840,#REF!,2,FALSE)","v":{"$error":"#REF!"}}]
["2022-04-23",7,"Yevamos 47",{"$f":"COUNT($A$2:A841)","v":840},2520,0.30984876429361857,0.28661010697159722,0.22906676503135373,0.19070453707119145,0.14644042788638878,0.13869420877904831,0.10660272962006639,"Yevamos ",{"$f":"VLOOKUP(Schedule!M841,#REF!,2,FALSE)","v":{"$error":"#REF!"}}]
["2022-04-24",1,"Yevamos 48",{"$f":"COUNT($A$2:A842)","v":841},2523,0.31021763187015861,0.2869789745481372,0.22943563260789376,0.19107340464773145,0.14680929546292881,0.13906307635558834,0.10697159719660641,"Yevamos ",{"$f":"VLOOKUP(Schedule!M842,#REF!,2,FALSE)","v":{"$error":"#REF!"}}]
["2022-04-25",2,"Yevamos 49",{"$f":"COUNT($A$2:A843)","v":842},2526,0.31058649944669864,0.28734784212467723,0.2298045001844338,0.19144227222427149,0.14717816303946882,0.13943194393212838,0.10734046477314645,"Yevamos ",{"$f":"VLOOKUP(Schedule!M843,#REF!,2,FALSE)","v":{"$error":"#REF!"}}]
["2022-04-26",3,"Yevamos 50",{"$f":"COUNT($A$2:A844)","v":843},2529,0.31095536702323867,0.28771670970121727,0.2301733677609738,0.19181113980081152,0.14754703061600885,0.13980081150866838,0.10770933234968647,"Yevamos ",{"$f":"VLOOKUP(Schedule!M844,#REF!,2,FALSE)","v":{"$error":"#REF!"}}]
["2022-04-27",4,"Yevamos 51",{"$f":"COUNT($A$2:A845)","v":844},2532,0.3113242345997787,0.2880855772777573,0.23054223533751383,0.19218000737735152,0.14791589819254888,0.14016967908520842,0.10807819992622648,"Yevamos ",{"$f":"VLOOKUP(Schedule!M845,#REF!,2,FALSE)","v":{"$error":"#REF!"}}]
["2022-04-28",5,"Yevamos 52",{"$f":"COUNT($A$2:A846)","v":845},2535,0.31169310217631868,0.28845444485429733,0.23091110291405387,0.19254887495389156,0.14828476576908889,0.14053854666174842,0.1084470675027665,"Yevamos ",{"$f":"VLOOKUP(Schedule!M846,#REF!,2,FALSE)","v":{"$error":"#REF!"}}]
["2022-04-29",6,"Yevamos 53",{"$f":"COUNT($A$2:A847)","v":846},2538,0.31206196975285871,0.28882331243083731,0.23127997049059387,0.19291774253043156,0.14865363334562892,0.14090741423828845,0.10881593507930652,"Yevamos ",{"$f":"VLOOKUP(Schedule!M847,#REF!,2,FALSE)","v":{"$error":"#REF!"}}]
["2022-04-30",7,"Yevamos 54",{"$f":"COUNT($A$2:A848)","v":847},2541,0.31243083732939875,0.28919218000737734,0.23164883806713391,0.1932866101069716,0.14902250092216895,0.14127628181482849,0.10918480265584656,"Yevamos ",{"$f":"VLOOKUP(Schedule!M848,#REF!,2,FALSE)","v":{"$error":"#REF!"}}]
["2022-05-01",1,"Yevamos 55",{"$f":"COUNT($A$2:A849)","v":848},2544,0.31279970490593878,0.28956104758391737,0.23201770564367391,0.19365547768351163,0.14939136849870896,0.14164514939136849,0.10955367023238657,"Yevamos ",{"$f":"VLOOKUP(Schedule!M849,#REF!,2,FALSE)","v":{"$error":"#REF!"}}]
["2022-05-02",2,"Yevamos 56",{"$f":"COUNT($A$2:A850)","v":849},2547,0.31316857248247881,0.28992991516045741,0.23238657322021394,0.19402434526005163,0.14976023607524899,{"$f":"(D850-464)/2711","v":0.14201401696790852},0.10992253780892659,"Yevamos ",{"$f":"VLOOKUP(Schedule!M850,#REF!,2,FALSE)","v":{"$error":"#REF!"}}]
["2022-05-03",3,"Yevamos 57",{"$f":"COUNT($A$2:A851)","v":850},2550,0.31353744005901879,0.29029878273699744,0.23275544079675398,0.19439321283659167,0.150129103651789,0.14238288454444853,0.11029140538546661,"Yevamos ",{"$f":"VLOOKUP(Schedule!M851,#REF!,2,FALSE)","v":{"$error":"#REF!"}}]
["2022-05-04",4,"Yevamos 58",{"$f":"COUNT($A$2:A852)","v":851},2553,0.31390630763555882,0.29066765031353742,0.23312430837329398,0.1947620804131317,0.15049797122832903,0.14275175212098856,0.11066027296200664,"Yevamos ",{"$f":"VLOOKUP(Schedule!M852,#REF!,2,FALSE)","v":{"$error":"#REF!"}}]
["2022-05-05",5,"Yevamos 59",{"$f":"COUNT($A$2:A853)","v":852},2556,0.31427517521209886,0.29103651789007745,0.23349317594983401,0.1951309479896717,0.15086683880486906,0.14312061969752859,0.11102914053854666,"Yevamos ",{"$f":"VLOOKUP(Schedule!M853,#REF!,2,FALSE)","v":{"$error":"#REF!"}}]
["2022-05-06",6,"Yevamos 60",{"$f":"COUNT($A$2:A854)","v":853},2559,0.31464404278863889,0.29140538546661748,0.23386204352637402,0.19549981556621174,0.15123570638140907,0.1434894872740686,0.11139800811508668,"Yevamos ",{"$f":"VLOOKUP(Schedule!M854,#REF!,2,FALSE)","v":{"$error":"#REF!"}}]
["2022-05-07",7,"Yevamos 61",{"$f":"COUNT($A$2:A855)","v":854},2562,0.31501291036517892,0.29177425304315752,0.23423091110291405,0.19586868314275174,0.1516045739579491,0.14385835485060863,0.1117668756916267,"Yevamos ",{"$f":"VLOOKUP(Schedule!M855,#REF!,2,FALSE)","v":{"$error":"#REF!"}}]
["2022-05-08",1,"Yevamos 62",{"$f":"COUNT($A$2:A856)","v":855},2565,0.3153817779417189,0.29214312061969755,0.23459977867945409,0.19623755071929178,0.15197344153448911,0.14422722242714867,0.11213574326816673,"Yevamos ",{"$f":"VLOOKUP(Schedule!M856,#REF!,2,FALSE)","v":{"$error":"#REF!"}}]
["2022-05-09",2,"Yevamos 63",{"$f":"COUNT($A$2:A857)","v":856},2568,0.31575064551825893,0.29251198819623753,0.23496864625599409,0.19660641829583181,0.15234230911102914,0.14459609000368867,0.11250461084470675,"Yevamos ",{"$f":"VLOOKUP(Schedule!M857,#REF!,2,FALSE)","v":{"$error":"#REF!"}}]
["2022-05-10",3,"Yevamos 64",{"$f":"COUNT($A$2:A858)","v":857},2571,0.31611951309479897,0.29288085577277756,0.23533751383253412,0.19697528587237181,0.15271117668756917,0.1449649575802287,0.11287347842124677,"Yevamos ",{"$f":"VLOOKUP(Schedule!M858,#REF!,2,FALSE)","v":{"$error":"#REF!"}}]
["2022-05-11",4,"Yevamos 65",{"$f":"COUNT($A$2:A859)","v":858},2574,0.316488380671339,0.29324972334931759,0.23570638140907416,0.19734415344891185,0.15308004426410918,0.14533382515676871,0.11324234599778679,"Yevamos ",{"$f":"VLOOKUP(Schedule!M859,#REF!,2,FALSE)","v":{"$error":"#REF!"}}]
["2022-05-12",5,"Yevamos 66",{"$f":"COUNT($A$2:A860)","v":859},2577,0.31685724824787903,0.29361859092585763,0.23607524898561416,0.19771302102545185,0.15344891184064921,0.14570269273330874,0.11361121357432681,"Yevamos ",{"$f":"VLOOKUP(Schedule!M860,#REF!,2,FALSE)","v":{"$error":"#REF!"}}]
["2022-05-13",6,"Yevamos 67",{"$f":"COUNT($A$2:A861)","v":860},2580,0.31722611582441901,0.29398745850239766,0.23644411656215419,0.19808188860199188,0.15381777941718922,0.14607156030984877,0.11398008115086684,"Yevamos ",{"$f":"VLOOKUP(Schedule!M861,#REF!,2,FALSE)","v":{"$error":"#REF!"}}]
["2022-05-14",7,"Yevamos 68",{"$f":"COUNT($A$2:A862)","v":861},2583,0.31759498340095904,0.29435632607893764,{"$f":"(D862-219)/2711","v":0.2368129841386942},0.19845075617853192,0.15418664699372925,0.14644042788638878,0.11434894872740686,"Yevamos ",{"$f":"VLOOKUP(Schedule!M862,#REF!,2,FALSE)","v":{"$error":"#REF!"}}]
["2022-05-15",1,"Yevamos 69",{"$f":"COUNT($A$2:A863)","v":862},2586,0.31796385097749907,0.29472519365547767,0.23718185171523423,0.19881962375507192,0.15455551457026928,0.14680929546292881,0.11471781630394688,"Yevamos ",{"$f":"VLOOKUP(Schedule!M863,#REF!,2,FALSE)","v":{"$error":"#REF!"}}]
["2022-05-16",2,"Yevamos 70",{"$f":"COUNT($A$2:A864)","v":863},2589,0.31833271855403911,0.2950940612320177,0.23755071929177426,0.19918849133161196,0.15492438214680929,0.14717816303946882,0.1150866838804869,"Yevamos ",{"$f":"VLOOKUP(Schedule!M864,#REF!,2,FALSE)","v":{"$error":"#REF!"}}]
["2022-05-17",3,"Yevamos 71",{"$f":"COUNT($A$2:A865)","v":864},2592,0.31870158613057914,0.29546292880855773,0.23791958686831427,0.19955735890815196,0.15529324972334932,0.14754703061600885,0.11545555145702693,"Yevamos ",{"$f":"VLOOKUP(Schedule!M865,#REF!,2,FALSE)","v":{"$error":"#REF!"}}]
["2022-05-18",4,"Yevamos 72",{"$f":"COUNT($A$2:A866)","v":865},2595,0.31907045370711912,0.29583179638509777,0.2382884544448543,0.19992622648469199,0.15566211729988935,0.14791589819254888,0.11582441903356695,"Yevamos ",{"$f":"VLOOKUP(Schedule!M866,#REF!,2,FALSE)","v":{"$error":"#REF!"}}]
["2022-05-19",5,"Yevamos 73",{"$f":"COUNT($A$2:A867)","v":866},2598,0.31943932128365915,0.29620066396163774,0.23865732202139431,0.20029509406123203,0.15603098487642936,0.14828476576908889,0.11619328661010697,"Yevamos ",{"$f":"VLOOKUP(Schedule!M867,#REF!,2,FALSE)","v":{"$error":"#REF!"}}]
["2022-05-20",6,"Yevamos 74",{"$f":"COUNT($A$2:A868)","v":867},2601,0.31980818886019918,0.29656953153817778,0.23902618959793434,0.20066396163777203,0.15639985245296939,0.14865363334562892,0.11656215418664699,"Yevamos ",{"$f":"VLOOKUP(Schedule!M868,#REF!,2,FALSE)","v":{"$error":"#REF!"}}]
["2022-05-21",7,"Yevamos 75",{"$f":"COUNT($A$2:A869)","v":868},2604,0.32017705643673922,0.29693839911471781,0.23939505717447437,0.20103282921431206,0.1567687200295094,0.14902250092216895,0.11693102176318701,"Yevamos ",{"$f":"VLOOKUP(Schedule!M869,#REF!,2,FALSE)","v":{"$error":"#REF!"}}]
["2022-05-22",1,"Yevamos 76",{"$f":"COUNT($A$2:A870)","v":869},2607,0.32054592401327925,0.29730726669125784,0.23976392475101438,0.2014016967908521,0.15713758760604943,0.14939136849870896,0.11729988933972704,"Yevamos ",{"$f":"VLOOKUP(Schedule!M870,#REF!,2,FALSE)","v":{"$error":"#REF!"}}]
["2022-05-23",2,"Yevamos 77",{"$f":"COUNT($A$2:A871)","v":870},2610,0.32091479158981928,0.29767613426779788,0.24013279232755441,0.2017705643673921,0.15750645518258946,0.14976023607524899,0.11766875691626706,"Yevamos ",{"$f":"VLOOKUP(Schedule!M871,#REF!,2,FALSE)","v":{"$error":"#REF!"}}]
["2022-05-24",3,"Yevamos 78",{"$f":"COUNT($A$2:A872)","v":871},2613,0.32128365916635926,0.29804500184433791,0.24050165990409442,0.20213943194393214,0.15787532275912947,0.150129103651789,0.11803762449280708,"Yevamos ",{"$f":"VLOOKUP(Schedule!M872,#REF!,2,FALSE)","v":{"$error":"#REF!"}}]
["2022-05-25",4,"Yevamos 79",{"$f":"COUNT($A$2:A873)","v":872},2616,0.32165252674289929,0.29841386942087789,0.24087052748063445,0.20250829952047214,0.1582441903356695,0.15049797122832903,0.1184064920693471,"Yevamos ",{"$f":"VLOOKUP(Schedule!M873,#REF!,2,FALSE)","v":{"$error":"#REF!"}}]
["2022-05-26",5,"Yevamos 80",{"$f":"COUNT($A$2:A874)","v":873},2619,0.32202139431943932,0.29878273699741792,0.24123939505717448,0.20287716709701217,0.1586130579122095,0.15086683880486906,{"$f":"(D874-551)/2711","v":0.11877535964588713},"Yevamos ",{"$f":"VLOOKUP(Schedule!M874,#REF!,2,FALSE)","v":{"$error":"#REF!"}}]
["2022-05-27",6,"Yevamos 81",{"$f":"COUNT($A$2:A875)","v":874},2622,0.32239026189597936,0.29915160457395795,0.24160826263371449,0.20324603467355221,0.15898192548874954,0.15123570638140907,0.11914422722242715,"Yevamos ",{"$f":"VLOOKUP(Schedule!M875,#REF!,2,FALSE)","v":{"$error":"#REF!"}}]
["2022-05-28",7,"Yevamos 82",{"$f":"COUNT($A$2:A876)","v":875},2625,0.32275912947251939,0.29952047215049799,0.24197713021025452,0.20361490225009221,0.15935079306528957,0.1516045739579491,0.11951309479896717,"Yevamos ",{"$f":"VLOOKUP(Schedule!M876,#REF!,2,FALSE)","v":{"$error":"#REF!"}}]
["2022-05-29",1,"Yevamos 83",{"$f":"COUNT($A$2:A877)","v":876},2628,0.32312799704905937,0.29988933972703802,0.24234599778679455,0.20398376982663224,0.15971966064182958,0.15197344153448911,0.11988196237550719,"Yevamos ",{"$f":"VLOOKUP(Schedule!M877,#REF!,2,FALSE)","v":{"$error":"#REF!"}}]
["2022-05-30",2,"Yevamos 84",{"$f":"COUNT($A$2:A878)","v":877},2631,0.3234968646255994,0.300258207303578,0.24271486536333456,0.20435263740317225,0.16008852821836961,0.15234230911102914,0.12025082995204721,"Yevamos ",{"$f":"VLOOKUP(Schedule!M878,#REF!,2,FALSE)","v":{"$error":"#REF!"}}]
["2022-05-31",3,"Yevamos 85",{"$f":"COUNT($A$2:A879)","v":878},2634,0.32386573220213943,0.30062707488011803,0.24308373293987459,0.20472150497971228,0.16045739579490964,0.15271117668756917,0.12061969752858724,"Yevamos ",{"$f":"VLOOKUP(Schedule!M879,#REF!,2,FALSE)","v":{"$error":"#REF!"}}]
["2022-06-01",4,"Yevamos 86",{"$f":"COUNT($A$2:A880)","v":879},2637,0.32423459977867947,0.30099594245665806,0.2434526005164146,0.20509037255625231,0.16082626337144965,0.15308004426410918,0.12098856510512726,"Yevamos ",{"$f":"VLOOKUP(Schedule!M880,#REF!,2,FALSE)","v":{"$error":"#REF!"}}]
["2022-06-02",5,"Yevamos 87",{"$f":"COUNT($A$2:A881)","v":880},2640,0.3246034673552195,0.30136481003319809,0.24382146809295463,0.20545924013279232,0.16119513094798968,0.15344891184064921,0.12135743268166728,"Yevamos ",{"$f":"VLOOKUP(Schedule!M881,#REF!,2,FALSE)","v":{"$error":"#REF!"}}]
["2022-06-03",6,"Yevamos 88",{"$f":"COUNT($A$2:A882)","v":881},2643,0.32497233493175948,0.30173367760973813,0.24419033566949466,0.20582810770933235,0.16156399852452968,0.15381777941718922,0.1217263002582073,"Yevamos ",{"$f":"VLOOKUP(Schedule!M882,#REF!,2,FALSE)","v":{"$error":"#REF!"}}]
["2022-06-04",7,"Yevamos 89",{"$f":"COUNT($A$2:A883)","v":882},2646,0.32534120250829951,0.3021025451862781,0.24455920324603467,0.20619697528587236,0.16193286610106972,0.15418664699372925,0.12209516783474733,"Yevamos ",{"$f":"VLOOKUP(Schedule!M883,#REF!,2,FALSE)","v":{"$error":"#REF!"}}]
["2022-06-05",1,"Yevamos 90",{"$f":"COUNT($A$2:A884)","v":883},2649,0.32571007008483954,0.30247141276281814,0.2449280708225747,0.20656584286241239,0.16230173367760975,0.15455551457026928,0.12246403541128735,"Yevamos ",{"$f":"VLOOKUP(Schedule!M884,#REF!,2,FALSE)","v":{"$error":"#REF!"}}]
["2022-06-06",2,"Yevamos 91",{"$f":"COUNT($A$2:A885)","v":884},2652,0.32607893766137958,0.30284028033935817,0.24529693839911471,0.20693471043895242,0.16267060125414975,0.15492438214680929,0.12283290298782737,"Yevamos ",{"$f":"VLOOKUP(Schedule!M885,#REF!,2,FALSE)","v":{"$error":"#REF!"}}]
["2022-06-07",3,"Yevamos 92",{"$f":"COUNT($A$2:A886)","v":885},2655,0.32644780523791961,0.3032091479158982,0.24566580597565474,0.20730357801549243,0.16303946883068979,0.15529324972334932,0.12320177056436739,"Yevamos ",{"$f":"VLOOKUP(Schedule!M886,#REF!,2,FALSE)","v":{"$error":"#REF!"}}]
["2022-06-08",4,"Yevamos 93",{"$f":"COUNT($A$2:A887)","v":886},2658,0.32681667281445959,0.30357801549243824,0.24603467355219477,0.20767244559203246,0.16340833640722979,0.15566211729988935,0.12357063814090742,"Yevamos ",{"$f":"VLOOKUP(Schedule!M887,#REF!,2,FALSE)","v":{"$error":"#REF!"}}]
["2022-06-09",5,"Yevamos 94",{"$f":"COUNT($A$2:A888)","v":887},2661,0.32718554039099962,0.30394688306897821,0.24640354112873478,0.20804131316857249,0.16377720398376983,0.15603098487642936,0.12393950571744744,"Yevamos ",{"$f":"VLOOKUP(Schedule!M888,#REF!,2,FALSE)","v":{"$error":"#REF!"}}]
["2022-06-10",6,"Yevamos 95",{"$f":"COUNT($A$2:A889)","v":888},2664,0.32755440796753965,0.30431575064551825,0.24677240870527481,0.2084101807451125,0.16414607156030986,0.15639985245296939,0.12430837329398746,"Yevamos ",{"$f":"VLOOKUP(Schedule!M889,#REF!,2,FALSE)","v":{"$error":"#REF!"}}]
["2022-06-11",7,"Yevamos 96",{"$f":"COUNT($A$2:A890)","v":889},2667,0.32792327554407968,0.30468461822205828,0.24714127628181484,0.20877904832165253,0.16451493913684986,0.1567687200295094,0.12467724087052748,"Yevamos ",{"$f":"VLOOKUP(Schedule!M890,#REF!,2,FALSE)","v":{"$error":"#REF!"}}]
["2022-06-12",1,"Yevamos 97",{"$f":"COUNT($A$2:A891)","v":890},2670,0.32829214312061972,0.30505348579859831,0.24751014385835485,0.20914791589819254,0.1648838067133899,0.15713758760604943,0.12504610844706751,"Yevamos ",{"$f":"VLOOKUP(Schedule!M891,#REF!,2,FALSE)","v":{"$error":"#REF!"}}]
["2022-06-13",2,"Yevamos 98",{"$f":"COUNT($A$2:A892)","v":891},2673,0.32866101069715969,0.30542235337513834,0.24787901143489488,0.20951678347473257,0.1652526742899299,0.15750645518258946,0.12541497602360752,"Yevamos ",{"$f":"VLOOKUP(Schedule!M892,#REF!,2,FALSE)","v":{"$error":"#REF!"}}]
["2022-06-14",3,"Yevamos 99",{"$f":"COUNT($A$2:A893)","v":892},2676,0.32902987827369973,0.30579122095167832,0.24824787901143489,0.2098856510512726,0.16562154186646993,0.15787532275912947,0.12578384360014755,"Yevamos ",{"$f":"VLOOKUP(Schedule!M893,#REF!,2,FALSE)","v":{"$error":"#REF!"}}]
["2022-06-15",4,"Yevamos 100",{"$f":"COUNT($A$2:A894)","v":893},2679,0.32939874585023976,0.30616008852821835,0.24861674658797492,0.21025451862781261,{"$f":"(D894-443)/2711","v":0.16599040944300997},0.1582441903356695,0.12615271117668758,"Yevamos ",{"$f":"VLOOKUP(Schedule!M894,#REF!,2,FALSE)","v":{"$error":"#REF!"}}]
["2022-06-16",5,"Yevamos 101",{"$f":"COUNT($A$2:A895)","v":894},2682,0.32976761342677979,0.30652895610475839,0.24898561416451495,0.21062338620435264,0.16635927701954997,0.1586130579122095,0.12652157875322759,"Yevamos ",{"$f":"VLOOKUP(Schedule!M895,#REF!,2,FALSE)","v":{"$error":"#REF!"}}]
["2022-06-17",6,"Yevamos 102",{"$f":"COUNT($A$2:A896)","v":895},2685,0.33013648100331983,0.30689782368129842,0.24935448174105496,0.21099225378089265,0.16672814459609001,0.15898192548874954,0.12689044632976762,"Yevamos ",{"$f":"VLOOKUP(Schedule!M896,#REF!,2,FALSE)","v":{"$error":"#REF!"}}]
["2022-06-18",7,"Yevamos 103",{"$f":"COUNT($A$2:A897)","v":896},2688,0.3305053485798598,0.30726669125783845,0.24972334931759499,0.21136112135743268,0.16709701217263004,0.15935079306528957,0.12725931390630763,"Yevamos ",{"$f":"VLOOKUP(Schedule!M897,#REF!,2,FALSE)","v":{"$error":"#REF!"}}]
["2022-06-19",1,"Yevamos 104",{"$f":"COUNT($A$2:A898)","v":897},{"$f":"D898*3","v":2691},0.33087421615639984,{"$f":"(D898-63)/2711","v":0.30763555883437843},0.25009221689413502,0.21172998893397271,0.16746587974917004,0.15971966064182958,0.12762818148284766,"Yevamos ",{"$f":"VLOOKUP(Schedule!M898,#REF!,2,FALSE)","v":{"$error":"#REF!"}}]
["2022-06-20",{"$f":"WEEKDAY(A899)","v":2},"Yevamos 105",{"$f":"COUNT($A$2:A899)","v":898},2694,{"$f":"D899/2711","v":0.33124308373293987},0.30800442641091846,0.25046108447067505,0.21209885651051272,0.16783474732571008,0.16008852821836961,0.12799704905938769,{"$f":"LEFT(C899,FIND(\"☃\",SUBSTITUTE(C899,\" \",\"☃\",LEN(C899)-LEN(SUBSTITUTE(C899,\" \",\"\")))))","v":"Yevamos "},{"$f":"VLOOKUP(Schedule!M899,#REF!,2,FALSE)","v":{"$error":"#REF!"}}]
["2022-06-21",3,"Yevamos 106",{"$f":"COUNT($A$2:A900)","v":899},2697,0.3316119513094799,0.3083732939874585,0.25082995204721503,0.21246772408705275,0.16820361490225008,0.16045739579490964,0.1283659166359277,"Yevamos ",{"$f":"VLOOKUP(Schedule!M900,#REF!,2,FALSE)","v":{"$error":"#REF!"}}]
["2022-06-22",4,"Yevamos 107",{"$f":"COUNT($A$2:A901)","v":900},2700,0.33198081888601993,0.30874216156399853,0.25119881962375507,0.21283659166359278,0.16857248247879011,0.16082626337144965,0.12873478421246773,"Yevamos ",{"$f":"VLOOKUP(Schedule!M901,#REF!,2,FALSE)","v":{"$error":"#REF!"}}]
["2022-06-23",5,"Yevamos 108",{"$f":"COUNT($A$2:A902)","v":901},2703,0.33234968646255997,0.30911102914053856,0.2515676872002951,{"$f":"(D902-323)/2711","v":0.21320545924013279},0.16894135005533015,0.16119513094798968,0.12910365178900773,"Yevamos ",{"$f":"VLOOKUP(Schedule!M902,#REF!,2,FALSE)","v":{"$error":"#REF!"}}]
["2022-06-24",6,"Yevamos 109",{"$f":"COUNT($A$2:A903)","v":902},2706,0.33271855403909995,0.3094798967170786,0.25193655477683513,0.21357432681667282,0.16931021763187015,0.16156399852452968,0.12947251936554777,"Yevamos ",{"$f":"VLOOKUP(Schedule!M903,#REF!,2,FALSE)","v":{"$error":"#REF!"}}]
["2022-06-25",7,"Yevamos 110",{"$f":"COUNT($A$2:A904)","v":903},2709,0.33308742161563998,0.30984876429361857,0.25230542235337516,0.21394319439321283,0.16967908520841019,0.16193286610106972,0.1298413869420878,"Yevamos ",{"$f":"VLOOKUP(Schedule!M904,#REF!,2,FALSE)","v":{"$error":"#REF!"}}]
["2022-06-26",1,"Yevamos 111",{"$f":"COUNT($A$2:A905)","v":904},2712,0.33345628919218001,0.31021763187015861,0.25267428992991514,0.21431206196975286,0.17004795278495019,0.16230173367760975,0.1302102545186278,"Yevamos ",{"$f":"VLOOKUP(Schedule!M905,#REF!,2,FALSE)","v":{"$error":"#REF!"}}]
["2022-06-27",2,"Yevamos 112",{"$f":"COUNT($A$2:A906)","v":905},2715,0.33382515676872004,0.31058649944669864,0.25304315750645517,0.21468092954629289,0.17041682036149022,0.16267060125414975,0.13057912209516784,"Yevamos ",{"$f":"VLOOKUP(Schedule!M906,#REF!,2,FALSE)","v":{"$error":"#REF!"}}]
["2022-06-28",3,"Yevamos 113",{"$f":"COUNT($A$2:A907)","v":906},2718,0.33419402434526008,0.31095536702323867,0.25341202508299521,0.2150497971228329,0.17078568793803026,0.16303946883068979,0.13094798967170787,"Yevamos ",{"$f":"VLOOKUP(Schedule!M907,#REF!,2,FALSE)","v":{"$error":"#REF!"}}]
["2022-06-29",4,"Yevamos 114",{"$f":"COUNT($A$2:A908)","v":907},2721,0.33456289192180005,0.3113242345997787,0.25378089265953524,0.21541866469937293,0.17115455551457026,0.16340833640722979,0.13131685724824788,"Yevamos ",{"$f":"VLOOKUP(Schedule!M908,#REF!,2,FALSE)","v":{"$error":"#REF!"}}]
["2022-06-30",5,"Yevamos 115",{"$f":"COUNT($A$2:A909)","v":908},2724,0.33493175949834009,0.31169310217631868,0.25414976023607527,0.21578753227591294,0.17152342309111029,0.16377720398376983,0.13168572482478791,"Yevamos ",{"$f":"VLOOKUP(Schedule!M909,#REF!,2,FALSE)","v":{"$error":"#REF!"}}]
["2022-07-01",6,"Yevamos 116",{"$f":"COUNT($A$2:A910)","v":909},2727,0.33530062707488012,0.31206196975285871,0.25451862781261525,0.21615639985245297,0.17189229066765033,0.16414607156030986,0.13205459240132791,"Yevamos ",{"$f":"VLOOKUP(Schedule!M910,#REF!,2,FALSE)","v":{"$error":"#REF!"}}]
["2022-07-02",7,"Yevamos 117",{"$f":"COUNT($A$2:A911)","v":910},2730,0.33566949465142015,0.31243083732939875,0.25488749538915528,0.216525267428993,0.17226115824419033,0.16451493913684986,0.13242345997786795,"Yevamos ",{"$f":"VLOOKUP(Schedule!M911,#REF!,2,FALSE)","v":{"$error":"#REF!"}}]
["2022-07-03",1,"Yevamos 118",{"$f":"COUNT($A$2:A912)","v":911},2733,0.33603836222796019,0.31279970490593878,0.25525636296569532,0.21689413500553301,0.17263002582073037,0.1648838067133899,0.13279232755440798,"Yevamos ",{"$f":"VLOOKUP(Schedule!M912,#REF!,2,FALSE)","v":{"$error":"#REF!"}}]
["2022-07-04",2,"Yevamos 119",{"$f":"COUNT($A$2:A913)","v":912},2736,0.33640722980450016,0.31316857248247881,0.25562523054223535,0.21726300258207304,0.17299889339727037,0.1652526742899299,0.13316119513094798,"Yevamos ",{"$f":"VLOOKUP(Schedule!M913,#REF!,2,FALSE)","v":{"$error":"#REF!"}}]
["2022-07-05",3,"Yevamos 120",{"$f":"COUNT($A$2:A914)","v":913},2739,0.3367760973810402,0.31353744005901879,0.25599409811877538,0.21763187015861304,0.1733677609738104,{"$f":"(D914-464)/2711","v":0.16562154186646993},0.13353006270748802,"Yevamos ",{"$f":"VLOOKUP(Schedule!M914,#REF!,2,FALSE)","v":{"$error":"#REF!"}}]
["2022-07-06",4,"Yevamos 121",{"$f":"COUNT($A$2:A915)","v":914},2742,0.33714496495758023,0.31390630763555882,0.25636296569531536,0.21800073773515308,0.17373662855035044,0.16599040944300997,0.13389893028402802,"Yevamos ",{"$f":"VLOOKUP(Schedule!M915,#REF!,2,FALSE)","v":{"$error":"#REF!"}}]
["2022-07-07",5,"Yevamos 122",{"$f":"COUNT($A$2:A916)","v":915},2745,0.33751383253412026,0.31427517521209886,0.25673183327185539,0.21836960531169311,0.17410549612689044,0.16635927701954997,0.13426779786056806,"Yevamos ",{"$f":"VLOOKUP(Schedule!M916,#REF!,2,FALSE)","v":{"$error":"#REF!"}}]
["2022-07-08",6,"Kesuvos 2",{"$f":"COUNT($A$2:A917)","v":916},2748,0.33788270011066029,0.31464404278863889,0.25710070084839542,0.21873847288823312,0.17447436370343047,0.16672814459609001,0.13463666543710809,"Kesuvos ",{"$f":"VLOOKUP(Schedule!M917,#REF!,2,FALSE)","v":{"$error":"#REF!"}}]
["2022-07-09",7,"Kesuvos 3",{"$f":"COUNT($A$2:A918)","v":917},2751,0.33825156768720027,0.31501291036517892,0.25746956842493546,0.21910734046477315,0.17484323127997048,0.16709701217263004,0.13500553301364809,"Kesuvos ",{"$f":"VLOOKUP(Schedule!M918,#REF!,2,FALSE)","v":{"$error":"#REF!"}}]
["2022-07-10",1,"Kesuvos 4",{"$f":"COUNT($A$2:A919)","v":918},2754,0.3386204352637403,0.3153817779417189,0.25783843600147549,0.21947620804131318,0.17521209885651051,0.16746587974917004,0.13537440059018813,"Kesuvos ",{"$f":"VLOOKUP(Schedule!M919,#REF!,2,FALSE)","v":{"$error":"#REF!"}}]
["2022-07-11",2,"Kesuvos 5",{"$f":"COUNT($A$2:A920)","v":919},2757,0.33898930284028034,0.31575064551825893,0.25820730357801547,0.21984507561785319,0.17558096643305054,0.16783474732571008,0.13574326816672813,"Kesuvos ",{"$f":"VLOOKUP(Schedule!M920,#REF!,2,FALSE)","v":{"$error":"#REF!"}}]
["2022-07-12",3,"Kesuvos 6",{"$f":"COUNT($A$2:A921)","v":920},2760,0.33935817041682037,0.31611951309479897,0.2585761711545555,0.22021394319439322,0.17594983400959055,0.16820361490225008,0.13611213574326816,"Kesuvos ",{"$f":"VLOOKUP(Schedule!M921,#REF!,2,FALSE)","v":{"$error":"#REF!"}}]
["2022-07-13",4,"Kesuvos 7",{"$f":"COUNT($A$2:A922)","v":921},2763,0.3397270379933604,0.316488380671339,0.25894503873109553,0.22058281077093322,0.17631870158613058,0.16857248247879011,0.1364810033198082,"Kesuvos ",{"$f":"VLOOKUP(Schedule!M922,#REF!,2,FALSE)","v":{"$error":"#REF!"}}]
["2022-07-14",5,"Kesuvos 8",{"$f":"COUNT($A$2:A923)","v":922},2766,0.34009590556990038,0.31685724824787903,0.25931390630763557,0.22095167834747326,0.17668756916267059,0.16894135005533015,0.1368498708963482,"Kesuvos ",{"$f":"VLOOKUP(Schedule!M923,#REF!,2,FALSE)","v":{"$error":"#REF!"}}]
["2022-07-15",6,"Kesuvos 9",{"$f":"COUNT($A$2:A924)","v":923},2769,0.34046477314644041,0.31722611582441901,0.2596827738841756,0.22132054592401329,0.17705643673921062,0.16931021763187015,0.13721873847288824,"Kesuvos ",{"$f":"VLOOKUP(Schedule!M924,#REF!,2,FALSE)","v":{"$error":"#REF!"}}]
["2022-07-16",7,"Kesuvos 10",{"$f":"COUNT($A$2:A925)","v":924},2772,0.34083364072298045,0.31759498340095904,0.26005164146071558,0.2216894135005533,0.17742530431575065,0.16967908520841019,0.13758760604942827,"Kesuvos ",{"$f":"VLOOKUP(Schedule!M925,#REF!,2,FALSE)","v":{"$error":"#REF!"}}]
["2022-07-17",1,"Kesuvos 11",{"$f":"COUNT($A$2:A926)","v":925},2775,0.34120250829952048,0.31796385097749907,{"$f":"(D926-219)/2711","v":0.26042050903725561},0.22205828107709333,0.17779417189229066,0.17004795278495019,0.13795647362596827,"Kesuvos ",{"$f":"VLOOKUP(Schedule!M926,#REF!,2,FALSE)","v":{"$error":"#REF!"}}]
["2022-07-18",2,"Kesuvos 12",{"$f":"COUNT($A$2:A927)","v":926},2778,0.34157137587606051,0.31833271855403911,0.26078937661379564,0.22242714865363333,0.17816303946883069,0.17041682036149022,0.13832534120250831,"Kesuvos ",{"$f":"VLOOKUP(Schedule!M927,#REF!,2,FALSE)","v":{"$error":"#REF!"}}]
["2022-07-19",3,"Kesuvos 13",{"$f":"COUNT($A$2:A928)","v":927},2781,0.34194024345260049,0.31870158613057914,0.26115824419033568,0.22279601623017337,0.17853190704537072,0.17078568793803026,0.13869420877904831,"Kesuvos ",{"$f":"VLOOKUP(Schedule!M928,#REF!,2,FALSE)","v":{"$error":"#REF!"}}]
["2022-07-20",4,"Kesuvos 14",{"$f":"COUNT($A$2:A929)","v":928},2784,0.34230911102914052,0.31907045370711912,0.26152711176687571,0.2231648838067134,0.17890077462191073,0.17115455551457026,0.13906307635558834,"Kesuvos ",{"$f":"VLOOKUP(Schedule!M929,#REF!,2,FALSE)","v":{"$error":"#REF!"}}]
["2022-07-21",5,"Kesuvos 15",{"$f":"COUNT($A$2:A930)","v":929},2787,0.34267797860568056,0.31943932128365915,0.26189597934341574,0.2235337513832534,0.17926964219845076,0.17152342309111029,0.13943194393212838,"Kesuvos ",{"$f":"VLOOKUP(Schedule!M930,#REF!,2,FALSE)","v":{"$error":"#REF!"}}]
["2022-07-22",6,"Kesuvos 16",{"$f":"COUNT($A$2:A931)","v":930},2790,0.34304684618222059,0.31980818886019918,0.26226484691995572,0.22390261895979344,0.17963850977499077,0.17189229066765033,0.13980081150866838,"Kesuvos ",{"$f":"VLOOKUP(Schedule!M931,#REF!,2,FALSE)","v":{"$error":"#REF!"}}]
["2022-07-23",7,"Kesuvos 17",{"$f":"COUNT($A$2:A932)","v":931},2793,0.34341571375876062,0.32017705643673922,0.26263371449649575,0.22427148653633347,0.1800073773515308,0.17226115824419033,0.14016967908520842,"Kesuvos ",{"$f":"VLOOKUP(Schedule!M932,#REF!,2,FALSE)","v":{"$error":"#REF!"}}]
["2022-07-24",1,"Kesuvos 18",{"$f":"COUNT($A$2:A933)","v":932},2796,0.34378458133530065,0.32054592401327925,0.26300258207303578,0.22464035411287347,0.18037624492807083,0.17263002582073037,0.14053854666174842,"Kesuvos ",{"$f":"VLOOKUP(Schedule!M933,#REF!,2,FALSE)","v":{"$error":"#REF!"}}]
["2022-07-25",2,"Kesuvos 19",{"$f":"COUNT($A$2:A934)","v":933},2799,0.34415344891184063,0.32091479158981928,0.26337144964957582,0.22500922168941351,0.18074511250461084,0.17299889339727037,0.14090741423828845,"Kesuvos ",{"$f":"VLOOKUP(Schedule!M934,#REF!,2,FALSE)","v":{"$error":"#REF!"}}]
["2022-07-26",3,"Kesuvos 20",{"$f":"COUNT($A$2:A935)","v":934},2802,0.34452231648838066,0.32128365916635926,0.26374031722611585,0.22537808926595351,0.18111398008115087,0.1733677609738104,0.14127628181482849,"Kesuvos ",{"$f":"VLOOKUP(Schedule!M935,#REF!,2,FALSE)","v":{"$error":"#REF!"}}]
["2022-07-27",4,"Kesuvos 21",{"$f":"COUNT($A$2:A936)","v":935},2805,0.3448911840649207,0.32165252674289929,0.26410918480265583,0.22574695684249355,0.18148284765769088,0.17373662855035044,0.14164514939136849,"Kesuvos ",{"$f":"VLOOKUP(Schedule!M936,#REF!,2,FALSE)","v":{"$error":"#REF!"}}]
["2022-07-28",5,"Kesuvos 22",{"$f":"COUNT($A$2:A937)","v":936},2808,0.34526005164146073,0.32202139431943932,0.26447805237919586,0.22611582441903358,0.18185171523423091,0.17410549612689044,0.14201401696790852,"Kesuvos ",{"$f":"VLOOKUP(Schedule!M937,#REF!,2,FALSE)","v":{"$error":"#REF!"}}]
["2022-07-29",6,"Kesuvos 23",{"$f":"COUNT($A$2:A938)","v":937},2811,0.34562891921800076,0.32239026189597936,0.26484691995573589,0.22648469199557358,0.18222058281077094,0.17447436370343047,{"$f":"(D938-551)/2711","v":0.14238288454444853},"Kesuvos ",{"$f":"VLOOKUP(Schedule!M938,#REF!,2,FALSE)","v":{"$error":"#REF!"}}]
["2022-07-30",7,"Kesuvos 24",{"$f":"COUNT($A$2:A939)","v":938},2814,0.34599778679454074,0.32275912947251939,0.26521578753227593,0.22685355957211362,0.18258945038731095,0.17484323127997048,0.14275175212098856,"Kesuvos ",{"$f":"VLOOKUP(Schedule!M939,#REF!,2,FALSE)","v":{"$error":"#REF!"}}]
["2022-07-31",1,"Kesuvos 25",{"$f":"COUNT($A$2:A940)","v":939},2817,0.34636665437108077,0.32312799704905937,0.26558465510881596,0.22722242714865362,0.18295831796385098,0.17521209885651051,0.14312061969752859,"Kesuvos ",{"$f":"VLOOKUP(Schedule!M940,#REF!,2,FALSE)","v":{"$error":"#REF!"}}]
["2022-08-01",2,"Kesuvos 26",{"$f":"COUNT($A$2:A941)","v":940},2820,0.34673552194762081,0.3234968646255994,0.26595352268535594,0.22759129472519365,0.18332718554039101,0.17558096643305054,0.1434894872740686,"Kesuvos ",{"$f":"VLOOKUP(Schedule!M941,#REF!,2,FALSE)","v":{"$error":"#REF!"}}]
["2022-08-02",3,"Kesuvos 27",{"$f":"COUNT($A$2:A942)","v":941},2823,0.34710438952416084,0.32386573220213943,0.26632239026189597,0.22796016230173369,0.18369605311693102,0.17594983400959055,0.14385835485060863,"Kesuvos ",{"$f":"VLOOKUP(Schedule!M942,#REF!,2,FALSE)","v":{"$error":"#REF!"}}]
["2022-08-03",4,"Kesuvos 28",{"$f":"COUNT($A$2:A943)","v":942},2826,0.34747325710070087,0.32423459977867947,0.266691257838436,0.22832902987827369,0.18406492069347105,0.17631870158613058,0.14422722242714867,"Kesuvos ",{"$f":"VLOOKUP(Schedule!M943,#REF!,2,FALSE)","v":{"$error":"#REF!"}}]
["2022-08-04",5,"Kesuvos 29",{"$f":"COUNT($A$2:A944)","v":943},2829,0.34784212467724085,0.3246034673552195,0.26706012541497604,0.22869789745481373,0.18443378827001106,0.17668756916267059,0.14459609000368867,"Kesuvos ",{"$f":"VLOOKUP(Schedule!M944,#REF!,2,FALSE)","v":{"$error":"#REF!"}}]
["2022-08-05",6,"Kesuvos 30",{"$f":"COUNT($A$2:A945)","v":944},2832,0.34821099225378088,0.32497233493175948,0.26742899299151607,0.22906676503135373,0.18480265584655109,0.17705643673921062,0.1449649575802287,"Kesuvos ",{"$f":"VLOOKUP(Schedule!M945,#REF!,2,FALSE)","v":{"$error":"#REF!"}}]
["2022-08-06",7,"Kesuvos 31",{"$f":"COUNT($A$2:A946)","v":945},2835,0.34857985983032092,0.32534120250829951,0.26779786056805605,0.22943563260789376,0.18517152342309112,0.17742530431575065,0.14533382515676871,"Kesuvos ",{"$f":"VLOOKUP(Schedule!M946,#REF!,2,FALSE)","v":{"$error":"#REF!"}}]
["2022-08-07",1,"Kesuvos 32",{"$f":"COUNT($A$2:A947)","v":946},2838,0.34894872740686095,0.32571007008483954,0.26816672814459608,0.2298045001844338,0.18554039099963113,0.17779417189229066,0.14570269273330874,"Kesuvos ",{"$f":"VLOOKUP(Schedule!M947,#REF!,2,FALSE)","v":{"$error":"#REF!"}}]
["2022-08-08",2,"Kesuvos 33",{"$f":"COUNT($A$2:A948)","v":947},2841,0.34931759498340098,0.32607893766137958,0.26853559572113611,0.2301733677609738,0.18590925857617116,0.17816303946883069,0.14607156030984877,"Kesuvos ",{"$f":"VLOOKUP(Schedule!M948,#REF!,2,FALSE)","v":{"$error":"#REF!"}}]
["2022-08-09",3,"Kesuvos 34",{"$f":"COUNT($A$2:A949)","v":948},2844,0.34968646255994096,0.32644780523791961,0.26890446329767614,0.23054223533751383,0.18627812615271117,0.17853190704537072,0.14644042788638878,"Kesuvos ",{"$f":"VLOOKUP(Schedule!M949,#REF!,2,FALSE)","v":{"$error":"#REF!"}}]
["2022-08-10",4,"Kesuvos 35",{"$f":"COUNT($A$2:A950)","v":949},2847,0.35005533013648099,0.32681667281445959,0.26927333087421618,0.23091110291405387,0.1866469937292512,0.17890077462191073,0.14680929546292881,"Kesuvos ",{"$f":"VLOOKUP(Schedule!M950,#REF!,2,FALSE)","v":{"$error":"#REF!"}}]
["2022-08-11",5,"Kesuvos 36",{"$f":"COUNT($A$2:A951)","v":950},2850,0.35042419771302102,0.32718554039099962,0.26964219845075615,0.23127997049059387,0.18701586130579123,0.17926964219845076,0.14717816303946882,"Kesuvos ",{"$f":"VLOOKUP(Schedule!M951,#REF!,2,FALSE)","v":{"$error":"#REF!"}}]
["2022-08-12",6,"Kesuvos 37",{"$f":"COUNT($A$2:A952)","v":951},2853,0.35079306528956106,0.32755440796753965,0.27001106602729619,0.23164883806713391,0.18738472888233124,0.17963850977499077,0.14754703061600885,"Kesuvos ",{"$f":"VLOOKUP(Schedule!M952,#REF!,2,FALSE)","v":{"$error":"#REF!"}}]
["2022-08-13",7,"Kesuvos 38",{"$f":"COUNT($A$2:A953)","v":952},2856,0.35116193286610109,0.32792327554407968,0.27037993360383622,0.23201770564367391,0.18775359645887127,0.1800073773515308,0.14791589819254888,"Kesuvos ",{"$f":"VLOOKUP(Schedule!M953,#REF!,2,FALSE)","v":{"$error":"#REF!"}}]
["2022-08-14",1,"Kesuvos 39",{"$f":"COUNT($A$2:A954)","v":953},2859,0.35153080044264107,0.32829214312061972,0.27074880118037625,0.23238657322021394,0.18812246403541127,0.18037624492807083,0.14828476576908889,"Kesuvos ",{"$f":"VLOOKUP(Schedule!M954,#REF!,2,FALSE)","v":{"$error":"#REF!"}}]
["2022-08-15",2,"Kesuvos 40",{"$f":"COUNT($A$2:A955)","v":954},2862,0.3518996680191811,0.32866101069715969,0.27111766875691629,0.23275544079675398,0.18849133161195131,0.18074511250461084,0.14865363334562892,"Kesuvos ",{"$f":"VLOOKUP(Schedule!M955,#REF!,2,FALSE)","v":{"$error":"#REF!"}}]
["2022-08-16",3,"Kesuvos 41",{"$f":"COUNT($A$2:A956)","v":955},2865,0.35226853559572113,0.32902987827369973,0.27148653633345626,0.23312430837329398,0.18886019918849134,0.18111398008115087,0.14902250092216895,"Kesuvos ",{"$f":"VLOOKUP(Schedule!M956,#REF!,2,FALSE)","v":{"$error":"#REF!"}}]
["2022-08-17",4,"Kesuvos 42",{"$f":"COUNT($A$2:A957)","v":956},2868,0.35263740317226117,0.32939874585023976,0.2718554039099963,0.23349317594983401,0.18922906676503135,0.18148284765769088,0.14939136849870896,"Kesuvos ",{"$f":"VLOOKUP(Schedule!M957,#REF!,2,FALSE)","v":{"$error":"#REF!"}}]
["2022-08-18",5,"Kesuvos 43",{"$f":"COUNT($A$2:A958)","v":957},2871,0.3530062707488012,0.32976761342677979,0.27222427148653633,0.23386204352637402,{"$f":"(D958-443)/2711","v":0.18959793434157138},0.18185171523423091,0.14976023607524899,"Kesuvos ",{"$f":"VLOOKUP(Schedule!M958,#REF!,2,FALSE)","v":{"$error":"#REF!"}}]
["2022-08-19",6,"Kesuvos 44",{"$f":"COUNT($A$2:A959)","v":958},2874,0.35337513832534118,0.33013648100331983,0.27259313906307636,0.23423091110291405,0.18996680191811141,0.18222058281077094,0.150129103651789,"Kesuvos ",{"$f":"VLOOKUP(Schedule!M959,#REF!,2,FALSE)","v":{"$error":"#REF!"}}]
["2022-08-20",7,"Kesuvos 45",{"$f":"COUNT($A$2:A960)","v":959},2877,0.35374400590188121,0.3305053485798598,0.27296200663961639,0.23459977867945409,0.19033566949465142,0.18258945038731095,0.15049797122832903,"Kesuvos ",{"$f":"VLOOKUP(Schedule!M960,#REF!,2,FALSE)","v":{"$error":"#REF!"}}]
["2022-08-21",1,"Kesuvos 46",{"$f":"COUNT($A$2:A961)","v":960},2880,0.35411287347842124,0.33087421615639984,0.27333087421615643,0.23496864625599409,0.19070453707119145,0.18295831796385098,0.15086683880486906,"Kesuvos ",{"$f":"VLOOKUP(Schedule!M961,#REF!,2,FALSE)","v":{"$error":"#REF!"}}]
["2022-08-22",2,"Kesuvos 47",{"$f":"COUNT($A$2:A962)","v":961},{"$f":"D962*3","v":2883},0.35448174105496127,{"$f":"(D962-63)/2711","v":0.33124308373293987},0.2736997417926964,0.23533751383253412,0.19107340464773145,0.18332718554039101,0.15123570638140907,"Kesuvos ",{"$f":"VLOOKUP(Schedule!M962,#REF!,2,FALSE)","v":{"$error":"#REF!"}}]
["2022-08-23",{"$f":"WEEKDAY(A963)","v":3},"Kesuvos 48",{"$f":"COUNT($A$2:A963)","v":962},2886,{"$f":"D963/2711","v":0.35485060863150131},0.3316119513094799,0.27406860936923644,0.23570638140907416,0.19144227222427149,0.18369605311693102,0.1516045739579491,{"$f":"LEFT(C963,FIND(\"☃\",SUBSTITUTE(C963,\" \",\"☃\",LEN(C963)-LEN(SUBSTITUTE(C963,\" \",\"\")))))","v":"Kesuvos "},{"$f":"VLOOKUP(Schedule!M963,#REF!,2,FALSE)","v":{"$error":"#REF!"}}]
["2022-08-24",4,"Kesuvos 49",{"$f":"COUNT($A$2:A964)","v":963},2889,0.35521947620804134,0.33198081888601993,0.27443747694577647,0.23607524898561416,0.19181113980081152,0.18406492069347105,0.15197344153448911,"Kesuvos ",{"$f":"VLOOKUP(Schedule!M964,#REF!,2,FALSE)","v":{"$error":"#REF!"}}]
["2022-08-25",5,"Kesuvos 50",{"$f":"COUNT($A$2:A965)","v":964},2892,0.35558834378458132,0.33234968646255997,0.2748063445223165,0.23644411656215419,0.19218000737735152,0.18443378827001106,0.15234230911102914,"Kesuvos ",{"$f":"VLOOKUP(Schedule!M965,#REF!,2,FALSE)","v":{"$error":"#REF!"}}]
["2022-08-26",6,"Kesuvos 51",{"$f":"COUNT($A$2:A966)","v":965},2895,0.35595721136112135,0.33271855403909995,0.27517521209885654,{"$f":"(D966-323)/2711","v":0.2368129841386942},0.19254887495389156,0.18480265584655109,0.15271117668756917,"Kesuvos ",{"$f":"VLOOKUP(Schedule!M966,#REF!,2,FALSE)","v":{"$error":"#REF!"}}]
["2022-08-27",7,"Kesuvos 52",{"$f":"COUNT($A$2:A967)","v":966},2898,0.35632607893766138,0.33308742161563998,0.27554407967539651,0.23718185171523423,0.19291774253043156,0.18517152342309112,0.15308004426410918,"Kesuvos ",{"$f":"VLOOKUP(Schedule!M967,#REF!,2,FALSE)","v":{"$error":"#REF!"}}]
["2022-08-28",1,"Kesuvos 53",{"$f":"COUNT($A$2:A968)","v":967},2901,0.35669494651420142,0.33345628919218001,0.27591294725193655,0.23755071929177426,0.1932866101069716,0.18554039099963113,0.15344891184064921,"Kesuvos ",{"$f":"VLOOKUP(Schedule!M968,#REF!,2,FALSE)","v":{"$error":"#REF!"}}]
["2022-08-29",2,"Kesuvos 54",{"$f":"COUNT($A$2:A969)","v":968},2904,0.35706381409074145,0.33382515676872004,0.27628181482847658,0.23791958686831427,0.19365547768351163,0.18590925857617116,0.15381777941718922,"Kesuvos ",{"$f":"VLOOKUP(Schedule!M969,#REF!,2,FALSE)","v":{"$error":"#REF!"}}]
["2022-08-30",3,"Kesuvos 55",{"$f":"COUNT($A$2:A970)","v":969},2907,0.35743268166728143,0.33419402434526008,0.27665068240501661,0.2382884544448543,0.19402434526005163,0.18627812615271117,0.15418664699372925,"Kesuvos ",{"$f":"VLOOKUP(Schedule!M970,#REF!,2,FALSE)","v":{"$error":"#REF!"}}]
["2022-08-31",4,"Kesuvos 56",{"$f":"COUNT($A$2:A971)","v":970},2910,0.35780154924382146,0.33456289192180005,0.27701954998155665,0.23865732202139431,0.19439321283659167,0.1866469937292512,0.15455551457026928,"Kesuvos ",{"$f":"VLOOKUP(Schedule!M971,#REF!,2,FALSE)","v":{"$error":"#REF!"}}]
["2022-09-01",5,"Kesuvos 57",{"$f":"COUNT($A$2:A972)","v":971},2913,0.35817041682036149,0.33493175949834009,0.27738841755809662,0.23902618959793434,0.1947620804131317,0.18701586130579123,0.15492438214680929,"Kesuvos ",{"$f":"VLOOKUP(Schedule!M972,#REF!,2,FALSE)","v":{"$error":"#REF!"}}]
["2022-09-02",6,"Kesuvos 58",{"$f":"COUNT($A$2:A973)","v":972},2916,0.35853928439690153,0.33530062707488012,0.27775728513463666,0.23939505717447437,0.1951309479896717,0.18738472888233124,0.15529324972334932,"Kesuvos ",{"$f":"VLOOKUP(Schedule!M973,#REF!,2,FALSE)","v":{"$error":"#REF!"}}]
["2022-09-03",7,"Kesuvos 59",{"$f":"COUNT($A$2:A974)","v":973},2919,0.35890815197344156,0.33566949465142015,0.27812615271117669,0.23976392475101438,0.19549981556621174,0.18775359645887127,0.15566211729988935,"Kesuvos ",{"$f":"VLOOKUP(Schedule!M974,#REF!,2,FALSE)","v":{"$error":"#REF!"}}]
["2022-09-04",1,"Kesuvos 60",{"$f":"COUNT($A$2:A975)","v":974},2922,0.35927701954998154,0.33603836222796019,0.27849502028771672,0.24013279232755441,0.19586868314275174,0.18812246403541127,0.15603098487642936,"Kesuvos ",{"$f":"VLOOKUP(Schedule!M975,#REF!,2,FALSE)","v":{"$error":"#REF!"}}]
["2022-09-05",2,"Kesuvos 61",{"$f":"COUNT($A$2:A976)","v":975},2925,0.35964588712652157,0.33640722980450016,0.27886388786425675,0.24050165990409442,0.19623755071929178,0.18849133161195131,0.15639985245296939,"Kesuvos ",{"$f":"VLOOKUP(Schedule!M976,#REF!,2,FALSE)","v":{"$error":"#REF!"}}]
["2022-09-06",3,"Kesuvos 62",{"$f":"COUNT($A$2:A977)","v":976},2928,0.3600147547030616,0.3367760973810402,0.27923275544079673,0.24087052748063445,0.19660641829583181,0.18886019918849134,0.1567687200295094,"Kesuvos ",{"$f":"VLOOKUP(Schedule!M977,#REF!,2,FALSE)","v":{"$error":"#REF!"}}]
["2022-09-07",4,"Kesuvos 63",{"$f":"COUNT($A$2:A978)","v":977},2931,0.36038362227960163,0.33714496495758023,0.27960162301733676,0.24123939505717448,0.19697528587237181,{"$f":"(D978-464)/2711","v":0.18922906676503135},0.15713758760604943,"Kesuvos ",{"$f":"VLOOKUP(Schedule!M978,#REF!,2,FALSE)","v":{"$error":"#REF!"}}]
["2022-09-08",5,"Kesuvos 64",{"$f":"COUNT($A$2:A979)","v":978},2934,0.36075248985614167,0.33751383253412026,0.2799704905938768,0.24160826263371449,0.19734415344891185,0.18959793434157138,0.15750645518258946,"Kesuvos ",{"$f":"VLOOKUP(Schedule!M979,#REF!,2,FALSE)","v":{"$error":"#REF!"}}]
["2022-09-09",6,"Kesuvos 65",{"$f":"COUNT($A$2:A980)","v":979},2937,0.36112135743268164,0.33788270011066029,0.28033935817041683,0.24197713021025452,0.19771302102545185,0.18996680191811141,0.15787532275912947,"Kesuvos ",{"$f":"VLOOKUP(Schedule!M980,#REF!,2,FALSE)","v":{"$error":"#REF!"}}]
["2022-09-10",7,"Kesuvos 66",{"$f":"COUNT($A$2:A981)","v":980},2940,0.36149022500922168,0.33825156768720027,0.28070822574695686,0.24234599778679455,0.19808188860199188,0.19033566949465142,0.1582441903356695,"Kesuvos ",{"$f":"VLOOKUP(Schedule!M981,#REF!,2,FALSE)","v":{"$error":"#REF!"}}]
["2022-09-11",1,"Kesuvos 67",{"$f":"COUNT($A$2:A982)","v":981},2943,0.36185909258576171,0.3386204352637403,0.28107709332349684,0.24271486536333456,0.19845075617853192,0.19070453707119145,0.1586130579122095,"Kesuvos ",{"$f":"VLOOKUP(Schedule!M982,#REF!,2,FALSE)","v":{"$error":"#REF!"}}]
["2022-09-12",2,"Kesuvos 68",{"$f":"COUNT($A$2:A983)","v":982},2946,0.36222796016230174,0.33898930284028034,0.28144596090003687,0.24308373293987459,0.19881962375507192,0.19107340464773145,0.15898192548874954,"Kesuvos ",{"$f":"VLOOKUP(Schedule!M983,#REF!,2,FALSE)","v":{"$error":"#REF!"}}]
["2022-09-13",3,"Kesuvos 69",{"$f":"COUNT($A$2:A984)","v":983},2949,0.36259682773884178,0.33935817041682037,0.28181482847657691,0.2434526005164146,0.19918849133161196,0.19144227222427149,0.15935079306528957,"Kesuvos ",{"$f":"VLOOKUP(Schedule!M984,#REF!,2,FALSE)","v":{"$error":"#REF!"}}]
["2022-09-14",4,"Kesuvos 70",{"$f":"COUNT($A$2:A985)","v":984},2952,0.36296569531538175,0.3397270379933604,0.28218369605311694,0.24382146809295463,0.19955735890815196,0.19181113980081152,0.15971966064182958,"Kesuvos ",{"$f":"VLOOKUP(Schedule!M985,#REF!,2,FALSE)","v":{"$error":"#REF!"}}]
["2022-09-15",5,"Kesuvos 71",{"$f":"COUNT($A$2:A986)","v":985},2955,0.36333456289192179,0.34009590556990038,0.28255256362965697,0.24419033566949466,0.19992622648469199,0.19218000737735152,0.16008852821836961,"Kesuvos ",{"$f":"VLOOKUP(Schedule!M986,#REF!,2,FALSE)","v":{"$error":"#REF!"}}]
["2022-09-16",6,"Kesuvos 72",{"$f":"COUNT($A$2:A987)","v":986},2958,0.36370343046846182,0.34046477314644041,0.28292143120619695,0.24455920324603467,0.20029509406123203,0.19254887495389156,0.16045739579490964,"Kesuvos ",{"$f":"VLOOKUP(Schedule!M987,#REF!,2,FALSE)","v":{"$error":"#REF!"}}]
["2022-09-17",7,"Kesuvos 73",{"$f":"COUNT($A$2:A988)","v":987},2961,0.36407229804500185,0.34083364072298045,0.28329029878273698,0.2449280708225747,0.20066396163777203,0.19291774253043156,0.16082626337144965,"Kesuvos ",{"$f":"VLOOKUP(Schedule!M988,#REF!,2,FALSE)","v":{"$error":"#REF!"}}]
["2022-09-18",1,"Kesuvos 74",{"$f":"COUNT($A$2:A989)","v":988},2964,0.36444116562154188,0.34120250829952048,0.28365916635927702,0.24529693839911471,0.20103282921431206,0.1932866101069716,0.16119513094798968,"Kesuvos ",{"$f":"VLOOKUP(Schedule!M989,#REF!,2,FALSE)","v":{"$error":"#REF!"}}]
["2022-09-19",2,"Kesuvos 75",{"$f":"COUNT($A$2:A990)","v":989},2967,0.36481003319808186,0.34157137587606051,{"$f":"(D990-219)/2711","v":0.28402803393581705},0.24566580597565474,0.2014016967908521,0.19365547768351163,0.16156399852452968,"Kesuvos ",{"$f":"VLOOKUP(Schedule!M990,#REF!,2,FALSE)","v":{"$error":"#REF!"}}]
["2022-09-20",3,"Kesuvos 76",{"$f":"COUNT($A$2:A991)","v":990},2970,0.3651789007746219,0.34194024345260049,0.28439690151235708,0.24603467355219477,0.2017705643673921,0.19402434526005163,0.16193286610106972,"Kesuvos ",{"$f":"VLOOKUP(Schedule!M991,#REF!,2,FALSE)","v":{"$error":"#REF!"}}]
["2022-09-21",4,"Kesuvos 77",{"$f":"COUNT($A$2:A992)","v":991},2973,0.36554776835116193,0.34230911102914052,0.28476576908889706,0.24640354112873478,0.20213943194393214,0.19439321283659167,0.16230173367760975,"Kesuvos ",{"$f":"VLOOKUP(Schedule!M992,#REF!,2,FALSE)","v":{"$error":"#REF!"}}]
["2022-09-22",5,"Kesuvos 78",{"$f":"COUNT($A$2:A993)","v":992},2976,0.36591663592770196,0.34267797860568056,0.28513463666543709,0.24677240870527481,0.20250829952047214,0.1947620804131317,0.16267060125414975,"Kesuvos ",{"$f":"VLOOKUP(Schedule!M993,#REF!,2,FALSE)","v":{"$error":"#REF!"}}]
["2022-09-23",6,"Kesuvos 79",{"$f":"COUNT($A$2:A994)","v":993},2979,0.36628550350424199,0.34304684618222059,0.28550350424197712,0.24714127628181484,0.20287716709701217,0.1951309479896717,0.16303946883068979,"Kesuvos ",{"$f":"VLOOKUP(Schedule!M994,#REF!,2,FALSE)","v":{"$error":"#REF!"}}]
["2022-09-24",7,"Kesuvos 80",{"$f":"COUNT($A$2:A995)","v":994},2982,0.36665437108078203,0.34341571375876062,0.28587237181851716,0.24751014385835485,0.20324603467355221,0.19549981556621174,0.16340833640722979,"Kesuvos ",{"$f":"VLOOKUP(Schedule!M995,#REF!,2,FALSE)","v":{"$error":"#REF!"}}]
["2022-09-25",1,"Kesuvos 81",{"$f":"COUNT($A$2:A996)","v":995},2985,0.367023238657322,0.34378458133530065,0.28624123939505719,0.24787901143489488,0.20361490225009221,0.19586868314275174,0.16377720398376983,"Kesuvos ",{"$f":"VLOOKUP(Schedule!M996,#REF!,2,FALSE)","v":{"$error":"#REF!"}}]
["2022-09-26",2,"Kesuvos 82",{"$f":"COUNT($A$2:A997)","v":996},2988,0.36739210623386204,0.34415344891184063,0.28661010697159722,0.24824787901143489,0.20398376982663224,0.19623755071929178,0.16414607156030986,"Kesuvos ",{"$f":"VLOOKUP(Schedule!M997,#REF!,2,FALSE)","v":{"$error":"#REF!"}}]
["2022-09-27",3,"Kesuvos 83",{"$f":"COUNT($A$2:A998)","v":997},2991,0.36776097381040207,0.34452231648838066,0.2869789745481372,0.24861674658797492,0.20435263740317225,0.19660641829583181,0.16451493913684986,"Kesuvos ",{"$f":"VLOOKUP(Schedule!M998,#REF!,2,FALSE)","v":{"$error":"#REF!"}}]
["2022-09-28",4,"Kesuvos 84",{"$f":"COUNT($A$2:A999)","v":998},2994,0.3681298413869421,0.3448911840649207,0.28734784212467723,0.24898561416451495,0.20472150497971228,0.19697528587237181,0.1648838067133899,"Kesuvos ",{"$f":"VLOOKUP(Schedule!M999,#REF!,2,FALSE)","v":{"$error":"#REF!"}}]
["2022-09-29",5,"Kesuvos 85",{"$f":"COUNT($A$2:A1000)","v":999},2997,0.36849870896348214,0.34526005164146073,0.28771670970121727,0.24935448174105496,0.20509037255625231,0.19734415344891185,0.1652526742899299,"Kesuvos ",{"$f":"VLOOKUP(Schedule!M1000,#REF!,2,FALSE)","v":{"$error":"#REF!"}}]
["2022-09-30",6,"Kesuvos 86",{"$f":"COUNT($A$2:A1001)","v":1000},3000,0.36886757654002211,0.34562891921800076,0.2880855772777573,0.24972334931759499,0.20545924013279232,0.19771302102545185,0.16562154186646993,"Kesuvos ",{"$f":"VLOOKUP(Schedule!M1001,#REF!,2,FALSE)","v":{"$error":"#REF!"}}]
["2022-10-01",7,"Kesuvos 87",{"$f":"COUNT($A$2:A1002)","v":1001},3003,0.36923644411656215,0.34599778679454074,0.28845444485429733,0.25009221689413502,0.20582810770933235,0.19808188860199188,{"$f":"(D1002-551)/2711","v":0.16599040944300997},"Kesuvos ",{"$f":"VLOOKUP(Schedule!M1002,#REF!,2,FALSE)","v":{"$error":"#REF!"}}]
["2022-10-02",1,"Kesuvos 88",{"$f":"COUNT($A$2:A1003)","v":1002},3006,0.36960531169310218,0.34636665437108077,0.28882331243083731,0.25046108447067505,0.20619697528587236,0.19845075617853192,0.16635927701954997,"Kesuvos ",{"$f":"VLOOKUP(Schedule!M1003,#REF!,2,FALSE)","v":{"$error":"#REF!"}}]
["2022-10-03",2,"Kesuvos 89",{"$f":"COUNT($A$2:A1004)","v":1003},3009,0.36997417926964221,0.34673552194762081,0.28919218000737734,0.25082995204721503,0.20656584286241239,0.19881962375507192,0.16672814459609001,"Kesuvos ",{"$f":"VLOOKUP(Schedule!M1004,#REF!,2,FALSE)","v":{"$error":"#REF!"}}]
["2022-10-04",3,"Kesuvos 90",{"$f":"COUNT($A$2:A1005)","v":1004},3012,0.37034304684618224,0.34710438952416084,0.28956104758391737,0.25119881962375507,0.20693471043895242,0.19918849133161196,0.16709701217263004,"Kesuvos ",{"$f":"VLOOKUP(Schedule!M1005,#REF!,2,FALSE)","v":{"$error":"#REF!"}}]
["2022-10-05",4,"Kesuvos 91",{"$f":"COUNT($A$2:A1006)","v":1005},3015,0.37071191442272222,0.34747325710070087,0.28992991516045741,0.2515676872002951,0.20730357801549243,0.19955735890815196,0.16746587974917004,"Kesuvos ",{"$f":"VLOOKUP(Schedule!M1006,#REF!,2,FALSE)","v":{"$error":"#REF!"}}]
["2022-10-06",5,"Kesuvos 92",{"$f":"COUNT($A$2:A1007)","v":1006},3018,0.37108078199926225,0.34784212467724085,0.29029878273699744,0.25193655477683513,0.20767244559203246,0.19992622648469199,0.16783474732571008,"Kesuvos ",{"$f":"VLOOKUP(Schedule!M1007,#REF!,2,FALSE)","v":{"$error":"#REF!"}}]
["2022-10-07",6,"Kesuvos 93",{"$f":"COUNT($A$2:A1008)","v":1007},3021,0.37144964957580229,0.34821099225378088,0.29066765031353742,0.25230542235337516,0.20804131316857249,0.20029509406123203,0.16820361490225008,"Kesuvos ",{"$f":"VLOOKUP(Schedule!M1008,#REF!,2,FALSE)","v":{"$error":"#REF!"}}]
["2022-10-08",7,"Kesuvos 94",{"$f":"COUNT($A$2:A1009)","v":1008},3024,0.37181851715234232,0.34857985983032092,0.29103651789007745,0.25267428992991514,0.2084101807451125,0.20066396163777203,0.16857248247879011,"Kesuvos ",{"$f":"VLOOKUP(Schedule!M1009,#REF!,2,FALSE)","v":{"$error":"#REF!"}}]
["2022-10-09",1,"Kesuvos 95",{"$f":"COUNT($A$2:A1010)","v":1009},3027,0.37218738472888235,0.34894872740686095,0.29140538546661748,0.25304315750645517,0.20877904832165253,0.20103282921431206,0.16894135005533015,"Kesuvos ",{"$f":"VLOOKUP(Schedule!M1010,#REF!,2,FALSE)","v":{"$error":"#REF!"}}]
["2022-10-10",2,"Kesuvos 96",{"$f":"COUNT($A$2:A1011)","v":1010},3030,0.37255625230542233,0.34931759498340098,0.29177425304315752,0.25341202508299521,0.20914791589819254,0.2014016967908521,0.16931021763187015,"Kesuvos ",{"$f":"VLOOKUP(Schedule!M1011,#REF!,2,FALSE)","v":{"$error":"#REF!"}}]
["2022-10-11",3,"Kesuvos 97",{"$f":"COUNT($A$2:A1012)","v":1011},3033,0.37292511988196236,0.34968646255994096,0.29214312061969755,0.25378089265953524,0.20951678347473257,0.2017705643673921,0.16967908520841019,"Kesuvos ",{"$f":"VLOOKUP(Schedule!M1012,#REF!,2,FALSE)","v":{"$error":"#REF!"}}]
["2022-10-12",4,"Kesuvos 98",{"$f":"COUNT($A$2:A1013)","v":1012},3036,0.3732939874585024,0.35005533013648099,0.29251198819623753,0.25414976023607527,0.2098856510512726,0.20213943194393214,0.17004795278495019,"Kesuvos ",{"$f":"VLOOKUP(Schedule!M1013,#REF!,2,FALSE)","v":{"$error":"#REF!"}}]
["2022-10-13",5,"Kesuvos 99",{"$f":"COUNT($A$2:A1014)","v":1013},3039,0.37366285503504243,0.35042419771302102,0.29288085577277756,0.25451862781261525,0.21025451862781261,0.20250829952047214,0.17041682036149022,"Kesuvos ",{"$f":"VLOOKUP(Schedule!M1014,#REF!,2,FALSE)","v":{"$error":"#REF!"}}]
["2022-10-14",6,"Kesuvos 100",{"$f":"COUNT($A$2:A1015)","v":1014},3042,0.37403172261158246,0.35079306528956106,0.29324972334931759,0.25488749538915528,0.21062338620435264,0.20287716709701217,0.17078568793803026,"Kesuvos ",{"$f":"VLOOKUP(Schedule!M1015,#REF!,2,FALSE)","v":{"$error":"#REF!"}}]
["2022-10-15",7,"Kesuvos 101",{"$f":"COUNT($A$2:A1016)","v":1015},3045,0.37440059018812244,0.35116193286610109,0.29361859092585763,0.25525636296569532,0.21099225378089265,0.20324603467355221,0.17115455551457026,"Kesuvos ",{"$f":"VLOOKUP(Schedule!M1016,#REF!,2,FALSE)","v":{"$error":"#REF!"}}]
["2022-10-16",1,"Kesuvos 102",{"$f":"COUNT($A$2:A1017)","v":1016},3048,0.37476945776466247,0.35153080044264107,0.29398745850239766,0.25562523054223535,0.21136112135743268,0.20361490225009221,0.17152342309111029,"Kesuvos ",{"$f":"VLOOKUP(Schedule!M1017,#REF!,2,FALSE)","v":{"$error":"#REF!"}}]
["2022-10-17",2,"Kesuvos 103",{"$f":"COUNT($A$2:A1018)","v":1017},3051,0.37513832534120251,0.3518996680191811,0.29435632607893764,0.25599409811877538,0.21172998893397271,0.20398376982663224,0.17189229066765033,"Kesuvos ",{"$f":"VLOOKUP(Schedule!M1018,#REF!,2,FALSE)","v":{"$error":"#REF!"}}]
["2022-10-18",3,"Kesuvos 104",{"$f":"COUNT($A$2:A1019)","v":1018},3054,0.37550719291774254,0.35226853559572113,0.29472519365547767,0.25636296569531536,0.21209885651051272,0.20435263740317225,0.17226115824419033,"Kesuvos ",{"$f":"VLOOKUP(Schedule!M1019,#REF!,2,FALSE)","v":{"$error":"#REF!"}}]
["2022-10-19",4,"Kesuvos 105",{"$f":"COUNT($A$2:A1020)","v":1019},3057,0.37587606049428257,0.35263740317226117,0.2950940612320177,0.25673183327185539,0.21246772408705275,0.20472150497971228,0.17263002582073037,"Kesuvos ",{"$f":"VLOOKUP(Schedule!M1020,#REF!,2,FALSE)","v":{"$error":"#REF!"}}]
["2022-10-20",5,"Kesuvos 106",{"$f":"COUNT($A$2:A1021)","v":1020},3060,0.37624492807082255,0.3530062707488012,0.29546292880855773,0.25710070084839542,0.21283659166359278,0.20509037255625231,0.17299889339727037,"Kesuvos ",{"$f":"VLOOKUP(Schedule!M1021,#REF!,2,FALSE)","v":{"$error":"#REF!"}}]
["2022-10-21",6,"Kesuvos 107",{"$f":"COUNT($A$2:A1022)","v":1021},3063,0.37661379564736258,0.35337513832534118,0.29583179638509777,0.25746956842493546,{"$f":"(D1022-443)/2711","v":0.21320545924013279},0.20545924013279232,0.1733677609738104,"Kesuvos ",{"$f":"VLOOKUP(Schedule!M1022,#REF!,2,FALSE)","v":{"$error":"#REF!"}}]
["2022-10-22",7,"Kesuvos 108",{"$f":"COUNT($A$2:A1023)","v":1022},3066,0.37698266322390261,0.35374400590188121,0.29620066396163774,0.25783843600147549,0.21357432681667282,0.20582810770933235,0.17373662855035044,"Kesuvos ",{"$f":"VLOOKUP(Schedule!M1023,#REF!,2,FALSE)","v":{"$error":"#REF!"}}]
["2022-10-23",1,"Kesuvos 109",{"$f":"COUNT($A$2:A1024)","v":1023},3069,0.37735153080044265,0.35411287347842124,0.29656953153817778,0.25820730357801547,0.21394319439321283,0.20619697528587236,0.17410549612689044,"Kesuvos ",{"$f":"VLOOKUP(Schedule!M1024,#REF!,2,FALSE)","v":{"$error":"#REF!"}}]
["2022-10-24",2,"Kesuvos 110",{"$f":"COUNT($A$2:A1025)","v":1024},3072,0.37772039837698268,0.35448174105496127,0.29693839911471781,0.2585761711545555,0.21431206196975286,0.20656584286241239,0.17447436370343047,"Kesuvos ",{"$f":"VLOOKUP(Schedule!M1025,#REF!,2,FALSE)","v":{"$error":"#REF!"}}]
["2022-10-25",3,"Kesuvos 111",{"$f":"COUNT($A$2:A1026)","v":1025},{"$f":"D1026*3","v":3075},0.37808926595352271,{"$f":"(D1026-63)/2711","v":0.35485060863150131},0.29730726669125784,0.25894503873109553,0.21468092954629289,0.20693471043895242,0.17484323127997048,"Kesuvos ",{"$f":"VLOOKUP(Schedule!M1026,#REF!,2,FALSE)","v":{"$error":"#REF!"}}]
["2022-10-26",{"$f":"WEEKDAY(A1027)","v":4},"Kesuvos 112",{"$f":"COUNT($A$2:A1027)","v":1026},3078,{"$f":"D1027/2711","v":0.37845813353006269},0.35521947620804134,0.29767613426779788,0.25931390630763557,0.2150497971228329,0.20730357801549243,0.17521209885651051,{"$f":"LEFT(C1027,FIND(\"☃\",SUBSTITUTE(C1027,\" \",\"☃\",LEN(C1027)-LEN(SUBSTITUTE(C1027,\" \",\"\")))))","v":"Kesuvos "},{"$f":"VLOOKUP(Schedule!M1027,#REF!,2,FALSE)","v":{"$error":"#REF!"}}]
["2022-10-27",5,"Nedarim 2",{"$f":"COUNT($A$2:A1028)","v":1027},3081,0.37882700110660272,0.35558834378458132,0.29804500184433791,0.2596827738841756,0.21541866469937293,0.20767244559203246,0.17558096643305054,"Nedarim ",{"$f":"VLOOKUP(Schedule!M1028,#REF!,2,FALSE)","v":{"$error":"#REF!"}}]
["2022-10-28",6,"Nedarim 3",{"$f":"COUNT($A$2:A1029)","v":1028},3084,0.37919586868314276,0.35595721136112135,0.29841386942087789,0.26005164146071558,0.21578753227591294,0.20804131316857249,0.17594983400959055,"Nedarim ",{"$f":"VLOOKUP(Schedule!M1029,#REF!,2,FALSE)","v":{"$error":"#REF!"}}]
["2022-10-29",7,"Nedarim 4",{"$f":"COUNT($A$2:A1030)","v":1029},3087,0.37956473625968279,0.35632607893766138,0.29878273699741792,{"$f":"(D1030-323)/2711","v":0.26042050903725561},0.21615639985245297,0.2084101807451125,0.17631870158613058,"Nedarim ",{"$f":"VLOOKUP(Schedule!M1030,#REF!,2,FALSE)","v":{"$error":"#REF!"}}]
["2022-10-30",1,"Nedarim 5",{"$f":"COUNT($A$2:A1031)","v":1030},3090,0.37993360383622282,0.35669494651420142,0.29915160457395795,0.26078937661379564,0.216525267428993,0.20877904832165253,0.17668756916267059,"Nedarim ",{"$f":"VLOOKUP(Schedule!M1031,#REF!,2,FALSE)","v":{"$error":"#REF!"}}]
["2022-10-31",2,"Nedarim 6",{"$f":"COUNT($A$2:A1032)","v":1031},3093,0.3803024714127628,0.35706381409074145,0.29952047215049799,0.26115824419033568,0.21689413500553301,0.20914791589819254,0.17705643673921062,"Nedarim ",{"$f":"VLOOKUP(Schedule!M1032,#REF!,2,FALSE)","v":{"$error":"#REF!"}}]
["2022-11-01",3,"Nedarim 7",{"$f":"COUNT($A$2:A1033)","v":1032},3096,0.38067133898930283,0.35743268166728143,0.29988933972703802,0.26152711176687571,0.21726300258207304,0.20951678347473257,0.17742530431575065,"Nedarim ",{"$f":"VLOOKUP(Schedule!M1033,#REF!,2,FALSE)","v":{"$error":"#REF!"}}]
["2022-11-02",4,"Nedarim 8",{"$f":"COUNT($A$2:A1034)","v":1033},3099,0.38104020656584286,0.35780154924382146,0.300258207303578,0.26189597934341574,0.21763187015861304,0.2098856510512726,0.17779417189229066,"Nedarim ",{"$f":"VLOOKUP(Schedule!M1034,#REF!,2,FALSE)","v":{"$error":"#REF!"}}]
["2022-11-03",5,"Nedarim 9",{"$f":"COUNT($A$2:A1035)","v":1034},3102,0.3814090741423829,0.35817041682036149,0.30062707488011803,0.26226484691995572,0.21800073773515308,0.21025451862781261,0.17816303946883069,"Nedarim ",{"$f":"VLOOKUP(Schedule!M1035,#REF!,2,FALSE)","v":{"$error":"#REF!"}}]
["2022-11-04",6,"Nedarim 10",{"$f":"COUNT($A$2:A1036)","v":1035},3105,0.38177794171892293,0.35853928439690153,0.30099594245665806,0.26263371449649575,0.21836960531169311,0.21062338620435264,0.17853190704537072,"Nedarim ",{"$f":"VLOOKUP(Schedule!M1036,#REF!,2,FALSE)","v":{"$error":"#REF!"}}]
["2022-11-05",7,"Nedarim 11",{"$f":"COUNT($A$2:A1037)","v":1036},3108,0.38214680929546291,0.35890815197344156,0.30136481003319809,0.26300258207303578,0.21873847288823312,0.21099225378089265,0.17890077462191073,"Nedarim ",{"$f":"VLOOKUP(Schedule!M1037,#REF!,2,FALSE)","v":{"$error":"#REF!"}}]
["2022-11-06",1,"Nedarim 12",{"$f":"COUNT($A$2:A1038)","v":1037},3111,0.38251567687200294,0.35927701954998154,0.30173367760973813,0.26337144964957582,0.21910734046477315,0.21136112135743268,0.17926964219845076,"Nedarim ",{"$f":"VLOOKUP(Schedule!M1038,#REF!,2,FALSE)","v":{"$error":"#REF!"}}]
["2022-11-07",2,"Nedarim 13",{"$f":"COUNT($A$2:A1039)","v":1038},3114,0.38288454444854297,0.35964588712652157,0.3021025451862781,0.26374031722611585,0.21947620804131318,0.21172998893397271,0.17963850977499077,"Nedarim ",{"$f":"VLOOKUP(Schedule!M1039,#REF!,2,FALSE)","v":{"$error":"#REF!"}}]
["2022-11-08",3,"Nedarim 14",{"$f":"COUNT($A$2:A1040)","v":1039},3117,0.38325341202508301,0.3600147547030616,0.30247141276281814,0.26410918480265583,0.21984507561785319,0.21209885651051272,0.1800073773515308,"Nedarim ",{"$f":"VLOOKUP(Schedule!M1040,#REF!,2,FALSE)","v":{"$error":"#REF!"}}]
["2022-11-09",4,"Nedarim 15",{"$f":"COUNT($A$2:A1041)","v":1040},3120,0.38362227960162304,0.36038362227960163,0.30284028033935817,0.26447805237919586,0.22021394319439322,0.21246772408705275,0.18037624492807083,"Nedarim ",{"$f":"VLOOKUP(Schedule!M1041,#REF!,2,FALSE)","v":{"$error":"#REF!"}}]
["2022-11-10",5,"Nedarim 16",{"$f":"COUNT($A$2:A1042)","v":1041},3123,0.38399114717816302,0.36075248985614167,0.3032091479158982,0.26484691995573589,0.22058281077093322,{"$f":"(D1042-464)/2711","v":0.21283659166359278},0.18074511250461084,"Nedarim ",{"$f":"VLOOKUP(Schedule!M1042,#REF!,2,FALSE)","v":{"$error":"#REF!"}}]
["2022-11-11",6,"Nedarim 17",{"$f":"COUNT($A$2:A1043)","v":1042},3126,0.38436001475470305,0.36112135743268164,0.30357801549243824,0.26521578753227593,0.22095167834747326,0.21320545924013279,0.18111398008115087,"Nedarim ",{"$f":"VLOOKUP(Schedule!M1043,#REF!,2,FALSE)","v":{"$error":"#REF!"}}]
["2022-11-12",7,"Nedarim 18",{"$f":"COUNT($A$2:A1044)","v":1043},3129,0.38472888233124308,0.36149022500922168,0.30394688306897821,0.26558465510881596,0.22132054592401329,0.21357432681667282,0.18148284765769088,"Nedarim ",{"$f":"VLOOKUP(Schedule!M1044,#REF!,2,FALSE)","v":{"$error":"#REF!"}}]
["2022-11-13",1,"Nedarim 19",{"$f":"COUNT($A$2:A1045)","v":1044},3132,0.38509774990778312,0.36185909258576171,0.30431575064551825,0.26595352268535594,0.2216894135005533,0.21394319439321283,0.18185171523423091,"Nedarim ",{"$f":"VLOOKUP(Schedule!M1045,#REF!,2,FALSE)","v":{"$error":"#REF!"}}]
["2022-11-14",2,"Nedarim 20",{"$f":"COUNT($A$2:A1046)","v":1045},3135,0.38546661748432315,0.36222796016230174,0.30468461822205828,0.26632239026189597,0.22205828107709333,0.21431206196975286,0.18222058281077094,"Nedarim ",{"$f":"VLOOKUP(Schedule!M1046,#REF!,2,FALSE)","v":{"$error":"#REF!"}}]
["2022-11-15",3,"Nedarim 21",{"$f":"COUNT($A$2:A1047)","v":1046},3138,0.38583548506086313,0.36259682773884178,0.30505348579859831,0.266691257838436,0.22242714865363333,0.21468092954629289,0.18258945038731095,"Nedarim ",{"$f":"VLOOKUP(Schedule!M1047,#REF!,2,FALSE)","v":{"$error":"#REF!"}}]
["2022-11-16",4,"Nedarim 22",{"$f":"COUNT($A$2:A1048)","v":1047},3141,0.38620435263740316,0.36296569531538175,0.30542235337513834,0.26706012541497604,0.22279601623017337,0.2150497971228329,0.18295831796385098,"Nedarim ",{"$f":"VLOOKUP(Schedule!M1048,#REF!,2,FALSE)","v":{"$error":"#REF!"}}]
["2022-11-17",5,"Nedarim 23",{"$f":"COUNT($A$2:A1049)","v":1048},3144,0.38657322021394319,0.36333456289192179,0.30579122095167832,0.26742899299151607,0.2231648838067134,0.21541866469937293,0.18332718554039101,"Nedarim ",{"$f":"VLOOKUP(Schedule!M1049,#REF!,2,FALSE)","v":{"$error":"#REF!"}}]
["2022-11-18",6,"Nedarim 24",{"$f":"COUNT($A$2:A1050)","v":1049},3147,0.38694208779048322,0.36370343046846182,0.30616008852821835,0.26779786056805605,0.2235337513832534,0.21578753227591294,0.18369605311693102,"Nedarim ",{"$f":"VLOOKUP(Schedule!M1050,#REF!,2,FALSE)","v":{"$error":"#REF!"}}]
["2022-11-19",7,"Nedarim 25",{"$f":"COUNT($A$2:A1051)","v":1050},3150,0.38731095536702326,0.36407229804500185,0.30652895610475839,0.26816672814459608,0.22390261895979344,0.21615639985245297,0.18406492069347105,"Nedarim ",{"$f":"VLOOKUP(Schedule!M1051,#REF!,2,FALSE)","v":{"$error":"#REF!"}}]
["2022-11-20",1,"Nedarim 26",{"$f":"COUNT($A$2:A1052)","v":1051},3153,0.38767982294356323,0.36444116562154188,0.30689782368129842,0.26853559572113611,0.22427148653633347,0.216525267428993,0.18443378827001106,"Nedarim ",{"$f":"VLOOKUP(Schedule!M1052,#REF!,2,FALSE)","v":{"$error":"#REF!"}}]
["2022-11-21",2,"Nedarim 27",{"$f":"COUNT($A$2:A1053)","v":1052},3156,0.38804869052010327,0.36481003319808186,0.30726669125783845,0.26890446329767614,0.22464035411287347,0.21689413500553301,0.18480265584655109,"Nedarim ",{"$f":"VLOOKUP(Schedule!M1053,#REF!,2,FALSE)","v":{"$error":"#REF!"}}]
["2022-11-22",3,"Nedarim 28",{"$f":"COUNT($A$2:A1054)","v":1053},3159,0.3884175580966433,0.3651789007746219,{"$f":"(D1054-219)/2711","v":0.30763555883437843},0.26927333087421618,0.22500922168941351,0.21726300258207304,0.18517152342309112,"Nedarim ",{"$f":"VLOOKUP(Schedule!M1054,#REF!,2,FALSE)","v":{"$error":"#REF!"}}]
["2022-11-23",4,"Nedarim 29",{"$f":"COUNT($A$2:A1055)","v":1054},3162,0.38878642567318333,0.36554776835116193,0.30800442641091846,0.26964219845075615,0.22537808926595351,0.21763187015861304,0.18554039099963113,"Nedarim ",{"$f":"VLOOKUP(Schedule!M1055,#REF!,2,FALSE)","v":{"$error":"#REF!"}}]
["2022-11-24",5,"Nedarim 30",{"$f":"COUNT($A$2:A1056)","v":1055},3165,0.38915529324972337,0.36591663592770196,0.3083732939874585,0.27001106602729619,0.22574695684249355,0.21800073773515308,0.18590925857617116,"Nedarim ",{"$f":"VLOOKUP(Schedule!M1056,#REF!,2,FALSE)","v":{"$error":"#REF!"}}]
["2022-11-25",6,"Nedarim 31",{"$f":"COUNT($A$2:A1057)","v":1056},3168,0.3895241608262634,0.36628550350424199,0.30874216156399853,0.27037993360383622,0.22611582441903358,0.21836960531169311,0.18627812615271117,"Nedarim ",{"$f":"VLOOKUP(Schedule!M1057,#REF!,2,FALSE)","v":{"$error":"#REF!"}}]
["2022-11-26",7,"Nedarim 32",{"$f":"COUNT($A$2:A1058)","v":1057},3171,0.38989302840280338,0.36665437108078203,0.30911102914053856,0.27074880118037625,0.22648469199557358,0.21873847288823312,0.1866469937292512,"Nedarim ",{"$f":"VLOOKUP(Schedule!M1058,#REF!,2,FALSE)","v":{"$error":"#REF!"}}]
["2022-11-27",1,"Nedarim 33",{"$f":"COUNT($A$2:A1059)","v":1058},3174,0.39026189597934341,0.367023238657322,0.3094798967170786,0.27111766875691629,0.22685355957211362,0.21910734046477315,0.18701586130579123,"Nedarim ",{"$f":"VLOOKUP(Schedule!M1059,#REF!,2,FALSE)","v":{"$error":"#REF!"}}]
["2022-11-28",2,"Nedarim 34",{"$f":"COUNT($A$2:A1060)","v":1059},3177,0.39063076355588344,0.36739210623386204,0.30984876429361857,0.27148653633345626,0.22722242714865362,0.21947620804131318,0.18738472888233124,"Nedarim ",{"$f":"VLOOKUP(Schedule!M1060,#REF!,2,FALSE)","v":{"$error":"#REF!"}}]
["2022-11-29",3,"Nedarim 35",{"$f":"COUNT($A$2:A1061)","v":1060},3180,0.39099963113242348,0.36776097381040207,0.31021763187015861,0.2718554039099963,0.22759129472519365,0.21984507561785319,0.18775359645887127,"Nedarim ",{"$f":"VLOOKUP(Schedule!M1061,#REF!,2,FALSE)","v":{"$error":"#REF!"}}]
["2022-11-30",4,"Nedarim 36",{"$f":"COUNT($A$2:A1062)","v":1061},3183,0.39136849870896351,0.3681298413869421,0.31058649944669864,0.27222427148653633,0.22796016230173369,0.22021394319439322,0.18812246403541127,"Nedarim ",{"$f":"VLOOKUP(Schedule!M1062,#REF!,2,FALSE)","v":{"$error":"#REF!"}}]
["2022-12-01",5,"Nedarim 37",{"$f":"COUNT($A$2:A1063)","v":1062},3186,0.39173736628550349,0.36849870896348214,0.31095536702323867,0.27259313906307636,0.22832902987827369,0.22058281077093322,0.18849133161195131,"Nedarim ",{"$f":"VLOOKUP(Schedule!M1063,#REF!,2,FALSE)","v":{"$error":"#REF!"}}]
["2022-12-02",6,"Nedarim 38",{"$f":"COUNT($A$2:A1064)","v":1063},3189,0.39210623386204352,0.36886757654002211,0.3113242345997787,0.27296200663961639,0.22869789745481373,0.22095167834747326,0.18886019918849134,"Nedarim ",{"$f":"VLOOKUP(Schedule!M1064,#REF!,2,FALSE)","v":{"$error":"#REF!"}}]
["2022-12-03",7,"Nedarim 39",{"$f":"COUNT($A$2:A1065)","v":1064},3192,0.39247510143858355,0.36923644411656215,0.31169310217631868,0.27333087421615643,0.22906676503135373,0.22132054592401329,0.18922906676503135,"Nedarim ",{"$f":"VLOOKUP(Schedule!M1065,#REF!,2,FALSE)","v":{"$error":"#REF!"}}]
["2022-12-04",1,"Nedarim 40",{"$f":"COUNT($A$2:A1066)","v":1065},3195,0.39284396901512358,0.36960531169310218,0.31206196975285871,0.2736997417926964,0.22943563260789376,0.2216894135005533,{"$f":"(D1066-551)/2711","v":0.18959793434157138},"Nedarim ",{"$f":"VLOOKUP(Schedule!M1066,#REF!,2,FALSE)","v":{"$error":"#REF!"}}]
["2022-12-05",2,"Nedarim 41",{"$f":"COUNT($A$2:A1067)","v":1066},3198,0.39321283659166362,0.36997417926964221,0.31243083732939875,0.27406860936923644,0.2298045001844338,0.22205828107709333,0.18996680191811141,"Nedarim ",{"$f":"VLOOKUP(Schedule!M1067,#REF!,2,FALSE)","v":{"$error":"#REF!"}}]
["2022-12-06",3,"Nedarim 42",{"$f":"COUNT($A$2:A1068)","v":1067},3201,0.39358170416820359,0.37034304684618224,0.31279970490593878,0.27443747694577647,0.2301733677609738,0.22242714865363333,0.19033566949465142,"Nedarim ",{"$f":"VLOOKUP(Schedule!M1068,#REF!,2,FALSE)","v":{"$error":"#REF!"}}]
["2022-12-07",4,"Nedarim 43",{"$f":"COUNT($A$2:A1069)","v":1068},3204,0.39395057174474363,0.37071191442272222,0.31316857248247881,0.2748063445223165,0.23054223533751383,0.22279601623017337,0.19070453707119145,"Nedarim ",{"$f":"VLOOKUP(Schedule!M1069,#REF!,2,FALSE)","v":{"$error":"#REF!"}}]
["2022-12-08",5,"Nedarim 44",{"$f":"COUNT($A$2:A1070)","v":1069},3207,0.39431943932128366,0.37108078199926225,0.31353744005901879,0.27517521209885654,0.23091110291405387,0.2231648838067134,0.19107340464773145,"Nedarim ",{"$f":"VLOOKUP(Schedule!M1070,#REF!,2,FALSE)","v":{"$error":"#REF!"}}]
["2022-12-09",6,"Nedarim 45",{"$f":"COUNT($A$2:A1071)","v":1070},3210,0.39468830689782369,0.37144964957580229,0.31390630763555882,0.27554407967539651,0.23127997049059387,0.2235337513832534,0.19144227222427149,"Nedarim ",{"$f":"VLOOKUP(Schedule!M1071,#REF!,2,FALSE)","v":{"$error":"#REF!"}}]
["2022-12-10",7,"Nedarim 46",{"$f":"COUNT($A$2:A1072)","v":1071},3213,0.39505717447436373,0.37181851715234232,0.31427517521209886,0.27591294725193655,0.23164883806713391,0.22390261895979344,0.19181113980081152,"Nedarim ",{"$f":"VLOOKUP(Schedule!M1072,#REF!,2,FALSE)","v":{"$error":"#REF!"}}]
["2022-12-11",1,"Nedarim 47",{"$f":"COUNT($A$2:A1073)","v":1072},3216,0.3954260420509037,0.37218738472888235,0.31464404278863889,0.27628181482847658,0.23201770564367391,0.22427148653633347,0.19218000737735152,"Nedarim ",{"$f":"VLOOKUP(Schedule!M1073,#REF!,2,FALSE)","v":{"$error":"#REF!"}}]
["2022-12-12",2,"Nedarim 48",{"$f":"COUNT($A$2:A1074)","v":1073},3219,0.39579490962744374,0.37255625230542233,0.31501291036517892,0.27665068240501661,0.23238657322021394,0.22464035411287347,0.19254887495389156,"Nedarim ",{"$f":"VLOOKUP(Schedule!M1074,#REF!,2,FALSE)","v":{"$error":"#REF!"}}]
["2022-12-13",3,"Nedarim 49",{"$f":"COUNT($A$2:A1075)","v":1074},3222,0.39616377720398377,0.37292511988196236,0.3153817779417189,0.27701954998155665,0.23275544079675398,0.22500922168941351,0.19291774253043156,"Nedarim ",{"$f":"VLOOKUP(Schedule!M1075,#REF!,2,FALSE)","v":{"$error":"#REF!"}}]
["2022-12-14",4,"Nedarim 50",{"$f":"COUNT($A$2:A1076)","v":1075},3225,0.3965326447805238,0.3732939874585024,0.31575064551825893,0.27738841755809662,0.23312430837329398,0.22537808926595351,0.1932866101069716,"Nedarim ",{"$f":"VLOOKUP(Schedule!M1076,#REF!,2,FALSE)","v":{"$error":"#REF!"}}]
["2022-12-15",5,"Nedarim 51",{"$f":"COUNT($A$2:A1077)","v":1076},3228,0.39690151235706383,0.37366285503504243,0.31611951309479897,0.27775728513463666,0.23349317594983401,0.22574695684249355,0.19365547768351163,"Nedarim ",{"$f":"VLOOKUP(Schedule!M1077,#REF!,2,FALSE)","v":{"$error":"#REF!"}}]
["2022-12-16",6,"Nedarim 52",{"$f":"COUNT($A$2:A1078)","v":1077},3231,0.39727037993360381,0.37403172261158246,0.316488380671339,0.27812615271117669,0.23386204352637402,0.22611582441903358,0.19402434526005163,"Nedarim ",{"$f":"VLOOKUP(Schedule!M1078,#REF!,2,FALSE)","v":{"$error":"#REF!"}}]
["2022-12-17",7,"Nedarim 53",{"$f":"COUNT($A$2:A1079)","v":1078},3234,0.39763924751014385,0.37440059018812244,0.31685724824787903,0.27849502028771672,0.23423091110291405,0.22648469199557358,0.19439321283659167,"Nedarim ",{"$f":"VLOOKUP(Schedule!M1079,#REF!,2,FALSE)","v":{"$error":"#REF!"}}]
["2022-12-18",1,"Nedarim 54",{"$f":"COUNT($A$2:A1080)","v":1079},3237,0.39800811508668388,0.37476945776466247,0.31722611582441901,0.27886388786425675,0.23459977867945409,0.22685355957211362,0.1947620804131317,"Nedarim ",{"$f":"VLOOKUP(Schedule!M1080,#REF!,2,FALSE)","v":{"$error":"#REF!"}}]
["2022-12-19",2,"Nedarim 55",{"$f":"COUNT($A$2:A1081)","v":1080},3240,0.39837698266322391,0.37513832534120251,0.31759498340095904,0.27923275544079673,0.23496864625599409,0.22722242714865362,0.1951309479896717,"Nedarim ",{"$f":"VLOOKUP(Schedule!M1081,#REF!,2,FALSE)","v":{"$error":"#REF!"}}]
["2022-12-20",3,"Nedarim 56",{"$f":"COUNT($A$2:A1082)","v":1081},3243,0.39874585023976394,0.37550719291774254,0.31796385097749907,0.27960162301733676,0.23533751383253412,0.22759129472519365,0.19549981556621174,"Nedarim ",{"$f":"VLOOKUP(Schedule!M1082,#REF!,2,FALSE)","v":{"$error":"#REF!"}}]
["2022-12-21",4,"Nedarim 57",{"$f":"COUNT($A$2:A1083)","v":1082},3246,0.39911471781630392,0.37587606049428257,0.31833271855403911,0.2799704905938768,0.23570638140907416,0.22796016230173369,0.19586868314275174,"Nedarim ",{"$f":"VLOOKUP(Schedule!M1083,#REF!,2,FALSE)","v":{"$error":"#REF!"}}]
["2022-12-22",5,"Nedarim 58",{"$f":"COUNT($A$2:A1084)","v":1083},3249,0.39948358539284395,0.37624492807082255,0.31870158613057914,0.28033935817041683,0.23607524898561416,0.22832902987827369,0.19623755071929178,"Nedarim ",{"$f":"VLOOKUP(Schedule!M1084,#REF!,2,FALSE)","v":{"$error":"#REF!"}}]
["2022-12-23",6,"Nedarim 59",{"$f":"COUNT($A$2:A1085)","v":1084},3252,0.39985245296938399,0.37661379564736258,0.31907045370711912,0.28070822574695686,0.23644411656215419,0.22869789745481373,0.19660641829583181,"Nedarim ",{"$f":"VLOOKUP(Schedule!M1085,#REF!,2,FALSE)","v":{"$error":"#REF!"}}]
["2022-12-24",7,"Nedarim 60",{"$f":"COUNT($A$2:A1086)","v":1085},3255,0.40022132054592402,0.37698266322390261,0.31943932128365915,0.28107709332349684,{"$f":"(D1086-443)/2711","v":0.2368129841386942},0.22906676503135373,0.19697528587237181,"Nedarim ",{"$f":"VLOOKUP(Schedule!M1086,#REF!,2,FALSE)","v":{"$error":"#REF!"}}]
["2022-12-25",1,"Nedarim 61",{"$f":"COUNT($A$2:A1087)","v":1086},3258,0.40059018812246405,0.37735153080044265,0.31980818886019918,0.28144596090003687,0.23718185171523423,0.22943563260789376,0.19734415344891185,"Nedarim ",{"$f":"VLOOKUP(Schedule!M1087,#REF!,2,FALSE)","v":{"$error":"#REF!"}}]
["2022-12-26",2,"Nedarim 62",{"$f":"COUNT($A$2:A1088)","v":1087},3261,0.40095905569900403,0.37772039837698268,0.32017705643673922,0.28181482847657691,0.23755071929177426,0.2298045001844338,0.19771302102545185,"Nedarim ",{"$f":"VLOOKUP(Schedule!M1088,#REF!,2,FALSE)","v":{"$error":"#REF!"}}]
["2022-12-27",3,"Nedarim 63",{"$f":"COUNT($A$2:A1089)","v":1088},3264,0.40132792327554406,0.37808926595352271,0.32054592401327925,0.28218369605311694,0.23791958686831427,0.2301733677609738,0.19808188860199188,"Nedarim ",{"$f":"VLOOKUP(Schedule!M1089,#REF!,2,FALSE)","v":{"$error":"#REF!"}}]
["2022-12-28",4,"Nedarim 64",{"$f":"COUNT($A$2:A1090)","v":1089},{"$f":"D1090*3","v":3267},0.4016967908520841,{"$f":"(D1090-63)/2711","v":0.37845813353006269},0.32091479158981928,0.28255256362965697,0.2382884544448543,0.23054223533751383,0.19845075617853192,"Nedarim ",{"$f":"VLOOKUP(Schedule!M1090,#REF!,2,FALSE)","v":{"$error":"#REF!"}}]
["2022-12-29",{"$f":"WEEKDAY(A1091)","v":5},"Nedarim 65",{"$f":"COUNT($A$2:A1091)","v":1090},3270,{"$f":"D1091/2711","v":0.40206565842862413},0.37882700110660272,0.32128365916635926,0.28292143120619695,0.23865732202139431,0.23091110291405387,0.19881962375507192,{"$f":"LEFT(C1091,FIND(\"☃\",SUBSTITUTE(C1091,\" \",\"☃\",LEN(C1091)-LEN(SUBSTITUTE(C1091,\" \",\"\")))))","v":"Nedarim "},{"$f":"VLOOKUP(Schedule!M1091,#REF!,2,FALSE)","v":{"$error":"#REF!"}}]
["2022-12-30",6,"Nedarim 66",{"$f":"COUNT($A$2:A1092)","v":1091},3273,0.40243452600516416,0.37919586868314276,0.32165252674289929,0.28329029878273698,0.23902618959793434,0.23127997049059387,0.19918849133161196,"Nedarim ",{"$f":"VLOOKUP(Schedule!M1092,#REF!,2,FALSE)","v":{"$error":"#REF!"}}]
["2022-12-31",7,"Nedarim 67",{"$f":"COUNT($A$2:A1093)","v":1092},3276,0.40280339358170419,0.37956473625968279,0.32202139431943932,0.28365916635927702,0.23939505717447437,0.23164883806713391,0.19955735890815196,"Nedarim ",{"$f":"VLOOKUP(Schedule!M1093,#REF!,2,FALSE)","v":{"$error":"#REF!"}}]
["2023-01-01",1,"Nedarim 68",{"$f":"COUNT($A$2:A1094)","v":1093},3279,0.40317226115824417,0.37993360383622282,0.32239026189597936,{"$f":"(D1094-323)/2711","v":0.28402803393581705},0.23976392475101438,0.23201770564367391,0.19992622648469199,"Nedarim ",{"$f":"VLOOKUP(Schedule!M1094,#REF!,2,FALSE)","v":{"$error":"#REF!"}}]
["2023-01-02",2,"Nedarim 69",{"$f":"COUNT($A$2:A1095)","v":1094},3282,0.4035411287347842,0.3803024714127628,0.32275912947251939,0.28439690151235708,0.24013279232755441,0.23238657322021394,0.20029509406123203,"Nedarim ",{"$f":"VLOOKUP(Schedule!M1095,#REF!,2,FALSE)","v":{"$error":"#REF!"}}]
["2023-01-03",3,"Nedarim 70",{"$f":"COUNT($A$2:A1096)","v":1095},3285,0.40390999631132424,0.38067133898930283,0.32312799704905937,0.28476576908889706,0.24050165990409442,0.23275544079675398,0.20066396163777203,"Nedarim ",{"$f":"VLOOKUP(Schedule!M1096,#REF!,2,FALSE)","v":{"$error":"#REF!"}}]
["2023-01-04",4,"Nedarim 71",{"$f":"COUNT($A$2:A1097)","v":1096},3288,0.40427886388786427,0.38104020656584286,0.3234968646255994,0.28513463666543709,0.24087052748063445,0.23312430837329398,0.20103282921431206,"Nedarim ",{"$f":"VLOOKUP(Schedule!M1097,#REF!,2,FALSE)","v":{"$error":"#REF!"}}]
["2023-01-05",5,"Nedarim 72",{"$f":"COUNT($A$2:A1098)","v":1097},3291,0.4046477314644043,0.3814090741423829,0.32386573220213943,0.28550350424197712,0.24123939505717448,0.23349317594983401,0.2014016967908521,"Nedarim ",{"$f":"VLOOKUP(Schedule!M1098,#REF!,2,FALSE)","v":{"$error":"#REF!"}}]
["2023-01-06",6,"Nedarim 73",{"$f":"COUNT($A$2:A1099)","v":1098},3294,0.40501659904094428,0.38177794171892293,0.32423459977867947,0.28587237181851716,0.24160826263371449,0.23386204352637402,0.2017705643673921,"Nedarim ",{"$f":"VLOOKUP(Schedule!M1099,#REF!,2,FALSE)","v":{"$error":"#REF!"}}]
["2023-01-07",7,"Nedarim 74",{"$f":"COUNT($A$2:A1100)","v":1099},3297,0.40538546661748431,0.38214680929546291,0.3246034673552195,0.28624123939505719,0.24197713021025452,0.23423091110291405,0.20213943194393214,"Nedarim ",{"$f":"VLOOKUP(Schedule!M1100,#REF!,2,FALSE)","v":{"$error":"#REF!"}}]
["2023-01-08",1,"Nedarim 75",{"$f":"COUNT($A$2:A1101)","v":1100},3300,0.40575433419402435,0.38251567687200294,0.32497233493175948,0.28661010697159722,0.24234599778679455,0.23459977867945409,0.20250829952047214,"Nedarim ",{"$f":"VLOOKUP(Schedule!M1101,#REF!,2,FALSE)","v":{"$error":"#REF!"}}]
["2023-01-09",2,"Nedarim 76",{"$f":"COUNT($A$2:A1102)","v":1101},3303,0.40612320177056438,0.38288454444854297,0.32534120250829951,0.2869789745481372,0.24271486536333456,0.23496864625599409,0.20287716709701217,"Nedarim ",{"$f":"VLOOKUP(Schedule!M1102,#REF!,2,FALSE)","v":{"$error":"#REF!"}}]
["2023-01-10",3,"Nedarim 77",{"$f":"COUNT($A$2:A1103)","v":1102},3306,0.40649206934710441,0.38325341202508301,0.32571007008483954,0.28734784212467723,0.24308373293987459,0.23533751383253412,0.20324603467355221,"Nedarim ",{"$f":"VLOOKUP(Schedule!M1103,#REF!,2,FALSE)","v":{"$error":"#REF!"}}]
["2023-01-11",4,"Nedarim 78",{"$f":"COUNT($A$2:A1104)","v":1103},3309,0.40686093692364439,0.38362227960162304,0.32607893766137958,0.28771670970121727,0.2434526005164146,0.23570638140907416,0.20361490225009221,"Nedarim ",{"$f":"VLOOKUP(Schedule!M1104,#REF!,2,FALSE)","v":{"$error":"#REF!"}}]
["2023-01-12",5,"Nedarim 79",{"$f":"COUNT($A$2:A1105)","v":1104},3312,0.40722980450018442,0.38399114717816302,0.32644780523791961,0.2880855772777573,0.24382146809295463,0.23607524898561416,0.20398376982663224,"Nedarim ",{"$f":"VLOOKUP(Schedule!M1105,#REF!,2,FALSE)","v":{"$error":"#REF!"}}]
["2023-01-13",6,"Nedarim 80",{"$f":"COUNT($A$2:A1106)","v":1105},3315,0.40759867207672446,0.38436001475470305,0.32681667281445959,0.28845444485429733,0.24419033566949466,{"$f":"(D1106-464)/2711","v":0.23644411656215419},0.20435263740317225,"Nedarim ",{"$f":"VLOOKUP(Schedule!M1106,#REF!,2,FALSE)","v":{"$error":"#REF!"}}]
["2023-01-14",7,"Nedarim 81",{"$f":"COUNT($A$2:A1107)","v":1106},3318,0.40796753965326449,0.38472888233124308,0.32718554039099962,0.28882331243083731,0.24455920324603467,0.2368129841386942,0.20472150497971228,"Nedarim ",{"$f":"VLOOKUP(Schedule!M1107,#REF!,2,FALSE)","v":{"$error":"#REF!"}}]
["2023-01-15",1,"Nedarim 82",{"$f":"COUNT($A$2:A1108)","v":1107},3321,0.40833640722980452,0.38509774990778312,0.32755440796753965,0.28919218000737734,0.2449280708225747,0.23718185171523423,0.20509037255625231,"Nedarim ",{"$f":"VLOOKUP(Schedule!M1108,#REF!,2,FALSE)","v":{"$error":"#REF!"}}]
["2023-01-16",2,"Nedarim 83",{"$f":"COUNT($A$2:A1109)","v":1108},3324,0.4087052748063445,0.38546661748432315,0.32792327554407968,0.28956104758391737,0.24529693839911471,0.23755071929177426,0.20545924013279232,"Nedarim ",{"$f":"VLOOKUP(Schedule!M1109,#REF!,2,FALSE)","v":{"$error":"#REF!"}}]
["2023-01-17",3,"Nedarim 84",{"$f":"COUNT($A$2:A1110)","v":1109},3327,0.40907414238288453,0.38583548506086313,0.32829214312061972,0.28992991516045741,0.24566580597565474,0.23791958686831427,0.20582810770933235,"Nedarim ",{"$f":"VLOOKUP(Schedule!M1110,#REF!,2,FALSE)","v":{"$error":"#REF!"}}]
["2023-01-18",4,"Nedarim 85",{"$f":"COUNT($A$2:A1111)","v":1110},3330,0.40944300995942456,0.38620435263740316,0.32866101069715969,0.29029878273699744,0.24603467355219477,0.2382884544448543,0.20619697528587236,"Nedarim ",{"$f":"VLOOKUP(Schedule!M1111,#REF!,2,FALSE)","v":{"$error":"#REF!"}}]
["2023-01-19",5,"Nedarim 86",{"$f":"COUNT($A$2:A1112)","v":1111},3333,0.4098118775359646,0.38657322021394319,0.32902987827369973,0.29066765031353742,0.24640354112873478,0.23865732202139431,0.20656584286241239,"Nedarim ",{"$f":"VLOOKUP(Schedule!M1112,#REF!,2,FALSE)","v":{"$error":"#REF!"}}]
["2023-01-20",6,"Nedarim 87",{"$f":"COUNT($A$2:A1113)","v":1112},3336,0.41018074511250463,0.38694208779048322,0.32939874585023976,0.29103651789007745,0.24677240870527481,0.23902618959793434,0.20693471043895242,"Nedarim ",{"$f":"VLOOKUP(Schedule!M1113,#REF!,2,FALSE)","v":{"$error":"#REF!"}}]
["2023-01-21",7,"Nedarim 88",{"$f":"COUNT($A$2:A1114)","v":1113},3339,0.41054961268904461,0.38731095536702326,0.32976761342677979,0.29140538546661748,0.24714127628181484,0.23939505717447437,0.20730357801549243,"Nedarim ",{"$f":"VLOOKUP(Schedule!M1114,#REF!,2,FALSE)","v":{"$error":"#REF!"}}]
["2023-01-22",1,"Nedarim 89",{"$f":"COUNT($A$2:A1115)","v":1114},3342,0.41091848026558464,0.38767982294356323,0.33013648100331983,0.29177425304315752,0.24751014385835485,0.23976392475101438,0.20767244559203246,"Nedarim ",{"$f":"VLOOKUP(Schedule!M1115,#REF!,2,FALSE)","v":{"$error":"#REF!"}}]
["2023-01-23",2,"Nedarim 90",{"$f":"COUNT($A$2:A1116)","v":1115},3345,0.41128734784212467,0.38804869052010327,0.3305053485798598,0.29214312061969755,0.24787901143489488,0.24013279232755441,0.20804131316857249,"Nedarim ",{"$f":"VLOOKUP(Schedule!M1116,#REF!,2,FALSE)","v":{"$error":"#REF!"}}]
["2023-01-24",3,"Nedarim 91",{"$f":"COUNT($A$2:A1117)","v":1116},3348,0.41165621541866471,0.3884175580966433,0.33087421615639984,0.29251198819623753,0.24824787901143489,0.24050165990409442,0.2084101807451125,"Nedarim ",{"$f":"VLOOKUP(Schedule!M1117,#REF!,2,FALSE)","v":{"$error":"#REF!"}}]
["2023-01-25",4,"Nazir 2",{"$f":"COUNT($A$2:A1118)","v":1117},3351,0.41202508299520474,0.38878642567318333,{"$f":"(D1118-219)/2711","v":0.33124308373293987},0.29288085577277756,0.24861674658797492,0.24087052748063445,0.20877904832165253,"Nazir ",{"$f":"VLOOKUP(Schedule!M1118,#REF!,2,FALSE)","v":{"$error":"#REF!"}}]
["2023-01-26",5,"Nazir 3",{"$f":"COUNT($A$2:A1119)","v":1118},3354,0.41239395057174472,0.38915529324972337,0.3316119513094799,0.29324972334931759,0.24898561416451495,0.24123939505717448,0.20914791589819254,"Nazir ",{"$f":"VLOOKUP(Schedule!M1119,#REF!,2,FALSE)","v":{"$error":"#REF!"}}]
["2023-01-27",6,"Nazir 4",{"$f":"COUNT($A$2:A1120)","v":1119},3357,0.41276281814828475,0.3895241608262634,0.33198081888601993,0.29361859092585763,0.24935448174105496,0.24160826263371449,0.20951678347473257,"Nazir ",{"$f":"VLOOKUP(Schedule!M1120,#REF!,2,FALSE)","v":{"$error":"#REF!"}}]
["2023-01-28",7,"Nazir 5",{"$f":"COUNT($A$2:A1121)","v":1120},3360,0.41313168572482478,0.38989302840280338,0.33234968646255997,0.29398745850239766,0.24972334931759499,0.24197713021025452,0.2098856510512726,"Nazir ",{"$f":"VLOOKUP(Schedule!M1121,#REF!,2,FALSE)","v":{"$error":"#REF!"}}]
["2023-01-29",1,"Nazir 6",{"$f":"COUNT($A$2:A1122)","v":1121},3363,0.41350055330136481,0.39026189597934341,0.33271855403909995,0.29435632607893764,0.25009221689413502,0.24234599778679455,0.21025451862781261,"Nazir ",{"$f":"VLOOKUP(Schedule!M1122,#REF!,2,FALSE)","v":{"$error":"#REF!"}}]
["2023-01-30",2,"Nazir 7",{"$f":"COUNT($A$2:A1123)","v":1122},3366,0.41386942087790485,0.39063076355588344,0.33308742161563998,0.29472519365547767,0.25046108447067505,0.24271486536333456,0.21062338620435264,"Nazir ",{"$f":"VLOOKUP(Schedule!M1123,#REF!,2,FALSE)","v":{"$error":"#REF!"}}]
["2023-01-31",3,"Nazir 8",{"$f":"COUNT($A$2:A1124)","v":1123},3369,0.41423828845444488,0.39099963113242348,0.33345628919218001,0.2950940612320177,0.25082995204721503,0.24308373293987459,0.21099225378089265,"Nazir ",{"$f":"VLOOKUP(Schedule!M1124,#REF!,2,FALSE)","v":{"$error":"#REF!"}}]
["2023-02-01",4,"Nazir 9",{"$f":"COUNT($A$2:A1125)","v":1124},3372,0.41460715603098486,0.39136849870896351,0.33382515676872004,0.29546292880855773,0.25119881962375507,0.2434526005164146,0.21136112135743268,"Nazir ",{"$f":"VLOOKUP(Schedule!M1125,#REF!,2,FALSE)","v":{"$error":"#REF!"}}]
["2023-02-02",5,"Nazir 10",{"$f":"COUNT($A$2:A1126)","v":1125},3375,0.41497602360752489,0.39173736628550349,0.33419402434526008,0.29583179638509777,0.2515676872002951,0.24382146809295463,0.21172998893397271,"Nazir ",{"$f":"VLOOKUP(Schedule!M1126,#REF!,2,FALSE)","v":{"$error":"#REF!"}}]
["2023-02-03",6,"Nazir 11",{"$f":"COUNT($A$2:A1127)","v":1126},3378,0.41534489118406492,0.39210623386204352,0.33456289192180005,0.29620066396163774,0.25193655477683513,0.24419033566949466,0.21209885651051272,"Nazir ",{"$f":"VLOOKUP(Schedule!M1127,#REF!,2,FALSE)","v":{"$error":"#REF!"}}]
["2023-02-04",7,"Nazir 12",{"$f":"COUNT($A$2:A1128)","v":1127},3381,0.41571375876060496,0.39247510143858355,0.33493175949834009,0.29656953153817778,0.25230542235337516,0.24455920324603467,0.21246772408705275,"Nazir ",{"$f":"VLOOKUP(Schedule!M1128,#REF!,2,FALSE)","v":{"$error":"#REF!"}}]
["2023-02-05",1,"Nazir 13",{"$f":"COUNT($A$2:A1129)","v":1128},3384,0.41608262633714499,0.39284396901512358,0.33530062707488012,0.29693839911471781,0.25267428992991514,0.2449280708225747,0.21283659166359278,"Nazir ",{"$f":"VLOOKUP(Schedule!M1129,#REF!,2,FALSE)","v":{"$error":"#REF!"}}]
["2023-02-06",2,"Nazir 14",{"$f":"COUNT($A$2:A1130)","v":1129},3387,0.41645149391368497,0.39321283659166362,0.33566949465142015,0.29730726669125784,0.25304315750645517,0.24529693839911471,{"$f":"(D1130-551)/2711","v":0.21320545924013279},"Nazir ",{"$f":"VLOOKUP(Schedule!M1130,#REF!,2,FALSE)","v":{"$error":"#REF!"}}]
["2023-02-07",3,"Nazir 15",{"$f":"COUNT($A$2:A1131)","v":1130},3390,0.416820361490225,0.39358170416820359,0.33603836222796019,0.29767613426779788,0.25341202508299521,0.24566580597565474,0.21357432681667282,"Nazir ",{"$f":"VLOOKUP(Schedule!M1131,#REF!,2,FALSE)","v":{"$error":"#REF!"}}]
["2023-02-08",4,"Nazir 16",{"$f":"COUNT($A$2:A1132)","v":1131},3393,0.41718922906676503,0.39395057174474363,0.33640722980450016,0.29804500184433791,0.25378089265953524,0.24603467355219477,0.21394319439321283,"Nazir ",{"$f":"VLOOKUP(Schedule!M1132,#REF!,2,FALSE)","v":{"$error":"#REF!"}}]
["2023-02-09",5,"Nazir 17",{"$f":"COUNT($A$2:A1133)","v":1132},3396,0.41755809664330507,0.39431943932128366,0.3367760973810402,0.29841386942087789,0.25414976023607527,0.24640354112873478,0.21431206196975286,"Nazir ",{"$f":"VLOOKUP(Schedule!M1133,#REF!,2,FALSE)","v":{"$error":"#REF!"}}]
["2023-02-10",6,"Nazir 18",{"$f":"COUNT($A$2:A1134)","v":1133},3399,0.4179269642198451,0.39468830689782369,0.33714496495758023,0.29878273699741792,0.25451862781261525,0.24677240870527481,0.21468092954629289,"Nazir ",{"$f":"VLOOKUP(Schedule!M1134,#REF!,2,FALSE)","v":{"$error":"#REF!"}}]
["2023-02-11",7,"Nazir 19",{"$f":"COUNT($A$2:A1135)","v":1134},3402,0.41829583179638508,0.39505717447436373,0.33751383253412026,0.29915160457395795,0.25488749538915528,0.24714127628181484,0.2150497971228329,"Nazir ",{"$f":"VLOOKUP(Schedule!M1135,#REF!,2,FALSE)","v":{"$error":"#REF!"}}]
["2023-02-12",1,"Nazir 20",{"$f":"COUNT($A$2:A1136)","v":1135},3405,0.41866469937292511,0.3954260420509037,0.33788270011066029,0.29952047215049799,0.25525636296569532,0.24751014385835485,0.21541866469937293,"Nazir ",{"$f":"VLOOKUP(Schedule!M1136,#REF!,2,FALSE)","v":{"$error":"#REF!"}}]
["2023-02-13",2,"Nazir 21",{"$f":"COUNT($A$2:A1137)","v":1136},3408,0.41903356694946514,0.39579490962744374,0.33825156768720027,0.29988933972703802,0.25562523054223535,0.24787901143489488,0.21578753227591294,"Nazir ",{"$f":"VLOOKUP(Schedule!M1137,#REF!,2,FALSE)","v":{"$error":"#REF!"}}]
["2023-02-14",3,"Nazir 22",{"$f":"COUNT($A$2:A1138)","v":1137},3411,0.41940243452600517,0.39616377720398377,0.3386204352637403,0.300258207303578,0.25599409811877538,0.24824787901143489,0.21615639985245297,"Nazir ",{"$f":"VLOOKUP(Schedule!M1138,#REF!,2,FALSE)","v":{"$error":"#REF!"}}]
["2023-02-15",4,"Nazir 23",{"$f":"COUNT($A$2:A1139)","v":1138},3414,0.41977130210254521,0.3965326447805238,0.33898930284028034,0.30062707488011803,0.25636296569531536,0.24861674658797492,0.216525267428993,"Nazir ",{"$f":"VLOOKUP(Schedule!M1139,#REF!,2,FALSE)","v":{"$error":"#REF!"}}]
["2023-02-16",5,"Nazir 24",{"$f":"COUNT($A$2:A1140)","v":1139},3417,0.42014016967908518,0.39690151235706383,0.33935817041682037,0.30099594245665806,0.25673183327185539,0.24898561416451495,0.21689413500553301,"Nazir ",{"$f":"VLOOKUP(Schedule!M1140,#REF!,2,FALSE)","v":{"$error":"#REF!"}}]
["2023-02-17",6,"Nazir 25",{"$f":"COUNT($A$2:A1141)","v":1140},3420,0.42050903725562522,0.39727037993360381,0.3397270379933604,0.30136481003319809,0.25710070084839542,0.24935448174105496,0.21726300258207304,"Nazir ",{"$f":"VLOOKUP(Schedule!M1141,#REF!,2,FALSE)","v":{"$error":"#REF!"}}]
["2023-02-18",7,"Nazir 26",{"$f":"COUNT($A$2:A1142)","v":1141},3423,0.42087790483216525,0.39763924751014385,0.34009590556990038,0.30173367760973813,0.25746956842493546,0.24972334931759499,0.21763187015861304,"Nazir ",{"$f":"VLOOKUP(Schedule!M1142,#REF!,2,FALSE)","v":{"$error":"#REF!"}}]
["2023-02-19",1,"Nazir 27",{"$f":"COUNT($A$2:A1143)","v":1142},3426,0.42124677240870528,0.39800811508668388,0.34046477314644041,0.3021025451862781,0.25783843600147549,0.25009221689413502,0.21800073773515308,"Nazir ",{"$f":"VLOOKUP(Schedule!M1143,#REF!,2,FALSE)","v":{"$error":"#REF!"}}]
["2023-02-20",2,"Nazir 28",{"$f":"COUNT($A$2:A1144)","v":1143},3429,0.42161563998524532,0.39837698266322391,0.34083364072298045,0.30247141276281814,0.25820730357801547,0.25046108447067505,0.21836960531169311,"Nazir ",{"$f":"VLOOKUP(Schedule!M1144,#REF!,2,FALSE)","v":{"$error":"#REF!"}}]
["2023-02-21",3,"Nazir 29",{"$f":"COUNT($A$2:A1145)","v":1144},3432,0.42198450756178529,0.39874585023976394,0.34120250829952048,0.30284028033935817,0.2585761711545555,0.25082995204721503,0.21873847288823312,"Nazir ",{"$f":"VLOOKUP(Schedule!M1145,#REF!,2,FALSE)","v":{"$error":"#REF!"}}]
["2023-02-22",4,"Nazir 30",{"$f":"COUNT($A$2:A1146)","v":1145},3435,0.42235337513832533,0.39911471781630392,0.34157137587606051,0.3032091479158982,0.25894503873109553,0.25119881962375507,0.21910734046477315,"Nazir ",{"$f":"VLOOKUP(Schedule!M1146,#REF!,2,FALSE)","v":{"$error":"#REF!"}}]
["2023-02-23",5,"Nazir 31",{"$f":"COUNT($A$2:A1147)","v":1146},3438,0.42272224271486536,0.39948358539284395,0.34194024345260049,0.30357801549243824,0.25931390630763557,0.2515676872002951,0.21947620804131318,"Nazir ",{"$f":"VLOOKUP(Schedule!M1147,#REF!,2,FALSE)","v":{"$error":"#REF!"}}]
["2023-02-24",6,"Nazir 32",{"$f":"COUNT($A$2:A1148)","v":1147},3441,0.42309111029140539,0.39985245296938399,0.34230911102914052,0.30394688306897821,0.2596827738841756,0.25193655477683513,0.21984507561785319,"Nazir ",{"$f":"VLOOKUP(Schedule!M1148,#REF!,2,FALSE)","v":{"$error":"#REF!"}}]
["2023-02-25",7,"Nazir 33",{"$f":"COUNT($A$2:A1149)","v":1148},3444,0.42345997786794543,0.40022132054592402,0.34267797860568056,0.30431575064551825,0.26005164146071558,0.25230542235337516,0.22021394319439322,"Nazir ",{"$f":"VLOOKUP(Schedule!M1149,#REF!,2,FALSE)","v":{"$error":"#REF!"}}]
["2023-02-26",1,"Nazir 34",{"$f":"COUNT($A$2:A1150)","v":1149},3447,0.4238288454444854,0.40059018812246405,0.34304684618222059,0.30468461822205828,{"$f":"(D1150-443)/2711","v":0.26042050903725561},0.25267428992991514,0.22058281077093322,"Nazir ",{"$f":"VLOOKUP(Schedule!M1150,#REF!,2,FALSE)","v":{"$error":"#REF!"}}]
["2023-02-27",2,"Nazir 35",{"$f":"COUNT($A$2:A1151)","v":1150},3450,0.42419771302102544,0.40095905569900403,0.34341571375876062,0.30505348579859831,0.26078937661379564,0.25304315750645517,0.22095167834747326,"Nazir ",{"$f":"VLOOKUP(Schedule!M1151,#REF!,2,FALSE)","v":{"$error":"#REF!"}}]
["2023-02-28",3,"Nazir 36",{"$f":"COUNT($A$2:A1152)","v":1151},3453,0.42456658059756547,0.40132792327554406,0.34378458133530065,0.30542235337513834,0.26115824419033568,0.25341202508299521,0.22132054592401329,"Nazir ",{"$f":"VLOOKUP(Schedule!M1152,#REF!,2,FALSE)","v":{"$error":"#REF!"}}]
["2023-03-01",4,"Nazir 37",{"$f":"COUNT($A$2:A1153)","v":1152},3456,0.4249354481741055,0.4016967908520841,0.34415344891184063,0.30579122095167832,0.26152711176687571,0.25378089265953524,0.2216894135005533,"Nazir ",{"$f":"VLOOKUP(Schedule!M1153,#REF!,2,FALSE)","v":{"$error":"#REF!"}}]
["2023-03-02",5,"Nazir 38",{"$f":"COUNT($A$2:A1154)","v":1153},{"$f":"D1154*3","v":3459},0.42530431575064553,{"$f":"(D1154-63)/2711","v":0.40206565842862413},0.34452231648838066,0.30616008852821835,0.26189597934341574,0.25414976023607527,0.22205828107709333,"Nazir ",{"$f":"VLOOKUP(Schedule!M1154,#REF!,2,FALSE)","v":{"$error":"#REF!"}}]
["2023-03-03",{"$f":"WEEKDAY(A1155)","v":6},"Nazir 39",{"$f":"COUNT($A$2:A1155)","v":1154},3462,{"$f":"D1155/2711","v":0.42567318332718557},0.40243452600516416,0.3448911840649207,0.30652895610475839,0.26226484691995572,0.25451862781261525,0.22242714865363333,{"$f":"LEFT(C1155,FIND(\"☃\",SUBSTITUTE(C1155,\" \",\"☃\",LEN(C1155)-LEN(SUBSTITUTE(C1155,\" \",\"\")))))","v":"Nazir "},{"$f":"VLOOKUP(Schedule!M1155,#REF!,2,FALSE)","v":{"$error":"#REF!"}}]
["2023-03-04",7,"Nazir 40",{"$f":"COUNT($A$2:A1156)","v":1155},3465,0.42604205090372554,0.40280339358170419,0.34526005164146073,0.30689782368129842,0.26263371449649575,0.25488749538915528,0.22279601623017337,"Nazir ",{"$f":"VLOOKUP(Schedule!M1156,#REF!,2,FALSE)","v":{"$error":"#REF!"}}]
["2023-03-05",1,"Nazir 41",{"$f":"COUNT($A$2:A1157)","v":1156},3468,0.42641091848026558,0.40317226115824417,0.34562891921800076,0.30726669125783845,0.26300258207303578,0.25525636296569532,0.2231648838067134,"Nazir ",{"$f":"VLOOKUP(Schedule!M1157,#REF!,2,FALSE)","v":{"$error":"#REF!"}}]
["2023-03-06",2,"Nazir 42",{"$f":"COUNT($A$2:A1158)","v":1157},3471,0.42677978605680561,0.4035411287347842,0.34599778679454074,{"$f":"(D1158-323)/2711","v":0.30763555883437843},0.26337144964957582,0.25562523054223535,0.2235337513832534,"Nazir ",{"$f":"VLOOKUP(Schedule!M1158,#REF!,2,FALSE)","v":{"$error":"#REF!"}}]
["2023-03-07",3,"Nazir 43",{"$f":"COUNT($A$2:A1159)","v":1158},3474,0.42714865363334564,0.40390999631132424,0.34636665437108077,0.30800442641091846,0.26374031722611585,0.25599409811877538,0.22390261895979344,"Nazir ",{"$f":"VLOOKUP(Schedule!M1159,#REF!,2,FALSE)","v":{"$error":"#REF!"}}]
["2023-03-08",4,"Nazir 44",{"$f":"COUNT($A$2:A1160)","v":1159},3477,0.42751752120988568,0.40427886388786427,0.34673552194762081,0.3083732939874585,0.26410918480265583,0.25636296569531536,0.22427148653633347,"Nazir ",{"$f":"VLOOKUP(Schedule!M1160,#REF!,2,FALSE)","v":{"$error":"#REF!"}}]
["2023-03-09",5,"Nazir 45",{"$f":"COUNT($A$2:A1161)","v":1160},3480,0.42788638878642565,0.4046477314644043,0.34710438952416084,0.30874216156399853,0.26447805237919586,0.25673183327185539,0.22464035411287347,"Nazir ",{"$f":"VLOOKUP(Schedule!M1161,#REF!,2,FALSE)","v":{"$error":"#REF!"}}]
["2023-03-10",6,"Nazir 46",{"$f":"COUNT($A$2:A1162)","v":1161},3483,0.42825525636296569,0.40501659904094428,0.34747325710070087,0.30911102914053856,0.26484691995573589,0.25710070084839542,0.22500922168941351,"Nazir ",{"$f":"VLOOKUP(Schedule!M1162,#REF!,2,FALSE)","v":{"$error":"#REF!"}}]
["2023-03-11",7,"Nazir 47",{"$f":"COUNT($A$2:A1163)","v":1162},3486,0.42862412393950572,0.40538546661748431,0.34784212467724085,0.3094798967170786,0.26521578753227593,0.25746956842493546,0.22537808926595351,"Nazir ",{"$f":"VLOOKUP(Schedule!M1163,#REF!,2,FALSE)","v":{"$error":"#REF!"}}]
["2023-03-12",1,"Nazir 48",{"$f":"COUNT($A$2:A1164)","v":1163},3489,0.42899299151604575,0.40575433419402435,0.34821099225378088,0.30984876429361857,0.26558465510881596,0.25783843600147549,0.22574695684249355,"Nazir ",{"$f":"VLOOKUP(Schedule!M1164,#REF!,2,FALSE)","v":{"$error":"#REF!"}}]
["2023-03-13",2,"Nazir 49",{"$f":"COUNT($A$2:A1165)","v":1164},3492,0.42936185909258578,0.40612320177056438,0.34857985983032092,0.31021763187015861,0.26595352268535594,0.25820730357801547,0.22611582441903358,"Nazir ",{"$f":"VLOOKUP(Schedule!M1165,#REF!,2,FALSE)","v":{"$error":"#REF!"}}]
["2023-03-14",3,"Nazir 50",{"$f":"COUNT($A$2:A1166)","v":1165},3495,0.42973072666912576,0.40649206934710441,0.34894872740686095,0.31058649944669864,0.26632239026189597,0.2585761711545555,0.22648469199557358,"Nazir ",{"$f":"VLOOKUP(Schedule!M1166,#REF!,2,FALSE)","v":{"$error":"#REF!"}}]
["2023-03-15",4,"Nazir 51",{"$f":"COUNT($A$2:A1167)","v":1166},3498,0.4300995942456658,0.40686093692364439,0.34931759498340098,0.31095536702323867,0.266691257838436,0.25894503873109553,0.22685355957211362,"Nazir ",{"$f":"VLOOKUP(Schedule!M1167,#REF!,2,FALSE)","v":{"$error":"#REF!"}}]
["2023-03-16",5,"Nazir 52",{"$f":"COUNT($A$2:A1168)","v":1167},3501,0.43046846182220583,0.40722980450018442,0.34968646255994096,0.3113242345997787,0.26706012541497604,0.25931390630763557,0.22722242714865362,"Nazir ",{"$f":"VLOOKUP(Schedule!M1168,#REF!,2,FALSE)","v":{"$error":"#REF!"}}]
["2023-03-17",6,"Nazir 53",{"$f":"COUNT($A$2:A1169)","v":1168},3504,0.43083732939874586,0.40759867207672446,0.35005533013648099,0.31169310217631868,0.26742899299151607,0.2596827738841756,0.22759129472519365,"Nazir ",{"$f":"VLOOKUP(Schedule!M1169,#REF!,2,FALSE)","v":{"$error":"#REF!"}}]
["2023-03-18",7,"Nazir 54",{"$f":"COUNT($A$2:A1170)","v":1169},3507,0.43120619697528589,0.40796753965326449,0.35042419771302102,0.31206196975285871,0.26779786056805605,{"$f":"(D1170-464)/2711","v":0.26005164146071558},0.22796016230173369,"Nazir ",{"$f":"VLOOKUP(Schedule!M1170,#REF!,2,FALSE)","v":{"$error":"#REF!"}}]
["2023-03-19",1,"Nazir 55",{"$f":"COUNT($A$2:A1171)","v":1170},3510,0.43157506455182587,0.40833640722980452,0.35079306528956106,0.31243083732939875,0.26816672814459608,0.26042050903725561,0.22832902987827369,"Nazir ",{"$f":"VLOOKUP(Schedule!M1171,#REF!,2,FALSE)","v":{"$error":"#REF!"}}]
["2023-03-20",2,"Nazir 56",{"$f":"COUNT($A$2:A1172)","v":1171},3513,0.4319439321283659,0.4087052748063445,0.35116193286610109,0.31279970490593878,0.26853559572113611,0.26078937661379564,0.22869789745481373,"Nazir ",{"$f":"VLOOKUP(Schedule!M1172,#REF!,2,FALSE)","v":{"$error":"#REF!"}}]
["2023-03-21",3,"Nazir 57",{"$f":"COUNT($A$2:A1173)","v":1172},3516,0.43231279970490594,0.40907414238288453,0.35153080044264107,0.31316857248247881,0.26890446329767614,0.26115824419033568,0.22906676503135373,"Nazir ",{"$f":"VLOOKUP(Schedule!M1173,#REF!,2,FALSE)","v":{"$error":"#REF!"}}]
["2023-03-22",4,"Nazir 58",{"$f":"COUNT($A$2:A1174)","v":1173},3519,0.43268166728144597,0.40944300995942456,0.3518996680191811,0.31353744005901879,0.26927333087421618,0.26152711176687571,0.22943563260789376,"Nazir ",{"$f":"VLOOKUP(Schedule!M1174,#REF!,2,FALSE)","v":{"$error":"#REF!"}}]
["2023-03-23",5,"Nazir 59",{"$f":"COUNT($A$2:A1175)","v":1174},3522,0.433050534857986,0.4098118775359646,0.35226853559572113,0.31390630763555882,0.26964219845075615,0.26189597934341574,0.2298045001844338,"Nazir ",{"$f":"VLOOKUP(Schedule!M1175,#REF!,2,FALSE)","v":{"$error":"#REF!"}}]
["2023-03-24",6,"Nazir 60",{"$f":"COUNT($A$2:A1176)","v":1175},3525,0.43341940243452598,0.41018074511250463,0.35263740317226117,0.31427517521209886,0.27001106602729619,0.26226484691995572,0.2301733677609738,"Nazir ",{"$f":"VLOOKUP(Schedule!M1176,#REF!,2,FALSE)","v":{"$error":"#REF!"}}]
["2023-03-25",7,"Nazir 61",{"$f":"COUNT($A$2:A1177)","v":1176},3528,0.43378827001106601,0.41054961268904461,0.3530062707488012,0.31464404278863889,0.27037993360383622,0.26263371449649575,0.23054223533751383,"Nazir ",{"$f":"VLOOKUP(Schedule!M1177,#REF!,2,FALSE)","v":{"$error":"#REF!"}}]
["2023-03-26",1,"Nazir 62",{"$f":"COUNT($A$2:A1178)","v":1177},3531,0.43415713758760605,0.41091848026558464,0.35337513832534118,0.31501291036517892,0.27074880118037625,0.26300258207303578,0.23091110291405387,"Nazir ",{"$f":"VLOOKUP(Schedule!M1178,#REF!,2,FALSE)","v":{"$error":"#REF!"}}]
["2023-03-27",2,"Nazir 63",{"$f":"COUNT($A$2:A1179)","v":1178},3534,0.43452600516414608,0.41128734784212467,0.35374400590188121,0.3153817779417189,0.27111766875691629,0.26337144964957582,0.23127997049059387,"Nazir ",{"$f":"VLOOKUP(Schedule!M1179,#REF!,2,FALSE)","v":{"$error":"#REF!"}}]
["2023-03-28",3,"Nazir 64",{"$f":"COUNT($A$2:A1180)","v":1179},3537,0.43489487274068611,0.41165621541866471,0.35411287347842124,0.31575064551825893,0.27148653633345626,0.26374031722611585,0.23164883806713391,"Nazir ",{"$f":"VLOOKUP(Schedule!M1180,#REF!,2,FALSE)","v":{"$error":"#REF!"}}]
["2023-03-29",4,"Nazir 65",{"$f":"COUNT($A$2:A1181)","v":1180},3540,0.43526374031722609,0.41202508299520474,0.35448174105496127,0.31611951309479897,0.2718554039099963,0.26410918480265583,0.23201770564367391,"Nazir ",{"$f":"VLOOKUP(Schedule!M1181,#REF!,2,FALSE)","v":{"$error":"#REF!"}}]
["2023-03-30",5,"Nazir 66",{"$f":"COUNT($A$2:A1182)","v":1181},3543,0.43563260789376612,0.41239395057174472,{"$f":"(D1182-219)/2711","v":0.35485060863150131},0.316488380671339,0.27222427148653633,0.26447805237919586,0.23238657322021394,"Nazir ",{"$f":"VLOOKUP(Schedule!M1182,#REF!,2,FALSE)","v":{"$error":"#REF!"}}]
["2023-03-31",6,"Sotah 2",{"$f":"COUNT($A$2:A1183)","v":1182},3546,0.43600147547030615,0.41276281814828475,0.35521947620804134,0.31685724824787903,0.27259313906307636,0.26484691995573589,0.23275544079675398,"Sotah ",{"$f":"VLOOKUP(Schedule!M1183,#REF!,2,FALSE)","v":{"$error":"#REF!"}}]
["2023-04-01",7,"Sotah 3",{"$f":"COUNT($A$2:A1184)","v":1183},3549,0.43637034304684619,0.41313168572482478,0.35558834378458132,0.31722611582441901,0.27296200663961639,0.26521578753227593,0.23312430837329398,"Sotah ",{"$f":"VLOOKUP(Schedule!M1184,#REF!,2,FALSE)","v":{"$error":"#REF!"}}]
["2023-04-02",1,"Sotah 4",{"$f":"COUNT($A$2:A1185)","v":1184},3552,0.43673921062338622,0.41350055330136481,0.35595721136112135,0.31759498340095904,0.27333087421615643,0.26558465510881596,0.23349317594983401,"Sotah ",{"$f":"VLOOKUP(Schedule!M1185,#REF!,2,FALSE)","v":{"$error":"#REF!"}}]
["2023-04-03",2,"Sotah 5",{"$f":"COUNT($A$2:A1186)","v":1185},3555,0.43710807819992625,0.41386942087790485,0.35632607893766138,0.31796385097749907,0.2736997417926964,0.26595352268535594,0.23386204352637402,"Sotah ",{"$f":"VLOOKUP(Schedule!M1186,#REF!,2,FALSE)","v":{"$error":"#REF!"}}]
["2023-04-04",3,"Sotah 6",{"$f":"COUNT($A$2:A1187)","v":1186},3558,0.43747694577646623,0.41423828845444488,0.35669494651420142,0.31833271855403911,0.27406860936923644,0.26632239026189597,0.23423091110291405,"Sotah ",{"$f":"VLOOKUP(Schedule!M1187,#REF!,2,FALSE)","v":{"$error":"#REF!"}}]
["2023-04-05",4,"Sotah 7",{"$f":"COUNT($A$2:A1188)","v":1187},3561,0.43784581335300626,0.41460715603098486,0.35706381409074145,0.31870158613057914,0.27443747694577647,0.266691257838436,0.23459977867945409,"Sotah ",{"$f":"VLOOKUP(Schedule!M1188,#REF!,2,FALSE)","v":{"$error":"#REF!"}}]
["2023-04-06",5,"Sotah 8",{"$f":"COUNT($A$2:A1189)","v":1188},3564,0.4382146809295463,0.41497602360752489,0.35743268166728143,0.31907045370711912,0.2748063445223165,0.26706012541497604,0.23496864625599409,"Sotah ",{"$f":"VLOOKUP(Schedule!M1189,#REF!,2,FALSE)","v":{"$error":"#REF!"}}]
["2023-04-07",6,"Sotah 9",{"$f":"COUNT($A$2:A1190)","v":1189},3567,0.43858354850608633,0.41534489118406492,0.35780154924382146,0.31943932128365915,0.27517521209885654,0.26742899299151607,0.23533751383253412,"Sotah ",{"$f":"VLOOKUP(Schedule!M1190,#REF!,2,FALSE)","v":{"$error":"#REF!"}}]
["2023-04-08",7,"Sotah 10",{"$f":"COUNT($A$2:A1191)","v":1190},3570,0.43895241608262636,0.41571375876060496,0.35817041682036149,0.31980818886019918,0.27554407967539651,0.26779786056805605,0.23570638140907416,"Sotah ",{"$f":"VLOOKUP(Schedule!M1191,#REF!,2,FALSE)","v":{"$error":"#REF!"}}]
["2023-04-09",1,"Sotah 11",{"$f":"COUNT($A$2:A1192)","v":1191},3573,0.43932128365916634,0.41608262633714499,0.35853928439690153,0.32017705643673922,0.27591294725193655,0.26816672814459608,0.23607524898561416,"Sotah ",{"$f":"VLOOKUP(Schedule!M1192,#REF!,2,FALSE)","v":{"$error":"#REF!"}}]
["2023-04-10",2,"Sotah 12",{"$f":"COUNT($A$2:A1193)","v":1192},3576,0.43969015123570637,0.41645149391368497,0.35890815197344156,0.32054592401327925,0.27628181482847658,0.26853559572113611,0.23644411656215419,"Sotah ",{"$f":"VLOOKUP(Schedule!M1193,#REF!,2,FALSE)","v":{"$error":"#REF!"}}]
["2023-04-11",3,"Sotah 13",{"$f":"COUNT($A$2:A1194)","v":1193},3579,0.44005901881224641,0.416820361490225,0.35927701954998154,0.32091479158981928,0.27665068240501661,0.26890446329767614,{"$f":"(D1194-551)/2711","v":0.2368129841386942},"Sotah ",{"$f":"VLOOKUP(Schedule!M1194,#REF!,2,FALSE)","v":{"$error":"#REF!"}}]
["2023-04-12",4,"Sotah 14",{"$f":"COUNT($A$2:A1195)","v":1194},3582,0.44042788638878644,0.41718922906676503,0.35964588712652157,0.32128365916635926,0.27701954998155665,0.26927333087421618,0.23718185171523423,"Sotah ",{"$f":"VLOOKUP(Schedule!M1195,#REF!,2,FALSE)","v":{"$error":"#REF!"}}]
["2023-04-13",5,"Sotah 15",{"$f":"COUNT($A$2:A1196)","v":1195},3585,0.44079675396532647,0.41755809664330507,0.3600147547030616,0.32165252674289929,0.27738841755809662,0.26964219845075615,0.23755071929177426,"Sotah ",{"$f":"VLOOKUP(Schedule!M1196,#REF!,2,FALSE)","v":{"$error":"#REF!"}}]
["2023-04-14",6,"Sotah 16",{"$f":"COUNT($A$2:A1197)","v":1196},3588,0.44116562154186645,0.4179269642198451,0.36038362227960163,0.32202139431943932,0.27775728513463666,0.27001106602729619,0.23791958686831427,"Sotah ",{"$f":"VLOOKUP(Schedule!M1197,#REF!,2,FALSE)","v":{"$error":"#REF!"}}]
["2023-04-15",7,"Sotah 17",{"$f":"COUNT($A$2:A1198)","v":1197},3591,0.44153448911840648,0.41829583179638508,0.36075248985614167,0.32239026189597936,0.27812615271117669,0.27037993360383622,0.2382884544448543,"Sotah ",{"$f":"VLOOKUP(Schedule!M1198,#REF!,2,FALSE)","v":{"$error":"#REF!"}}]
["2023-04-16",1,"Sotah 18",{"$f":"COUNT($A$2:A1199)","v":1198},3594,0.44190335669494651,0.41866469937292511,0.36112135743268164,0.32275912947251939,0.27849502028771672,0.27074880118037625,0.23865732202139431,"Sotah ",{"$f":"VLOOKUP(Schedule!M1199,#REF!,2,FALSE)","v":{"$error":"#REF!"}}]
["2023-04-17",2,"Sotah 19",{"$f":"COUNT($A$2:A1200)","v":1199},3597,0.44227222427148655,0.41903356694946514,0.36149022500922168,0.32312799704905937,0.27886388786425675,0.27111766875691629,0.23902618959793434,"Sotah ",{"$f":"VLOOKUP(Schedule!M1200,#REF!,2,FALSE)","v":{"$error":"#REF!"}}]
["2023-04-18",3,"Sotah 20",{"$f":"COUNT($A$2:A1201)","v":1200},3600,0.44264109184802658,0.41940243452600517,0.36185909258576171,0.3234968646255994,0.27923275544079673,0.27148653633345626,0.23939505717447437,"Sotah ",{"$f":"VLOOKUP(Schedule!M1201,#REF!,2,FALSE)","v":{"$error":"#REF!"}}]
["2023-04-19",4,"Sotah 21",{"$f":"COUNT($A$2:A1202)","v":1201},3603,0.44300995942456656,0.41977130210254521,0.36222796016230174,0.32386573220213943,0.27960162301733676,0.2718554039099963,0.23976392475101438,"Sotah ",{"$f":"VLOOKUP(Schedule!M1202,#REF!,2,FALSE)","v":{"$error":"#REF!"}}]
["2023-04-20",5,"Sotah 22",{"$f":"COUNT($A$2:A1203)","v":1202},3606,0.44337882700110659,0.42014016967908518,0.36259682773884178,0.32423459977867947,0.2799704905938768,0.27222427148653633,0.24013279232755441,"Sotah ",{"$f":"VLOOKUP(Schedule!M1203,#REF!,2,FALSE)","v":{"$error":"#REF!"}}]
["2023-04-21",6,"Sotah 23",{"$f":"COUNT($A$2:A1204)","v":1203},3609,0.44374769457764662,0.42050903725562522,0.36296569531538175,0.3246034673552195,0.28033935817041683,0.27259313906307636,0.24050165990409442,"Sotah ",{"$f":"VLOOKUP(Schedule!M1204,#REF!,2,FALSE)","v":{"$error":"#REF!"}}]
["2023-04-22",7,"Sotah 24",{"$f":"COUNT($A$2:A1205)","v":1204},3612,0.44411656215418666,0.42087790483216525,0.36333456289192179,0.32497233493175948,0.28070822574695686,0.27296200663961639,0.24087052748063445,"Sotah ",{"$f":"VLOOKUP(Schedule!M1205,#REF!,2,FALSE)","v":{"$error":"#REF!"}}]
["2023-04-23",1,"Sotah 25",{"$f":"COUNT($A$2:A1206)","v":1205},3615,0.44448542973072669,0.42124677240870528,0.36370343046846182,0.32534120250829951,0.28107709332349684,0.27333087421615643,0.24123939505717448,"Sotah ",{"$f":"VLOOKUP(Schedule!M1206,#REF!,2,FALSE)","v":{"$error":"#REF!"}}]
["2023-04-24",2,"Sotah 26",{"$f":"COUNT($A$2:A1207)","v":1206},3618,0.44485429730726667,0.42161563998524532,0.36407229804500185,0.32571007008483954,0.28144596090003687,0.2736997417926964,0.24160826263371449,"Sotah ",{"$f":"VLOOKUP(Schedule!M1207,#REF!,2,FALSE)","v":{"$error":"#REF!"}}]
["2023-04-25",3,"Sotah 27",{"$f":"COUNT($A$2:A1208)","v":1207},3621,0.4452231648838067,0.42198450756178529,0.36444116562154188,0.32607893766137958,0.28181482847657691,0.27406860936923644,0.24197713021025452,"Sotah ",{"$f":"VLOOKUP(Schedule!M1208,#REF!,2,FALSE)","v":{"$error":"#REF!"}}]
["2023-04-26",4,"Sotah 28",{"$f":"COUNT($A$2:A1209)","v":1208},3624,0.44559203246034673,0.42235337513832533,0.36481003319808186,0.32644780523791961,0.28218369605311694,0.27443747694577647,0.24234599778679455,"Sotah ",{"$f":"VLOOKUP(Schedule!M1209,#REF!,2,FALSE)","v":{"$error":"#REF!"}}]
["2023-04-27",5,"Sotah 29",{"$f":"COUNT($A$2:A1210)","v":1209},3627,0.44596090003688676,0.42272224271486536,0.3651789007746219,0.32681667281445959,0.28255256362965697,0.2748063445223165,0.24271486536333456,"Sotah ",{"$f":"VLOOKUP(Schedule!M1210,#REF!,2,FALSE)","v":{"$error":"#REF!"}}]
["2023-04-28",6,"Sotah 30",{"$f":"COUNT($A$2:A1211)","v":1210},3630,0.4463297676134268,0.42309111029140539,0.36554776835116193,0.32718554039099962,0.28292143120619695,0.27517521209885654,0.24308373293987459,"Sotah ",{"$f":"VLOOKUP(Schedule!M1211,#REF!,2,FALSE)","v":{"$error":"#REF!"}}]
["2023-04-29",7,"Sotah 31",{"$f":"COUNT($A$2:A1212)","v":1211},3633,0.44669863518996678,0.42345997786794543,0.36591663592770196,0.32755440796753965,0.28329029878273698,0.27554407967539651,0.2434526005164146,"Sotah ",{"$f":"VLOOKUP(Schedule!M1212,#REF!,2,FALSE)","v":{"$error":"#REF!"}}]
["2023-04-30",1,"Sotah 32",{"$f":"COUNT($A$2:A1213)","v":1212},3636,0.44706750276650681,0.4238288454444854,0.36628550350424199,0.32792327554407968,0.28365916635927702,0.27591294725193655,0.24382146809295463,"Sotah ",{"$f":"VLOOKUP(Schedule!M1213,#REF!,2,FALSE)","v":{"$error":"#REF!"}}]
["2023-05-01",2,"Sotah 33",{"$f":"COUNT($A$2:A1214)","v":1213},3639,0.44743637034304684,0.42419771302102544,0.36665437108078203,0.32829214312061972,{"$f":"(D1214-443)/2711","v":0.28402803393581705},0.27628181482847658,0.24419033566949466,"Sotah ",{"$f":"VLOOKUP(Schedule!M1214,#REF!,2,FALSE)","v":{"$error":"#REF!"}}]
["2023-05-02",3,"Sotah 34",{"$f":"COUNT($A$2:A1215)","v":1214},3642,0.44780523791958687,0.42456658059756547,0.367023238657322,0.32866101069715969,0.28439690151235708,0.27665068240501661,0.24455920324603467,"Sotah ",{"$f":"VLOOKUP(Schedule!M1215,#REF!,2,FALSE)","v":{"$error":"#REF!"}}]
["2023-05-03",4,"Sotah 35",{"$f":"COUNT($A$2:A1216)","v":1215},3645,0.44817410549612691,0.4249354481741055,0.36739210623386204,0.32902987827369973,0.28476576908889706,0.27701954998155665,0.2449280708225747,"Sotah ",{"$f":"VLOOKUP(Schedule!M1216,#REF!,2,FALSE)","v":{"$error":"#REF!"}}]
["2023-05-04",5,"Sotah 36",{"$f":"COUNT($A$2:A1217)","v":1216},3648,0.44854297307266694,0.42530431575064553,0.36776097381040207,0.32939874585023976,0.28513463666543709,0.27738841755809662,0.24529693839911471,"Sotah ",{"$f":"VLOOKUP(Schedule!M1217,#REF!,2,FALSE)","v":{"$error":"#REF!"}}]
["2023-05-05",6,"Sotah 37",{"$f":"COUNT($A$2:A1218)","v":1217},{"$f":"D1218*3","v":3651},0.44891184064920692,{"$f":"(D1218-63)/2711","v":0.42567318332718557},0.3681298413869421,0.32976761342677979,0.28550350424197712,0.27775728513463666,0.24566580597565474,"Sotah ",{"$f":"VLOOKUP(Schedule!M1218,#REF!,2,FALSE)","v":{"$error":"#REF!"}}]
["2023-05-06",{"$f":"WEEKDAY(A1219)","v":7},"Sotah 38",{"$f":"COUNT($A$2:A1219)","v":1218},3654,{"$f":"D1219/2711","v":0.44928070822574695},0.42604205090372554,0.36849870896348214,0.33013648100331983,0.28587237181851716,0.27812615271117669,0.24603467355219477,{"$f":"LEFT(C1219,FIND(\"☃\",SUBSTITUTE(C1219,\" \",\"☃\",LEN(C1219)-LEN(SUBSTITUTE(C1219,\" \",\"\")))))","v":"Sotah "},{"$f":"VLOOKUP(Schedule!M1219,#REF!,2,FALSE)","v":{"$error":"#REF!"}}]
["2023-05-07",1,"Sotah 39",{"$f":"COUNT($A$2:A1220)","v":1219},3657,0.44964957580228698,0.42641091848026558,0.36886757654002211,0.3305053485798598,0.28624123939505719,0.27849502028771672,0.24640354112873478,"Sotah ",{"$f":"VLOOKUP(Schedule!M1220,#REF!,2,FALSE)","v":{"$error":"#REF!"}}]
["2023-05-08",2,"Sotah 40",{"$f":"COUNT($A$2:A1221)","v":1220},3660,0.45001844337882702,0.42677978605680561,0.36923644411656215,0.33087421615639984,0.28661010697159722,0.27886388786425675,0.24677240870527481,"Sotah ",{"$f":"VLOOKUP(Schedule!M1221,#REF!,2,FALSE)","v":{"$error":"#REF!"}}]
["2023-05-09",3,"Sotah 41",{"$f":"COUNT($A$2:A1222)","v":1221},3663,0.45038731095536705,0.42714865363334564,0.36960531169310218,{"$f":"(D1222-323)/2711","v":0.33124308373293987},0.2869789745481372,0.27923275544079673,0.24714127628181484,"Sotah ",{"$f":"VLOOKUP(Schedule!M1222,#REF!,2,FALSE)","v":{"$error":"#REF!"}}]
["2023-05-10",4,"Sotah 42",{"$f":"COUNT($A$2:A1223)","v":1222},3666,0.45075617853190703,0.42751752120988568,0.36997417926964221,0.3316119513094799,0.28734784212467723,0.27960162301733676,0.24751014385835485,"Sotah ",{"$f":"VLOOKUP(Schedule!M1223,#REF!,2,FALSE)","v":{"$error":"#REF!"}}]
["2023-05-11",5,"Sotah 43",{"$f":"COUNT($A$2:A1224)","v":1223},3669,0.45112504610844706,0.42788638878642565,0.37034304684618224,0.33198081888601993,0.28771670970121727,0.2799704905938768,0.24787901143489488,"Sotah ",{"$f":"VLOOKUP(Schedule!M1224,#REF!,2,FALSE)","v":{"$error":"#REF!"}}]
["2023-05-12",6,"Sotah 44",{"$f":"COUNT($A$2:A1225)","v":1224},3672,0.45149391368498709,0.42825525636296569,0.37071191442272222,0.33234968646255997,0.2880855772777573,0.28033935817041683,0.24824787901143489,"Sotah ",{"$f":"VLOOKUP(Schedule!M1225,#REF!,2,FALSE)","v":{"$error":"#REF!"}}]
["2023-05-13",7,"Sotah 45",{"$f":"COUNT($A$2:A1226)","v":1225},3675,0.45186278126152712,0.42862412393950572,0.37108078199926225,0.33271855403909995,0.28845444485429733,0.28070822574695686,0.24861674658797492,"Sotah ",{"$f":"VLOOKUP(Schedule!M1226,#REF!,2,FALSE)","v":{"$error":"#REF!"}}]
["2023-05-14",1,"Sotah 46",{"$f":"COUNT($A$2:A1227)","v":1226},3678,0.45223164883806716,0.42899299151604575,0.37144964957580229,0.33308742161563998,0.28882331243083731,0.28107709332349684,0.24898561416451495,"Sotah ",{"$f":"VLOOKUP(Schedule!M1227,#REF!,2,FALSE)","v":{"$error":"#REF!"}}]
["2023-05-15",2,"Sotah 47",{"$f":"COUNT($A$2:A1228)","v":1227},3681,0.45260051641460713,0.42936185909258578,0.37181851715234232,0.33345628919218001,0.28919218000737734,0.28144596090003687,0.24935448174105496,"Sotah ",{"$f":"VLOOKUP(Schedule!M1228,#REF!,2,FALSE)","v":{"$error":"#REF!"}}]
["2023-05-16",3,"Sotah 48",{"$f":"COUNT($A$2:A1229)","v":1228},3684,0.45296938399114717,0.42973072666912576,0.37218738472888235,0.33382515676872004,0.28956104758391737,0.28181482847657691,0.24972334931759499,"Sotah ",{"$f":"VLOOKUP(Schedule!M1229,#REF!,2,FALSE)","v":{"$error":"#REF!"}}]
["2023-05-17",4,"Sotah 49",{"$f":"COUNT($A$2:A1230)","v":1229},3687,0.4533382515676872,0.4300995942456658,0.37255625230542233,0.33419402434526008,0.28992991516045741,0.28218369605311694,0.25009221689413502,"Sotah ",{"$f":"VLOOKUP(Schedule!M1230,#REF!,2,FALSE)","v":{"$error":"#REF!"}}]
["2023-05-18",5,"Gittin 2",{"$f":"COUNT($A$2:A1231)","v":1230},3690,0.45370711914422723,0.43046846182220583,0.37292511988196236,0.33456289192180005,0.29029878273699744,0.28255256362965697,0.25046108447067505,"Gittin ",{"$f":"VLOOKUP(Schedule!M1231,#REF!,2,FALSE)","v":{"$error":"#REF!"}}]
["2023-05-19",6,"Gittin 3",{"$f":"COUNT($A$2:A1232)","v":1231},3693,0.45407598672076727,0.43083732939874586,0.3732939874585024,0.33493175949834009,0.29066765031353742,0.28292143120619695,0.25082995204721503,"Gittin ",{"$f":"VLOOKUP(Schedule!M1232,#REF!,2,FALSE)","v":{"$error":"#REF!"}}]
["2023-05-20",7,"Gittin 4",{"$f":"COUNT($A$2:A1233)","v":1232},3696,0.45444485429730724,0.43120619697528589,0.37366285503504243,0.33530062707488012,0.29103651789007745,0.28329029878273698,0.25119881962375507,"Gittin ",{"$f":"VLOOKUP(Schedule!M1233,#REF!,2,FALSE)","v":{"$error":"#REF!"}}]
["2023-05-21",1,"Gittin 5",{"$f":"COUNT($A$2:A1234)","v":1233},3699,0.45481372187384728,0.43157506455182587,0.37403172261158246,0.33566949465142015,0.29140538546661748,{"$f":"(D1234-464)/2711","v":0.28365916635927702},0.2515676872002951,"Gittin ",{"$f":"VLOOKUP(Schedule!M1234,#REF!,2,FALSE)","v":{"$error":"#REF!"}}]
["2023-05-22",2,"Gittin 6",{"$f":"COUNT($A$2:A1235)","v":1234},3702,0.45518258945038731,0.4319439321283659,0.37440059018812244,0.33603836222796019,0.29177425304315752,0.28402803393581705,0.25193655477683513,"Gittin ",{"$f":"VLOOKUP(Schedule!M1235,#REF!,2,FALSE)","v":{"$error":"#REF!"}}]
["2023-05-23",3,"Gittin 7",{"$f":"COUNT($A$2:A1236)","v":1235},3705,0.45555145702692734,0.43231279970490594,0.37476945776466247,0.33640722980450016,0.29214312061969755,0.28439690151235708,0.25230542235337516,"Gittin ",{"$f":"VLOOKUP(Schedule!M1236,#REF!,2,FALSE)","v":{"$error":"#REF!"}}]
["2023-05-24",4,"Gittin 8",{"$f":"COUNT($A$2:A1237)","v":1236},3708,0.45592032460346738,0.43268166728144597,0.37513832534120251,0.3367760973810402,0.29251198819623753,0.28476576908889706,0.25267428992991514,"Gittin ",{"$f":"VLOOKUP(Schedule!M1237,#REF!,2,FALSE)","v":{"$error":"#REF!"}}]
["2023-05-25",5,"Gittin 9",{"$f":"COUNT($A$2:A1238)","v":1237},3711,0.45628919218000735,0.433050534857986,0.37550719291774254,0.33714496495758023,0.29288085577277756,0.28513463666543709,0.25304315750645517,"Gittin ",{"$f":"VLOOKUP(Schedule!M1238,#REF!,2,FALSE)","v":{"$error":"#REF!"}}]
["2023-05-26",6,"Gittin 10",{"$f":"COUNT($A$2:A1239)","v":1238},3714,0.45665805975654739,0.43341940243452598,0.37587606049428257,0.33751383253412026,0.29324972334931759,0.28550350424197712,0.25341202508299521,"Gittin ",{"$f":"VLOOKUP(Schedule!M1239,#REF!,2,FALSE)","v":{"$error":"#REF!"}}]
["2023-05-27",7,"Gittin 11",{"$f":"COUNT($A$2:A1240)","v":1239},3717,0.45702692733308742,0.43378827001106601,0.37624492807082255,0.33788270011066029,0.29361859092585763,0.28587237181851716,0.25378089265953524,"Gittin ",{"$f":"VLOOKUP(Schedule!M1240,#REF!,2,FALSE)","v":{"$error":"#REF!"}}]
["2023-05-28",1,"Gittin 12",{"$f":"COUNT($A$2:A1241)","v":1240},3720,0.45739579490962745,0.43415713758760605,0.37661379564736258,0.33825156768720027,0.29398745850239766,0.28624123939505719,0.25414976023607527,"Gittin ",{"$f":"VLOOKUP(Schedule!M1241,#REF!,2,FALSE)","v":{"$error":"#REF!"}}]
["2023-05-29",2,"Gittin 13",{"$f":"COUNT($A$2:A1242)","v":1241},3723,0.45776466248616748,0.43452600516414608,0.37698266322390261,0.3386204352637403,0.29435632607893764,0.28661010697159722,0.25451862781261525,"Gittin ",{"$f":"VLOOKUP(Schedule!M1242,#REF!,2,FALSE)","v":{"$error":"#REF!"}}]
["2023-05-30",3,"Gittin 14",{"$f":"COUNT($A$2:A1243)","v":1242},3726,0.45813353006270746,0.43489487274068611,0.37735153080044265,0.33898930284028034,0.29472519365547767,0.2869789745481372,0.25488749538915528,"Gittin ",{"$f":"VLOOKUP(Schedule!M1243,#REF!,2,FALSE)","v":{"$error":"#REF!"}}]
["2023-05-31",4,"Gittin 15",{"$f":"COUNT($A$2:A1244)","v":1243},3729,0.45850239763924749,0.43526374031722609,0.37772039837698268,0.33935817041682037,0.2950940612320177,0.28734784212467723,0.25525636296569532,"Gittin ",{"$f":"VLOOKUP(Schedule!M1244,#REF!,2,FALSE)","v":{"$error":"#REF!"}}]
["2023-06-01",5,"Gittin 16",{"$f":"COUNT($A$2:A1245)","v":1244},3732,0.45887126521578753,0.43563260789376612,0.37808926595352271,0.3397270379933604,0.29546292880855773,0.28771670970121727,0.25562523054223535,"Gittin ",{"$f":"VLOOKUP(Schedule!M1245,#REF!,2,FALSE)","v":{"$error":"#REF!"}}]
["2023-06-02",6,"Gittin 17",{"$f":"COUNT($A$2:A1246)","v":1245},3735,0.45924013279232756,0.43600147547030615,{"$f":"(D1246-219)/2711","v":0.37845813353006269},0.34009590556990038,0.29583179638509777,0.2880855772777573,0.25599409811877538,"Gittin ",{"$f":"VLOOKUP(Schedule!M1246,#REF!,2,FALSE)","v":{"$error":"#REF!"}}]
["2023-06-03",7,"Gittin 18",{"$f":"COUNT($A$2:A1247)","v":1246},3738,0.45960900036886759,0.43637034304684619,0.37882700110660272,0.34046477314644041,0.29620066396163774,0.28845444485429733,0.25636296569531536,"Gittin ",{"$f":"VLOOKUP(Schedule!M1247,#REF!,2,FALSE)","v":{"$error":"#REF!"}}]
["2023-06-04",1,"Gittin 19",{"$f":"COUNT($A$2:A1248)","v":1247},3741,0.45997786794540763,0.43673921062338622,0.37919586868314276,0.34083364072298045,0.29656953153817778,0.28882331243083731,0.25673183327185539,"Gittin ",{"$f":"VLOOKUP(Schedule!M1248,#REF!,2,FALSE)","v":{"$error":"#REF!"}}]
["2023-06-05",2,"Gittin 20",{"$f":"COUNT($A$2:A1249)","v":1248},3744,0.4603467355219476,0.43710807819992625,0.37956473625968279,0.34120250829952048,0.29693839911471781,0.28919218000737734,0.25710070084839542,"Gittin ",{"$f":"VLOOKUP(Schedule!M1249,#REF!,2,FALSE)","v":{"$error":"#REF!"}}]
["2023-06-06",3,"Gittin 21",{"$f":"COUNT($A$2:A1250)","v":1249},3747,0.46071560309848764,0.43747694577646623,0.37993360383622282,0.34157137587606051,0.29730726669125784,0.28956104758391737,0.25746956842493546,"Gittin ",{"$f":"VLOOKUP(Schedule!M1250,#REF!,2,FALSE)","v":{"$error":"#REF!"}}]
["2023-06-07",4,"Gittin 22",{"$f":"COUNT($A$2:A1251)","v":1250},3750,0.46108447067502767,0.43784581335300626,0.3803024714127628,0.34194024345260049,0.29767613426779788,0.28992991516045741,0.25783843600147549,"Gittin ",{"$f":"VLOOKUP(Schedule!M1251,#REF!,2,FALSE)","v":{"$error":"#REF!"}}]
["2023-06-08",5,"Gittin 23",{"$f":"COUNT($A$2:A1252)","v":1251},3753,0.4614533382515677,0.4382146809295463,0.38067133898930283,0.34230911102914052,0.29804500184433791,0.29029878273699744,0.25820730357801547,"Gittin ",{"$f":"VLOOKUP(Schedule!M1252,#REF!,2,FALSE)","v":{"$error":"#REF!"}}]
["2023-06-09",6,"Gittin 24",{"$f":"COUNT($A$2:A1253)","v":1252},3756,0.46182220582810773,0.43858354850608633,0.38104020656584286,0.34267797860568056,0.29841386942087789,0.29066765031353742,0.2585761711545555,"Gittin ",{"$f":"VLOOKUP(Schedule!M1253,#REF!,2,FALSE)","v":{"$error":"#REF!"}}]
["2023-06-10",7,"Gittin 25",{"$f":"COUNT($A$2:A1254)","v":1253},3759,0.46219107340464771,0.43895241608262636,0.3814090741423829,0.34304684618222059,0.29878273699741792,0.29103651789007745,0.25894503873109553,"Gittin ",{"$f":"VLOOKUP(Schedule!M1254,#REF!,2,FALSE)","v":{"$error":"#REF!"}}]
["2023-06-11",1,"Gittin 26",{"$f":"COUNT($A$2:A1255)","v":1254},3762,0.46255994098118774,0.43932128365916634,0.38177794171892293,0.34341571375876062,0.29915160457395795,0.29140538546661748,0.25931390630763557,"Gittin ",{"$f":"VLOOKUP(Schedule!M1255,#REF!,2,FALSE)","v":{"$error":"#REF!"}}]
["2023-06-12",2,"Gittin 27",{"$f":"COUNT($A$2:A1256)","v":1255},3765,0.46292880855772778,0.43969015123570637,0.38214680929546291,0.34378458133530065,0.29952047215049799,0.29177425304315752,0.2596827738841756,"Gittin ",{"$f":"VLOOKUP(Schedule!M1256,#REF!,2,FALSE)","v":{"$error":"#REF!"}}]
["2023-06-13",3,"Gittin 28",{"$f":"COUNT($A$2:A1257)","v":1256},3768,0.46329767613426781,0.44005901881224641,0.38251567687200294,0.34415344891184063,0.29988933972703802,0.29214312061969755,0.26005164146071558,"Gittin ",{"$f":"VLOOKUP(Schedule!M1257,#REF!,2,FALSE)","v":{"$error":"#REF!"}}]
["2023-06-14",4,"Gittin 29",{"$f":"COUNT($A$2:A1258)","v":1257},3771,0.46366654371080784,0.44042788638878644,0.38288454444854297,0.34452231648838066,0.300258207303578,0.29251198819623753,{"$f":"(D1258-551)/2711","v":0.26042050903725561},"Gittin ",{"$f":"VLOOKUP(Schedule!M1258,#REF!,2,FALSE)","v":{"$error":"#REF!"}}]
["2023-06-15",5,"Gittin 30",{"$f":"COUNT($A$2:A1259)","v":1258},3774,0.46403541128734782,0.44079675396532647,0.38325341202508301,0.3448911840649207,0.30062707488011803,0.29288085577277756,0.26078937661379564,"Gittin ",{"$f":"VLOOKUP(Schedule!M1259,#REF!,2,FALSE)","v":{"$error":"#REF!"}}]
["2023-06-16",6,"Gittin 31",{"$f":"COUNT($A$2:A1260)","v":1259},3777,0.46440427886388785,0.44116562154186645,0.38362227960162304,0.34526005164146073,0.30099594245665806,0.29324972334931759,0.26115824419033568,"Gittin ",{"$f":"VLOOKUP(Schedule!M1260,#REF!,2,FALSE)","v":{"$error":"#REF!"}}]
["2023-06-17",7,"Gittin 32",{"$f":"COUNT($A$2:A1261)","v":1260},3780,0.46477314644042789,0.44153448911840648,0.38399114717816302,0.34562891921800076,0.30136481003319809,0.29361859092585763,0.26152711176687571,"Gittin ",{"$f":"VLOOKUP(Schedule!M1261,#REF!,2,FALSE)","v":{"$error":"#REF!"}}]
["2023-06-18",1,"Gittin 33",{"$f":"COUNT($A$2:A1262)","v":1261},3783,0.46514201401696792,0.44190335669494651,0.38436001475470305,0.34599778679454074,0.30173367760973813,0.29398745850239766,0.26189597934341574,"Gittin ",{"$f":"VLOOKUP(Schedule!M1262,#REF!,2,FALSE)","v":{"$error":"#REF!"}}]
["2023-06-19",2,"Gittin 34",{"$f":"COUNT($A$2:A1263)","v":1262},3786,0.46551088159350795,0.44227222427148655,0.38472888233124308,0.34636665437108077,0.3021025451862781,0.29435632607893764,0.26226484691995572,"Gittin ",{"$f":"VLOOKUP(Schedule!M1263,#REF!,2,FALSE)","v":{"$error":"#REF!"}}]
["2023-06-20",3,"Gittin 35",{"$f":"COUNT($A$2:A1264)","v":1263},3789,0.46587974917004793,0.44264109184802658,0.38509774990778312,0.34673552194762081,0.30247141276281814,0.29472519365547767,0.26263371449649575,"Gittin ",{"$f":"VLOOKUP(Schedule!M1264,#REF!,2,FALSE)","v":{"$error":"#REF!"}}]
["2023-06-21",4,"Gittin 36",{"$f":"COUNT($A$2:A1265)","v":1264},3792,0.46624861674658796,0.44300995942456656,0.38546661748432315,0.34710438952416084,0.30284028033935817,0.2950940612320177,0.26300258207303578,"Gittin ",{"$f":"VLOOKUP(Schedule!M1265,#REF!,2,FALSE)","v":{"$error":"#REF!"}}]
["2023-06-22",5,"Gittin 37",{"$f":"COUNT($A$2:A1266)","v":1265},3795,0.466617484323128,0.44337882700110659,0.38583548506086313,0.34747325710070087,0.3032091479158982,0.29546292880855773,0.26337144964957582,"Gittin ",{"$f":"VLOOKUP(Schedule!M1266,#REF!,2,FALSE)","v":{"$error":"#REF!"}}]
["2023-06-23",6,"Gittin 38",{"$f":"COUNT($A$2:A1267)","v":1266},3798,0.46698635189966803,0.44374769457764662,0.38620435263740316,0.34784212467724085,0.30357801549243824,0.29583179638509777,0.26374031722611585,"Gittin ",{"$f":"VLOOKUP(Schedule!M1267,#REF!,2,FALSE)","v":{"$error":"#REF!"}}]
["2023-06-24",7,"Gittin 39",{"$f":"COUNT($A$2:A1268)","v":1267},3801,0.46735521947620806,0.44411656215418666,0.38657322021394319,0.34821099225378088,0.30394688306897821,0.29620066396163774,0.26410918480265583,"Gittin ",{"$f":"VLOOKUP(Schedule!M1268,#REF!,2,FALSE)","v":{"$error":"#REF!"}}]
["2023-06-25",1,"Gittin 40",{"$f":"COUNT($A$2:A1269)","v":1268},3804,0.46772408705274804,0.44448542973072669,0.38694208779048322,0.34857985983032092,0.30431575064551825,0.29656953153817778,0.26447805237919586,"Gittin ",{"$f":"VLOOKUP(Schedule!M1269,#REF!,2,FALSE)","v":{"$error":"#REF!"}}]
["2023-06-26",2,"Gittin 41",{"$f":"COUNT($A$2:A1270)","v":1269},3807,0.46809295462928807,0.44485429730726667,0.38731095536702326,0.34894872740686095,0.30468461822205828,0.29693839911471781,0.26484691995573589,"Gittin ",{"$f":"VLOOKUP(Schedule!M1270,#REF!,2,FALSE)","v":{"$error":"#REF!"}}]
["2023-06-27",3,"Gittin 42",{"$f":"COUNT($A$2:A1271)","v":1270},3810,0.4684618222058281,0.4452231648838067,0.38767982294356323,0.34931759498340098,0.30505348579859831,0.29730726669125784,0.26521578753227593,"Gittin ",{"$f":"VLOOKUP(Schedule!M1271,#REF!,2,FALSE)","v":{"$error":"#REF!"}}]
["2023-06-28",4,"Gittin 43",{"$f":"COUNT($A$2:A1272)","v":1271},3813,0.46883068978236814,0.44559203246034673,0.38804869052010327,0.34968646255994096,0.30542235337513834,0.29767613426779788,0.26558465510881596,"Gittin ",{"$f":"VLOOKUP(Schedule!M1272,#REF!,2,FALSE)","v":{"$error":"#REF!"}}]
["2023-06-29",5,"Gittin 44",{"$f":"COUNT($A$2:A1273)","v":1272},3816,0.46919955735890817,0.44596090003688676,0.3884175580966433,0.35005533013648099,0.30579122095167832,0.29804500184433791,0.26595352268535594,"Gittin ",{"$f":"VLOOKUP(Schedule!M1273,#REF!,2,FALSE)","v":{"$error":"#REF!"}}]
["2023-06-30",6,"Gittin 45",{"$f":"COUNT($A$2:A1274)","v":1273},3819,0.46956842493544815,0.4463297676134268,0.38878642567318333,0.35042419771302102,0.30616008852821835,0.29841386942087789,0.26632239026189597,"Gittin ",{"$f":"VLOOKUP(Schedule!M1274,#REF!,2,FALSE)","v":{"$error":"#REF!"}}]
["2023-07-01",7,"Gittin 46",{"$f":"COUNT($A$2:A1275)","v":1274},3822,0.46993729251198818,0.44669863518996678,0.38915529324972337,0.35079306528956106,0.30652895610475839,0.29878273699741792,0.266691257838436,"Gittin ",{"$f":"VLOOKUP(Schedule!M1275,#REF!,2,FALSE)","v":{"$error":"#REF!"}}]
["2023-07-02",1,"Gittin 47",{"$f":"COUNT($A$2:A1276)","v":1275},3825,0.47030616008852821,0.44706750276650681,0.3895241608262634,0.35116193286610109,0.30689782368129842,0.29915160457395795,0.26706012541497604,"Gittin ",{"$f":"VLOOKUP(Schedule!M1276,#REF!,2,FALSE)","v":{"$error":"#REF!"}}]
["2023-07-03",2,"Gittin 48",{"$f":"COUNT($A$2:A1277)","v":1276},3828,0.47067502766506825,0.44743637034304684,0.38989302840280338,0.35153080044264107,0.30726669125783845,0.29952047215049799,0.26742899299151607,"Gittin ",{"$f":"VLOOKUP(Schedule!M1277,#REF!,2,FALSE)","v":{"$error":"#REF!"}}]
["2023-07-04",3,"Gittin 49",{"$f":"COUNT($A$2:A1278)","v":1277},3831,0.47104389524160828,0.44780523791958687,0.39026189597934341,0.3518996680191811,{"$f":"(D1278-443)/2711","v":0.30763555883437843},0.29988933972703802,0.26779786056805605,"Gittin ",{"$f":"VLOOKUP(Schedule!M1278,#REF!,2,FALSE)","v":{"$error":"#REF!"}}]
["2023-07-05",4,"Gittin 50",{"$f":"COUNT($A$2:A1279)","v":1278},3834,0.47141276281814831,0.44817410549612691,0.39063076355588344,0.35226853559572113,0.30800442641091846,0.300258207303578,0.26816672814459608,"Gittin ",{"$f":"VLOOKUP(Schedule!M1279,#REF!,2,FALSE)","v":{"$error":"#REF!"}}]
["2023-07-06",5,"Gittin 51",{"$f":"COUNT($A$2:A1280)","v":1279},3837,0.47178163039468829,0.44854297307266694,0.39099963113242348,0.35263740317226117,0.3083732939874585,0.30062707488011803,0.26853559572113611,"Gittin ",{"$f":"VLOOKUP(Schedule!M1280,#REF!,2,FALSE)","v":{"$error":"#REF!"}}]
["2023-07-07",6,"Gittin 52",{"$f":"COUNT($A$2:A1281)","v":1280},3840,0.47215049797122832,0.44891184064920692,0.39136849870896351,0.3530062707488012,0.30874216156399853,0.30099594245665806,0.26890446329767614,"Gittin ",{"$f":"VLOOKUP(Schedule!M1281,#REF!,2,FALSE)","v":{"$error":"#REF!"}}]
["2023-07-08",7,"Gittin 53",{"$f":"COUNT($A$2:A1282)","v":1281},{"$f":"D1282*3","v":3843},0.47251936554776836,{"$f":"(D1282-63)/2711","v":0.44928070822574695},0.39173736628550349,0.35337513832534118,0.30911102914053856,0.30136481003319809,0.26927333087421618,"Gittin ",{"$f":"VLOOKUP(Schedule!M1282,#REF!,2,FALSE)","v":{"$error":"#REF!"}}]
["2023-07-09",{"$f":"WEEKDAY(A1283)","v":1},"Gittin 54",{"$f":"COUNT($A$2:A1283)","v":1282},3846,{"$f":"D1283/2711","v":0.47288823312430839},0.44964957580228698,0.39210623386204352,0.35374400590188121,0.3094798967170786,0.30173367760973813,0.26964219845075615,{"$f":"LEFT(C1283,FIND(\"☃\",SUBSTITUTE(C1283,\" \",\"☃\",LEN(C1283)-LEN(SUBSTITUTE(C1283,\" \",\"\")))))","v":"Gittin "},{"$f":"VLOOKUP(Schedule!M1283,#REF!,2,FALSE)","v":{"$error":"#REF!"}}]
["2023-07-10",2,"Gittin 55",{"$f":"COUNT($A$2:A1284)","v":1283},3849,0.47325710070084842,0.45001844337882702,0.39247510143858355,0.35411287347842124,0.30984876429361857,0.3021025451862781,0.27001106602729619,"Gittin ",{"$f":"VLOOKUP(Schedule!M1284,#REF!,2,FALSE)","v":{"$error":"#REF!"}}]
["2023-07-11",3,"Gittin 56",{"$f":"COUNT($A$2:A1285)","v":1284},3852,0.4736259682773884,0.45038731095536705,0.39284396901512358,0.35448174105496127,0.31021763187015861,0.30247141276281814,0.27037993360383622,"Gittin ",{"$f":"VLOOKUP(Schedule!M1285,#REF!,2,FALSE)","v":{"$error":"#REF!"}}]
["2023-07-12",4,"Gittin 57",{"$f":"COUNT($A$2:A1286)","v":1285},3855,0.47399483585392843,0.45075617853190703,0.39321283659166362,{"$f":"(D1286-323)/2711","v":0.35485060863150131},0.31058649944669864,0.30284028033935817,0.27074880118037625,"Gittin ",{"$f":"VLOOKUP(Schedule!M1286,#REF!,2,FALSE)","v":{"$error":"#REF!"}}]
["2023-07-13",5,"Gittin 58",{"$f":"COUNT($A$2:A1287)","v":1286},3858,0.47436370343046846,0.45112504610844706,0.39358170416820359,0.35521947620804134,0.31095536702323867,0.3032091479158982,0.27111766875691629,"Gittin ",{"$f":"VLOOKUP(Schedule!M1287,#REF!,2,FALSE)","v":{"$error":"#REF!"}}]
["2023-07-14",6,"Gittin 59",{"$f":"COUNT($A$2:A1288)","v":1287},3861,0.4747325710070085,0.45149391368498709,0.39395057174474363,0.35558834378458132,0.3113242345997787,0.30357801549243824,0.27148653633345626,"Gittin ",{"$f":"VLOOKUP(Schedule!M1288,#REF!,2,FALSE)","v":{"$error":"#REF!"}}]
["2023-07-15",7,"Gittin 60",{"$f":"COUNT($A$2:A1289)","v":1288},3864,0.47510143858354853,0.45186278126152712,0.39431943932128366,0.35595721136112135,0.31169310217631868,0.30394688306897821,0.2718554039099963,"Gittin ",{"$f":"VLOOKUP(Schedule!M1289,#REF!,2,FALSE)","v":{"$error":"#REF!"}}]
["2023-07-16",1,"Gittin 61",{"$f":"COUNT($A$2:A1290)","v":1289},3867,0.47547030616008851,0.45223164883806716,0.39468830689782369,0.35632607893766138,0.31206196975285871,0.30431575064551825,0.27222427148653633,"Gittin ",{"$f":"VLOOKUP(Schedule!M1290,#REF!,2,FALSE)","v":{"$error":"#REF!"}}]
["2023-07-17",2,"Gittin 62",{"$f":"COUNT($A$2:A1291)","v":1290},3870,0.47583917373662854,0.45260051641460713,0.39505717447436373,0.35669494651420142,0.31243083732939875,0.30468461822205828,0.27259313906307636,"Gittin ",{"$f":"VLOOKUP(Schedule!M1291,#REF!,2,FALSE)","v":{"$error":"#REF!"}}]
["2023-07-18",3,"Gittin 63",{"$f":"COUNT($A$2:A1292)","v":1291},3873,0.47620804131316857,0.45296938399114717,0.3954260420509037,0.35706381409074145,0.31279970490593878,0.30505348579859831,0.27296200663961639,"Gittin ",{"$f":"VLOOKUP(Schedule!M1292,#REF!,2,FALSE)","v":{"$error":"#REF!"}}]
["2023-07-19",4,"Gittin 64",{"$f":"COUNT($A$2:A1293)","v":1292},3876,0.47657690888970861,0.4533382515676872,0.39579490962744374,0.35743268166728143,0.31316857248247881,0.30542235337513834,0.27333087421615643,"Gittin ",{"$f":"VLOOKUP(Schedule!M1293,#REF!,2,FALSE)","v":{"$error":"#REF!"}}]
["2023-07-20",5,"Gittin 65",{"$f":"COUNT($A$2:A1294)","v":1293},3879,0.47694577646624864,0.45370711914422723,0.39616377720398377,0.35780154924382146,0.31353744005901879,0.30579122095167832,0.2736997417926964,"Gittin ",{"$f":"VLOOKUP(Schedule!M1294,#REF!,2,FALSE)","v":{"$error":"#REF!"}}]
["2023-07-21",6,"Gittin 66",{"$f":"COUNT($A$2:A1295)","v":1294},3882,0.47731464404278862,0.45407598672076727,0.3965326447805238,0.35817041682036149,0.31390630763555882,0.30616008852821835,0.27406860936923644,"Gittin ",{"$f":"VLOOKUP(Schedule!M1295,#REF!,2,FALSE)","v":{"$error":"#REF!"}}]
["2023-07-22",7,"Gittin 67",{"$f":"COUNT($A$2:A1296)","v":1295},3885,0.47768351161932865,0.45444485429730724,0.39690151235706383,0.35853928439690153,0.31427517521209886,0.30652895610475839,0.27443747694577647,"Gittin ",{"$f":"VLOOKUP(Schedule!M1296,#REF!,2,FALSE)","v":{"$error":"#REF!"}}]
["2023-07-23",1,"Gittin 68",{"$f":"COUNT($A$2:A1297)","v":1296},3888,0.47805237919586868,0.45481372187384728,0.39727037993360381,0.35890815197344156,0.31464404278863889,0.30689782368129842,0.2748063445223165,"Gittin ",{"$f":"VLOOKUP(Schedule!M1297,#REF!,2,FALSE)","v":{"$error":"#REF!"}}]
["2023-07-24",2,"Gittin 69",{"$f":"COUNT($A$2:A1298)","v":1297},3891,0.47842124677240871,0.45518258945038731,0.39763924751014385,0.35927701954998154,0.31501291036517892,{"$f":"(D1298-464)/2711","v":0.30726669125783845},0.27517521209885654,"Gittin ",{"$f":"VLOOKUP(Schedule!M1298,#REF!,2,FALSE)","v":{"$error":"#REF!"}}]
["2023-07-25",3,"Gittin 70",{"$f":"COUNT($A$2:A1299)","v":1298},3894,0.47879011434894875,0.45555145702692734,0.39800811508668388,0.35964588712652157,0.3153817779417189,0.30763555883437843,0.27554407967539651,"Gittin ",{"$f":"VLOOKUP(Schedule!M1299,#REF!,2,FALSE)","v":{"$error":"#REF!"}}]
["2023-07-26",4,"Gittin 71",{"$f":"COUNT($A$2:A1300)","v":1299},3897,0.47915898192548873,0.45592032460346738,0.39837698266322391,0.3600147547030616,0.31575064551825893,0.30800442641091846,0.27591294725193655,"Gittin ",{"$f":"VLOOKUP(Schedule!M1300,#REF!,2,FALSE)","v":{"$error":"#REF!"}}]
["2023-07-27",5,"Gittin 72",{"$f":"COUNT($A$2:A1301)","v":1300},3900,0.47952784950202876,0.45628919218000735,0.39874585023976394,0.36038362227960163,0.31611951309479897,0.3083732939874585,0.27628181482847658,"Gittin ",{"$f":"VLOOKUP(Schedule!M1301,#REF!,2,FALSE)","v":{"$error":"#REF!"}}]
["2023-07-28",6,"Gittin 73",{"$f":"COUNT($A$2:A1302)","v":1301},3903,0.47989671707856879,0.45665805975654739,0.39911471781630392,0.36075248985614167,0.316488380671339,0.30874216156399853,0.27665068240501661,"Gittin ",{"$f":"VLOOKUP(Schedule!M1302,#REF!,2,FALSE)","v":{"$error":"#REF!"}}]
["2023-07-29",7,"Gittin 74",{"$f":"COUNT($A$2:A1303)","v":1302},3906,0.48026558465510882,0.45702692733308742,0.39948358539284395,0.36112135743268164,0.31685724824787903,0.30911102914053856,0.27701954998155665,"Gittin ",{"$f":"VLOOKUP(Schedule!M1303,#REF!,2,FALSE)","v":{"$error":"#REF!"}}]
["2023-07-30",1,"Gittin 75",{"$f":"COUNT($A$2:A1304)","v":1303},3909,0.48063445223164886,0.45739579490962745,0.39985245296938399,0.36149022500922168,0.31722611582441901,0.3094798967170786,0.27738841755809662,"Gittin ",{"$f":"VLOOKUP(Schedule!M1304,#REF!,2,FALSE)","v":{"$error":"#REF!"}}]
["2023-07-31",2,"Gittin 76",{"$f":"COUNT($A$2:A1305)","v":1304},3912,0.48100331980818883,0.45776466248616748,0.40022132054592402,0.36185909258576171,0.31759498340095904,0.30984876429361857,0.27775728513463666,"Gittin ",{"$f":"VLOOKUP(Schedule!M1305,#REF!,2,FALSE)","v":{"$error":"#REF!"}}]
["2023-08-01",3,"Gittin 77",{"$f":"COUNT($A$2:A1306)","v":1305},3915,0.48137218738472887,0.45813353006270746,0.40059018812246405,0.36222796016230174,0.31796385097749907,0.31021763187015861,0.27812615271117669,"Gittin ",{"$f":"VLOOKUP(Schedule!M1306,#REF!,2,FALSE)","v":{"$error":"#REF!"}}]
["2023-08-02",4,"Gittin 78",{"$f":"COUNT($A$2:A1307)","v":1306},3918,0.4817410549612689,0.45850239763924749,0.40095905569900403,0.36259682773884178,0.31833271855403911,0.31058649944669864,0.27849502028771672,"Gittin ",{"$f":"VLOOKUP(Schedule!M1307,#REF!,2,FALSE)","v":{"$error":"#REF!"}}]
["2023-08-03",5,"Gittin 79",{"$f":"COUNT($A$2:A1308)","v":1307},3921,0.48210992253780893,0.45887126521578753,0.40132792327554406,0.36296569531538175,0.31870158613057914,0.31095536702323867,0.27886388786425675,"Gittin ",{"$f":"VLOOKUP(Schedule!M1308,#REF!,2,FALSE)","v":{"$error":"#REF!"}}]
["2023-08-04",6,"Gittin 80",{"$f":"COUNT($A$2:A1309)","v":1308},3924,0.48247879011434897,0.45924013279232756,0.4016967908520841,0.36333456289192179,0.31907045370711912,0.3113242345997787,0.27923275544079673,"Gittin ",{"$f":"VLOOKUP(Schedule!M1309,#REF!,2,FALSE)","v":{"$error":"#REF!"}}]
["2023-08-05",7,"Gittin 81",{"$f":"COUNT($A$2:A1310)","v":1309},3927,0.482847657690889,0.45960900036886759,{"$f":"(D1310-219)/2711","v":0.40206565842862413},0.36370343046846182,0.31943932128365915,0.31169310217631868,0.27960162301733676,"Gittin ",{"$f":"VLOOKUP(Schedule!M1310,#REF!,2,FALSE)","v":{"$error":"#REF!"}}]
["2023-08-06",1,"Gittin 82",{"$f":"COUNT($A$2:A1311)","v":1310},3930,0.48321652526742898,0.45997786794540763,0.40243452600516416,0.36407229804500185,0.31980818886019918,0.31206196975285871,0.2799704905938768,"Gittin ",{"$f":"VLOOKUP(Schedule!M1311,#REF!,2,FALSE)","v":{"$error":"#REF!"}}]
["2023-08-07",2,"Gittin 83",{"$f":"COUNT($A$2:A1312)","v":1311},3933,0.48358539284396901,0.4603467355219476,0.40280339358170419,0.36444116562154188,0.32017705643673922,0.31243083732939875,0.28033935817041683,"Gittin ",{"$f":"VLOOKUP(Schedule!M1312,#REF!,2,FALSE)","v":{"$error":"#REF!"}}]
["2023-08-08",3,"Gittin 84",{"$f":"COUNT($A$2:A1313)","v":1312},3936,0.48395426042050904,0.46071560309848764,0.40317226115824417,0.36481003319808186,0.32054592401327925,0.31279970490593878,0.28070822574695686,"Gittin ",{"$f":"VLOOKUP(Schedule!M1313,#REF!,2,FALSE)","v":{"$error":"#REF!"}}]
["2023-08-09",4,"Gittin 85",{"$f":"COUNT($A$2:A1314)","v":1313},3939,0.48432312799704907,0.46108447067502767,0.4035411287347842,0.3651789007746219,0.32091479158981928,0.31316857248247881,0.28107709332349684,"Gittin ",{"$f":"VLOOKUP(Schedule!M1314,#REF!,2,FALSE)","v":{"$error":"#REF!"}}]
["2023-08-10",5,"Gittin 86",{"$f":"COUNT($A$2:A1315)","v":1314},3942,0.48469199557358911,0.4614533382515677,0.40390999631132424,0.36554776835116193,0.32128365916635926,0.31353744005901879,0.28144596090003687,"Gittin ",{"$f":"VLOOKUP(Schedule!M1315,#REF!,2,FALSE)","v":{"$error":"#REF!"}}]
["2023-08-11",6,"Gittin 87",{"$f":"COUNT($A$2:A1316)","v":1315},3945,0.48506086315012908,0.46182220582810773,0.40427886388786427,0.36591663592770196,0.32165252674289929,0.31390630763555882,0.28181482847657691,"Gittin ",{"$f":"VLOOKUP(Schedule!M1316,#REF!,2,FALSE)","v":{"$error":"#REF!"}}]
["2023-08-12",7,"Gittin 88",{"$f":"COUNT($A$2:A1317)","v":1316},3948,0.48542973072666912,0.46219107340464771,0.4046477314644043,0.36628550350424199,0.32202139431943932,0.31427517521209886,0.28218369605311694,"Gittin ",{"$f":"VLOOKUP(Schedule!M1317,#REF!,2,FALSE)","v":{"$error":"#REF!"}}]
["2023-08-13",1,"Gittin 89",{"$f":"COUNT($A$2:A1318)","v":1317},3951,0.48579859830320915,0.46255994098118774,0.40501659904094428,0.36665437108078203,0.32239026189597936,0.31464404278863889,0.28255256362965697,"Gittin ",{"$f":"VLOOKUP(Schedule!M1318,#REF!,2,FALSE)","v":{"$error":"#REF!"}}]
["2023-08-14",2,"Gittin 90",{"$f":"COUNT($A$2:A1319)","v":1318},3954,0.48616746587974918,0.46292880855772778,0.40538546661748431,0.367023238657322,0.32275912947251939,0.31501291036517892,0.28292143120619695,"Gittin ",{"$f":"VLOOKUP(Schedule!M1319,#REF!,2,FALSE)","v":{"$error":"#REF!"}}]
["2023-08-15",3,"Kiddushin 2",{"$f":"COUNT($A$2:A1320)","v":1319},3957,0.48653633345628922,0.46329767613426781,0.40575433419402435,0.36739210623386204,0.32312799704905937,0.3153817779417189,0.28329029878273698,"Kiddushin ",{"$f":"VLOOKUP(Schedule!M1320,#REF!,2,FALSE)","v":{"$error":"#REF!"}}]
["2023-08-16",4,"Kiddushin 3",{"$f":"COUNT($A$2:A1321)","v":1320},3960,0.48690520103282919,0.46366654371080784,0.40612320177056438,0.36776097381040207,0.3234968646255994,0.31575064551825893,0.28365916635927702,"Kiddushin ",{"$f":"VLOOKUP(Schedule!M1321,#REF!,2,FALSE)","v":{"$error":"#REF!"}}]
["2023-08-17",5,"Kiddushin 4",{"$f":"COUNT($A$2:A1322)","v":1321},3963,0.48727406860936923,0.46403541128734782,0.40649206934710441,0.3681298413869421,0.32386573220213943,0.31611951309479897,{"$f":"(D1322-551)/2711","v":0.28402803393581705},"Kiddushin ",{"$f":"VLOOKUP(Schedule!M1322,#REF!,2,FALSE)","v":{"$error":"#REF!"}}]
["2023-08-18",6,"Kiddushin 5",{"$f":"COUNT($A$2:A1323)","v":1322},3966,0.48764293618590926,0.46440427886388785,0.40686093692364439,0.36849870896348214,0.32423459977867947,0.316488380671339,0.28439690151235708,"Kiddushin ",{"$f":"VLOOKUP(Schedule!M1323,#REF!,2,FALSE)","v":{"$error":"#REF!"}}]
["2023-08-19",7,"Kiddushin 6",{"$f":"COUNT($A$2:A1324)","v":1323},3969,0.48801180376244929,0.46477314644042789,0.40722980450018442,0.36886757654002211,0.3246034673552195,0.31685724824787903,0.28476576908889706,"Kiddushin ",{"$f":"VLOOKUP(Schedule!M1324,#REF!,2,FALSE)","v":{"$error":"#REF!"}}]
["2023-08-20",1,"Kiddushin 7",{"$f":"COUNT($A$2:A1325)","v":1324},3972,0.48838067133898933,0.46514201401696792,0.40759867207672446,0.36923644411656215,0.32497233493175948,0.31722611582441901,0.28513463666543709,"Kiddushin ",{"$f":"VLOOKUP(Schedule!M1325,#REF!,2,FALSE)","v":{"$error":"#REF!"}}]
["2023-08-21",2,"Kiddushin 8",{"$f":"COUNT($A$2:A1326)","v":1325},3975,0.4887495389155293,0.46551088159350795,0.40796753965326449,0.36960531169310218,0.32534120250829951,0.31759498340095904,0.28550350424197712,"Kiddushin ",{"$f":"VLOOKUP(Schedule!M1326,#REF!,2,FALSE)","v":{"$error":"#REF!"}}]
["2023-08-22",3,"Kiddushin 9",{"$f":"COUNT($A$2:A1327)","v":1326},3978,0.48911840649206934,0.46587974917004793,0.40833640722980452,0.36997417926964221,0.32571007008483954,0.31796385097749907,0.28587237181851716,"Kiddushin ",{"$f":"VLOOKUP(Schedule!M1327,#REF!,2,FALSE)","v":{"$error":"#REF!"}}]
["2023-08-23",4,"Kiddushin 10",{"$f":"COUNT($A$2:A1328)","v":1327},3981,0.48948727406860937,0.46624861674658796,0.4087052748063445,0.37034304684618224,0.32607893766137958,0.31833271855403911,0.28624123939505719,"Kiddushin ",{"$f":"VLOOKUP(Schedule!M1328,#REF!,2,FALSE)","v":{"$error":"#REF!"}}]
["2023-08-24",5,"Kiddushin 11",{"$f":"COUNT($A$2:A1329)","v":1328},3984,0.4898561416451494,0.466617484323128,0.40907414238288453,0.37071191442272222,0.32644780523791961,0.31870158613057914,0.28661010697159722,"Kiddushin ",{"$f":"VLOOKUP(Schedule!M1329,#REF!,2,FALSE)","v":{"$error":"#REF!"}}]
["2023-08-25",6,"Kiddushin 12",{"$f":"COUNT($A$2:A1330)","v":1329},3987,0.49022500922168943,0.46698635189966803,0.40944300995942456,0.37108078199926225,0.32681667281445959,0.31907045370711912,0.2869789745481372,"Kiddushin ",{"$f":"VLOOKUP(Schedule!M1330,#REF!,2,FALSE)","v":{"$error":"#REF!"}}]
["2023-08-26",7,"Kiddushin 13",{"$f":"COUNT($A$2:A1331)","v":1330},3990,0.49059387679822941,0.46735521947620806,0.4098118775359646,0.37144964957580229,0.32718554039099962,0.31943932128365915,0.28734784212467723,"Kiddushin ",{"$f":"VLOOKUP(Schedule!M1331,#REF!,2,FALSE)","v":{"$error":"#REF!"}}]
["2023-08-27",1,"Kiddushin 14",{"$f":"COUNT($A$2:A1332)","v":1331},3993,0.49096274437476944,0.46772408705274804,0.41018074511250463,0.37181851715234232,0.32755440796753965,0.31980818886019918,0.28771670970121727,"Kiddushin ",{"$f":"VLOOKUP(Schedule!M1332,#REF!,2,FALSE)","v":{"$error":"#REF!"}}]
["2023-08-28",2,"Kiddushin 15",{"$f":"COUNT($A$2:A1333)","v":1332},3996,0.49133161195130948,0.46809295462928807,0.41054961268904461,0.37218738472888235,0.32792327554407968,0.32017705643673922,0.2880855772777573,"Kiddushin ",{"$f":"VLOOKUP(Schedule!M1333,#REF!,2,FALSE)","v":{"$error":"#REF!"}}]
["2023-08-29",3,"Kiddushin 16",{"$f":"COUNT($A$2:A1334)","v":1333},3999,0.49170047952784951,0.4684618222058281,0.41091848026558464,0.37255625230542233,0.32829214312061972,0.32054592401327925,0.28845444485429733,"Kiddushin ",{"$f":"VLOOKUP(Schedule!M1334,#REF!,2,FALSE)","v":{"$error":"#REF!"}}]
["2023-08-30",4,"Kiddushin 17",{"$f":"COUNT($A$2:A1335)","v":1334},4002,0.49206934710438954,0.46883068978236814,0.41128734784212467,0.37292511988196236,0.32866101069715969,0.32091479158981928,0.28882331243083731,"Kiddushin ",{"$f":"VLOOKUP(Schedule!M1335,#REF!,2,FALSE)","v":{"$error":"#REF!"}}]
["2023-08-31",5,"Kiddushin 18",{"$f":"COUNT($A$2:A1336)","v":1335},4005,0.49243821468092952,0.46919955735890817,0.41165621541866471,0.3732939874585024,0.32902987827369973,0.32128365916635926,0.28919218000737734,"Kiddushin ",{"$f":"VLOOKUP(Schedule!M1336,#REF!,2,FALSE)","v":{"$error":"#REF!"}}]
["2023-09-01",6,"Kiddushin 19",{"$f":"COUNT($A$2:A1337)","v":1336},4008,0.49280708225746955,0.46956842493544815,0.41202508299520474,0.37366285503504243,0.32939874585023976,0.32165252674289929,0.28956104758391737,"Kiddushin ",{"$f":"VLOOKUP(Schedule!M1337,#REF!,2,FALSE)","v":{"$error":"#REF!"}}]
["2023-09-02",7,"Kiddushin 20",{"$f":"COUNT($A$2:A1338)","v":1337},4011,0.49317594983400959,0.46993729251198818,0.41239395057174472,0.37403172261158246,0.32976761342677979,0.32202139431943932,0.28992991516045741,"Kiddushin ",{"$f":"VLOOKUP(Schedule!M1338,#REF!,2,FALSE)","v":{"$error":"#REF!"}}]
["2023-09-03",1,"Kiddushin 21",{"$f":"COUNT($A$2:A1339)","v":1338},4014,0.49354481741054962,0.47030616008852821,0.41276281814828475,0.37440059018812244,0.33013648100331983,0.32239026189597936,0.29029878273699744,"Kiddushin ",{"$f":"VLOOKUP(Schedule!M1339,#REF!,2,FALSE)","v":{"$error":"#REF!"}}]
["2023-09-04",2,"Kiddushin 22",{"$f":"COUNT($A$2:A1340)","v":1339},4017,0.49391368498708965,0.47067502766506825,0.41313168572482478,0.37476945776466247,0.3305053485798598,0.32275912947251939,0.29066765031353742,"Kiddushin ",{"$f":"VLOOKUP(Schedule!M1340,#REF!,2,FALSE)","v":{"$error":"#REF!"}}]
["2023-09-05",3,"Kiddushin 23",{"$f":"COUNT($A$2:A1341)","v":1340},4020,0.49428255256362968,0.47104389524160828,0.41350055330136481,0.37513832534120251,0.33087421615639984,0.32312799704905937,0.29103651789007745,"Kiddushin ",{"$f":"VLOOKUP(Schedule!M1341,#REF!,2,FALSE)","v":{"$error":"#REF!"}}]
["2023-09-06",4,"Kiddushin 24",{"$f":"COUNT($A$2:A1342)","v":1341},4023,0.49465142014016966,0.47141276281814831,0.41386942087790485,0.37550719291774254,{"$f":"(D1342-443)/2711","v":0.33124308373293987},0.3234968646255994,0.29140538546661748,"Kiddushin ",{"$f":"VLOOKUP(Schedule!M1342,#REF!,2,FALSE)","v":{"$error":"#REF!"}}]
["2023-09-07",5,"Kiddushin 25",{"$f":"COUNT($A$2:A1343)","v":1342},4026,0.49502028771670969,0.47178163039468829,0.41423828845444488,0.37587606049428257,0.3316119513094799,0.32386573220213943,0.29177425304315752,"Kiddushin ",{"$f":"VLOOKUP(Schedule!M1343,#REF!,2,FALSE)","v":{"$error":"#REF!"}}]
["2023-09-08",6,"Kiddushin 26",{"$f":"COUNT($A$2:A1344)","v":1343},4029,0.49538915529324973,0.47215049797122832,0.41460715603098486,0.37624492807082255,0.33198081888601993,0.32423459977867947,0.29214312061969755,"Kiddushin ",{"$f":"VLOOKUP(Schedule!M1344,#REF!,2,FALSE)","v":{"$error":"#REF!"}}]
["2023-09-09",7,"Kiddushin 27",{"$f":"COUNT($A$2:A1345)","v":1344},4032,0.49575802286978976,0.47251936554776836,0.41497602360752489,0.37661379564736258,0.33234968646255997,0.3246034673552195,0.29251198819623753,"Kiddushin ",{"$f":"VLOOKUP(Schedule!M1345,#REF!,2,FALSE)","v":{"$error":"#REF!"}}]
["2023-09-10",1,"Kiddushin 28",{"$f":"COUNT($A$2:A1346)","v":1345},{"$f":"D1346*3","v":4035},0.49612689044632979,{"$f":"(D1346-63)/2711","v":0.47288823312430839},0.41534489118406492,0.37698266322390261,0.33271855403909995,0.32497233493175948,0.29288085577277756,"Kiddushin ",{"$f":"VLOOKUP(Schedule!M1346,#REF!,2,FALSE)","v":{"$error":"#REF!"}}]
["2023-09-11",{"$f":"WEEKDAY(A1347)","v":2},"Kiddushin 29",{"$f":"COUNT($A$2:A1347)","v":1346},4038,{"$f":"D1347/2711","v":0.49649575802286977},0.47325710070084842,0.41571375876060496,0.37735153080044265,0.33308742161563998,0.32534120250829951,0.29324972334931759,{"$f":"LEFT(C1347,FIND(\"☃\",SUBSTITUTE(C1347,\" \",\"☃\",LEN(C1347)-LEN(SUBSTITUTE(C1347,\" \",\"\")))))","v":"Kiddushin "},{"$f":"VLOOKUP(Schedule!M1347,#REF!,2,FALSE)","v":{"$error":"#REF!"}}]
["2023-09-12",3,"Kiddushin 30",{"$f":"COUNT($A$2:A1348)","v":1347},4041,0.4968646255994098,0.4736259682773884,0.41608262633714499,0.37772039837698268,0.33345628919218001,0.32571007008483954,0.29361859092585763,"Kiddushin ",{"$f":"VLOOKUP(Schedule!M1348,#REF!,2,FALSE)","v":{"$error":"#REF!"}}]
["2023-09-13",4,"Kiddushin 31",{"$f":"COUNT($A$2:A1349)","v":1348},4044,0.49723349317594984,0.47399483585392843,0.41645149391368497,0.37808926595352271,0.33382515676872004,0.32607893766137958,0.29398745850239766,"Kiddushin ",{"$f":"VLOOKUP(Schedule!M1349,#REF!,2,FALSE)","v":{"$error":"#REF!"}}]
["2023-09-14",5,"Kiddushin 32",{"$f":"COUNT($A$2:A1350)","v":1349},4047,0.49760236075248987,0.47436370343046846,0.416820361490225,{"$f":"(D1350-323)/2711","v":0.37845813353006269},0.33419402434526008,0.32644780523791961,0.29435632607893764,"Kiddushin ",{"$f":"VLOOKUP(Schedule!M1350,#REF!,2,FALSE)","v":{"$error":"#REF!"}}]
["2023-09-15",6,"Kiddushin 33",{"$f":"COUNT($A$2:A1351)","v":1350},4050,0.4979712283290299,0.4747325710070085,0.41718922906676503,0.37882700110660272,0.33456289192180005,0.32681667281445959,0.29472519365547767,"Kiddushin ",{"$f":"VLOOKUP(Schedule!M1351,#REF!,2,FALSE)","v":{"$error":"#REF!"}}]
["2023-09-16",7,"Kiddushin 34",{"$f":"COUNT($A$2:A1352)","v":1351},4053,0.49834009590556988,0.47510143858354853,0.41755809664330507,0.37919586868314276,0.33493175949834009,0.32718554039099962,0.2950940612320177,"Kiddushin ",{"$f":"VLOOKUP(Schedule!M1352,#REF!,2,FALSE)","v":{"$error":"#REF!"}}]
["2023-09-17",1,"Kiddushin 35",{"$f":"COUNT($A$2:A1353)","v":1352},4056,0.49870896348210991,0.47547030616008851,0.4179269642198451,0.37956473625968279,0.33530062707488012,0.32755440796753965,0.29546292880855773,"Kiddushin ",{"$f":"VLOOKUP(Schedule!M1353,#REF!,2,FALSE)","v":{"$error":"#REF!"}}]
["2023-09-18",2,"Kiddushin 36",{"$f":"COUNT($A$2:A1354)","v":1353},4059,0.49907783105864995,0.47583917373662854,0.41829583179638508,0.37993360383622282,0.33566949465142015,0.32792327554407968,0.29583179638509777,"Kiddushin ",{"$f":"VLOOKUP(Schedule!M1354,#REF!,2,FALSE)","v":{"$error":"#REF!"}}]
["2023-09-19",3,"Kiddushin 37",{"$f":"COUNT($A$2:A1355)","v":1354},4062,0.49944669863518998,0.47620804131316857,0.41866469937292511,0.3803024714127628,0.33603836222796019,0.32829214312061972,0.29620066396163774,"Kiddushin ",{"$f":"VLOOKUP(Schedule!M1355,#REF!,2,FALSE)","v":{"$error":"#REF!"}}]
["2023-09-20",4,"Kiddushin 38",{"$f":"COUNT($A$2:A1356)","v":1355},4065,0.49981556621173001,0.47657690888970861,0.41903356694946514,0.38067133898930283,0.33640722980450016,0.32866101069715969,0.29656953153817778,"Kiddushin ",{"$f":"VLOOKUP(Schedule!M1356,#REF!,2,FALSE)","v":{"$error":"#REF!"}}]
["2023-09-21",5,"Kiddushin 39",{"$f":"COUNT($A$2:A1357)","v":1356},4068,0.50018443378827004,0.47694577646624864,0.41940243452600517,0.38104020656584286,0.3367760973810402,0.32902987827369973,0.29693839911471781,"Kiddushin ",{"$f":"VLOOKUP(Schedule!M1357,#REF!,2,FALSE)","v":{"$error":"#REF!"}}]
["2023-09-22",6,"Kiddushin 40",{"$f":"COUNT($A$2:A1358)","v":1357},4071,0.50055330136481002,0.47731464404278862,0.41977130210254521,0.3814090741423829,0.33714496495758023,0.32939874585023976,0.29730726669125784,"Kiddushin ",{"$f":"VLOOKUP(Schedule!M1358,#REF!,2,FALSE)","v":{"$error":"#REF!"}}]
["2023-09-23",7,"Kiddushin 41",{"$f":"COUNT($A$2:A1359)","v":1358},4074,0.50092216894135011,0.47768351161932865,0.42014016967908518,0.38177794171892293,0.33751383253412026,0.32976761342677979,0.29767613426779788,"Kiddushin ",{"$f":"VLOOKUP(Schedule!M1359,#REF!,2,FALSE)","v":{"$error":"#REF!"}}]
["2023-09-24",1,"Kiddushin 42",{"$f":"COUNT($A$2:A1360)","v":1359},4077,0.50129103651789009,0.47805237919586868,0.42050903725562522,0.38214680929546291,0.33788270011066029,0.33013648100331983,0.29804500184433791,"Kiddushin ",{"$f":"VLOOKUP(Schedule!M1360,#REF!,2,FALSE)","v":{"$error":"#REF!"}}]
["2023-09-25",2,"Kiddushin 43",{"$f":"COUNT($A$2:A1361)","v":1360},4080,0.50165990409443006,0.47842124677240871,0.42087790483216525,0.38251567687200294,0.33825156768720027,0.3305053485798598,0.29841386942087789,"Kiddushin ",{"$f":"VLOOKUP(Schedule!M1361,#REF!,2,FALSE)","v":{"$error":"#REF!"}}]
["2023-09-26",3,"Kiddushin 44",{"$f":"COUNT($A$2:A1362)","v":1361},4083,0.50202877167097015,0.47879011434894875,0.42124677240870528,0.38288454444854297,0.3386204352637403,{"$f":"(D1362-464)/2711","v":0.33087421615639984},0.29878273699741792,"Kiddushin ",{"$f":"VLOOKUP(Schedule!M1362,#REF!,2,FALSE)","v":{"$error":"#REF!"}}]
["2023-09-27",4,"Kiddushin 45",{"$f":"COUNT($A$2:A1363)","v":1362},4086,0.50239763924751013,0.47915898192548873,0.42161563998524532,0.38325341202508301,0.33898930284028034,0.33124308373293987,0.29915160457395795,"Kiddushin ",{"$f":"VLOOKUP(Schedule!M1363,#REF!,2,FALSE)","v":{"$error":"#REF!"}}]
["2023-09-28",5,"Kiddushin 46",{"$f":"COUNT($A$2:A1364)","v":1363},4089,0.50276650682405022,0.47952784950202876,0.42198450756178529,0.38362227960162304,0.33935817041682037,0.3316119513094799,0.29952047215049799,"Kiddushin ",{"$f":"VLOOKUP(Schedule!M1364,#REF!,2,FALSE)","v":{"$error":"#REF!"}}]
["2023-09-29",6,"Kiddushin 47",{"$f":"COUNT($A$2:A1365)","v":1364},4092,0.5031353744005902,0.47989671707856879,0.42235337513832533,0.38399114717816302,0.3397270379933604,0.33198081888601993,0.29988933972703802,"Kiddushin ",{"$f":"VLOOKUP(Schedule!M1365,#REF!,2,FALSE)","v":{"$error":"#REF!"}}]
["2023-09-30",7,"Kiddushin 48",{"$f":"COUNT($A$2:A1366)","v":1365},4095,0.50350424197713017,0.48026558465510882,0.42272224271486536,0.38436001475470305,0.34009590556990038,0.33234968646255997,0.300258207303578,"Kiddushin ",{"$f":"VLOOKUP(Schedule!M1366,#REF!,2,FALSE)","v":{"$error":"#REF!"}}]
["2023-10-01",1,"Kiddushin 49",{"$f":"COUNT($A$2:A1367)","v":1366},4098,0.50387310955367026,0.48063445223164886,0.42309111029140539,0.38472888233124308,0.34046477314644041,0.33271855403909995,0.30062707488011803,"Kiddushin ",{"$f":"VLOOKUP(Schedule!M1367,#REF!,2,FALSE)","v":{"$error":"#REF!"}}]
["2023-10-02",2,"Kiddushin 50",{"$f":"COUNT($A$2:A1368)","v":1367},4101,0.50424197713021024,0.48100331980818883,0.42345997786794543,0.38509774990778312,0.34083364072298045,0.33308742161563998,0.30099594245665806,"Kiddushin ",{"$f":"VLOOKUP(Schedule!M1368,#REF!,2,FALSE)","v":{"$error":"#REF!"}}]
["2023-10-03",3,"Kiddushin 51",{"$f":"COUNT($A$2:A1369)","v":1368},4104,0.50461084470675033,0.48137218738472887,0.4238288454444854,0.38546661748432315,0.34120250829952048,0.33345628919218001,0.30136481003319809,"Kiddushin ",{"$f":"VLOOKUP(Schedule!M1369,#REF!,2,FALSE)","v":{"$error":"#REF!"}}]
["2023-10-04",4,"Kiddushin 52",{"$f":"COUNT($A$2:A1370)","v":1369},4107,0.50497971228329031,0.4817410549612689,0.42419771302102544,0.38583548506086313,0.34157137587606051,0.33382515676872004,0.30173367760973813,"Kiddushin ",{"$f":"VLOOKUP(Schedule!M1370,#REF!,2,FALSE)","v":{"$error":"#REF!"}}]
["2023-10-05",5,"Kiddushin 53",{"$f":"COUNT($A$2:A1371)","v":1370},4110,0.50534857985983028,0.48210992253780893,0.42456658059756547,0.38620435263740316,0.34194024345260049,0.33419402434526008,0.3021025451862781,"Kiddushin ",{"$f":"VLOOKUP(Schedule!M1371,#REF!,2,FALSE)","v":{"$error":"#REF!"}}]
["2023-10-06",6,"Kiddushin 54",{"$f":"COUNT($A$2:A1372)","v":1371},4113,0.50571744743637037,0.48247879011434897,0.4249354481741055,0.38657322021394319,0.34230911102914052,0.33456289192180005,0.30247141276281814,"Kiddushin ",{"$f":"VLOOKUP(Schedule!M1372,#REF!,2,FALSE)","v":{"$error":"#REF!"}}]
["2023-10-07",7,"Kiddushin 55",{"$f":"COUNT($A$2:A1373)","v":1372},4116,0.50608631501291035,0.482847657690889,0.42530431575064553,0.38694208779048322,0.34267797860568056,0.33493175949834009,0.30284028033935817,"Kiddushin ",{"$f":"VLOOKUP(Schedule!M1373,#REF!,2,FALSE)","v":{"$error":"#REF!"}}]
["2023-10-08",1,"Kiddushin 56",{"$f":"COUNT($A$2:A1374)","v":1373},4119,0.50645518258945044,0.48321652526742898,{"$f":"(D1374-219)/2711","v":0.42567318332718557},0.38731095536702326,0.34304684618222059,0.33530062707488012,0.3032091479158982,"Kiddushin ",{"$f":"VLOOKUP(Schedule!M1374,#REF!,2,FALSE)","v":{"$error":"#REF!"}}]
["2023-10-09",2,"Kiddushin 57",{"$f":"COUNT($A$2:A1375)","v":1374},4122,0.50682405016599041,0.48358539284396901,0.42604205090372554,0.38767982294356323,0.34341571375876062,0.33566949465142015,0.30357801549243824,"Kiddushin ",{"$f":"VLOOKUP(Schedule!M1375,#REF!,2,FALSE)","v":{"$error":"#REF!"}}]
["2023-10-10",3,"Kiddushin 58",{"$f":"COUNT($A$2:A1376)","v":1375},4125,0.50719291774253039,0.48395426042050904,0.42641091848026558,0.38804869052010327,0.34378458133530065,0.33603836222796019,0.30394688306897821,"Kiddushin ",{"$f":"VLOOKUP(Schedule!M1376,#REF!,2,FALSE)","v":{"$error":"#REF!"}}]
["2023-10-11",4,"Kiddushin 59",{"$f":"COUNT($A$2:A1377)","v":1376},4128,0.50756178531907048,0.48432312799704907,0.42677978605680561,0.3884175580966433,0.34415344891184063,0.33640722980450016,0.30431575064551825,"Kiddushin ",{"$f":"VLOOKUP(Schedule!M1377,#REF!,2,FALSE)","v":{"$error":"#REF!"}}]
["2023-10-12",5,"Kiddushin 60",{"$f":"COUNT($A$2:A1378)","v":1377},4131,0.50793065289561046,0.48469199557358911,0.42714865363334564,0.38878642567318333,0.34452231648838066,0.3367760973810402,0.30468461822205828,"Kiddushin ",{"$f":"VLOOKUP(Schedule!M1378,#REF!,2,FALSE)","v":{"$error":"#REF!"}}]
["2023-10-13",6,"Kiddushin 61",{"$f":"COUNT($A$2:A1379)","v":1378},4134,0.50829952047215055,0.48506086315012908,0.42751752120988568,0.38915529324972337,0.3448911840649207,0.33714496495758023,0.30505348579859831,"Kiddushin ",{"$f":"VLOOKUP(Schedule!M1379,#REF!,2,FALSE)","v":{"$error":"#REF!"}}]
["2023-10-14",7,"Kiddushin 62",{"$f":"COUNT($A$2:A1380)","v":1379},4137,0.50866838804869052,0.48542973072666912,0.42788638878642565,0.3895241608262634,0.34526005164146073,0.33751383253412026,0.30542235337513834,"Kiddushin ",{"$f":"VLOOKUP(Schedule!M1380,#REF!,2,FALSE)","v":{"$error":"#REF!"}}]
["2023-10-15",1,"Kiddushin 63",{"$f":"COUNT($A$2:A1381)","v":1380},4140,0.5090372556252305,0.48579859830320915,0.42825525636296569,0.38989302840280338,0.34562891921800076,0.33788270011066029,0.30579122095167832,"Kiddushin ",{"$f":"VLOOKUP(Schedule!M1381,#REF!,2,FALSE)","v":{"$error":"#REF!"}}]
["2023-10-16",2,"Kiddushin 64",{"$f":"COUNT($A$2:A1382)","v":1381},4143,0.50940612320177059,0.48616746587974918,0.42862412393950572,0.39026189597934341,0.34599778679454074,0.33825156768720027,0.30616008852821835,"Kiddushin ",{"$f":"VLOOKUP(Schedule!M1382,#REF!,2,FALSE)","v":{"$error":"#REF!"}}]
["2023-10-17",3,"Kiddushin 65",{"$f":"COUNT($A$2:A1383)","v":1382},4146,0.50977499077831057,0.48653633345628922,0.42899299151604575,0.39063076355588344,0.34636665437108077,0.3386204352637403,0.30652895610475839,"Kiddushin ",{"$f":"VLOOKUP(Schedule!M1383,#REF!,2,FALSE)","v":{"$error":"#REF!"}}]
["2023-10-18",4,"Kiddushin 66",{"$f":"COUNT($A$2:A1384)","v":1383},4149,0.51014385835485065,0.48690520103282919,0.42936185909258578,0.39099963113242348,0.34673552194762081,0.33898930284028034,0.30689782368129842,"Kiddushin ",{"$f":"VLOOKUP(Schedule!M1384,#REF!,2,FALSE)","v":{"$error":"#REF!"}}]
["2023-10-19",5,"Kiddushin 67",{"$f":"COUNT($A$2:A1385)","v":1384},4152,0.51051272593139063,0.48727406860936923,0.42973072666912576,0.39136849870896351,0.34710438952416084,0.33935817041682037,0.30726669125783845,"Kiddushin ",{"$f":"VLOOKUP(Schedule!M1385,#REF!,2,FALSE)","v":{"$error":"#REF!"}}]
["2023-10-20",6,"Kiddushin 68",{"$f":"COUNT($A$2:A1386)","v":1385},4155,0.51088159350793061,0.48764293618590926,0.4300995942456658,0.39173736628550349,0.34747325710070087,0.3397270379933604,{"$f":"(D1386-551)/2711","v":0.30763555883437843},"Kiddushin ",{"$f":"VLOOKUP(Schedule!M1386,#REF!,2,FALSE)","v":{"$error":"#REF!"}}]
["2023-10-21",7,"Kiddushin 69",{"$f":"COUNT($A$2:A1387)","v":1386},4158,0.5112504610844707,0.48801180376244929,0.43046846182220583,0.39210623386204352,0.34784212467724085,0.34009590556990038,0.30800442641091846,"Kiddushin ",{"$f":"VLOOKUP(Schedule!M1387,#REF!,2,FALSE)","v":{"$error":"#REF!"}}]
["2023-10-22",1,"Kiddushin 70",{"$f":"COUNT($A$2:A1388)","v":1387},4161,0.51161932866101067,0.48838067133898933,0.43083732939874586,0.39247510143858355,0.34821099225378088,0.34046477314644041,0.3083732939874585,"Kiddushin ",{"$f":"VLOOKUP(Schedule!M1388,#REF!,2,FALSE)","v":{"$error":"#REF!"}}]
["2023-10-23",2,"Kiddushin 71",{"$f":"COUNT($A$2:A1389)","v":1388},4164,0.51198819623755076,0.4887495389155293,0.43120619697528589,0.39284396901512358,0.34857985983032092,0.34083364072298045,0.30874216156399853,"Kiddushin ",{"$f":"VLOOKUP(Schedule!M1389,#REF!,2,FALSE)","v":{"$error":"#REF!"}}]
["2023-10-24",3,"Kiddushin 72",{"$f":"COUNT($A$2:A1390)","v":1389},4167,0.51235706381409074,0.48911840649206934,0.43157506455182587,0.39321283659166362,0.34894872740686095,0.34120250829952048,0.30911102914053856,"Kiddushin ",{"$f":"VLOOKUP(Schedule!M1390,#REF!,2,FALSE)","v":{"$error":"#REF!"}}]
["2023-10-25",4,"Kiddushin 73",{"$f":"COUNT($A$2:A1391)","v":1390},4170,0.51272593139063072,0.48948727406860937,0.4319439321283659,0.39358170416820359,0.34931759498340098,0.34157137587606051,0.3094798967170786,"Kiddushin ",{"$f":"VLOOKUP(Schedule!M1391,#REF!,2,FALSE)","v":{"$error":"#REF!"}}]
["2023-10-26",5,"Kiddushin 74",{"$f":"COUNT($A$2:A1392)","v":1391},4173,0.51309479896717081,0.4898561416451494,0.43231279970490594,0.39395057174474363,0.34968646255994096,0.34194024345260049,0.30984876429361857,"Kiddushin ",{"$f":"VLOOKUP(Schedule!M1392,#REF!,2,FALSE)","v":{"$error":"#REF!"}}]
["2023-10-27",6,"Kiddushin 75",{"$f":"COUNT($A$2:A1393)","v":1392},4176,0.51346366654371078,0.49022500922168943,0.43268166728144597,0.39431943932128366,0.35005533013648099,0.34230911102914052,0.31021763187015861,"Kiddushin ",{"$f":"VLOOKUP(Schedule!M1393,#REF!,2,FALSE)","v":{"$error":"#REF!"}}]
["2023-10-28",7,"Kiddushin 76",{"$f":"COUNT($A$2:A1394)","v":1393},4179,0.51383253412025087,0.49059387679822941,0.433050534857986,0.39468830689782369,0.35042419771302102,0.34267797860568056,0.31058649944669864,"Kiddushin ",{"$f":"VLOOKUP(Schedule!M1394,#REF!,2,FALSE)","v":{"$error":"#REF!"}}]
["2023-10-29",1,"Kiddushin 77",{"$f":"COUNT($A$2:A1395)","v":1394},4182,0.51420140169679085,0.49096274437476944,0.43341940243452598,0.39505717447436373,0.35079306528956106,0.34304684618222059,0.31095536702323867,"Kiddushin ",{"$f":"VLOOKUP(Schedule!M1395,#REF!,2,FALSE)","v":{"$error":"#REF!"}}]
["2023-10-30",2,"Kiddushin 78",{"$f":"COUNT($A$2:A1396)","v":1395},4185,0.51457026927333083,0.49133161195130948,0.43378827001106601,0.3954260420509037,0.35116193286610109,0.34341571375876062,0.3113242345997787,"Kiddushin ",{"$f":"VLOOKUP(Schedule!M1396,#REF!,2,FALSE)","v":{"$error":"#REF!"}}]
["2023-10-31",3,"Kiddushin 79",{"$f":"COUNT($A$2:A1397)","v":1396},4188,0.51493913684987092,0.49170047952784951,0.43415713758760605,0.39579490962744374,0.35153080044264107,0.34378458133530065,0.31169310217631868,"Kiddushin ",{"$f":"VLOOKUP(Schedule!M1397,#REF!,2,FALSE)","v":{"$error":"#REF!"}}]
["2023-11-01",4,"Kiddushin 80",{"$f":"COUNT($A$2:A1398)","v":1397},4191,0.51530800442641089,0.49206934710438954,0.43452600516414608,0.39616377720398377,0.3518996680191811,0.34415344891184063,0.31206196975285871,"Kiddushin ",{"$f":"VLOOKUP(Schedule!M1398,#REF!,2,FALSE)","v":{"$error":"#REF!"}}]
["2023-11-02",5,"Kiddushin 81",{"$f":"COUNT($A$2:A1399)","v":1398},4194,0.51567687200295098,0.49243821468092952,0.43489487274068611,0.3965326447805238,0.35226853559572113,0.34452231648838066,0.31243083732939875,"Kiddushin ",{"$f":"VLOOKUP(Schedule!M1399,#REF!,2,FALSE)","v":{"$error":"#REF!"}}]
["2023-11-03",6,"Kiddushin 82",{"$f":"COUNT($A$2:A1400)","v":1399},4197,0.51604573957949096,0.49280708225746955,0.43526374031722609,0.39690151235706383,0.35263740317226117,0.3448911840649207,0.31279970490593878,"Kiddushin ",{"$f":"VLOOKUP(Schedule!M1400,#REF!,2,FALSE)","v":{"$error":"#REF!"}}]
["2023-11-04",7,"Bava Kamma 2",{"$f":"COUNT($A$2:A1401)","v":1400},4200,0.51641460715603094,0.49317594983400959,0.43563260789376612,0.39727037993360381,0.3530062707488012,0.34526005164146073,0.31316857248247881,"Bava Kamma ",{"$f":"VLOOKUP(Schedule!M1401,#REF!,2,FALSE)","v":{"$error":"#REF!"}}]
["2023-11-05",1,"Bava Kamma 3",{"$f":"COUNT($A$2:A1402)","v":1401},4203,0.51678347473257102,0.49354481741054962,0.43600147547030615,0.39763924751014385,0.35337513832534118,0.34562891921800076,0.31353744005901879,"Bava Kamma ",{"$f":"VLOOKUP(Schedule!M1402,#REF!,2,FALSE)","v":{"$error":"#REF!"}}]
["2023-11-06",2,"Bava Kamma 4",{"$f":"COUNT($A$2:A1403)","v":1402},4206,0.517152342309111,0.49391368498708965,0.43637034304684619,0.39800811508668388,0.35374400590188121,0.34599778679454074,0.31390630763555882,"Bava Kamma ",{"$f":"VLOOKUP(Schedule!M1403,#REF!,2,FALSE)","v":{"$error":"#REF!"}}]
["2023-11-07",3,"Bava Kamma 5",{"$f":"COUNT($A$2:A1404)","v":1403},4209,0.51752120988565109,0.49428255256362968,0.43673921062338622,0.39837698266322391,0.35411287347842124,0.34636665437108077,0.31427517521209886,"Bava Kamma ",{"$f":"VLOOKUP(Schedule!M1404,#REF!,2,FALSE)","v":{"$error":"#REF!"}}]
["2023-11-08",4,"Bava Kamma 6",{"$f":"COUNT($A$2:A1405)","v":1404},4212,0.51789007746219107,0.49465142014016966,0.43710807819992625,0.39874585023976394,0.35448174105496127,0.34673552194762081,0.31464404278863889,"Bava Kamma ",{"$f":"VLOOKUP(Schedule!M1405,#REF!,2,FALSE)","v":{"$error":"#REF!"}}]
["2023-11-09",5,"Bava Kamma 7",{"$f":"COUNT($A$2:A1406)","v":1405},4215,0.51825894503873104,0.49502028771670969,0.43747694577646623,0.39911471781630392,{"$f":"(D1406-443)/2711","v":0.35485060863150131},0.34710438952416084,0.31501291036517892,"Bava Kamma ",{"$f":"VLOOKUP(Schedule!M1406,#REF!,2,FALSE)","v":{"$error":"#REF!"}}]
["2023-11-10",6,"Bava Kamma 8",{"$f":"COUNT($A$2:A1407)","v":1406},4218,0.51862781261527113,0.49538915529324973,0.43784581335300626,0.39948358539284395,0.35521947620804134,0.34747325710070087,0.3153817779417189,"Bava Kamma ",{"$f":"VLOOKUP(Schedule!M1407,#REF!,2,FALSE)","v":{"$error":"#REF!"}}]
["2023-11-11",7,"Bava Kamma 9",{"$f":"COUNT($A$2:A1408)","v":1407},4221,0.51899668019181111,0.49575802286978976,0.4382146809295463,0.39985245296938399,0.35558834378458132,0.34784212467724085,0.31575064551825893,"Bava Kamma ",{"$f":"VLOOKUP(Schedule!M1408,#REF!,2,FALSE)","v":{"$error":"#REF!"}}]
["2023-11-12",1,"Bava Kamma 10",{"$f":"COUNT($A$2:A1409)","v":1408},4224,0.5193655477683512,0.49612689044632979,0.43858354850608633,0.40022132054592402,0.35595721136112135,0.34821099225378088,0.31611951309479897,"Bava Kamma ",{"$f":"VLOOKUP(Schedule!M1409,#REF!,2,FALSE)","v":{"$error":"#REF!"}}]
["2023-11-13",2,"Bava Kamma 11",{"$f":"COUNT($A$2:A1410)","v":1409},{"$f":"D1410*3","v":4227},0.51973441534489118,{"$f":"(D1410-63)/2711","v":0.49649575802286977},0.43895241608262636,0.40059018812246405,0.35632607893766138,0.34857985983032092,0.316488380671339,"Bava Kamma ",{"$f":"VLOOKUP(Schedule!M1410,#REF!,2,FALSE)","v":{"$error":"#REF!"}}]
["2023-11-14",{"$f":"WEEKDAY(A1411)","v":3},"Bava Kamma 12",{"$f":"COUNT($A$2:A1411)","v":1410},4230,{"$f":"D1411/2711","v":0.52010328292143115},0.4968646255994098,0.43932128365916634,0.40095905569900403,0.35669494651420142,0.34894872740686095,0.31685724824787903,{"$f":"LEFT(C1411,FIND(\"☃\",SUBSTITUTE(C1411,\" \",\"☃\",LEN(C1411)-LEN(SUBSTITUTE(C1411,\" \",\"\")))))","v":"Bava Kamma "},{"$f":"VLOOKUP(Schedule!M1411,#REF!,2,FALSE)","v":{"$error":"#REF!"}}]
["2023-11-15",4,"Bava Kamma 13",{"$f":"COUNT($A$2:A1412)","v":1411},4233,0.52047215049797124,0.49723349317594984,0.43969015123570637,0.40132792327554406,0.35706381409074145,0.34931759498340098,0.31722611582441901,"Bava Kamma ",{"$f":"VLOOKUP(Schedule!M1412,#REF!,2,FALSE)","v":{"$error":"#REF!"}}]
["2023-11-16",5,"Bava Kamma 14",{"$f":"COUNT($A$2:A1413)","v":1412},4236,0.52084101807451122,0.49760236075248987,0.44005901881224641,0.4016967908520841,0.35743268166728143,0.34968646255994096,0.31759498340095904,"Bava Kamma ",{"$f":"VLOOKUP(Schedule!M1413,#REF!,2,FALSE)","v":{"$error":"#REF!"}}]
["2023-11-17",6,"Bava Kamma 15",{"$f":"COUNT($A$2:A1414)","v":1413},4239,0.52120988565105131,0.4979712283290299,0.44042788638878644,{"$f":"(D1414-323)/2711","v":0.40206565842862413},0.35780154924382146,0.35005533013648099,0.31796385097749907,"Bava Kamma ",{"$f":"VLOOKUP(Schedule!M1414,#REF!,2,FALSE)","v":{"$error":"#REF!"}}]
["2023-11-18",7,"Bava Kamma 16",{"$f":"COUNT($A$2:A1415)","v":1414},4242,0.52157875322759129,0.49834009590556988,0.44079675396532647,0.40243452600516416,0.35817041682036149,0.35042419771302102,0.31833271855403911,"Bava Kamma ",{"$f":"VLOOKUP(Schedule!M1415,#REF!,2,FALSE)","v":{"$error":"#REF!"}}]
["2023-11-19",1,"Bava Kamma 17",{"$f":"COUNT($A$2:A1416)","v":1415},4245,0.52194762080413126,0.49870896348210991,0.44116562154186645,0.40280339358170419,0.35853928439690153,0.35079306528956106,0.31870158613057914,"Bava Kamma ",{"$f":"VLOOKUP(Schedule!M1416,#REF!,2,FALSE)","v":{"$error":"#REF!"}}]
["2023-11-20",2,"Bava Kamma 18",{"$f":"COUNT($A$2:A1417)","v":1416},4248,0.52231648838067135,0.49907783105864995,0.44153448911840648,0.40317226115824417,0.35890815197344156,0.35116193286610109,0.31907045370711912,"Bava Kamma ",{"$f":"VLOOKUP(Schedule!M1417,#REF!,2,FALSE)","v":{"$error":"#REF!"}}]
["2023-11-21",3,"Bava Kamma 19",{"$f":"COUNT($A$2:A1418)","v":1417},4251,0.52268535595721133,0.49944669863518998,0.44190335669494651,0.4035411287347842,0.35927701954998154,0.35153080044264107,0.31943932128365915,"Bava Kamma ",{"$f":"VLOOKUP(Schedule!M1418,#REF!,2,FALSE)","v":{"$error":"#REF!"}}]
["2023-11-22",4,"Bava Kamma 20",{"$f":"COUNT($A$2:A1419)","v":1418},4254,0.52305422353375142,0.49981556621173001,0.44227222427148655,0.40390999631132424,0.35964588712652157,0.3518996680191811,0.31980818886019918,"Bava Kamma ",{"$f":"VLOOKUP(Schedule!M1419,#REF!,2,FALSE)","v":{"$error":"#REF!"}}]
["2023-11-23",5,"Bava Kamma 21",{"$f":"COUNT($A$2:A1420)","v":1419},4257,0.52342309111029139,0.50018443378827004,0.44264109184802658,0.40427886388786427,0.3600147547030616,0.35226853559572113,0.32017705643673922,"Bava Kamma ",{"$f":"VLOOKUP(Schedule!M1420,#REF!,2,FALSE)","v":{"$error":"#REF!"}}]
["2023-11-24",6,"Bava Kamma 22",{"$f":"COUNT($A$2:A1421)","v":1420},4260,0.52379195868683148,0.50055330136481002,0.44300995942456656,0.4046477314644043,0.36038362227960163,0.35263740317226117,0.32054592401327925,"Bava Kamma ",{"$f":"VLOOKUP(Schedule!M1421,#REF!,2,FALSE)","v":{"$error":"#REF!"}}]
["2023-11-25",7,"Bava Kamma 23",{"$f":"COUNT($A$2:A1422)","v":1421},4263,0.52416082626337146,0.50092216894135011,0.44337882700110659,0.40501659904094428,0.36075248985614167,0.3530062707488012,0.32091479158981928,"Bava Kamma ",{"$f":"VLOOKUP(Schedule!M1422,#REF!,2,FALSE)","v":{"$error":"#REF!"}}]
["2023-11-26",1,"Bava Kamma 24",{"$f":"COUNT($A$2:A1423)","v":1422},4266,0.52452969383991144,0.50129103651789009,0.44374769457764662,0.40538546661748431,0.36112135743268164,0.35337513832534118,0.32128365916635926,"Bava Kamma ",{"$f":"VLOOKUP(Schedule!M1423,#REF!,2,FALSE)","v":{"$error":"#REF!"}}]
["2023-11-27",2,"Bava Kamma 25",{"$f":"COUNT($A$2:A1424)","v":1423},4269,0.52489856141645153,0.50165990409443006,0.44411656215418666,0.40575433419402435,0.36149022500922168,0.35374400590188121,0.32165252674289929,"Bava Kamma ",{"$f":"VLOOKUP(Schedule!M1424,#REF!,2,FALSE)","v":{"$error":"#REF!"}}]
["2023-11-28",3,"Bava Kamma 26",{"$f":"COUNT($A$2:A1425)","v":1424},4272,0.5252674289929915,0.50202877167097015,0.44448542973072669,0.40612320177056438,0.36185909258576171,0.35411287347842124,0.32202139431943932,"Bava Kamma ",{"$f":"VLOOKUP(Schedule!M1425,#REF!,2,FALSE)","v":{"$error":"#REF!"}}]
["2023-11-29",4,"Bava Kamma 27",{"$f":"COUNT($A$2:A1426)","v":1425},4275,0.52563629656953159,0.50239763924751013,0.44485429730726667,0.40649206934710441,0.36222796016230174,{"$f":"(D1426-464)/2711","v":0.35448174105496127},0.32239026189597936,"Bava Kamma ",{"$f":"VLOOKUP(Schedule!M1426,#REF!,2,FALSE)","v":{"$error":"#REF!"}}]
["2023-11-30",5,"Bava Kamma 28",{"$f":"COUNT($A$2:A1427)","v":1426},4278,0.52600516414607157,0.50276650682405022,0.4452231648838067,0.40686093692364439,0.36259682773884178,0.35485060863150131,0.32275912947251939,"Bava Kamma ",{"$f":"VLOOKUP(Schedule!M1427,#REF!,2,FALSE)","v":{"$error":"#REF!"}}]
["2023-12-01",6,"Bava Kamma 29",{"$f":"COUNT($A$2:A1428)","v":1427},4281,0.52637403172261155,0.5031353744005902,0.44559203246034673,0.40722980450018442,0.36296569531538175,0.35521947620804134,0.32312799704905937,"Bava Kamma ",{"$f":"VLOOKUP(Schedule!M1428,#REF!,2,FALSE)","v":{"$error":"#REF!"}}]
["2023-12-02",7,"Bava Kamma 30",{"$f":"COUNT($A$2:A1429)","v":1428},4284,0.52674289929915163,0.50350424197713017,0.44596090003688676,0.40759867207672446,0.36333456289192179,0.35558834378458132,0.3234968646255994,"Bava Kamma ",{"$f":"VLOOKUP(Schedule!M1429,#REF!,2,FALSE)","v":{"$error":"#REF!"}}]
["2023-12-03",1,"Bava Kamma 31",{"$f":"COUNT($A$2:A1430)","v":1429},4287,0.52711176687569161,0.50387310955367026,0.4463297676134268,0.40796753965326449,0.36370343046846182,0.35595721136112135,0.32386573220213943,"Bava Kamma ",{"$f":"VLOOKUP(Schedule!M1430,#REF!,2,FALSE)","v":{"$error":"#REF!"}}]
["2023-12-04",2,"Bava Kamma 32",{"$f":"COUNT($A$2:A1431)","v":1430},4290,0.5274806344522317,0.50424197713021024,0.44669863518996678,0.40833640722980452,0.36407229804500185,0.35632607893766138,0.32423459977867947,"Bava Kamma ",{"$f":"VLOOKUP(Schedule!M1431,#REF!,2,FALSE)","v":{"$error":"#REF!"}}]
["2023-12-05",3,"Bava Kamma 33",{"$f":"COUNT($A$2:A1432)","v":1431},4293,0.52784950202877168,0.50461084470675033,0.44706750276650681,0.4087052748063445,0.36444116562154188,0.35669494651420142,0.3246034673552195,"Bava Kamma ",{"$f":"VLOOKUP(Schedule!M1432,#REF!,2,FALSE)","v":{"$error":"#REF!"}}]
["2023-12-06",4,"Bava Kamma 34",{"$f":"COUNT($A$2:A1433)","v":1432},4296,0.52821836960531166,0.50497971228329031,0.44743637034304684,0.40907414238288453,0.36481003319808186,0.35706381409074145,0.32497233493175948,"Bava Kamma ",{"$f":"VLOOKUP(Schedule!M1433,#REF!,2,FALSE)","v":{"$error":"#REF!"}}]
["2023-12-07",5,"Bava Kamma 35",{"$f":"COUNT($A$2:A1434)","v":1433},4299,0.52858723718185174,0.50534857985983028,0.44780523791958687,0.40944300995942456,0.3651789007746219,0.35743268166728143,0.32534120250829951,"Bava Kamma ",{"$f":"VLOOKUP(Schedule!M1434,#REF!,2,FALSE)","v":{"$error":"#REF!"}}]
["2023-12-08",6,"Bava Kamma 36",{"$f":"COUNT($A$2:A1435)","v":1434},4302,0.52895610475839172,0.50571744743637037,0.44817410549612691,0.4098118775359646,0.36554776835116193,0.35780154924382146,0.32571007008483954,"Bava Kamma ",{"$f":"VLOOKUP(Schedule!M1435,#REF!,2,FALSE)","v":{"$error":"#REF!"}}]
["2023-12-09",7,"Bava Kamma 37",{"$f":"COUNT($A$2:A1436)","v":1435},4305,0.52932497233493181,0.50608631501291035,0.44854297307266694,0.41018074511250463,0.36591663592770196,0.35817041682036149,0.32607893766137958,"Bava Kamma ",{"$f":"VLOOKUP(Schedule!M1436,#REF!,2,FALSE)","v":{"$error":"#REF!"}}]
["2023-12-10",1,"Bava Kamma 38",{"$f":"COUNT($A$2:A1437)","v":1436},4308,0.52969383991147179,0.50645518258945044,0.44891184064920692,0.41054961268904461,0.36628550350424199,0.35853928439690153,0.32644780523791961,"Bava Kamma ",{"$f":"VLOOKUP(Schedule!M1437,#REF!,2,FALSE)","v":{"$error":"#REF!"}}]
["2023-12-11",2,"Bava Kamma 39",{"$f":"COUNT($A$2:A1438)","v":1437},4311,0.53006270748801176,0.50682405016599041,{"$f":"(D1438-219)/2711","v":0.44928070822574695},0.41091848026558464,0.36665437108078203,0.35890815197344156,0.32681667281445959,"Bava Kamma ",{"$f":"VLOOKUP(Schedule!M1438,#REF!,2,FALSE)","v":{"$error":"#REF!"}}]
["2023-12-12",3,"Bava Kamma 40",{"$f":"COUNT($A$2:A1439)","v":1438},4314,0.53043157506455185,0.50719291774253039,0.44964957580228698,0.41128734784212467,0.367023238657322,0.35927701954998154,0.32718554039099962,"Bava Kamma ",{"$f":"VLOOKUP(Schedule!M1439,#REF!,2,FALSE)","v":{"$error":"#REF!"}}]
["2023-12-13",4,"Bava Kamma 41",{"$f":"COUNT($A$2:A1440)","v":1439},4317,0.53080044264109183,0.50756178531907048,0.45001844337882702,0.41165621541866471,0.36739210623386204,0.35964588712652157,0.32755440796753965,"Bava Kamma ",{"$f":"VLOOKUP(Schedule!M1440,#REF!,2,FALSE)","v":{"$error":"#REF!"}}]
["2023-12-14",5,"Bava Kamma 42",{"$f":"COUNT($A$2:A1441)","v":1440},4320,0.53116931021763192,0.50793065289561046,0.45038731095536705,0.41202508299520474,0.36776097381040207,0.3600147547030616,0.32792327554407968,"Bava Kamma ",{"$f":"VLOOKUP(Schedule!M1441,#REF!,2,FALSE)","v":{"$error":"#REF!"}}]
["2023-12-15",6,"Bava Kamma 43",{"$f":"COUNT($A$2:A1442)","v":1441},4323,0.5315381777941719,0.50829952047215055,0.45075617853190703,0.41239395057174472,0.3681298413869421,0.36038362227960163,0.32829214312061972,"Bava Kamma ",{"$f":"VLOOKUP(Schedule!M1442,#REF!,2,FALSE)","v":{"$error":"#REF!"}}]
["2023-12-16",7,"Bava Kamma 44",{"$f":"COUNT($A$2:A1443)","v":1442},4326,0.53190704537071187,0.50866838804869052,0.45112504610844706,0.41276281814828475,0.36849870896348214,0.36075248985614167,0.32866101069715969,"Bava Kamma ",{"$f":"VLOOKUP(Schedule!M1443,#REF!,2,FALSE)","v":{"$error":"#REF!"}}]
["2023-12-17",1,"Bava Kamma 45",{"$f":"COUNT($A$2:A1444)","v":1443},4329,0.53227591294725196,0.5090372556252305,0.45149391368498709,0.41313168572482478,0.36886757654002211,0.36112135743268164,0.32902987827369973,"Bava Kamma ",{"$f":"VLOOKUP(Schedule!M1444,#REF!,2,FALSE)","v":{"$error":"#REF!"}}]
["2023-12-18",2,"Bava Kamma 46",{"$f":"COUNT($A$2:A1445)","v":1444},4332,0.53264478052379194,0.50940612320177059,0.45186278126152712,0.41350055330136481,0.36923644411656215,0.36149022500922168,0.32939874585023976,"Bava Kamma ",{"$f":"VLOOKUP(Schedule!M1445,#REF!,2,FALSE)","v":{"$error":"#REF!"}}]
["2023-12-19",3,"Bava Kamma 47",{"$f":"COUNT($A$2:A1446)","v":1445},4335,0.53301364810033203,0.50977499077831057,0.45223164883806716,0.41386942087790485,0.36960531169310218,0.36185909258576171,0.32976761342677979,"Bava Kamma ",{"$f":"VLOOKUP(Schedule!M1446,#REF!,2,FALSE)","v":{"$error":"#REF!"}}]
["2023-12-20",4,"Bava Kamma 48",{"$f":"COUNT($A$2:A1447)","v":1446},4338,0.533382515676872,0.51014385835485065,0.45260051641460713,0.41423828845444488,0.36997417926964221,0.36222796016230174,0.33013648100331983,"Bava Kamma ",{"$f":"VLOOKUP(Schedule!M1447,#REF!,2,FALSE)","v":{"$error":"#REF!"}}]
["2023-12-21",5,"Bava Kamma 49",{"$f":"COUNT($A$2:A1448)","v":1447},4341,0.53375138325341198,0.51051272593139063,0.45296938399114717,0.41460715603098486,0.37034304684618224,0.36259682773884178,0.3305053485798598,"Bava Kamma ",{"$f":"VLOOKUP(Schedule!M1448,#REF!,2,FALSE)","v":{"$error":"#REF!"}}]
["2023-12-22",6,"Bava Kamma 50",{"$f":"COUNT($A$2:A1449)","v":1448},4344,0.53412025082995207,0.51088159350793061,0.4533382515676872,0.41497602360752489,0.37071191442272222,0.36296569531538175,0.33087421615639984,"Bava Kamma ",{"$f":"VLOOKUP(Schedule!M1449,#REF!,2,FALSE)","v":{"$error":"#REF!"}}]
["2023-12-23",7,"Bava Kamma 51",{"$f":"COUNT($A$2:A1450)","v":1449},4347,0.53448911840649205,0.5112504610844707,0.45370711914422723,0.41534489118406492,0.37108078199926225,0.36333456289192179,{"$f":"(D1450-551)/2711","v":0.33124308373293987},"Bava Kamma ",{"$f":"VLOOKUP(Schedule!M1450,#REF!,2,FALSE)","v":{"$error":"#REF!"}}]
["2023-12-24",1,"Bava Kamma 52",{"$f":"COUNT($A$2:A1451)","v":1450},4350,0.53485798598303214,0.51161932866101067,0.45407598672076727,0.41571375876060496,0.37144964957580229,0.36370343046846182,0.3316119513094799,"Bava Kamma ",{"$f":"VLOOKUP(Schedule!M1451,#REF!,2,FALSE)","v":{"$error":"#REF!"}}]
["2023-12-25",2,"Bava Kamma 53",{"$f":"COUNT($A$2:A1452)","v":1451},4353,0.53522685355957211,0.51198819623755076,0.45444485429730724,0.41608262633714499,0.37181851715234232,0.36407229804500185,0.33198081888601993,"Bava Kamma ",{"$f":"VLOOKUP(Schedule!M1452,#REF!,2,FALSE)","v":{"$error":"#REF!"}}]
["2023-12-26",3,"Bava Kamma 54",{"$f":"COUNT($A$2:A1453)","v":1452},4356,0.53559572113611209,0.51235706381409074,0.45481372187384728,0.41645149391368497,0.37218738472888235,0.36444116562154188,0.33234968646255997,"Bava Kamma ",{"$f":"VLOOKUP(Schedule!M1453,#REF!,2,FALSE)","v":{"$error":"#REF!"}}]
["2023-12-27",4,"Bava Kamma 55",{"$f":"COUNT($A$2:A1454)","v":1453},4359,0.53596458871265218,0.51272593139063072,0.45518258945038731,0.416820361490225,0.37255625230542233,0.36481003319808186,0.33271855403909995,"Bava Kamma ",{"$f":"VLOOKUP(Schedule!M1454,#REF!,2,FALSE)","v":{"$error":"#REF!"}}]
["2023-12-28",5,"Bava Kamma 56",{"$f":"COUNT($A$2:A1455)","v":1454},4362,0.53633345628919216,0.51309479896717081,0.45555145702692734,0.41718922906676503,0.37292511988196236,0.3651789007746219,0.33308742161563998,"Bava Kamma ",{"$f":"VLOOKUP(Schedule!M1455,#REF!,2,FALSE)","v":{"$error":"#REF!"}}]
["2023-12-29",6,"Bava Kamma 57",{"$f":"COUNT($A$2:A1456)","v":1455},4365,0.53670232386573224,0.51346366654371078,0.45592032460346738,0.41755809664330507,0.3732939874585024,0.36554776835116193,0.33345628919218001,"Bava Kamma ",{"$f":"VLOOKUP(Schedule!M1456,#REF!,2,FALSE)","v":{"$error":"#REF!"}}]
["2023-12-30",7,"Bava Kamma 58",{"$f":"COUNT($A$2:A1457)","v":1456},4368,0.53707119144227222,0.51383253412025087,0.45628919218000735,0.4179269642198451,0.37366285503504243,0.36591663592770196,0.33382515676872004,"Bava Kamma ",{"$f":"VLOOKUP(Schedule!M1457,#REF!,2,FALSE)","v":{"$error":"#REF!"}}]
["2023-12-31",1,"Bava Kamma 59",{"$f":"COUNT($A$2:A1458)","v":1457},4371,0.5374400590188122,0.51420140169679085,0.45665805975654739,0.41829583179638508,0.37403172261158246,0.36628550350424199,0.33419402434526008,"Bava Kamma ",{"$f":"VLOOKUP(Schedule!M1458,#REF!,2,FALSE)","v":{"$error":"#REF!"}}]
["2024-01-01",2,"Bava Kamma 60",{"$f":"COUNT($A$2:A1459)","v":1458},4374,0.53780892659535229,0.51457026927333083,0.45702692733308742,0.41866469937292511,0.37440059018812244,0.36665437108078203,0.33456289192180005,"Bava Kamma ",{"$f":"VLOOKUP(Schedule!M1459,#REF!,2,FALSE)","v":{"$error":"#REF!"}}]
["2024-01-02",3,"Bava Kamma 61",{"$f":"COUNT($A$2:A1460)","v":1459},4377,0.53817779417189227,0.51493913684987092,0.45739579490962745,0.41903356694946514,0.37476945776466247,0.367023238657322,0.33493175949834009,"Bava Kamma ",{"$f":"VLOOKUP(Schedule!M1460,#REF!,2,FALSE)","v":{"$error":"#REF!"}}]
["2024-01-03",4,"Bava Kamma 62",{"$f":"COUNT($A$2:A1461)","v":1460},4380,0.53854666174843235,0.51530800442641089,0.45776466248616748,0.41940243452600517,0.37513832534120251,0.36739210623386204,0.33530062707488012,"Bava Kamma ",{"$f":"VLOOKUP(Schedule!M1461,#REF!,2,FALSE)","v":{"$error":"#REF!"}}]
["2024-01-04",5,"Bava Kamma 63",{"$f":"COUNT($A$2:A1462)","v":1461},4383,0.53891552932497233,0.51567687200295098,0.45813353006270746,0.41977130210254521,0.37550719291774254,0.36776097381040207,0.33566949465142015,"Bava Kamma ",{"$f":"VLOOKUP(Schedule!M1462,#REF!,2,FALSE)","v":{"$error":"#REF!"}}]
["2024-01-05",6,"Bava Kamma 64",{"$f":"COUNT($A$2:A1463)","v":1462},4386,0.53928439690151231,0.51604573957949096,0.45850239763924749,0.42014016967908518,0.37587606049428257,0.3681298413869421,0.33603836222796019,"Bava Kamma ",{"$f":"VLOOKUP(Schedule!M1463,#REF!,2,FALSE)","v":{"$error":"#REF!"}}]
["2024-01-06",7,"Bava Kamma 65",{"$f":"COUNT($A$2:A1464)","v":1463},4389,0.5396532644780524,0.51641460715603094,0.45887126521578753,0.42050903725562522,0.37624492807082255,0.36849870896348214,0.33640722980450016,"Bava Kamma ",{"$f":"VLOOKUP(Schedule!M1464,#REF!,2,FALSE)","v":{"$error":"#REF!"}}]
["2024-01-07",1,"Bava Kamma 66",{"$f":"COUNT($A$2:A1465)","v":1464},4392,0.54002213205459237,0.51678347473257102,0.45924013279232756,0.42087790483216525,0.37661379564736258,0.36886757654002211,0.3367760973810402,"Bava Kamma ",{"$f":"VLOOKUP(Schedule!M1465,#REF!,2,FALSE)","v":{"$error":"#REF!"}}]
["2024-01-08",2,"Bava Kamma 67",{"$f":"COUNT($A$2:A1466)","v":1465},4395,0.54039099963113246,0.517152342309111,0.45960900036886759,0.42124677240870528,0.37698266322390261,0.36923644411656215,0.33714496495758023,"Bava Kamma ",{"$f":"VLOOKUP(Schedule!M1466,#REF!,2,FALSE)","v":{"$error":"#REF!"}}]
["2024-01-09",3,"Bava Kamma 68",{"$f":"COUNT($A$2:A1467)","v":1466},4398,0.54075986720767244,0.51752120988565109,0.45997786794540763,0.42161563998524532,0.37735153080044265,0.36960531169310218,0.33751383253412026,"Bava Kamma ",{"$f":"VLOOKUP(Schedule!M1467,#REF!,2,FALSE)","v":{"$error":"#REF!"}}]
["2024-01-10",4,"Bava Kamma 69",{"$f":"COUNT($A$2:A1468)","v":1467},4401,0.54112873478421242,0.51789007746219107,0.4603467355219476,0.42198450756178529,0.37772039837698268,0.36997417926964221,0.33788270011066029,"Bava Kamma ",{"$f":"VLOOKUP(Schedule!M1468,#REF!,2,FALSE)","v":{"$error":"#REF!"}}]
["2024-01-11",5,"Bava Kamma 70",{"$f":"COUNT($A$2:A1469)","v":1468},4404,0.54149760236075251,0.51825894503873104,0.46071560309848764,0.42235337513832533,0.37808926595352271,0.37034304684618224,0.33825156768720027,"Bava Kamma ",{"$f":"VLOOKUP(Schedule!M1469,#REF!,2,FALSE)","v":{"$error":"#REF!"}}]
["2024-01-12",6,"Bava Kamma 71",{"$f":"COUNT($A$2:A1470)","v":1469},4407,0.54186646993729248,0.51862781261527113,0.46108447067502767,0.42272224271486536,{"$f":"(D1470-443)/2711","v":0.37845813353006269},0.37071191442272222,0.3386204352637403,"Bava Kamma ",{"$f":"VLOOKUP(Schedule!M1470,#REF!,2,FALSE)","v":{"$error":"#REF!"}}]
["2024-01-13",7,"Bava Kamma 72",{"$f":"COUNT($A$2:A1471)","v":1470},4410,0.54223533751383257,0.51899668019181111,0.4614533382515677,0.42309111029140539,0.37882700110660272,0.37108078199926225,0.33898930284028034,"Bava Kamma ",{"$f":"VLOOKUP(Schedule!M1471,#REF!,2,FALSE)","v":{"$error":"#REF!"}}]
["2024-01-14",1,"Bava Kamma 73",{"$f":"COUNT($A$2:A1472)","v":1471},4413,0.54260420509037255,0.5193655477683512,0.46182220582810773,0.42345997786794543,0.37919586868314276,0.37144964957580229,0.33935817041682037,"Bava Kamma ",{"$f":"VLOOKUP(Schedule!M1472,#REF!,2,FALSE)","v":{"$error":"#REF!"}}]
["2024-01-15",2,"Bava Kamma 74",{"$f":"COUNT($A$2:A1473)","v":1472},4416,0.54297307266691253,0.51973441534489118,0.46219107340464771,0.4238288454444854,0.37956473625968279,0.37181851715234232,0.3397270379933604,"Bava Kamma ",{"$f":"VLOOKUP(Schedule!M1473,#REF!,2,FALSE)","v":{"$error":"#REF!"}}]
["2024-01-16",3,"Bava Kamma 75",{"$f":"COUNT($A$2:A1474)","v":1473},{"$f":"D1474*3","v":4419},0.54334194024345261,{"$f":"(D1474-63)/2711","v":0.52010328292143115},0.46255994098118774,0.42419771302102544,0.37993360383622282,0.37218738472888235,0.34009590556990038,"Bava Kamma ",{"$f":"VLOOKUP(Schedule!M1474,#REF!,2,FALSE)","v":{"$error":"#REF!"}}]
["2024-01-17",{"$f":"WEEKDAY(A1475)","v":4},"Bava Kamma 76",{"$f":"COUNT($A$2:A1475)","v":1474},4422,{"$f":"D1475/2711","v":0.54371080781999259},0.52047215049797124,0.46292880855772778,0.42456658059756547,0.3803024714127628,0.37255625230542233,0.34046477314644041,{"$f":"LEFT(C1475,FIND(\"☃\",SUBSTITUTE(C1475,\" \",\"☃\",LEN(C1475)-LEN(SUBSTITUTE(C1475,\" \",\"\")))))","v":"Bava Kamma "},{"$f":"VLOOKUP(Schedule!M1475,#REF!,2,FALSE)","v":{"$error":"#REF!"}}]
["2024-01-18",5,"Bava Kamma 77",{"$f":"COUNT($A$2:A1476)","v":1475},4425,0.54407967539653268,0.52084101807451122,0.46329767613426781,0.4249354481741055,0.38067133898930283,0.37292511988196236,0.34083364072298045,"Bava Kamma ",{"$f":"VLOOKUP(Schedule!M1476,#REF!,2,FALSE)","v":{"$error":"#REF!"}}]
["2024-01-19",6,"Bava Kamma 78",{"$f":"COUNT($A$2:A1477)","v":1476},4428,0.54444854297307266,0.52120988565105131,0.46366654371080784,0.42530431575064553,0.38104020656584286,0.3732939874585024,0.34120250829952048,"Bava Kamma ",{"$f":"VLOOKUP(Schedule!M1477,#REF!,2,FALSE)","v":{"$error":"#REF!"}}]
["2024-01-20",7,"Bava Kamma 79",{"$f":"COUNT($A$2:A1478)","v":1477},4431,0.54481741054961264,0.52157875322759129,0.46403541128734782,{"$f":"(D1478-323)/2711","v":0.42567318332718557},0.3814090741423829,0.37366285503504243,0.34157137587606051,"Bava Kamma ",{"$f":"VLOOKUP(Schedule!M1478,#REF!,2,FALSE)","v":{"$error":"#REF!"}}]
["2024-01-21",1,"Bava Kamma 80",{"$f":"COUNT($A$2:A1479)","v":1478},4434,0.54518627812615272,0.52194762080413126,0.46440427886388785,0.42604205090372554,0.38177794171892293,0.37403172261158246,0.34194024345260049,"Bava Kamma ",{"$f":"VLOOKUP(Schedule!M1479,#REF!,2,FALSE)","v":{"$error":"#REF!"}}]
["2024-01-22",2,"Bava Kamma 81",{"$f":"COUNT($A$2:A1480)","v":1479},4437,0.5455551457026927,0.52231648838067135,0.46477314644042789,0.42641091848026558,0.38214680929546291,0.37440059018812244,0.34230911102914052,"Bava Kamma ",{"$f":"VLOOKUP(Schedule!M1480,#REF!,2,FALSE)","v":{"$error":"#REF!"}}]
["2024-01-23",3,"Bava Kamma 82",{"$f":"COUNT($A$2:A1481)","v":1480},4440,0.54592401327923279,0.52268535595721133,0.46514201401696792,0.42677978605680561,0.38251567687200294,0.37476945776466247,0.34267797860568056,"Bava Kamma ",{"$f":"VLOOKUP(Schedule!M1481,#REF!,2,FALSE)","v":{"$error":"#REF!"}}]
["2024-01-24",4,"Bava Kamma 83",{"$f":"COUNT($A$2:A1482)","v":1481},4443,0.54629288085577277,0.52305422353375142,0.46551088159350795,0.42714865363334564,0.38288454444854297,0.37513832534120251,0.34304684618222059,"Bava Kamma ",{"$f":"VLOOKUP(Schedule!M1482,#REF!,2,FALSE)","v":{"$error":"#REF!"}}]
["2024-01-25",5,"Bava Kamma 84",{"$f":"COUNT($A$2:A1483)","v":1482},4446,0.54666174843231286,0.52342309111029139,0.46587974917004793,0.42751752120988568,0.38325341202508301,0.37550719291774254,0.34341571375876062,"Bava Kamma ",{"$f":"VLOOKUP(Schedule!M1483,#REF!,2,FALSE)","v":{"$error":"#REF!"}}]
["2024-01-26",6,"Bava Kamma 85",{"$f":"COUNT($A$2:A1484)","v":1483},4449,0.54703061600885283,0.52379195868683148,0.46624861674658796,0.42788638878642565,0.38362227960162304,0.37587606049428257,0.34378458133530065,"Bava Kamma ",{"$f":"VLOOKUP(Schedule!M1484,#REF!,2,FALSE)","v":{"$error":"#REF!"}}]
["2024-01-27",7,"Bava Kamma 86",{"$f":"COUNT($A$2:A1485)","v":1484},4452,0.54739948358539281,0.52416082626337146,0.466617484323128,0.42825525636296569,0.38399114717816302,0.37624492807082255,0.34415344891184063,"Bava Kamma ",{"$f":"VLOOKUP(Schedule!M1485,#REF!,2,FALSE)","v":{"$error":"#REF!"}}]
["2024-01-28",1,"Bava Kamma 87",{"$f":"COUNT($A$2:A1486)","v":1485},4455,0.5477683511619329,0.52452969383991144,0.46698635189966803,0.42862412393950572,0.38436001475470305,0.37661379564736258,0.34452231648838066,"Bava Kamma ",{"$f":"VLOOKUP(Schedule!M1486,#REF!,2,FALSE)","v":{"$error":"#REF!"}}]
["2024-01-29",2,"Bava Kamma 88",{"$f":"COUNT($A$2:A1487)","v":1486},4458,0.54813721873847288,0.52489856141645153,0.46735521947620806,0.42899299151604575,0.38472888233124308,0.37698266322390261,0.3448911840649207,"Bava Kamma ",{"$f":"VLOOKUP(Schedule!M1487,#REF!,2,FALSE)","v":{"$error":"#REF!"}}]
["2024-01-30",3,"Bava Kamma 89",{"$f":"COUNT($A$2:A1488)","v":1487},4461,0.54850608631501296,0.5252674289929915,0.46772408705274804,0.42936185909258578,0.38509774990778312,0.37735153080044265,0.34526005164146073,"Bava Kamma ",{"$f":"VLOOKUP(Schedule!M1488,#REF!,2,FALSE)","v":{"$error":"#REF!"}}]
["2024-01-31",4,"Bava Kamma 90",{"$f":"COUNT($A$2:A1489)","v":1488},4464,0.54887495389155294,0.52563629656953159,0.46809295462928807,0.42973072666912576,0.38546661748432315,0.37772039837698268,0.34562891921800076,"Bava Kamma ",{"$f":"VLOOKUP(Schedule!M1489,#REF!,2,FALSE)","v":{"$error":"#REF!"}}]
["2024-02-01",5,"Bava Kamma 91",{"$f":"COUNT($A$2:A1490)","v":1489},4467,0.54924382146809292,0.52600516414607157,0.4684618222058281,0.4300995942456658,0.38583548506086313,{"$f":"(D1490-464)/2711","v":0.37808926595352271},0.34599778679454074,"Bava Kamma ",{"$f":"VLOOKUP(Schedule!M1490,#REF!,2,FALSE)","v":{"$error":"#REF!"}}]
["2024-02-02",6,"Bava Kamma 92",{"$f":"COUNT($A$2:A1491)","v":1490},4470,0.54961268904463301,0.52637403172261155,0.46883068978236814,0.43046846182220583,0.38620435263740316,0.37845813353006269,0.34636665437108077,"Bava Kamma ",{"$f":"VLOOKUP(Schedule!M1491,#REF!,2,FALSE)","v":{"$error":"#REF!"}}]
["2024-02-03",7,"Bava Kamma 93",{"$f":"COUNT($A$2:A1492)","v":1491},4473,0.54998155662117298,0.52674289929915163,0.46919955735890817,0.43083732939874586,0.38657322021394319,0.37882700110660272,0.34673552194762081,"Bava Kamma ",{"$f":"VLOOKUP(Schedule!M1492,#REF!,2,FALSE)","v":{"$error":"#REF!"}}]
["2024-02-04",1,"Bava Kamma 94",{"$f":"COUNT($A$2:A1493)","v":1492},4476,0.55035042419771307,0.52711176687569161,0.46956842493544815,0.43120619697528589,0.38694208779048322,0.37919586868314276,0.34710438952416084,"Bava Kamma ",{"$f":"VLOOKUP(Schedule!M1493,#REF!,2,FALSE)","v":{"$error":"#REF!"}}]
["2024-02-05",2,"Bava Kamma 95",{"$f":"COUNT($A$2:A1494)","v":1493},4479,0.55071929177425305,0.5274806344522317,0.46993729251198818,0.43157506455182587,0.38731095536702326,0.37956473625968279,0.34747325710070087,"Bava Kamma ",{"$f":"VLOOKUP(Schedule!M1494,#REF!,2,FALSE)","v":{"$error":"#REF!"}}]
["2024-02-06",3,"Bava Kamma 96",{"$f":"COUNT($A$2:A1495)","v":1494},4482,0.55108815935079303,0.52784950202877168,0.47030616008852821,0.4319439321283659,0.38767982294356323,0.37993360383622282,0.34784212467724085,"Bava Kamma ",{"$f":"VLOOKUP(Schedule!M1495,#REF!,2,FALSE)","v":{"$error":"#REF!"}}]
["2024-02-07",4,"Bava Kamma 97",{"$f":"COUNT($A$2:A1496)","v":1495},4485,0.55145702692733312,0.52821836960531166,0.47067502766506825,0.43231279970490594,0.38804869052010327,0.3803024714127628,0.34821099225378088,"Bava Kamma ",{"$f":"VLOOKUP(Schedule!M1496,#REF!,2,FALSE)","v":{"$error":"#REF!"}}]
["2024-02-08",5,"Bava Kamma 98",{"$f":"COUNT($A$2:A1497)","v":1496},4488,0.55182589450387309,0.52858723718185174,0.47104389524160828,0.43268166728144597,0.3884175580966433,0.38067133898930283,0.34857985983032092,"Bava Kamma ",{"$f":"VLOOKUP(Schedule!M1497,#REF!,2,FALSE)","v":{"$error":"#REF!"}}]
["2024-02-09",6,"Bava Kamma 99",{"$f":"COUNT($A$2:A1498)","v":1497},4491,0.55219476208041318,0.52895610475839172,0.47141276281814831,0.433050534857986,0.38878642567318333,0.38104020656584286,0.34894872740686095,"Bava Kamma ",{"$f":"VLOOKUP(Schedule!M1498,#REF!,2,FALSE)","v":{"$error":"#REF!"}}]
["2024-02-10",7,"Bava Kamma 100",{"$f":"COUNT($A$2:A1499)","v":1498},4494,0.55256362965695316,0.52932497233493181,0.47178163039468829,0.43341940243452598,0.38915529324972337,0.3814090741423829,0.34931759498340098,"Bava Kamma ",{"$f":"VLOOKUP(Schedule!M1499,#REF!,2,FALSE)","v":{"$error":"#REF!"}}]
["2024-02-11",1,"Bava Kamma 101",{"$f":"COUNT($A$2:A1500)","v":1499},4497,0.55293249723349314,0.52969383991147179,0.47215049797122832,0.43378827001106601,0.3895241608262634,0.38177794171892293,0.34968646255994096,"Bava Kamma ",{"$f":"VLOOKUP(Schedule!M1500,#REF!,2,FALSE)","v":{"$error":"#REF!"}}]
["2024-02-12",2,"Bava Kamma 102",{"$f":"COUNT($A$2:A1501)","v":1500},4500,0.55330136481003322,0.53006270748801176,0.47251936554776836,0.43415713758760605,0.38989302840280338,0.38214680929546291,0.35005533013648099,"Bava Kamma ",{"$f":"VLOOKUP(Schedule!M1501,#REF!,2,FALSE)","v":{"$error":"#REF!"}}]
["2024-02-13",3,"Bava Kamma 103",{"$f":"COUNT($A$2:A1502)","v":1501},4503,0.5536702323865732,0.53043157506455185,{"$f":"(D1502-219)/2711","v":0.47288823312430839},0.43452600516414608,0.39026189597934341,0.38251567687200294,0.35042419771302102,"Bava Kamma ",{"$f":"VLOOKUP(Schedule!M1502,#REF!,2,FALSE)","v":{"$error":"#REF!"}}]
["2024-02-14",4,"Bava Kamma 104",{"$f":"COUNT($A$2:A1503)","v":1502},4506,0.55403909996311329,0.53080044264109183,0.47325710070084842,0.43489487274068611,0.39063076355588344,0.38288454444854297,0.35079306528956106,"Bava Kamma ",{"$f":"VLOOKUP(Schedule!M1503,#REF!,2,FALSE)","v":{"$error":"#REF!"}}]
["2024-02-15",5,"Bava Kamma 105",{"$f":"COUNT($A$2:A1504)","v":1503},4509,0.55440796753965327,0.53116931021763192,0.4736259682773884,0.43526374031722609,0.39099963113242348,0.38325341202508301,0.35116193286610109,"Bava Kamma ",{"$f":"VLOOKUP(Schedule!M1504,#REF!,2,FALSE)","v":{"$error":"#REF!"}}]
["2024-02-16",6,"Bava Kamma 106",{"$f":"COUNT($A$2:A1505)","v":1504},4512,0.55477683511619325,0.5315381777941719,0.47399483585392843,0.43563260789376612,0.39136849870896351,0.38362227960162304,0.35153080044264107,"Bava Kamma ",{"$f":"VLOOKUP(Schedule!M1505,#REF!,2,FALSE)","v":{"$error":"#REF!"}}]
["2024-02-17",7,"Bava Kamma 107",{"$f":"COUNT($A$2:A1506)","v":1505},4515,0.55514570269273333,0.53190704537071187,0.47436370343046846,0.43600147547030615,0.39173736628550349,0.38399114717816302,0.3518996680191811,"Bava Kamma ",{"$f":"VLOOKUP(Schedule!M1506,#REF!,2,FALSE)","v":{"$error":"#REF!"}}]
["2024-02-18",1,"Bava Kamma 108",{"$f":"COUNT($A$2:A1507)","v":1506},4518,0.55551457026927331,0.53227591294725196,0.4747325710070085,0.43637034304684619,0.39210623386204352,0.38436001475470305,0.35226853559572113,"Bava Kamma ",{"$f":"VLOOKUP(Schedule!M1507,#REF!,2,FALSE)","v":{"$error":"#REF!"}}]
["2024-02-19",2,"Bava Kamma 109",{"$f":"COUNT($A$2:A1508)","v":1507},4521,0.5558834378458134,0.53264478052379194,0.47510143858354853,0.43673921062338622,0.39247510143858355,0.38472888233124308,0.35263740317226117,"Bava Kamma ",{"$f":"VLOOKUP(Schedule!M1508,#REF!,2,FALSE)","v":{"$error":"#REF!"}}]
["2024-02-20",3,"Bava Kamma 110",{"$f":"COUNT($A$2:A1509)","v":1508},4524,0.55625230542235338,0.53301364810033203,0.47547030616008851,0.43710807819992625,0.39284396901512358,0.38509774990778312,0.3530062707488012,"Bava Kamma ",{"$f":"VLOOKUP(Schedule!M1509,#REF!,2,FALSE)","v":{"$error":"#REF!"}}]
["2024-02-21",4,"Bava Kamma 111",{"$f":"COUNT($A$2:A1510)","v":1509},4527,0.55662117299889335,0.533382515676872,0.47583917373662854,0.43747694577646623,0.39321283659166362,0.38546661748432315,0.35337513832534118,"Bava Kamma ",{"$f":"VLOOKUP(Schedule!M1510,#REF!,2,FALSE)","v":{"$error":"#REF!"}}]
["2024-02-22",5,"Bava Kamma 112",{"$f":"COUNT($A$2:A1511)","v":1510},4530,0.55699004057543344,0.53375138325341198,0.47620804131316857,0.43784581335300626,0.39358170416820359,0.38583548506086313,0.35374400590188121,"Bava Kamma ",{"$f":"VLOOKUP(Schedule!M1511,#REF!,2,FALSE)","v":{"$error":"#REF!"}}]
["2024-02-23",6,"Bava Kamma 113",{"$f":"COUNT($A$2:A1512)","v":1511},4533,0.55735890815197342,0.53412025082995207,0.47657690888970861,0.4382146809295463,0.39395057174474363,0.38620435263740316,0.35411287347842124,"Bava Kamma ",{"$f":"VLOOKUP(Schedule!M1512,#REF!,2,FALSE)","v":{"$error":"#REF!"}}]
["2024-02-24",7,"Bava Kamma 114",{"$f":"COUNT($A$2:A1513)","v":1512},4536,0.55772777572851351,0.53448911840649205,0.47694577646624864,0.43858354850608633,0.39431943932128366,0.38657322021394319,0.35448174105496127,"Bava Kamma ",{"$f":"VLOOKUP(Schedule!M1513,#REF!,2,FALSE)","v":{"$error":"#REF!"}}]
["2024-02-25",1,"Bava Kamma 115",{"$f":"COUNT($A$2:A1514)","v":1513},4539,0.55809664330505349,0.53485798598303214,0.47731464404278862,0.43895241608262636,0.39468830689782369,0.38694208779048322,{"$f":"(D1514-551)/2711","v":0.35485060863150131},"Bava Kamma ",{"$f":"VLOOKUP(Schedule!M1514,#REF!,2,FALSE)","v":{"$error":"#REF!"}}]
["2024-02-26",2,"Bava Kamma 116",{"$f":"COUNT($A$2:A1515)","v":1514},4542,0.55846551088159346,0.53522685355957211,0.47768351161932865,0.43932128365916634,0.39505717447436373,0.38731095536702326,0.35521947620804134,"Bava Kamma ",{"$f":"VLOOKUP(Schedule!M1515,#REF!,2,FALSE)","v":{"$error":"#REF!"}}]
["2024-02-27",3,"Bava Kamma 117",{"$f":"COUNT($A$2:A1516)","v":1515},4545,0.55883437845813355,0.53559572113611209,0.47805237919586868,0.43969015123570637,0.3954260420509037,0.38767982294356323,0.35558834378458132,"Bava Kamma ",{"$f":"VLOOKUP(Schedule!M1516,#REF!,2,FALSE)","v":{"$error":"#REF!"}}]
["2024-02-28",4,"Bava Kamma 118",{"$f":"COUNT($A$2:A1517)","v":1516},4548,0.55920324603467353,0.53596458871265218,0.47842124677240871,0.44005901881224641,0.39579490962744374,0.38804869052010327,0.35595721136112135,"Bava Kamma ",{"$f":"VLOOKUP(Schedule!M1517,#REF!,2,FALSE)","v":{"$error":"#REF!"}}]
["2024-02-29",5,"Bava Kamma 119",{"$f":"COUNT($A$2:A1518)","v":1517},4551,0.55957211361121362,0.53633345628919216,0.47879011434894875,0.44042788638878644,0.39616377720398377,0.3884175580966433,0.35632607893766138,"Bava Kamma ",{"$f":"VLOOKUP(Schedule!M1518,#REF!,2,FALSE)","v":{"$error":"#REF!"}}]
["2024-03-01",6,"Bava Metzia 2",{"$f":"COUNT($A$2:A1519)","v":1518},4554,0.55994098118775359,0.53670232386573224,0.47915898192548873,0.44079675396532647,0.3965326447805238,0.38878642567318333,0.35669494651420142,"Bava Metzia ",{"$f":"VLOOKUP(Schedule!M1519,#REF!,2,FALSE)","v":{"$error":"#REF!"}}]
["2024-03-02",7,"Bava Metzia 3",{"$f":"COUNT($A$2:A1520)","v":1519},4557,0.56030984876429357,0.53707119144227222,0.47952784950202876,0.44116562154186645,0.39690151235706383,0.38915529324972337,0.35706381409074145,"Bava Metzia ",{"$f":"VLOOKUP(Schedule!M1520,#REF!,2,FALSE)","v":{"$error":"#REF!"}}]
["2024-03-03",1,"Bava Metzia 4",{"$f":"COUNT($A$2:A1521)","v":1520},4560,0.56067871634083366,0.5374400590188122,0.47989671707856879,0.44153448911840648,0.39727037993360381,0.3895241608262634,0.35743268166728143,"Bava Metzia ",{"$f":"VLOOKUP(Schedule!M1521,#REF!,2,FALSE)","v":{"$error":"#REF!"}}]
["2024-03-04",2,"Bava Metzia 5",{"$f":"COUNT($A$2:A1522)","v":1521},4563,0.56104758391737364,0.53780892659535229,0.48026558465510882,0.44190335669494651,0.39763924751014385,0.38989302840280338,0.35780154924382146,"Bava Metzia ",{"$f":"VLOOKUP(Schedule!M1522,#REF!,2,FALSE)","v":{"$error":"#REF!"}}]
["2024-03-05",3,"Bava Metzia 6",{"$f":"COUNT($A$2:A1523)","v":1522},4566,0.56141645149391373,0.53817779417189227,0.48063445223164886,0.44227222427148655,0.39800811508668388,0.39026189597934341,0.35817041682036149,"Bava Metzia ",{"$f":"VLOOKUP(Schedule!M1523,#REF!,2,FALSE)","v":{"$error":"#REF!"}}]
["2024-03-06",4,"Bava Metzia 7",{"$f":"COUNT($A$2:A1524)","v":1523},4569,0.5617853190704537,0.53854666174843235,0.48100331980818883,0.44264109184802658,0.39837698266322391,0.39063076355588344,0.35853928439690153,"Bava Metzia ",{"$f":"VLOOKUP(Schedule!M1524,#REF!,2,FALSE)","v":{"$error":"#REF!"}}]
["2024-03-07",5,"Bava Metzia 8",{"$f":"COUNT($A$2:A1525)","v":1524},4572,0.56215418664699368,0.53891552932497233,0.48137218738472887,0.44300995942456656,0.39874585023976394,0.39099963113242348,0.35890815197344156,"Bava Metzia ",{"$f":"VLOOKUP(Schedule!M1525,#REF!,2,FALSE)","v":{"$error":"#REF!"}}]
["2024-03-08",6,"Bava Metzia 9",{"$f":"COUNT($A$2:A1526)","v":1525},4575,0.56252305422353377,0.53928439690151231,0.4817410549612689,0.44337882700110659,0.39911471781630392,0.39136849870896351,0.35927701954998154,"Bava Metzia ",{"$f":"VLOOKUP(Schedule!M1526,#REF!,2,FALSE)","v":{"$error":"#REF!"}}]
["2024-03-09",7,"Bava Metzia 10",{"$f":"COUNT($A$2:A1527)","v":1526},4578,0.56289192180007375,0.5396532644780524,0.48210992253780893,0.44374769457764662,0.39948358539284395,0.39173736628550349,0.35964588712652157,"Bava Metzia ",{"$f":"VLOOKUP(Schedule!M1527,#REF!,2,FALSE)","v":{"$error":"#REF!"}}]
["2024-03-10",1,"Bava Metzia 11",{"$f":"COUNT($A$2:A1528)","v":1527},4581,0.56326078937661384,0.54002213205459237,0.48247879011434897,0.44411656215418666,0.39985245296938399,0.39210623386204352,0.3600147547030616,"Bava Metzia ",{"$f":"VLOOKUP(Schedule!M1528,#REF!,2,FALSE)","v":{"$error":"#REF!"}}]
["2024-03-11",2,"Bava Metzia 12",{"$f":"COUNT($A$2:A1529)","v":1528},4584,0.56362965695315381,0.54039099963113246,0.482847657690889,0.44448542973072669,0.40022132054592402,0.39247510143858355,0.36038362227960163,"Bava Metzia ",{"$f":"VLOOKUP(Schedule!M1529,#REF!,2,FALSE)","v":{"$error":"#REF!"}}]
["2024-03-12",3,"Bava Metzia 13",{"$f":"COUNT($A$2:A1530)","v":1529},4587,0.56399852452969379,0.54075986720767244,0.48321652526742898,0.44485429730726667,0.40059018812246405,0.39284396901512358,0.36075248985614167,"Bava Metzia ",{"$f":"VLOOKUP(Schedule!M1530,#REF!,2,FALSE)","v":{"$error":"#REF!"}}]
["2024-03-13",4,"Bava Metzia 14",{"$f":"COUNT($A$2:A1531)","v":1530},4590,0.56436739210623388,0.54112873478421242,0.48358539284396901,0.4452231648838067,0.40095905569900403,0.39321283659166362,0.36112135743268164,"Bava Metzia ",{"$f":"VLOOKUP(Schedule!M1531,#REF!,2,FALSE)","v":{"$error":"#REF!"}}]
["2024-03-14",5,"Bava Metzia 15",{"$f":"COUNT($A$2:A1532)","v":1531},4593,0.56473625968277386,0.54149760236075251,0.48395426042050904,0.44559203246034673,0.40132792327554406,0.39358170416820359,0.36149022500922168,"Bava Metzia ",{"$f":"VLOOKUP(Schedule!M1532,#REF!,2,FALSE)","v":{"$error":"#REF!"}}]
["2024-03-15",6,"Bava Metzia 16",{"$f":"COUNT($A$2:A1533)","v":1532},4596,0.56510512725931394,0.54186646993729248,0.48432312799704907,0.44596090003688676,0.4016967908520841,0.39395057174474363,0.36185909258576171,"Bava Metzia ",{"$f":"VLOOKUP(Schedule!M1533,#REF!,2,FALSE)","v":{"$error":"#REF!"}}]
["2024-03-16",7,"Bava Metzia 17",{"$f":"COUNT($A$2:A1534)","v":1533},4599,0.56547399483585392,0.54223533751383257,0.48469199557358911,0.4463297676134268,{"$f":"(D1534-443)/2711","v":0.40206565842862413},0.39431943932128366,0.36222796016230174,"Bava Metzia ",{"$f":"VLOOKUP(Schedule!M1534,#REF!,2,FALSE)","v":{"$error":"#REF!"}}]
["2024-03-17",1,"Bava Metzia 18",{"$f":"COUNT($A$2:A1535)","v":1534},4602,0.5658428624123939,0.54260420509037255,0.48506086315012908,0.44669863518996678,0.40243452600516416,0.39468830689782369,0.36259682773884178,"Bava Metzia ",{"$f":"VLOOKUP(Schedule!M1535,#REF!,2,FALSE)","v":{"$error":"#REF!"}}]
["2024-03-18",2,"Bava Metzia 19",{"$f":"COUNT($A$2:A1536)","v":1535},4605,0.56621172998893399,0.54297307266691253,0.48542973072666912,0.44706750276650681,0.40280339358170419,0.39505717447436373,0.36296569531538175,"Bava Metzia ",{"$f":"VLOOKUP(Schedule!M1536,#REF!,2,FALSE)","v":{"$error":"#REF!"}}]
["2024-03-19",3,"Bava Metzia 20",{"$f":"COUNT($A$2:A1537)","v":1536},4608,0.56658059756547396,0.54334194024345261,0.48579859830320915,0.44743637034304684,0.40317226115824417,0.3954260420509037,0.36333456289192179,"Bava Metzia ",{"$f":"VLOOKUP(Schedule!M1537,#REF!,2,FALSE)","v":{"$error":"#REF!"}}]
["2024-03-20",4,"Bava Metzia 21",{"$f":"COUNT($A$2:A1538)","v":1537},{"$f":"D1538*3","v":4611},0.56694946514201405,{"$f":"(D1538-63)/2711","v":0.54371080781999259},0.48616746587974918,0.44780523791958687,0.4035411287347842,0.39579490962744374,0.36370343046846182,"Bava Metzia ",{"$f":"VLOOKUP(Schedule!M1538,#REF!,2,FALSE)","v":{"$error":"#REF!"}}]
["2024-03-21",{"$f":"WEEKDAY(A1539)","v":5},"Bava Metzia 22",{"$f":"COUNT($A$2:A1539)","v":1538},4614,{"$f":"D1539/2711","v":0.56731833271855403},0.54407967539653268,0.48653633345628922,0.44817410549612691,0.40390999631132424,0.39616377720398377,0.36407229804500185,{"$f":"LEFT(C1539,FIND(\"☃\",SUBSTITUTE(C1539,\" \",\"☃\",LEN(C1539)-LEN(SUBSTITUTE(C1539,\" \",\"\")))))","v":"Bava Metzia "},{"$f":"VLOOKUP(Schedule!M1539,#REF!,2,FALSE)","v":{"$error":"#REF!"}}]
["2024-03-22",6,"Bava Metzia 23",{"$f":"COUNT($A$2:A1540)","v":1539},4617,0.56768720029509401,0.54444854297307266,0.48690520103282919,0.44854297307266694,0.40427886388786427,0.3965326447805238,0.36444116562154188,"Bava Metzia ",{"$f":"VLOOKUP(Schedule!M1540,#REF!,2,FALSE)","v":{"$error":"#REF!"}}]
["2024-03-23",7,"Bava Metzia 24",{"$f":"COUNT($A$2:A1541)","v":1540},4620,0.5680560678716341,0.54481741054961264,0.48727406860936923,0.44891184064920692,0.4046477314644043,0.39690151235706383,0.36481003319808186,"Bava Metzia ",{"$f":"VLOOKUP(Schedule!M1541,#REF!,2,FALSE)","v":{"$error":"#REF!"}}]
["2024-03-24",1,"Bava Metzia 25",{"$f":"COUNT($A$2:A1542)","v":1541},4623,0.56842493544817407,0.54518627812615272,0.48764293618590926,{"$f":"(D1542-323)/2711","v":0.44928070822574695},0.40501659904094428,0.39727037993360381,0.3651789007746219,"Bava Metzia ",{"$f":"VLOOKUP(Schedule!M1542,#REF!,2,FALSE)","v":{"$error":"#REF!"}}]
["2024-03-25",2,"Bava Metzia 26",{"$f":"COUNT($A$2:A1543)","v":1542},4626,0.56879380302471416,0.5455551457026927,0.48801180376244929,0.44964957580228698,0.40538546661748431,0.39763924751014385,0.36554776835116193,"Bava Metzia ",{"$f":"VLOOKUP(Schedule!M1543,#REF!,2,FALSE)","v":{"$error":"#REF!"}}]
["2024-03-26",3,"Bava Metzia 27",{"$f":"COUNT($A$2:A1544)","v":1543},4629,0.56916267060125414,0.54592401327923279,0.48838067133898933,0.45001844337882702,0.40575433419402435,0.39800811508668388,0.36591663592770196,"Bava Metzia ",{"$f":"VLOOKUP(Schedule!M1544,#REF!,2,FALSE)","v":{"$error":"#REF!"}}]
["2024-03-27",4,"Bava Metzia 28",{"$f":"COUNT($A$2:A1545)","v":1544},4632,0.56953153817779412,0.54629288085577277,0.4887495389155293,0.45038731095536705,0.40612320177056438,0.39837698266322391,0.36628550350424199,"Bava Metzia ",{"$f":"VLOOKUP(Schedule!M1545,#REF!,2,FALSE)","v":{"$error":"#REF!"}}]
["2024-03-28",5,"Bava Metzia 29",{"$f":"COUNT($A$2:A1546)","v":1545},4635,0.5699004057543342,0.54666174843231286,0.48911840649206934,0.45075617853190703,0.40649206934710441,0.39874585023976394,0.36665437108078203,"Bava Metzia ",{"$f":"VLOOKUP(Schedule!M1546,#REF!,2,FALSE)","v":{"$error":"#REF!"}}]
["2024-03-29",6,"Bava Metzia 30",{"$f":"COUNT($A$2:A1547)","v":1546},4638,0.57026927333087418,0.54703061600885283,0.48948727406860937,0.45112504610844706,0.40686093692364439,0.39911471781630392,0.367023238657322,"Bava Metzia ",{"$f":"VLOOKUP(Schedule!M1547,#REF!,2,FALSE)","v":{"$error":"#REF!"}}]
["2024-03-30",7,"Bava Metzia 31",{"$f":"COUNT($A$2:A1548)","v":1547},4641,0.57063814090741427,0.54739948358539281,0.4898561416451494,0.45149391368498709,0.40722980450018442,0.39948358539284395,0.36739210623386204,"Bava Metzia ",{"$f":"VLOOKUP(Schedule!M1548,#REF!,2,FALSE)","v":{"$error":"#REF!"}}]
["2024-03-31",1,"Bava Metzia 32",{"$f":"COUNT($A$2:A1549)","v":1548},4644,0.57100700848395425,0.5477683511619329,0.49022500922168943,0.45186278126152712,0.40759867207672446,0.39985245296938399,0.36776097381040207,"Bava Metzia ",{"$f":"VLOOKUP(Schedule!M1549,#REF!,2,FALSE)","v":{"$error":"#REF!"}}]
["2024-04-01",2,"Bava Metzia 33",{"$f":"COUNT($A$2:A1550)","v":1549},4647,0.57137587606049434,0.54813721873847288,0.49059387679822941,0.45223164883806716,0.40796753965326449,0.40022132054592402,0.3681298413869421,"Bava Metzia ",{"$f":"VLOOKUP(Schedule!M1550,#REF!,2,FALSE)","v":{"$error":"#REF!"}}]
["2024-04-02",3,"Bava Metzia 34",{"$f":"COUNT($A$2:A1551)","v":1550},4650,0.57174474363703431,0.54850608631501296,0.49096274437476944,0.45260051641460713,0.40833640722980452,0.40059018812246405,0.36849870896348214,"Bava Metzia ",{"$f":"VLOOKUP(Schedule!M1551,#REF!,2,FALSE)","v":{"$error":"#REF!"}}]
["2024-04-03",4,"Bava Metzia 35",{"$f":"COUNT($A$2:A1552)","v":1551},4653,0.57211361121357429,0.54887495389155294,0.49133161195130948,0.45296938399114717,0.4087052748063445,0.40095905569900403,0.36886757654002211,"Bava Metzia ",{"$f":"VLOOKUP(Schedule!M1552,#REF!,2,FALSE)","v":{"$error":"#REF!"}}]
["2024-04-04",5,"Bava Metzia 36",{"$f":"COUNT($A$2:A1553)","v":1552},4656,0.57248247879011438,0.54924382146809292,0.49170047952784951,0.4533382515676872,0.40907414238288453,0.40132792327554406,0.36923644411656215,"Bava Metzia ",{"$f":"VLOOKUP(Schedule!M1553,#REF!,2,FALSE)","v":{"$error":"#REF!"}}]
["2024-04-05",6,"Bava Metzia 37",{"$f":"COUNT($A$2:A1554)","v":1553},4659,0.57285134636665436,0.54961268904463301,0.49206934710438954,0.45370711914422723,0.40944300995942456,{"$f":"(D1554-464)/2711","v":0.4016967908520841},0.36960531169310218,"Bava Metzia ",{"$f":"VLOOKUP(Schedule!M1554,#REF!,2,FALSE)","v":{"$error":"#REF!"}}]
["2024-04-06",7,"Bava Metzia 38",{"$f":"COUNT($A$2:A1555)","v":1554},4662,0.57322021394319445,0.54998155662117298,0.49243821468092952,0.45407598672076727,0.4098118775359646,0.40206565842862413,0.36997417926964221,"Bava Metzia ",{"$f":"VLOOKUP(Schedule!M1555,#REF!,2,FALSE)","v":{"$error":"#REF!"}}]
["2024-04-07",1,"Bava Metzia 39",{"$f":"COUNT($A$2:A1556)","v":1555},4665,0.57358908151973442,0.55035042419771307,0.49280708225746955,0.45444485429730724,0.41018074511250463,0.40243452600516416,0.37034304684618224,"Bava Metzia ",{"$f":"VLOOKUP(Schedule!M1556,#REF!,2,FALSE)","v":{"$error":"#REF!"}}]
["2024-04-08",2,"Bava Metzia 40",{"$f":"COUNT($A$2:A1557)","v":1556},4668,0.5739579490962744,0.55071929177425305,0.49317594983400959,0.45481372187384728,0.41054961268904461,0.40280339358170419,0.37071191442272222,"Bava Metzia ",{"$f":"VLOOKUP(Schedule!M1557,#REF!,2,FALSE)","v":{"$error":"#REF!"}}]
["2024-04-09",3,"Bava Metzia 41",{"$f":"COUNT($A$2:A1558)","v":1557},4671,0.57432681667281449,0.55108815935079303,0.49354481741054962,0.45518258945038731,0.41091848026558464,0.40317226115824417,0.37108078199926225,"Bava Metzia ",{"$f":"VLOOKUP(Schedule!M1558,#REF!,2,FALSE)","v":{"$error":"#REF!"}}]
["2024-04-10",4,"Bava Metzia 42",{"$f":"COUNT($A$2:A1559)","v":1558},4674,0.57469568424935447,0.55145702692733312,0.49391368498708965,0.45555145702692734,0.41128734784212467,0.4035411287347842,0.37144964957580229,"Bava Metzia ",{"$f":"VLOOKUP(Schedule!M1559,#REF!,2,FALSE)","v":{"$error":"#REF!"}}]
["2024-04-11",5,"Bava Metzia 43",{"$f":"COUNT($A$2:A1560)","v":1559},4677,0.57506455182589455,0.55182589450387309,0.49428255256362968,0.45592032460346738,0.41165621541866471,0.40390999631132424,0.37181851715234232,"Bava Metzia ",{"$f":"VLOOKUP(Schedule!M1560,#REF!,2,FALSE)","v":{"$error":"#REF!"}}]
["2024-04-12",6,"Bava Metzia 44",{"$f":"COUNT($A$2:A1561)","v":1560},4680,0.57543341940243453,0.55219476208041318,0.49465142014016966,0.45628919218000735,0.41202508299520474,0.40427886388786427,0.37218738472888235,"Bava Metzia ",{"$f":"VLOOKUP(Schedule!M1561,#REF!,2,FALSE)","v":{"$error":"#REF!"}}]
["2024-04-13",7,"Bava Metzia 45",{"$f":"COUNT($A$2:A1562)","v":1561},4683,0.57580228697897451,0.55256362965695316,0.49502028771670969,0.45665805975654739,0.41239395057174472,0.4046477314644043,0.37255625230542233,"Bava Metzia ",{"$f":"VLOOKUP(Schedule!M1562,#REF!,2,FALSE)","v":{"$error":"#REF!"}}]
["2024-04-14",1,"Bava Metzia 46",{"$f":"COUNT($A$2:A1563)","v":1562},4686,0.5761711545555146,0.55293249723349314,0.49538915529324973,0.45702692733308742,0.41276281814828475,0.40501659904094428,0.37292511988196236,"Bava Metzia ",{"$f":"VLOOKUP(Schedule!M1563,#REF!,2,FALSE)","v":{"$error":"#REF!"}}]
["2024-04-15",2,"Bava Metzia 47",{"$f":"COUNT($A$2:A1564)","v":1563},4689,0.57654002213205457,0.55330136481003322,0.49575802286978976,0.45739579490962745,0.41313168572482478,0.40538546661748431,0.3732939874585024,"Bava Metzia ",{"$f":"VLOOKUP(Schedule!M1564,#REF!,2,FALSE)","v":{"$error":"#REF!"}}]
["2024-04-16",3,"Bava Metzia 48",{"$f":"COUNT($A$2:A1565)","v":1564},4692,0.57690888970859466,0.5536702323865732,0.49612689044632979,0.45776466248616748,0.41350055330136481,0.40575433419402435,0.37366285503504243,"Bava Metzia ",{"$f":"VLOOKUP(Schedule!M1565,#REF!,2,FALSE)","v":{"$error":"#REF!"}}]
["2024-04-17",4,"Bava Metzia 49",{"$f":"COUNT($A$2:A1566)","v":1565},4695,0.57727775728513464,0.55403909996311329,{"$f":"(D1566-219)/2711","v":0.49649575802286977},0.45813353006270746,0.41386942087790485,0.40612320177056438,0.37403172261158246,"Bava Metzia ",{"$f":"VLOOKUP(Schedule!M1566,#REF!,2,FALSE)","v":{"$error":"#REF!"}}]
["2024-04-18",5,"Bava Metzia 50",{"$f":"COUNT($A$2:A1567)","v":1566},4698,0.57764662486167462,0.55440796753965327,0.4968646255994098,0.45850239763924749,0.41423828845444488,0.40649206934710441,0.37440059018812244,"Bava Metzia ",{"$f":"VLOOKUP(Schedule!M1567,#REF!,2,FALSE)","v":{"$error":"#REF!"}}]
["2024-04-19",6,"Bava Metzia 51",{"$f":"COUNT($A$2:A1568)","v":1567},4701,0.57801549243821471,0.55477683511619325,0.49723349317594984,0.45887126521578753,0.41460715603098486,0.40686093692364439,0.37476945776466247,"Bava Metzia ",{"$f":"VLOOKUP(Schedule!M1568,#REF!,2,FALSE)","v":{"$error":"#REF!"}}]
["2024-04-20",7,"Bava Metzia 52",{"$f":"COUNT($A$2:A1569)","v":1568},4704,0.57838436001475468,0.55514570269273333,0.49760236075248987,0.45924013279232756,0.41497602360752489,0.40722980450018442,0.37513832534120251,"Bava Metzia ",{"$f":"VLOOKUP(Schedule!M1569,#REF!,2,FALSE)","v":{"$error":"#REF!"}}]
["2024-04-21",1,"Bava Metzia 53",{"$f":"COUNT($A$2:A1570)","v":1569},4707,0.57875322759129477,0.55551457026927331,0.4979712283290299,0.45960900036886759,0.41534489118406492,0.40759867207672446,0.37550719291774254,"Bava Metzia ",{"$f":"VLOOKUP(Schedule!M1570,#REF!,2,FALSE)","v":{"$error":"#REF!"}}]
["2024-04-22",2,"Bava Metzia 54",{"$f":"COUNT($A$2:A1571)","v":1570},4710,0.57912209516783475,0.5558834378458134,0.49834009590556988,0.45997786794540763,0.41571375876060496,0.40796753965326449,0.37587606049428257,"Bava Metzia ",{"$f":"VLOOKUP(Schedule!M1571,#REF!,2,FALSE)","v":{"$error":"#REF!"}}]
["2024-04-23",3,"Bava Metzia 55",{"$f":"COUNT($A$2:A1572)","v":1571},4713,0.57949096274437473,0.55625230542235338,0.49870896348210991,0.4603467355219476,0.41608262633714499,0.40833640722980452,0.37624492807082255,"Bava Metzia ",{"$f":"VLOOKUP(Schedule!M1572,#REF!,2,FALSE)","v":{"$error":"#REF!"}}]
["2024-04-24",4,"Bava Metzia 56",{"$f":"COUNT($A$2:A1573)","v":1572},4716,0.57985983032091482,0.55662117299889335,0.49907783105864995,0.46071560309848764,0.41645149391368497,0.4087052748063445,0.37661379564736258,"Bava Metzia ",{"$f":"VLOOKUP(Schedule!M1573,#REF!,2,FALSE)","v":{"$error":"#REF!"}}]
["2024-04-25",5,"Bava Metzia 57",{"$f":"COUNT($A$2:A1574)","v":1573},4719,0.58022869789745479,0.55699004057543344,0.49944669863518998,0.46108447067502767,0.416820361490225,0.40907414238288453,0.37698266322390261,"Bava Metzia ",{"$f":"VLOOKUP(Schedule!M1574,#REF!,2,FALSE)","v":{"$error":"#REF!"}}]
["2024-04-26",6,"Bava Metzia 58",{"$f":"COUNT($A$2:A1575)","v":1574},4722,0.58059756547399488,0.55735890815197342,0.49981556621173001,0.4614533382515677,0.41718922906676503,0.40944300995942456,0.37735153080044265,"Bava Metzia ",{"$f":"VLOOKUP(Schedule!M1575,#REF!,2,FALSE)","v":{"$error":"#REF!"}}]
["2024-04-27",7,"Bava Metzia 59",{"$f":"COUNT($A$2:A1576)","v":1575},4725,0.58096643305053486,0.55772777572851351,0.50018443378827004,0.46182220582810773,0.41755809664330507,0.4098118775359646,0.37772039837698268,"Bava Metzia ",{"$f":"VLOOKUP(Schedule!M1576,#REF!,2,FALSE)","v":{"$error":"#REF!"}}]
["2024-04-28",1,"Bava Metzia 60",{"$f":"COUNT($A$2:A1577)","v":1576},4728,0.58133530062707484,0.55809664330505349,0.50055330136481002,0.46219107340464771,0.4179269642198451,0.41018074511250463,0.37808926595352271,"Bava Metzia ",{"$f":"VLOOKUP(Schedule!M1577,#REF!,2,FALSE)","v":{"$error":"#REF!"}}]
["2024-04-29",2,"Bava Metzia 61",{"$f":"COUNT($A$2:A1578)","v":1577},4731,0.58170416820361492,0.55846551088159346,0.50092216894135011,0.46255994098118774,0.41829583179638508,0.41054961268904461,{"$f":"(D1578-551)/2711","v":0.37845813353006269},"Bava Metzia ",{"$f":"VLOOKUP(Schedule!M1578,#REF!,2,FALSE)","v":{"$error":"#REF!"}}]
["2024-04-30",3,"Bava Metzia 62",{"$f":"COUNT($A$2:A1579)","v":1578},4734,0.5820730357801549,0.55883437845813355,0.50129103651789009,0.46292880855772778,0.41866469937292511,0.41091848026558464,0.37882700110660272,"Bava Metzia ",{"$f":"VLOOKUP(Schedule!M1579,#REF!,2,FALSE)","v":{"$error":"#REF!"}}]
["2024-05-01",4,"Bava Metzia 63",{"$f":"COUNT($A$2:A1580)","v":1579},4737,0.58244190335669499,0.55920324603467353,0.50165990409443006,0.46329767613426781,0.41903356694946514,0.41128734784212467,0.37919586868314276,"Bava Metzia ",{"$f":"VLOOKUP(Schedule!M1580,#REF!,2,FALSE)","v":{"$error":"#REF!"}}]
["2024-05-02",5,"Bava Metzia 64",{"$f":"COUNT($A$2:A1581)","v":1580},4740,0.58281077093323497,0.55957211361121362,0.50202877167097015,0.46366654371080784,0.41940243452600517,0.41165621541866471,0.37956473625968279,"Bava Metzia ",{"$f":"VLOOKUP(Schedule!M1581,#REF!,2,FALSE)","v":{"$error":"#REF!"}}]
["2024-05-03",6,"Bava Metzia 65",{"$f":"COUNT($A$2:A1582)","v":1581},4743,0.58317963850977494,0.55994098118775359,0.50239763924751013,0.46403541128734782,0.41977130210254521,0.41202508299520474,0.37993360383622282,"Bava Metzia ",{"$f":"VLOOKUP(Schedule!M1582,#REF!,2,FALSE)","v":{"$error":"#REF!"}}]
["2024-05-04",7,"Bava Metzia 66",{"$f":"COUNT($A$2:A1583)","v":1582},4746,0.58354850608631503,0.56030984876429357,0.50276650682405022,0.46440427886388785,0.42014016967908518,0.41239395057174472,0.3803024714127628,"Bava Metzia ",{"$f":"VLOOKUP(Schedule!M1583,#REF!,2,FALSE)","v":{"$error":"#REF!"}}]
["2024-05-05",1,"Bava Metzia 67",{"$f":"COUNT($A$2:A1584)","v":1583},4749,0.58391737366285501,0.56067871634083366,0.5031353744005902,0.46477314644042789,0.42050903725562522,0.41276281814828475,0.38067133898930283,"Bava Metzia ",{"$f":"VLOOKUP(Schedule!M1584,#REF!,2,FALSE)","v":{"$error":"#REF!"}}]
["2024-05-06",2,"Bava Metzia 68",{"$f":"COUNT($A$2:A1585)","v":1584},4752,0.5842862412393951,0.56104758391737364,0.50350424197713017,0.46514201401696792,0.42087790483216525,0.41313168572482478,0.38104020656584286,"Bava Metzia ",{"$f":"VLOOKUP(Schedule!M1585,#REF!,2,FALSE)","v":{"$error":"#REF!"}}]
["2024-05-07",3,"Bava Metzia 69",{"$f":"COUNT($A$2:A1586)","v":1585},4755,0.58465510881593508,0.56141645149391373,0.50387310955367026,0.46551088159350795,0.42124677240870528,0.41350055330136481,0.3814090741423829,"Bava Metzia ",{"$f":"VLOOKUP(Schedule!M1586,#REF!,2,FALSE)","v":{"$error":"#REF!"}}]
["2024-05-08",4,"Bava Metzia 70",{"$f":"COUNT($A$2:A1587)","v":1586},4758,0.58502397639247505,0.5617853190704537,0.50424197713021024,0.46587974917004793,0.42161563998524532,0.41386942087790485,0.38177794171892293,"Bava Metzia ",{"$f":"VLOOKUP(Schedule!M1587,#REF!,2,FALSE)","v":{"$error":"#REF!"}}]
["2024-05-09",5,"Bava Metzia 71",{"$f":"COUNT($A$2:A1588)","v":1587},4761,0.58539284396901514,0.56215418664699368,0.50461084470675033,0.46624861674658796,0.42198450756178529,0.41423828845444488,0.38214680929546291,"Bava Metzia ",{"$f":"VLOOKUP(Schedule!M1588,#REF!,2,FALSE)","v":{"$error":"#REF!"}}]
["2024-05-10",6,"Bava Metzia 72",{"$f":"COUNT($A$2:A1589)","v":1588},4764,0.58576171154555512,0.56252305422353377,0.50497971228329031,0.466617484323128,0.42235337513832533,0.41460715603098486,0.38251567687200294,"Bava Metzia ",{"$f":"VLOOKUP(Schedule!M1589,#REF!,2,FALSE)","v":{"$error":"#REF!"}}]
["2024-05-11",7,"Bava Metzia 73",{"$f":"COUNT($A$2:A1590)","v":1589},4767,0.58613057912209521,0.56289192180007375,0.50534857985983028,0.46698635189966803,0.42272224271486536,0.41497602360752489,0.38288454444854297,"Bava Metzia ",{"$f":"VLOOKUP(Schedule!M1590,#REF!,2,FALSE)","v":{"$error":"#REF!"}}]
["2024-05-12",1,"Bava Metzia 74",{"$f":"COUNT($A$2:A1591)","v":1590},4770,0.58649944669863519,0.56326078937661384,0.50571744743637037,0.46735521947620806,0.42309111029140539,0.41534489118406492,0.38325341202508301,"Bava Metzia ",{"$f":"VLOOKUP(Schedule!M1591,#REF!,2,FALSE)","v":{"$error":"#REF!"}}]
["2024-05-13",2,"Bava Metzia 75",{"$f":"COUNT($A$2:A1592)","v":1591},4773,0.58686831427517516,0.56362965695315381,0.50608631501291035,0.46772408705274804,0.42345997786794543,0.41571375876060496,0.38362227960162304,"Bava Metzia ",{"$f":"VLOOKUP(Schedule!M1592,#REF!,2,FALSE)","v":{"$error":"#REF!"}}]
["2024-05-14",3,"Bava Metzia 76",{"$f":"COUNT($A$2:A1593)","v":1592},4776,0.58723718185171525,0.56399852452969379,0.50645518258945044,0.46809295462928807,0.4238288454444854,0.41608262633714499,0.38399114717816302,"Bava Metzia ",{"$f":"VLOOKUP(Schedule!M1593,#REF!,2,FALSE)","v":{"$error":"#REF!"}}]
["2024-05-15",4,"Bava Metzia 77",{"$f":"COUNT($A$2:A1594)","v":1593},4779,0.58760604942825523,0.56436739210623388,0.50682405016599041,0.4684618222058281,0.42419771302102544,0.41645149391368497,0.38436001475470305,"Bava Metzia ",{"$f":"VLOOKUP(Schedule!M1594,#REF!,2,FALSE)","v":{"$error":"#REF!"}}]
["2024-05-16",5,"Bava Metzia 78",{"$f":"COUNT($A$2:A1595)","v":1594},4782,0.58797491700479532,0.56473625968277386,0.50719291774253039,0.46883068978236814,0.42456658059756547,0.416820361490225,0.38472888233124308,"Bava Metzia ",{"$f":"VLOOKUP(Schedule!M1595,#REF!,2,FALSE)","v":{"$error":"#REF!"}}]
["2024-05-17",6,"Bava Metzia 79",{"$f":"COUNT($A$2:A1596)","v":1595},4785,0.58834378458133529,0.56510512725931394,0.50756178531907048,0.46919955735890817,0.4249354481741055,0.41718922906676503,0.38509774990778312,"Bava Metzia ",{"$f":"VLOOKUP(Schedule!M1596,#REF!,2,FALSE)","v":{"$error":"#REF!"}}]
["2024-05-18",7,"Bava Metzia 80",{"$f":"COUNT($A$2:A1597)","v":1596},4788,0.58871265215787527,0.56547399483585392,0.50793065289561046,0.46956842493544815,0.42530431575064553,0.41755809664330507,0.38546661748432315,"Bava Metzia ",{"$f":"VLOOKUP(Schedule!M1597,#REF!,2,FALSE)","v":{"$error":"#REF!"}}]
["2024-05-19",1,"Bava Metzia 81",{"$f":"COUNT($A$2:A1598)","v":1597},4791,0.58908151973441536,0.5658428624123939,0.50829952047215055,0.46993729251198818,{"$f":"(D1598-443)/2711","v":0.42567318332718557},0.4179269642198451,0.38583548506086313,"Bava Metzia ",{"$f":"VLOOKUP(Schedule!M1598,#REF!,2,FALSE)","v":{"$error":"#REF!"}}]
["2024-05-20",2,"Bava Metzia 82",{"$f":"COUNT($A$2:A1599)","v":1598},4794,0.58945038731095534,0.56621172998893399,0.50866838804869052,0.47030616008852821,0.42604205090372554,0.41829583179638508,0.38620435263740316,"Bava Metzia ",{"$f":"VLOOKUP(Schedule!M1599,#REF!,2,FALSE)","v":{"$error":"#REF!"}}]
["2024-05-21",3,"Bava Metzia 83",{"$f":"COUNT($A$2:A1600)","v":1599},4797,0.58981925488749543,0.56658059756547396,0.5090372556252305,0.47067502766506825,0.42641091848026558,0.41866469937292511,0.38657322021394319,"Bava Metzia ",{"$f":"VLOOKUP(Schedule!M1600,#REF!,2,FALSE)","v":{"$error":"#REF!"}}]
["2024-05-22",4,"Bava Metzia 84",{"$f":"COUNT($A$2:A1601)","v":1600},4800,0.5901881224640354,0.56694946514201405,0.50940612320177059,0.47104389524160828,0.42677978605680561,0.41903356694946514,0.38694208779048322,"Bava Metzia ",{"$f":"VLOOKUP(Schedule!M1601,#REF!,2,FALSE)","v":{"$error":"#REF!"}}]
["2024-05-23",5,"Bava Metzia 85",{"$f":"COUNT($A$2:A1602)","v":1601},{"$f":"D1602*3","v":4803},0.59055699004057538,{"$f":"(D1602-63)/2711","v":0.56731833271855403},0.50977499077831057,0.47141276281814831,0.42714865363334564,0.41940243452600517,0.38731095536702326,"Bava Metzia ",{"$f":"VLOOKUP(Schedule!M1602,#REF!,2,FALSE)","v":{"$error":"#REF!"}}]
["2024-05-24",{"$f":"WEEKDAY(A1603)","v":6},"Bava Metzia 86",{"$f":"COUNT($A$2:A1603)","v":1602},4806,{"$f":"D1603/2711","v":0.59092585761711547},0.56768720029509401,0.51014385835485065,0.47178163039468829,0.42751752120988568,0.41977130210254521,0.38767982294356323,{"$f":"LEFT(C1603,FIND(\"☃\",SUBSTITUTE(C1603,\" \",\"☃\",LEN(C1603)-LEN(SUBSTITUTE(C1603,\" \",\"\")))))","v":"Bava Metzia "},{"$f":"VLOOKUP(Schedule!M1603,#REF!,2,FALSE)","v":{"$error":"#REF!"}}]
["2024-05-25",7,"Bava Metzia 87",{"$f":"COUNT($A$2:A1604)","v":1603},4809,0.59129472519365545,0.5680560678716341,0.51051272593139063,0.47215049797122832,0.42788638878642565,0.42014016967908518,0.38804869052010327,"Bava Metzia ",{"$f":"VLOOKUP(Schedule!M1604,#REF!,2,FALSE)","v":{"$error":"#REF!"}}]
["2024-05-26",1,"Bava Metzia 88",{"$f":"COUNT($A$2:A1605)","v":1604},4812,0.59166359277019553,0.56842493544817407,0.51088159350793061,0.47251936554776836,0.42825525636296569,0.42050903725562522,0.3884175580966433,"Bava Metzia ",{"$f":"VLOOKUP(Schedule!M1605,#REF!,2,FALSE)","v":{"$error":"#REF!"}}]
["2024-05-27",2,"Bava Metzia 89",{"$f":"COUNT($A$2:A1606)","v":1605},4815,0.59203246034673551,0.56879380302471416,0.5112504610844707,{"$f":"(D1606-323)/2711","v":0.47288823312430839},0.42862412393950572,0.42087790483216525,0.38878642567318333,"Bava Metzia ",{"$f":"VLOOKUP(Schedule!M1606,#REF!,2,FALSE)","v":{"$error":"#REF!"}}]
["2024-05-28",3,"Bava Metzia 90",{"$f":"COUNT($A$2:A1607)","v":1606},4818,0.59240132792327549,0.56916267060125414,0.51161932866101067,0.47325710070084842,0.42899299151604575,0.42124677240870528,0.38915529324972337,"Bava Metzia ",{"$f":"VLOOKUP(Schedule!M1607,#REF!,2,FALSE)","v":{"$error":"#REF!"}}]
["2024-05-29",4,"Bava Metzia 91",{"$f":"COUNT($A$2:A1608)","v":1607},4821,0.59277019549981558,0.56953153817779412,0.51198819623755076,0.4736259682773884,0.42936185909258578,0.42161563998524532,0.3895241608262634,"Bava Metzia ",{"$f":"VLOOKUP(Schedule!M1608,#REF!,2,FALSE)","v":{"$error":"#REF!"}}]
["2024-05-30",5,"Bava Metzia 92",{"$f":"COUNT($A$2:A1609)","v":1608},4824,0.59313906307635555,0.5699004057543342,0.51235706381409074,0.47399483585392843,0.42973072666912576,0.42198450756178529,0.38989302840280338,"Bava Metzia ",{"$f":"VLOOKUP(Schedule!M1609,#REF!,2,FALSE)","v":{"$error":"#REF!"}}]
["2024-05-31",6,"Bava Metzia 93",{"$f":"COUNT($A$2:A1610)","v":1609},4827,0.59350793065289564,0.57026927333087418,0.51272593139063072,0.47436370343046846,0.4300995942456658,0.42235337513832533,0.39026189597934341,"Bava Metzia ",{"$f":"VLOOKUP(Schedule!M1610,#REF!,2,FALSE)","v":{"$error":"#REF!"}}]
["2024-06-01",7,"Bava Metzia 94",{"$f":"COUNT($A$2:A1611)","v":1610},4830,0.59387679822943562,0.57063814090741427,0.51309479896717081,0.4747325710070085,0.43046846182220583,0.42272224271486536,0.39063076355588344,"Bava Metzia ",{"$f":"VLOOKUP(Schedule!M1611,#REF!,2,FALSE)","v":{"$error":"#REF!"}}]
["2024-06-02",1,"Bava Metzia 95",{"$f":"COUNT($A$2:A1612)","v":1611},4833,0.59424566580597571,0.57100700848395425,0.51346366654371078,0.47510143858354853,0.43083732939874586,0.42309111029140539,0.39099963113242348,"Bava Metzia ",{"$f":"VLOOKUP(Schedule!M1612,#REF!,2,FALSE)","v":{"$error":"#REF!"}}]
["2024-06-03",2,"Bava Metzia 96",{"$f":"COUNT($A$2:A1613)","v":1612},4836,0.59461453338251569,0.57137587606049434,0.51383253412025087,0.47547030616008851,0.43120619697528589,0.42345997786794543,0.39136849870896351,"Bava Metzia ",{"$f":"VLOOKUP(Schedule!M1613,#REF!,2,FALSE)","v":{"$error":"#REF!"}}]
["2024-06-04",3,"Bava Metzia 97",{"$f":"COUNT($A$2:A1614)","v":1613},4839,0.59498340095905566,0.57174474363703431,0.51420140169679085,0.47583917373662854,0.43157506455182587,0.4238288454444854,0.39173736628550349,"Bava Metzia ",{"$f":"VLOOKUP(Schedule!M1614,#REF!,2,FALSE)","v":{"$error":"#REF!"}}]
["2024-06-05",4,"Bava Metzia 98",{"$f":"COUNT($A$2:A1615)","v":1614},4842,0.59535226853559575,0.57211361121357429,0.51457026927333083,0.47620804131316857,0.4319439321283659,0.42419771302102544,0.39210623386204352,"Bava Metzia ",{"$f":"VLOOKUP(Schedule!M1615,#REF!,2,FALSE)","v":{"$error":"#REF!"}}]
["2024-06-06",5,"Bava Metzia 99",{"$f":"COUNT($A$2:A1616)","v":1615},4845,0.59572113611213573,0.57248247879011438,0.51493913684987092,0.47657690888970861,0.43231279970490594,0.42456658059756547,0.39247510143858355,"Bava Metzia ",{"$f":"VLOOKUP(Schedule!M1616,#REF!,2,FALSE)","v":{"$error":"#REF!"}}]
["2024-06-07",6,"Bava Metzia 100",{"$f":"COUNT($A$2:A1617)","v":1616},4848,0.59609000368867582,0.57285134636665436,0.51530800442641089,0.47694577646624864,0.43268166728144597,0.4249354481741055,0.39284396901512358,"Bava Metzia ",{"$f":"VLOOKUP(Schedule!M1617,#REF!,2,FALSE)","v":{"$error":"#REF!"}}]
["2024-06-08",7,"Bava Metzia 101",{"$f":"COUNT($A$2:A1618)","v":1617},4851,0.5964588712652158,0.57322021394319445,0.51567687200295098,0.47731464404278862,0.433050534857986,{"$f":"(D1618-464)/2711","v":0.42530431575064553},0.39321283659166362,"Bava Metzia ",{"$f":"VLOOKUP(Schedule!M1618,#REF!,2,FALSE)","v":{"$error":"#REF!"}}]
["2024-06-09",1,"Bava Metzia 102",{"$f":"COUNT($A$2:A1619)","v":1618},4854,0.59682773884175577,0.57358908151973442,0.51604573957949096,0.47768351161932865,0.43341940243452598,0.42567318332718557,0.39358170416820359,"Bava Metzia ",{"$f":"VLOOKUP(Schedule!M1619,#REF!,2,FALSE)","v":{"$error":"#REF!"}}]
["2024-06-10",2,"Bava Metzia 103",{"$f":"COUNT($A$2:A1620)","v":1619},4857,0.59719660641829586,0.5739579490962744,0.51641460715603094,0.47805237919586868,0.43378827001106601,0.42604205090372554,0.39395057174474363,"Bava Metzia ",{"$f":"VLOOKUP(Schedule!M1620,#REF!,2,FALSE)","v":{"$error":"#REF!"}}]
["2024-06-11",3,"Bava Metzia 104",{"$f":"COUNT($A$2:A1621)","v":1620},4860,0.59756547399483584,0.57432681667281449,0.51678347473257102,0.47842124677240871,0.43415713758760605,0.42641091848026558,0.39431943932128366,"Bava Metzia ",{"$f":"VLOOKUP(Schedule!M1621,#REF!,2,FALSE)","v":{"$error":"#REF!"}}]
["2024-06-12",4,"Bava Metzia 105",{"$f":"COUNT($A$2:A1622)","v":1621},4863,0.59793434157137593,0.57469568424935447,0.517152342309111,0.47879011434894875,0.43452600516414608,0.42677978605680561,0.39468830689782369,"Bava Metzia ",{"$f":"VLOOKUP(Schedule!M1622,#REF!,2,FALSE)","v":{"$error":"#REF!"}}]
["2024-06-13",5,"Bava Metzia 106",{"$f":"COUNT($A$2:A1623)","v":1622},4866,0.5983032091479159,0.57506455182589455,0.51752120988565109,0.47915898192548873,0.43489487274068611,0.42714865363334564,0.39505717447436373,"Bava Metzia ",{"$f":"VLOOKUP(Schedule!M1623,#REF!,2,FALSE)","v":{"$error":"#REF!"}}]
["2024-06-14",6,"Bava Metzia 107",{"$f":"COUNT($A$2:A1624)","v":1623},4869,0.59867207672445588,0.57543341940243453,0.51789007746219107,0.47952784950202876,0.43526374031722609,0.42751752120988568,0.3954260420509037,"Bava Metzia ",{"$f":"VLOOKUP(Schedule!M1624,#REF!,2,FALSE)","v":{"$error":"#REF!"}}]
["2024-06-15",7,"Bava Metzia 108",{"$f":"COUNT($A$2:A1625)","v":1624},4872,0.59904094430099597,0.57580228697897451,0.51825894503873104,0.47989671707856879,0.43563260789376612,0.42788638878642565,0.39579490962744374,"Bava Metzia ",{"$f":"VLOOKUP(Schedule!M1625,#REF!,2,FALSE)","v":{"$error":"#REF!"}}]
["2024-06-16",1,"Bava Metzia 109",{"$f":"COUNT($A$2:A1626)","v":1625},4875,0.59940981187753595,0.5761711545555146,0.51862781261527113,0.48026558465510882,0.43600147547030615,0.42825525636296569,0.39616377720398377,"Bava Metzia ",{"$f":"VLOOKUP(Schedule!M1626,#REF!,2,FALSE)","v":{"$error":"#REF!"}}]
["2024-06-17",2,"Bava Metzia 110",{"$f":"COUNT($A$2:A1627)","v":1626},4878,0.59977867945407604,0.57654002213205457,0.51899668019181111,0.48063445223164886,0.43637034304684619,0.42862412393950572,0.3965326447805238,"Bava Metzia ",{"$f":"VLOOKUP(Schedule!M1627,#REF!,2,FALSE)","v":{"$error":"#REF!"}}]
["2024-06-18",3,"Bava Metzia 111",{"$f":"COUNT($A$2:A1628)","v":1627},4881,0.60014754703061601,0.57690888970859466,0.5193655477683512,0.48100331980818883,0.43673921062338622,0.42899299151604575,0.39690151235706383,"Bava Metzia ",{"$f":"VLOOKUP(Schedule!M1628,#REF!,2,FALSE)","v":{"$error":"#REF!"}}]
["2024-06-19",4,"Bava Metzia 112",{"$f":"COUNT($A$2:A1629)","v":1628},4884,0.60051641460715599,0.57727775728513464,0.51973441534489118,0.48137218738472887,0.43710807819992625,0.42936185909258578,0.39727037993360381,"Bava Metzia ",{"$f":"VLOOKUP(Schedule!M1629,#REF!,2,FALSE)","v":{"$error":"#REF!"}}]
["2024-06-20",5,"Bava Metzia 113",{"$f":"COUNT($A$2:A1630)","v":1629},4887,0.60088528218369608,0.57764662486167462,{"$f":"(D1630-219)/2711","v":0.52010328292143115},0.4817410549612689,0.43747694577646623,0.42973072666912576,0.39763924751014385,"Bava Metzia ",{"$f":"VLOOKUP(Schedule!M1630,#REF!,2,FALSE)","v":{"$error":"#REF!"}}]
["2024-06-21",6,"Bava Metzia 114",{"$f":"COUNT($A$2:A1631)","v":1630},4890,0.60125414976023606,0.57801549243821471,0.52047215049797124,0.48210992253780893,0.43784581335300626,0.4300995942456658,0.39800811508668388,"Bava Metzia ",{"$f":"VLOOKUP(Schedule!M1631,#REF!,2,FALSE)","v":{"$error":"#REF!"}}]
["2024-06-22",7,"Bava Metzia 115",{"$f":"COUNT($A$2:A1632)","v":1631},4893,0.60162301733677614,0.57838436001475468,0.52084101807451122,0.48247879011434897,0.4382146809295463,0.43046846182220583,0.39837698266322391,"Bava Metzia ",{"$f":"VLOOKUP(Schedule!M1632,#REF!,2,FALSE)","v":{"$error":"#REF!"}}]
["2024-06-23",1,"Bava Metzia 116",{"$f":"COUNT($A$2:A1633)","v":1632},4896,0.60199188491331612,0.57875322759129477,0.52120988565105131,0.482847657690889,0.43858354850608633,0.43083732939874586,0.39874585023976394,"Bava Metzia ",{"$f":"VLOOKUP(Schedule!M1633,#REF!,2,FALSE)","v":{"$error":"#REF!"}}]
["2024-06-24",2,"Bava Metzia 117",{"$f":"COUNT($A$2:A1634)","v":1633},4899,0.6023607524898561,0.57912209516783475,0.52157875322759129,0.48321652526742898,0.43895241608262636,0.43120619697528589,0.39911471781630392,"Bava Metzia ",{"$f":"VLOOKUP(Schedule!M1634,#REF!,2,FALSE)","v":{"$error":"#REF!"}}]
["2024-06-25",3,"Bava Metzia 118",{"$f":"COUNT($A$2:A1635)","v":1634},4902,0.60272962006639619,0.57949096274437473,0.52194762080413126,0.48358539284396901,0.43932128365916634,0.43157506455182587,0.39948358539284395,"Bava Metzia ",{"$f":"VLOOKUP(Schedule!M1635,#REF!,2,FALSE)","v":{"$error":"#REF!"}}]
["2024-06-26",4,"Bava Metzia 119",{"$f":"COUNT($A$2:A1636)","v":1635},4905,0.60309848764293617,0.57985983032091482,0.52231648838067135,0.48395426042050904,0.43969015123570637,0.4319439321283659,0.39985245296938399,"Bava Metzia ",{"$f":"VLOOKUP(Schedule!M1636,#REF!,2,FALSE)","v":{"$error":"#REF!"}}]
["2024-06-27",5,"Bava Basra 2",{"$f":"COUNT($A$2:A1637)","v":1636},4908,0.60346735521947625,0.58022869789745479,0.52268535595721133,0.48432312799704907,0.44005901881224641,0.43231279970490594,0.40022132054592402,"Bava Basra ",{"$f":"VLOOKUP(Schedule!M1637,#REF!,2,FALSE)","v":{"$error":"#REF!"}}]
["2024-06-28",6,"Bava Basra 3",{"$f":"COUNT($A$2:A1638)","v":1637},4911,0.60383622279601623,0.58059756547399488,0.52305422353375142,0.48469199557358911,0.44042788638878644,0.43268166728144597,0.40059018812246405,"Bava Basra ",{"$f":"VLOOKUP(Schedule!M1638,#REF!,2,FALSE)","v":{"$error":"#REF!"}}]
["2024-06-29",7,"Bava Basra 4",{"$f":"COUNT($A$2:A1639)","v":1638},4914,0.60420509037255621,0.58096643305053486,0.52342309111029139,0.48506086315012908,0.44079675396532647,0.433050534857986,0.40095905569900403,"Bava Basra ",{"$f":"VLOOKUP(Schedule!M1639,#REF!,2,FALSE)","v":{"$error":"#REF!"}}]
["2024-06-30",1,"Bava Basra 5",{"$f":"COUNT($A$2:A1640)","v":1639},4917,0.6045739579490963,0.58133530062707484,0.52379195868683148,0.48542973072666912,0.44116562154186645,0.43341940243452598,0.40132792327554406,"Bava Basra ",{"$f":"VLOOKUP(Schedule!M1640,#REF!,2,FALSE)","v":{"$error":"#REF!"}}]
["2024-07-01",2,"Bava Basra 6",{"$f":"COUNT($A$2:A1641)","v":1640},4920,0.60494282552563627,0.58170416820361492,0.52416082626337146,0.48579859830320915,0.44153448911840648,0.43378827001106601,0.4016967908520841,"Bava Basra ",{"$f":"VLOOKUP(Schedule!M1641,#REF!,2,FALSE)","v":{"$error":"#REF!"}}]
["2024-07-02",3,"Bava Basra 7",{"$f":"COUNT($A$2:A1642)","v":1641},4923,0.60531169310217636,0.5820730357801549,0.52452969383991144,0.48616746587974918,0.44190335669494651,0.43415713758760605,{"$f":"(D1642-551)/2711","v":0.40206565842862413},"Bava Basra ",{"$f":"VLOOKUP(Schedule!M1642,#REF!,2,FALSE)","v":{"$error":"#REF!"}}]
["2024-07-03",4,"Bava Basra 8",{"$f":"COUNT($A$2:A1643)","v":1642},4926,0.60568056067871634,0.58244190335669499,0.52489856141645153,0.48653633345628922,0.44227222427148655,0.43452600516414608,0.40243452600516416,"Bava Basra ",{"$f":"VLOOKUP(Schedule!M1643,#REF!,2,FALSE)","v":{"$error":"#REF!"}}]
["2024-07-04",5,"Bava Basra 9",{"$f":"COUNT($A$2:A1644)","v":1643},4929,0.60604942825525632,0.58281077093323497,0.5252674289929915,0.48690520103282919,0.44264109184802658,0.43489487274068611,0.40280339358170419,"Bava Basra ",{"$f":"VLOOKUP(Schedule!M1644,#REF!,2,FALSE)","v":{"$error":"#REF!"}}]
["2024-07-05",6,"Bava Basra 10",{"$f":"COUNT($A$2:A1645)","v":1644},4932,0.60641829583179641,0.58317963850977494,0.52563629656953159,0.48727406860936923,0.44300995942456656,0.43526374031722609,0.40317226115824417,"Bava Basra ",{"$f":"VLOOKUP(Schedule!M1645,#REF!,2,FALSE)","v":{"$error":"#REF!"}}]
["2024-07-06",7,"Bava Basra 11",{"$f":"COUNT($A$2:A1646)","v":1645},4935,0.60678716340833638,0.58354850608631503,0.52600516414607157,0.48764293618590926,0.44337882700110659,0.43563260789376612,0.4035411287347842,"Bava Basra ",{"$f":"VLOOKUP(Schedule!M1646,#REF!,2,FALSE)","v":{"$error":"#REF!"}}]
["2024-07-07",1,"Bava Basra 12",{"$f":"COUNT($A$2:A1647)","v":1646},4938,0.60715603098487647,0.58391737366285501,0.52637403172261155,0.48801180376244929,0.44374769457764662,0.43600147547030615,0.40390999631132424,"Bava Basra ",{"$f":"VLOOKUP(Schedule!M1647,#REF!,2,FALSE)","v":{"$error":"#REF!"}}]
["2024-07-08",2,"Bava Basra 13",{"$f":"COUNT($A$2:A1648)","v":1647},4941,0.60752489856141645,0.5842862412393951,0.52674289929915163,0.48838067133898933,0.44411656215418666,0.43637034304684619,0.40427886388786427,"Bava Basra ",{"$f":"VLOOKUP(Schedule!M1648,#REF!,2,FALSE)","v":{"$error":"#REF!"}}]
["2024-07-09",3,"Bava Basra 14",{"$f":"COUNT($A$2:A1649)","v":1648},4944,0.60789376613795643,0.58465510881593508,0.52711176687569161,0.4887495389155293,0.44448542973072669,0.43673921062338622,0.4046477314644043,"Bava Basra ",{"$f":"VLOOKUP(Schedule!M1649,#REF!,2,FALSE)","v":{"$error":"#REF!"}}]
["2024-07-10",4,"Bava Basra 15",{"$f":"COUNT($A$2:A1650)","v":1649},4947,0.60826263371449651,0.58502397639247505,0.5274806344522317,0.48911840649206934,0.44485429730726667,0.43710807819992625,0.40501659904094428,"Bava Basra ",{"$f":"VLOOKUP(Schedule!M1650,#REF!,2,FALSE)","v":{"$error":"#REF!"}}]
["2024-07-11",5,"Bava Basra 16",{"$f":"COUNT($A$2:A1651)","v":1650},4950,0.60863150129103649,0.58539284396901514,0.52784950202877168,0.48948727406860937,0.4452231648838067,0.43747694577646623,0.40538546661748431,"Bava Basra ",{"$f":"VLOOKUP(Schedule!M1651,#REF!,2,FALSE)","v":{"$error":"#REF!"}}]
["2024-07-12",6,"Bava Basra 17",{"$f":"COUNT($A$2:A1652)","v":1651},4953,0.60900036886757658,0.58576171154555512,0.52821836960531166,0.4898561416451494,0.44559203246034673,0.43784581335300626,0.40575433419402435,"Bava Basra ",{"$f":"VLOOKUP(Schedule!M1652,#REF!,2,FALSE)","v":{"$error":"#REF!"}}]
["2024-07-13",7,"Bava Basra 18",{"$f":"COUNT($A$2:A1653)","v":1652},4956,0.60936923644411656,0.58613057912209521,0.52858723718185174,0.49022500922168943,0.44596090003688676,0.4382146809295463,0.40612320177056438,"Bava Basra ",{"$f":"VLOOKUP(Schedule!M1653,#REF!,2,FALSE)","v":{"$error":"#REF!"}}]
["2024-07-14",1,"Bava Basra 19",{"$f":"COUNT($A$2:A1654)","v":1653},4959,0.60973810402065654,0.58649944669863519,0.52895610475839172,0.49059387679822941,0.4463297676134268,0.43858354850608633,0.40649206934710441,"Bava Basra ",{"$f":"VLOOKUP(Schedule!M1654,#REF!,2,FALSE)","v":{"$error":"#REF!"}}]
["2024-07-15",2,"Bava Basra 20",{"$f":"COUNT($A$2:A1655)","v":1654},4962,0.61010697159719662,0.58686831427517516,0.52932497233493181,0.49096274437476944,0.44669863518996678,0.43895241608262636,0.40686093692364439,"Bava Basra ",{"$f":"VLOOKUP(Schedule!M1655,#REF!,2,FALSE)","v":{"$error":"#REF!"}}]
["2024-07-16",3,"Bava Basra 21",{"$f":"COUNT($A$2:A1656)","v":1655},4965,0.6104758391737366,0.58723718185171525,0.52969383991147179,0.49133161195130948,0.44706750276650681,0.43932128365916634,0.40722980450018442,"Bava Basra ",{"$f":"VLOOKUP(Schedule!M1656,#REF!,2,FALSE)","v":{"$error":"#REF!"}}]
["2024-07-17",4,"Bava Basra 22",{"$f":"COUNT($A$2:A1657)","v":1656},4968,0.61084470675027669,0.58760604942825523,0.53006270748801176,0.49170047952784951,0.44743637034304684,0.43969015123570637,0.40759867207672446,"Bava Basra ",{"$f":"VLOOKUP(Schedule!M1657,#REF!,2,FALSE)","v":{"$error":"#REF!"}}]
["2024-07-18",5,"Bava Basra 23",{"$f":"COUNT($A$2:A1658)","v":1657},4971,0.61121357432681667,0.58797491700479532,0.53043157506455185,0.49206934710438954,0.44780523791958687,0.44005901881224641,0.40796753965326449,"Bava Basra ",{"$f":"VLOOKUP(Schedule!M1658,#REF!,2,FALSE)","v":{"$error":"#REF!"}}]
["2024-07-19",6,"Bava Basra 24",{"$f":"COUNT($A$2:A1659)","v":1658},4974,0.61158244190335664,0.58834378458133529,0.53080044264109183,0.49243821468092952,0.44817410549612691,0.44042788638878644,0.40833640722980452,"Bava Basra ",{"$f":"VLOOKUP(Schedule!M1659,#REF!,2,FALSE)","v":{"$error":"#REF!"}}]
["2024-07-20",7,"Bava Basra 25",{"$f":"COUNT($A$2:A1660)","v":1659},4977,0.61195130947989673,0.58871265215787527,0.53116931021763192,0.49280708225746955,0.44854297307266694,0.44079675396532647,0.4087052748063445,"Bava Basra ",{"$f":"VLOOKUP(Schedule!M1660,#REF!,2,FALSE)","v":{"$error":"#REF!"}}]
["2024-07-21",1,"Bava Basra 26",{"$f":"COUNT($A$2:A1661)","v":1660},4980,0.61232017705643671,0.58908151973441536,0.5315381777941719,0.49317594983400959,0.44891184064920692,0.44116562154186645,0.40907414238288453,"Bava Basra ",{"$f":"VLOOKUP(Schedule!M1661,#REF!,2,FALSE)","v":{"$error":"#REF!"}}]
["2024-07-22",2,"Bava Basra 27",{"$f":"COUNT($A$2:A1662)","v":1661},4983,0.6126890446329768,0.58945038731095534,0.53190704537071187,0.49354481741054962,{"$f":"(D1662-443)/2711","v":0.44928070822574695},0.44153448911840648,0.40944300995942456,"Bava Basra ",{"$f":"VLOOKUP(Schedule!M1662,#REF!,2,FALSE)","v":{"$error":"#REF!"}}]
["2024-07-23",3,"Bava Basra 28",{"$f":"COUNT($A$2:A1663)","v":1662},4986,0.61305791220951678,0.58981925488749543,0.53227591294725196,0.49391368498708965,0.44964957580228698,0.44190335669494651,0.4098118775359646,"Bava Basra ",{"$f":"VLOOKUP(Schedule!M1663,#REF!,2,FALSE)","v":{"$error":"#REF!"}}]
["2024-07-24",4,"Bava Basra 29",{"$f":"COUNT($A$2:A1664)","v":1663},4989,0.61342677978605675,0.5901881224640354,0.53264478052379194,0.49428255256362968,0.45001844337882702,0.44227222427148655,0.41018074511250463,"Bava Basra ",{"$f":"VLOOKUP(Schedule!M1664,#REF!,2,FALSE)","v":{"$error":"#REF!"}}]
["2024-07-25",5,"Bava Basra 30",{"$f":"COUNT($A$2:A1665)","v":1664},4992,0.61379564736259684,0.59055699004057538,0.53301364810033203,0.49465142014016966,0.45038731095536705,0.44264109184802658,0.41054961268904461,"Bava Basra ",{"$f":"VLOOKUP(Schedule!M1665,#REF!,2,FALSE)","v":{"$error":"#REF!"}}]
["2024-07-26",6,"Bava Basra 31",{"$f":"COUNT($A$2:A1666)","v":1665},{"$f":"D1666*3","v":4995},0.61416451493913682,{"$f":"(D1666-63)/2711","v":0.59092585761711547},0.533382515676872,0.49502028771670969,0.45075617853190703,0.44300995942456656,0.41091848026558464,"Bava Basra ",{"$f":"VLOOKUP(Schedule!M1666,#REF!,2,FALSE)","v":{"$error":"#REF!"}}]
["2024-07-27",{"$f":"WEEKDAY(A1667)","v":7},"Bava Basra 32",{"$f":"COUNT($A$2:A1667)","v":1666},4998,{"$f":"D1667/2711","v":0.61453338251567691},0.59129472519365545,0.53375138325341198,0.49538915529324973,0.45112504610844706,0.44337882700110659,0.41128734784212467,{"$f":"LEFT(C1667,FIND(\"☃\",SUBSTITUTE(C1667,\" \",\"☃\",LEN(C1667)-LEN(SUBSTITUTE(C1667,\" \",\"\")))))","v":"Bava Basra "},{"$f":"VLOOKUP(Schedule!M1667,#REF!,2,FALSE)","v":{"$error":"#REF!"}}]
["2024-07-28",1,"Bava Basra 33",{"$f":"COUNT($A$2:A1668)","v":1667},5001,0.61490225009221688,0.59166359277019553,0.53412025082995207,0.49575802286978976,0.45149391368498709,0.44374769457764662,0.41165621541866471,"Bava Basra ",{"$f":"VLOOKUP(Schedule!M1668,#REF!,2,FALSE)","v":{"$error":"#REF!"}}]
["2024-07-29",2,"Bava Basra 34",{"$f":"COUNT($A$2:A1669)","v":1668},5004,0.61527111766875686,0.59203246034673551,0.53448911840649205,0.49612689044632979,0.45186278126152712,0.44411656215418666,0.41202508299520474,"Bava Basra ",{"$f":"VLOOKUP(Schedule!M1669,#REF!,2,FALSE)","v":{"$error":"#REF!"}}]
["2024-07-30",3,"Bava Basra 35",{"$f":"COUNT($A$2:A1670)","v":1669},5007,0.61563998524529695,0.59240132792327549,0.53485798598303214,{"$f":"(D1670-323)/2711","v":0.49649575802286977},0.45223164883806716,0.44448542973072669,0.41239395057174472,"Bava Basra ",{"$f":"VLOOKUP(Schedule!M1670,#REF!,2,FALSE)","v":{"$error":"#REF!"}}]
["2024-07-31",4,"Bava Basra 36",{"$f":"COUNT($A$2:A1671)","v":1670},5010,0.61600885282183693,0.59277019549981558,0.53522685355957211,0.4968646255994098,0.45260051641460713,0.44485429730726667,0.41276281814828475,"Bava Basra ",{"$f":"VLOOKUP(Schedule!M1671,#REF!,2,FALSE)","v":{"$error":"#REF!"}}]
["2024-08-01",5,"Bava Basra 37",{"$f":"COUNT($A$2:A1672)","v":1671},5013,0.61637772039837702,0.59313906307635555,0.53559572113611209,0.49723349317594984,0.45296938399114717,0.4452231648838067,0.41313168572482478,"Bava Basra ",{"$f":"VLOOKUP(Schedule!M1672,#REF!,2,FALSE)","v":{"$error":"#REF!"}}]
["2024-08-02",6,"Bava Basra 38",{"$f":"COUNT($A$2:A1673)","v":1672},5016,0.61674658797491699,0.59350793065289564,0.53596458871265218,0.49760236075248987,0.4533382515676872,0.44559203246034673,0.41350055330136481,"Bava Basra ",{"$f":"VLOOKUP(Schedule!M1673,#REF!,2,FALSE)","v":{"$error":"#REF!"}}]
["2024-08-03",7,"Bava Basra 39",{"$f":"COUNT($A$2:A1674)","v":1673},5019,0.61711545555145708,0.59387679822943562,0.53633345628919216,0.4979712283290299,0.45370711914422723,0.44596090003688676,0.41386942087790485,"Bava Basra ",{"$f":"VLOOKUP(Schedule!M1674,#REF!,2,FALSE)","v":{"$error":"#REF!"}}]
["2024-08-04",1,"Bava Basra 40",{"$f":"COUNT($A$2:A1675)","v":1674},5022,0.61748432312799706,0.59424566580597571,0.53670232386573224,0.49834009590556988,0.45407598672076727,0.4463297676134268,0.41423828845444488,"Bava Basra ",{"$f":"VLOOKUP(Schedule!M1675,#REF!,2,FALSE)","v":{"$error":"#REF!"}}]
["2024-08-05",2,"Bava Basra 41",{"$f":"COUNT($A$2:A1676)","v":1675},5025,0.61785319070453704,0.59461453338251569,0.53707119144227222,0.49870896348210991,0.45444485429730724,0.44669863518996678,0.41460715603098486,"Bava Basra ",{"$f":"VLOOKUP(Schedule!M1676,#REF!,2,FALSE)","v":{"$error":"#REF!"}}]
["2024-08-06",3,"Bava Basra 42",{"$f":"COUNT($A$2:A1677)","v":1676},5028,0.61822205828107712,0.59498340095905566,0.5374400590188122,0.49907783105864995,0.45481372187384728,0.44706750276650681,0.41497602360752489,"Bava Basra ",{"$f":"VLOOKUP(Schedule!M1677,#REF!,2,FALSE)","v":{"$error":"#REF!"}}]
["2024-08-07",4,"Bava Basra 43",{"$f":"COUNT($A$2:A1678)","v":1677},5031,0.6185909258576171,0.59535226853559575,0.53780892659535229,0.49944669863518998,0.45518258945038731,0.44743637034304684,0.41534489118406492,"Bava Basra ",{"$f":"VLOOKUP(Schedule!M1678,#REF!,2,FALSE)","v":{"$error":"#REF!"}}]
["2024-08-08",5,"Bava Basra 44",{"$f":"COUNT($A$2:A1679)","v":1678},5034,0.61895979343415719,0.59572113611213573,0.53817779417189227,0.49981556621173001,0.45555145702692734,0.44780523791958687,0.41571375876060496,"Bava Basra ",{"$f":"VLOOKUP(Schedule!M1679,#REF!,2,FALSE)","v":{"$error":"#REF!"}}]
["2024-08-09",6,"Bava Basra 45",{"$f":"COUNT($A$2:A1680)","v":1679},5037,0.61932866101069717,0.59609000368867582,0.53854666174843235,0.50018443378827004,0.45592032460346738,0.44817410549612691,0.41608262633714499,"Bava Basra ",{"$f":"VLOOKUP(Schedule!M1680,#REF!,2,FALSE)","v":{"$error":"#REF!"}}]
["2024-08-10",7,"Bava Basra 46",{"$f":"COUNT($A$2:A1681)","v":1680},5040,0.61969752858723715,0.5964588712652158,0.53891552932497233,0.50055330136481002,0.45628919218000735,0.44854297307266694,0.41645149391368497,"Bava Basra ",{"$f":"VLOOKUP(Schedule!M1681,#REF!,2,FALSE)","v":{"$error":"#REF!"}}]
["2024-08-11",1,"Bava Basra 47",{"$f":"COUNT($A$2:A1682)","v":1681},5043,0.62006639616377723,0.59682773884175577,0.53928439690151231,0.50092216894135011,0.45665805975654739,{"$f":"(D1682-464)/2711","v":0.44891184064920692},0.416820361490225,"Bava Basra ",{"$f":"VLOOKUP(Schedule!M1682,#REF!,2,FALSE)","v":{"$error":"#REF!"}}]
["2024-08-12",2,"Bava Basra 48",{"$f":"COUNT($A$2:A1683)","v":1682},5046,0.62043526374031721,0.59719660641829586,0.5396532644780524,0.50129103651789009,0.45702692733308742,0.44928070822574695,0.41718922906676503,"Bava Basra ",{"$f":"VLOOKUP(Schedule!M1683,#REF!,2,FALSE)","v":{"$error":"#REF!"}}]
["2024-08-13",3,"Bava Basra 49",{"$f":"COUNT($A$2:A1684)","v":1683},5049,0.6208041313168573,0.59756547399483584,0.54002213205459237,0.50165990409443006,0.45739579490962745,0.44964957580228698,0.41755809664330507,"Bava Basra ",{"$f":"VLOOKUP(Schedule!M1684,#REF!,2,FALSE)","v":{"$error":"#REF!"}}]
["2024-08-14",4,"Bava Basra 50",{"$f":"COUNT($A$2:A1685)","v":1684},5052,0.62117299889339728,0.59793434157137593,0.54039099963113246,0.50202877167097015,0.45776466248616748,0.45001844337882702,0.4179269642198451,"Bava Basra ",{"$f":"VLOOKUP(Schedule!M1685,#REF!,2,FALSE)","v":{"$error":"#REF!"}}]
["2024-08-15",5,"Bava Basra 51",{"$f":"COUNT($A$2:A1686)","v":1685},5055,0.62154186646993725,0.5983032091479159,0.54075986720767244,0.50239763924751013,0.45813353006270746,0.45038731095536705,0.41829583179638508,"Bava Basra ",{"$f":"VLOOKUP(Schedule!M1686,#REF!,2,FALSE)","v":{"$error":"#REF!"}}]
["2024-08-16",6,"Bava Basra 52",{"$f":"COUNT($A$2:A1687)","v":1686},5058,0.62191073404647734,0.59867207672445588,0.54112873478421242,0.50276650682405022,0.45850239763924749,0.45075617853190703,0.41866469937292511,"Bava Basra ",{"$f":"VLOOKUP(Schedule!M1687,#REF!,2,FALSE)","v":{"$error":"#REF!"}}]
["2024-08-17",7,"Bava Basra 53",{"$f":"COUNT($A$2:A1688)","v":1687},5061,0.62227960162301732,0.59904094430099597,0.54149760236075251,0.5031353744005902,0.45887126521578753,0.45112504610844706,0.41903356694946514,"Bava Basra ",{"$f":"VLOOKUP(Schedule!M1688,#REF!,2,FALSE)","v":{"$error":"#REF!"}}]
["2024-08-18",1,"Bava Basra 54",{"$f":"COUNT($A$2:A1689)","v":1688},5064,0.62264846919955741,0.59940981187753595,0.54186646993729248,0.50350424197713017,0.45924013279232756,0.45149391368498709,0.41940243452600517,"Bava Basra ",{"$f":"VLOOKUP(Schedule!M1689,#REF!,2,FALSE)","v":{"$error":"#REF!"}}]
["2024-08-19",2,"Bava Basra 55",{"$f":"COUNT($A$2:A1690)","v":1689},5067,0.62301733677609739,0.59977867945407604,0.54223533751383257,0.50387310955367026,0.45960900036886759,0.45186278126152712,0.41977130210254521,"Bava Basra ",{"$f":"VLOOKUP(Schedule!M1690,#REF!,2,FALSE)","v":{"$error":"#REF!"}}]
["2024-08-20",3,"Bava Basra 56",{"$f":"COUNT($A$2:A1691)","v":1690},5070,0.62338620435263736,0.60014754703061601,0.54260420509037255,0.50424197713021024,0.45997786794540763,0.45223164883806716,0.42014016967908518,"Bava Basra ",{"$f":"VLOOKUP(Schedule!M1691,#REF!,2,FALSE)","v":{"$error":"#REF!"}}]
["2024-08-21",4,"Bava Basra 57",{"$f":"COUNT($A$2:A1692)","v":1691},5073,0.62375507192917745,0.60051641460715599,0.54297307266691253,0.50461084470675033,0.4603467355219476,0.45260051641460713,0.42050903725562522,"Bava Basra ",{"$f":"VLOOKUP(Schedule!M1692,#REF!,2,FALSE)","v":{"$error":"#REF!"}}]
["2024-08-22",5,"Bava Basra 58",{"$f":"COUNT($A$2:A1693)","v":1692},5076,0.62412393950571743,0.60088528218369608,0.54334194024345261,0.50497971228329031,0.46071560309848764,0.45296938399114717,0.42087790483216525,"Bava Basra ",{"$f":"VLOOKUP(Schedule!M1693,#REF!,2,FALSE)","v":{"$error":"#REF!"}}]
["2024-08-23",6,"Bava Basra 59",{"$f":"COUNT($A$2:A1694)","v":1693},5079,0.62449280708225752,0.60125414976023606,{"$f":"(D1694-219)/2711","v":0.54371080781999259},0.50534857985983028,0.46108447067502767,0.4533382515676872,0.42124677240870528,"Bava Basra ",{"$f":"VLOOKUP(Schedule!M1694,#REF!,2,FALSE)","v":{"$error":"#REF!"}}]
["2024-08-24",7,"Bava Basra 60",{"$f":"COUNT($A$2:A1695)","v":1694},5082,0.62486167465879749,0.60162301733677614,0.54407967539653268,0.50571744743637037,0.4614533382515677,0.45370711914422723,0.42161563998524532,"Bava Basra ",{"$f":"VLOOKUP(Schedule!M1695,#REF!,2,FALSE)","v":{"$error":"#REF!"}}]
["2024-08-25",1,"Bava Basra 61",{"$f":"COUNT($A$2:A1696)","v":1695},5085,0.62523054223533747,0.60199188491331612,0.54444854297307266,0.50608631501291035,0.46182220582810773,0.45407598672076727,0.42198450756178529,"Bava Basra ",{"$f":"VLOOKUP(Schedule!M1696,#REF!,2,FALSE)","v":{"$error":"#REF!"}}]
["2024-08-26",2,"Bava Basra 62",{"$f":"COUNT($A$2:A1697)","v":1696},5088,0.62559940981187756,0.6023607524898561,0.54481741054961264,0.50645518258945044,0.46219107340464771,0.45444485429730724,0.42235337513832533,"Bava Basra ",{"$f":"VLOOKUP(Schedule!M1697,#REF!,2,FALSE)","v":{"$error":"#REF!"}}]
["2024-08-27",3,"Bava Basra 63",{"$f":"COUNT($A$2:A1698)","v":1697},5091,0.62596827738841754,0.60272962006639619,0.54518627812615272,0.50682405016599041,0.46255994098118774,0.45481372187384728,0.42272224271486536,"Bava Basra ",{"$f":"VLOOKUP(Schedule!M1698,#REF!,2,FALSE)","v":{"$error":"#REF!"}}]
["2024-08-28",4,"Bava Basra 64",{"$f":"COUNT($A$2:A1699)","v":1698},5094,0.62633714496495763,0.60309848764293617,0.5455551457026927,0.50719291774253039,0.46292880855772778,0.45518258945038731,0.42309111029140539,"Bava Basra ",{"$f":"VLOOKUP(Schedule!M1699,#REF!,2,FALSE)","v":{"$error":"#REF!"}}]
["2024-08-29",5,"Bava Basra 65",{"$f":"COUNT($A$2:A1700)","v":1699},5097,0.6267060125414976,0.60346735521947625,0.54592401327923279,0.50756178531907048,0.46329767613426781,0.45555145702692734,0.42345997786794543,"Bava Basra ",{"$f":"VLOOKUP(Schedule!M1700,#REF!,2,FALSE)","v":{"$error":"#REF!"}}]
["2024-08-30",6,"Bava Basra 66",{"$f":"COUNT($A$2:A1701)","v":1700},5100,0.62707488011803758,0.60383622279601623,0.54629288085577277,0.50793065289561046,0.46366654371080784,0.45592032460346738,0.4238288454444854,"Bava Basra ",{"$f":"VLOOKUP(Schedule!M1701,#REF!,2,FALSE)","v":{"$error":"#REF!"}}]
["2024-08-31",7,"Bava Basra 67",{"$f":"COUNT($A$2:A1702)","v":1701},5103,0.62744374769457767,0.60420509037255621,0.54666174843231286,0.50829952047215055,0.46403541128734782,0.45628919218000735,0.42419771302102544,"Bava Basra ",{"$f":"VLOOKUP(Schedule!M1702,#REF!,2,FALSE)","v":{"$error":"#REF!"}}]
["2024-09-01",1,"Bava Basra 68",{"$f":"COUNT($A$2:A1703)","v":1702},5106,0.62781261527111765,0.6045739579490963,0.54703061600885283,0.50866838804869052,0.46440427886388785,0.45665805975654739,0.42456658059756547,"Bava Basra ",{"$f":"VLOOKUP(Schedule!M1703,#REF!,2,FALSE)","v":{"$error":"#REF!"}}]
["2024-09-02",2,"Bava Basra 69",{"$f":"COUNT($A$2:A1704)","v":1703},5109,0.62818148284765774,0.60494282552563627,0.54739948358539281,0.5090372556252305,0.46477314644042789,0.45702692733308742,0.4249354481741055,"Bava Basra ",{"$f":"VLOOKUP(Schedule!M1704,#REF!,2,FALSE)","v":{"$error":"#REF!"}}]
["2024-09-03",3,"Bava Basra 70",{"$f":"COUNT($A$2:A1705)","v":1704},5112,0.62855035042419771,0.60531169310217636,0.5477683511619329,0.50940612320177059,0.46514201401696792,0.45739579490962745,0.42530431575064553,"Bava Basra ",{"$f":"VLOOKUP(Schedule!M1705,#REF!,2,FALSE)","v":{"$error":"#REF!"}}]
["2024-09-04",4,"Bava Basra 71",{"$f":"COUNT($A$2:A1706)","v":1705},5115,0.62891921800073769,0.60568056067871634,0.54813721873847288,0.50977499077831057,0.46551088159350795,0.45776466248616748,{"$f":"(D1706-551)/2711","v":0.42567318332718557},"Bava Basra ",{"$f":"VLOOKUP(Schedule!M1706,#REF!,2,FALSE)","v":{"$error":"#REF!"}}]
["2024-09-05",5,"Bava Basra 72",{"$f":"COUNT($A$2:A1707)","v":1706},5118,0.62928808557727778,0.60604942825525632,0.54850608631501296,0.51014385835485065,0.46587974917004793,0.45813353006270746,0.42604205090372554,"Bava Basra ",{"$f":"VLOOKUP(Schedule!M1707,#REF!,2,FALSE)","v":{"$error":"#REF!"}}]
["2024-09-06",6,"Bava Basra 73",{"$f":"COUNT($A$2:A1708)","v":1707},5121,0.62965695315381776,0.60641829583179641,0.54887495389155294,0.51051272593139063,0.46624861674658796,0.45850239763924749,0.42641091848026558,"Bava Basra ",{"$f":"VLOOKUP(Schedule!M1708,#REF!,2,FALSE)","v":{"$error":"#REF!"}}]
["2024-09-07",7,"Bava Basra 74",{"$f":"COUNT($A$2:A1709)","v":1708},5124,0.63002582073035784,0.60678716340833638,0.54924382146809292,0.51088159350793061,0.466617484323128,0.45887126521578753,0.42677978605680561,"Bava Basra ",{"$f":"VLOOKUP(Schedule!M1709,#REF!,2,FALSE)","v":{"$error":"#REF!"}}]
["2024-09-08",1,"Bava Basra 75",{"$f":"COUNT($A$2:A1710)","v":1709},5127,0.63039468830689782,0.60715603098487647,0.54961268904463301,0.5112504610844707,0.46698635189966803,0.45924013279232756,0.42714865363334564,"Bava Basra ",{"$f":"VLOOKUP(Schedule!M1710,#REF!,2,FALSE)","v":{"$error":"#REF!"}}]
["2024-09-09",2,"Bava Basra 76",{"$f":"COUNT($A$2:A1711)","v":1710},5130,0.6307635558834378,0.60752489856141645,0.54998155662117298,0.51161932866101067,0.46735521947620806,0.45960900036886759,0.42751752120988568,"Bava Basra ",{"$f":"VLOOKUP(Schedule!M1711,#REF!,2,FALSE)","v":{"$error":"#REF!"}}]
["2024-09-10",3,"Bava Basra 77",{"$f":"COUNT($A$2:A1712)","v":1711},5133,0.63113242345997789,0.60789376613795643,0.55035042419771307,0.51198819623755076,0.46772408705274804,0.45997786794540763,0.42788638878642565,"Bava Basra ",{"$f":"VLOOKUP(Schedule!M1712,#REF!,2,FALSE)","v":{"$error":"#REF!"}}]
["2024-09-11",4,"Bava Basra 78",{"$f":"COUNT($A$2:A1713)","v":1712},5136,0.63150129103651786,0.60826263371449651,0.55071929177425305,0.51235706381409074,0.46809295462928807,0.4603467355219476,0.42825525636296569,"Bava Basra ",{"$f":"VLOOKUP(Schedule!M1713,#REF!,2,FALSE)","v":{"$error":"#REF!"}}]
["2024-09-12",5,"Bava Basra 79",{"$f":"COUNT($A$2:A1714)","v":1713},5139,0.63187015861305795,0.60863150129103649,0.55108815935079303,0.51272593139063072,0.4684618222058281,0.46071560309848764,0.42862412393950572,"Bava Basra ",{"$f":"VLOOKUP(Schedule!M1714,#REF!,2,FALSE)","v":{"$error":"#REF!"}}]
["2024-09-13",6,"Bava Basra 80",{"$f":"COUNT($A$2:A1715)","v":1714},5142,0.63223902618959793,0.60900036886757658,0.55145702692733312,0.51309479896717081,0.46883068978236814,0.46108447067502767,0.42899299151604575,"Bava Basra ",{"$f":"VLOOKUP(Schedule!M1715,#REF!,2,FALSE)","v":{"$error":"#REF!"}}]
["2024-09-14",7,"Bava Basra 81",{"$f":"COUNT($A$2:A1716)","v":1715},5145,0.63260789376613791,0.60936923644411656,0.55182589450387309,0.51346366654371078,0.46919955735890817,0.4614533382515677,0.42936185909258578,"Bava Basra ",{"$f":"VLOOKUP(Schedule!M1716,#REF!,2,FALSE)","v":{"$error":"#REF!"}}]
["2024-09-15",1,"Bava Basra 82",{"$f":"COUNT($A$2:A1717)","v":1716},5148,0.632976761342678,0.60973810402065654,0.55219476208041318,0.51383253412025087,0.46956842493544815,0.46182220582810773,0.42973072666912576,"Bava Basra ",{"$f":"VLOOKUP(Schedule!M1717,#REF!,2,FALSE)","v":{"$error":"#REF!"}}]
["2024-09-16",2,"Bava Basra 83",{"$f":"COUNT($A$2:A1718)","v":1717},5151,0.63334562891921797,0.61010697159719662,0.55256362965695316,0.51420140169679085,0.46993729251198818,0.46219107340464771,0.4300995942456658,"Bava Basra ",{"$f":"VLOOKUP(Schedule!M1718,#REF!,2,FALSE)","v":{"$error":"#REF!"}}]
["2024-09-17",3,"Bava Basra 84",{"$f":"COUNT($A$2:A1719)","v":1718},5154,0.63371449649575806,0.6104758391737366,0.55293249723349314,0.51457026927333083,0.47030616008852821,0.46255994098118774,0.43046846182220583,"Bava Basra ",{"$f":"VLOOKUP(Schedule!M1719,#REF!,2,FALSE)","v":{"$error":"#REF!"}}]
["2024-09-18",4,"Bava Basra 85",{"$f":"COUNT($A$2:A1720)","v":1719},5157,0.63408336407229804,0.61084470675027669,0.55330136481003322,0.51493913684987092,0.47067502766506825,0.46292880855772778,0.43083732939874586,"Bava Basra ",{"$f":"VLOOKUP(Schedule!M1720,#REF!,2,FALSE)","v":{"$error":"#REF!"}}]
["2024-09-19",5,"Bava Basra 86",{"$f":"COUNT($A$2:A1721)","v":1720},5160,0.63445223164883802,0.61121357432681667,0.5536702323865732,0.51530800442641089,0.47104389524160828,0.46329767613426781,0.43120619697528589,"Bava Basra ",{"$f":"VLOOKUP(Schedule!M1721,#REF!,2,FALSE)","v":{"$error":"#REF!"}}]
["2024-09-20",6,"Bava Basra 87",{"$f":"COUNT($A$2:A1722)","v":1721},5163,0.6348210992253781,0.61158244190335664,0.55403909996311329,0.51567687200295098,0.47141276281814831,0.46366654371080784,0.43157506455182587,"Bava Basra ",{"$f":"VLOOKUP(Schedule!M1722,#REF!,2,FALSE)","v":{"$error":"#REF!"}}]
["2024-09-21",7,"Bava Basra 88",{"$f":"COUNT($A$2:A1723)","v":1722},5166,0.63518996680191808,0.61195130947989673,0.55440796753965327,0.51604573957949096,0.47178163039468829,0.46403541128734782,0.4319439321283659,"Bava Basra ",{"$f":"VLOOKUP(Schedule!M1723,#REF!,2,FALSE)","v":{"$error":"#REF!"}}]
["2024-09-22",1,"Bava Basra 89",{"$f":"COUNT($A$2:A1724)","v":1723},5169,0.63555883437845817,0.61232017705643671,0.55477683511619325,0.51641460715603094,0.47215049797122832,0.46440427886388785,0.43231279970490594,"Bava Basra ",{"$f":"VLOOKUP(Schedule!M1724,#REF!,2,FALSE)","v":{"$error":"#REF!"}}]
["2024-09-23",2,"Bava Basra 90",{"$f":"COUNT($A$2:A1725)","v":1724},5172,0.63592770195499815,0.6126890446329768,0.55514570269273333,0.51678347473257102,0.47251936554776836,0.46477314644042789,0.43268166728144597,"Bava Basra ",{"$f":"VLOOKUP(Schedule!M1725,#REF!,2,FALSE)","v":{"$error":"#REF!"}}]
["2024-09-24",3,"Bava Basra 91",{"$f":"COUNT($A$2:A1726)","v":1725},5175,0.63629656953153813,0.61305791220951678,0.55551457026927331,0.517152342309111,{"$f":"(D1726-443)/2711","v":0.47288823312430839},0.46514201401696792,0.433050534857986,"Bava Basra ",{"$f":"VLOOKUP(Schedule!M1726,#REF!,2,FALSE)","v":{"$error":"#REF!"}}]
["2024-09-25",4,"Bava Basra 92",{"$f":"COUNT($A$2:A1727)","v":1726},5178,0.63666543710807821,0.61342677978605675,0.5558834378458134,0.51752120988565109,0.47325710070084842,0.46551088159350795,0.43341940243452598,"Bava Basra ",{"$f":"VLOOKUP(Schedule!M1727,#REF!,2,FALSE)","v":{"$error":"#REF!"}}]
["2024-09-26",5,"Bava Basra 93",{"$f":"COUNT($A$2:A1728)","v":1727},5181,0.63703430468461819,0.61379564736259684,0.55625230542235338,0.51789007746219107,0.4736259682773884,0.46587974917004793,0.43378827001106601,"Bava Basra ",{"$f":"VLOOKUP(Schedule!M1728,#REF!,2,FALSE)","v":{"$error":"#REF!"}}]
["2024-09-27",6,"Bava Basra 94",{"$f":"COUNT($A$2:A1729)","v":1728},5184,0.63740317226115828,0.61416451493913682,0.55662117299889335,0.51825894503873104,0.47399483585392843,0.46624861674658796,0.43415713758760605,"Bava Basra ",{"$f":"VLOOKUP(Schedule!M1729,#REF!,2,FALSE)","v":{"$error":"#REF!"}}]
["2024-09-28",7,"Bava Basra 95",{"$f":"COUNT($A$2:A1730)","v":1729},{"$f":"D1730*3","v":5187},0.63777203983769826,{"$f":"(D1730-63)/2711","v":0.61453338251567691},0.55699004057543344,0.51862781261527113,0.47436370343046846,0.466617484323128,0.43452600516414608,"Bava Basra ",{"$f":"VLOOKUP(Schedule!M1730,#REF!,2,FALSE)","v":{"$error":"#REF!"}}]
["2024-09-29",{"$f":"WEEKDAY(A1731)","v":1},"Bava Basra 96",{"$f":"COUNT($A$2:A1731)","v":1730},5190,{"$f":"D1731/2711","v":0.63814090741423823},0.61490225009221688,0.55735890815197342,0.51899668019181111,0.4747325710070085,0.46698635189966803,0.43489487274068611,{"$f":"LEFT(C1731,FIND(\"☃\",SUBSTITUTE(C1731,\" \",\"☃\",LEN(C1731)-LEN(SUBSTITUTE(C1731,\" \",\"\")))))","v":"Bava Basra "},{"$f":"VLOOKUP(Schedule!M1731,#REF!,2,FALSE)","v":{"$error":"#REF!"}}]
["2024-09-30",2,"Bava Basra 97",{"$f":"COUNT($A$2:A1732)","v":1731},5193,0.63850977499077832,0.61527111766875686,0.55772777572851351,0.5193655477683512,0.47510143858354853,0.46735521947620806,0.43526374031722609,"Bava Basra ",{"$f":"VLOOKUP(Schedule!M1732,#REF!,2,FALSE)","v":{"$error":"#REF!"}}]
["2024-10-01",3,"Bava Basra 98",{"$f":"COUNT($A$2:A1733)","v":1732},5196,0.6388786425673183,0.61563998524529695,0.55809664330505349,0.51973441534489118,0.47547030616008851,0.46772408705274804,0.43563260789376612,"Bava Basra ",{"$f":"VLOOKUP(Schedule!M1733,#REF!,2,FALSE)","v":{"$error":"#REF!"}}]
["2024-10-02",4,"Bava Basra 99",{"$f":"COUNT($A$2:A1734)","v":1733},5199,0.63924751014385839,0.61600885282183693,0.55846551088159346,{"$f":"(D1734-323)/2711","v":0.52010328292143115},0.47583917373662854,0.46809295462928807,0.43600147547030615,"Bava Basra ",{"$f":"VLOOKUP(Schedule!M1734,#REF!,2,FALSE)","v":{"$error":"#REF!"}}]
["2024-10-03",5,"Bava Basra 100",{"$f":"COUNT($A$2:A1735)","v":1734},5202,0.63961637772039837,0.61637772039837702,0.55883437845813355,0.52047215049797124,0.47620804131316857,0.4684618222058281,0.43637034304684619,"Bava Basra ",{"$f":"VLOOKUP(Schedule!M1735,#REF!,2,FALSE)","v":{"$error":"#REF!"}}]
["2024-10-04",6,"Bava Basra 101",{"$f":"COUNT($A$2:A1736)","v":1735},5205,0.63998524529693845,0.61674658797491699,0.55920324603467353,0.52084101807451122,0.47657690888970861,0.46883068978236814,0.43673921062338622,"Bava Basra ",{"$f":"VLOOKUP(Schedule!M1736,#REF!,2,FALSE)","v":{"$error":"#REF!"}}]
["2024-10-05",7,"Bava Basra 102",{"$f":"COUNT($A$2:A1737)","v":1736},5208,0.64035411287347843,0.61711545555145708,0.55957211361121362,0.52120988565105131,0.47694577646624864,0.46919955735890817,0.43710807819992625,"Bava Basra ",{"$f":"VLOOKUP(Schedule!M1737,#REF!,2,FALSE)","v":{"$error":"#REF!"}}]
["2024-10-06",1,"Bava Basra 103",{"$f":"COUNT($A$2:A1738)","v":1737},5211,0.64072298045001841,0.61748432312799706,0.55994098118775359,0.52157875322759129,0.47731464404278862,0.46956842493544815,0.43747694577646623,"Bava Basra ",{"$f":"VLOOKUP(Schedule!M1738,#REF!,2,FALSE)","v":{"$error":"#REF!"}}]
["2024-10-07",2,"Bava Basra 104",{"$f":"COUNT($A$2:A1739)","v":1738},5214,0.6410918480265585,0.61785319070453704,0.56030984876429357,0.52194762080413126,0.47768351161932865,0.46993729251198818,0.43784581335300626,"Bava Basra ",{"$f":"VLOOKUP(Schedule!M1739,#REF!,2,FALSE)","v":{"$error":"#REF!"}}]
["2024-10-08",3,"Bava Basra 105",{"$f":"COUNT($A$2:A1740)","v":1739},5217,0.64146071560309847,0.61822205828107712,0.56067871634083366,0.52231648838067135,0.47805237919586868,0.47030616008852821,0.4382146809295463,"Bava Basra ",{"$f":"VLOOKUP(Schedule!M1740,#REF!,2,FALSE)","v":{"$error":"#REF!"}}]
["2024-10-09",4,"Bava Basra 106",{"$f":"COUNT($A$2:A1741)","v":1740},5220,0.64182958317963856,0.6185909258576171,0.56104758391737364,0.52268535595721133,0.47842124677240871,0.47067502766506825,0.43858354850608633,"Bava Basra ",{"$f":"VLOOKUP(Schedule!M1741,#REF!,2,FALSE)","v":{"$error":"#REF!"}}]
["2024-10-10",5,"Bava Basra 107",{"$f":"COUNT($A$2:A1742)","v":1741},5223,0.64219845075617854,0.61895979343415719,0.56141645149391373,0.52305422353375142,0.47879011434894875,0.47104389524160828,0.43895241608262636,"Bava Basra ",{"$f":"VLOOKUP(Schedule!M1742,#REF!,2,FALSE)","v":{"$error":"#REF!"}}]
["2024-10-11",6,"Bava Basra 108",{"$f":"COUNT($A$2:A1743)","v":1742},5226,0.64256731833271852,0.61932866101069717,0.5617853190704537,0.52342309111029139,0.47915898192548873,0.47141276281814831,0.43932128365916634,"Bava Basra ",{"$f":"VLOOKUP(Schedule!M1743,#REF!,2,FALSE)","v":{"$error":"#REF!"}}]
["2024-10-12",7,"Bava Basra 109",{"$f":"COUNT($A$2:A1744)","v":1743},5229,0.64293618590925861,0.61969752858723715,0.56215418664699368,0.52379195868683148,0.47952784950202876,0.47178163039468829,0.43969015123570637,"Bava Basra ",{"$f":"VLOOKUP(Schedule!M1744,#REF!,2,FALSE)","v":{"$error":"#REF!"}}]
["2024-10-13",1,"Bava Basra 110",{"$f":"COUNT($A$2:A1745)","v":1744},5232,0.64330505348579858,0.62006639616377723,0.56252305422353377,0.52416082626337146,0.47989671707856879,0.47215049797122832,0.44005901881224641,"Bava Basra ",{"$f":"VLOOKUP(Schedule!M1745,#REF!,2,FALSE)","v":{"$error":"#REF!"}}]
["2024-10-14",2,"Bava Basra 111",{"$f":"COUNT($A$2:A1746)","v":1745},5235,0.64367392106233867,0.62043526374031721,0.56289192180007375,0.52452969383991144,0.48026558465510882,{"$f":"(D1746-464)/2711","v":0.47251936554776836},0.44042788638878644,"Bava Basra ",{"$f":"VLOOKUP(Schedule!M1746,#REF!,2,FALSE)","v":{"$error":"#REF!"}}]
["2024-10-15",3,"Bava Basra 112",{"$f":"COUNT($A$2:A1747)","v":1746},5238,0.64404278863887865,0.6208041313168573,0.56326078937661384,0.52489856141645153,0.48063445223164886,0.47288823312430839,0.44079675396532647,"Bava Basra ",{"$f":"VLOOKUP(Schedule!M1747,#REF!,2,FALSE)","v":{"$error":"#REF!"}}]
["2024-10-16",4,"Bava Basra 113",{"$f":"COUNT($A$2:A1748)","v":1747},5241,0.64441165621541863,0.62117299889339728,0.56362965695315381,0.5252674289929915,0.48100331980818883,0.47325710070084842,0.44116562154186645,"Bava Basra ",{"$f":"VLOOKUP(Schedule!M1748,#REF!,2,FALSE)","v":{"$error":"#REF!"}}]
["2024-10-17",5,"Bava Basra 114",{"$f":"COUNT($A$2:A1749)","v":1748},5244,0.64478052379195872,0.62154186646993725,0.56399852452969379,0.52563629656953159,0.48137218738472887,0.4736259682773884,0.44153448911840648,"Bava Basra ",{"$f":"VLOOKUP(Schedule!M1749,#REF!,2,FALSE)","v":{"$error":"#REF!"}}]
["2024-10-18",6,"Bava Basra 115",{"$f":"COUNT($A$2:A1750)","v":1749},5247,0.64514939136849869,0.62191073404647734,0.56436739210623388,0.52600516414607157,0.4817410549612689,0.47399483585392843,0.44190335669494651,"Bava Basra ",{"$f":"VLOOKUP(Schedule!M1750,#REF!,2,FALSE)","v":{"$error":"#REF!"}}]
["2024-10-19",7,"Bava Basra 116",{"$f":"COUNT($A$2:A1751)","v":1750},5250,0.64551825894503878,0.62227960162301732,0.56473625968277386,0.52637403172261155,0.48210992253780893,0.47436370343046846,0.44227222427148655,"Bava Basra ",{"$f":"VLOOKUP(Schedule!M1751,#REF!,2,FALSE)","v":{"$error":"#REF!"}}]
["2024-10-20",1,"Bava Basra 117",{"$f":"COUNT($A$2:A1752)","v":1751},5253,0.64588712652157876,0.62264846919955741,0.56510512725931394,0.52674289929915163,0.48247879011434897,0.4747325710070085,0.44264109184802658,"Bava Basra ",{"$f":"VLOOKUP(Schedule!M1752,#REF!,2,FALSE)","v":{"$error":"#REF!"}}]
["2024-10-21",2,"Bava Basra 118",{"$f":"COUNT($A$2:A1753)","v":1752},5256,0.64625599409811874,0.62301733677609739,0.56547399483585392,0.52711176687569161,0.482847657690889,0.47510143858354853,0.44300995942456656,"Bava Basra ",{"$f":"VLOOKUP(Schedule!M1753,#REF!,2,FALSE)","v":{"$error":"#REF!"}}]
["2024-10-22",3,"Bava Basra 119",{"$f":"COUNT($A$2:A1754)","v":1753},5259,0.64662486167465882,0.62338620435263736,0.5658428624123939,0.5274806344522317,0.48321652526742898,0.47547030616008851,0.44337882700110659,"Bava Basra ",{"$f":"VLOOKUP(Schedule!M1754,#REF!,2,FALSE)","v":{"$error":"#REF!"}}]
["2024-10-23",4,"Bava Basra 120",{"$f":"COUNT($A$2:A1755)","v":1754},5262,0.6469937292511988,0.62375507192917745,0.56621172998893399,0.52784950202877168,0.48358539284396901,0.47583917373662854,0.44374769457764662,"Bava Basra ",{"$f":"VLOOKUP(Schedule!M1755,#REF!,2,FALSE)","v":{"$error":"#REF!"}}]
["2024-10-24",5,"Bava Basra 121",{"$f":"COUNT($A$2:A1756)","v":1755},5265,0.64736259682773889,0.62412393950571743,0.56658059756547396,0.52821836960531166,0.48395426042050904,0.47620804131316857,0.44411656215418666,"Bava Basra ",{"$f":"VLOOKUP(Schedule!M1756,#REF!,2,FALSE)","v":{"$error":"#REF!"}}]
["2024-10-25",6,"Bava Basra 122",{"$f":"COUNT($A$2:A1757)","v":1756},5268,0.64773146440427887,0.62449280708225752,0.56694946514201405,0.52858723718185174,0.48432312799704907,0.47657690888970861,0.44448542973072669,"Bava Basra ",{"$f":"VLOOKUP(Schedule!M1757,#REF!,2,FALSE)","v":{"$error":"#REF!"}}]
["2024-10-26",7,"Bava Basra 123",{"$f":"COUNT($A$2:A1758)","v":1757},5271,0.64810033198081884,0.62486167465879749,{"$f":"(D1758-219)/2711","v":0.56731833271855403},0.52895610475839172,0.48469199557358911,0.47694577646624864,0.44485429730726667,"Bava Basra ",{"$f":"VLOOKUP(Schedule!M1758,#REF!,2,FALSE)","v":{"$error":"#REF!"}}]
["2024-10-27",1,"Bava Basra 124",{"$f":"COUNT($A$2:A1759)","v":1758},5274,0.64846919955735893,0.62523054223533747,0.56768720029509401,0.52932497233493181,0.48506086315012908,0.47731464404278862,0.4452231648838067,"Bava Basra ",{"$f":"VLOOKUP(Schedule!M1759,#REF!,2,FALSE)","v":{"$error":"#REF!"}}]
["2024-10-28",2,"Bava Basra 125",{"$f":"COUNT($A$2:A1760)","v":1759},5277,0.64883806713389891,0.62559940981187756,0.5680560678716341,0.52969383991147179,0.48542973072666912,0.47768351161932865,0.44559203246034673,"Bava Basra ",{"$f":"VLOOKUP(Schedule!M1760,#REF!,2,FALSE)","v":{"$error":"#REF!"}}]
["2024-10-29",3,"Bava Basra 126",{"$f":"COUNT($A$2:A1761)","v":1760},5280,0.649206934710439,0.62596827738841754,0.56842493544817407,0.53006270748801176,0.48579859830320915,0.47805237919586868,0.44596090003688676,"Bava Basra ",{"$f":"VLOOKUP(Schedule!M1761,#REF!,2,FALSE)","v":{"$error":"#REF!"}}]
["2024-10-30",4,"Bava Basra 127",{"$f":"COUNT($A$2:A1762)","v":1761},5283,0.64957580228697898,0.62633714496495763,0.56879380302471416,0.53043157506455185,0.48616746587974918,0.47842124677240871,0.4463297676134268,"Bava Basra ",{"$f":"VLOOKUP(Schedule!M1762,#REF!,2,FALSE)","v":{"$error":"#REF!"}}]
["2024-10-31",5,"Bava Basra 128",{"$f":"COUNT($A$2:A1763)","v":1762},5286,0.64994466986351895,0.6267060125414976,0.56916267060125414,0.53080044264109183,0.48653633345628922,0.47879011434894875,0.44669863518996678,"Bava Basra ",{"$f":"VLOOKUP(Schedule!M1763,#REF!,2,FALSE)","v":{"$error":"#REF!"}}]
["2024-11-01",6,"Bava Basra 129",{"$f":"COUNT($A$2:A1764)","v":1763},5289,0.65031353744005904,0.62707488011803758,0.56953153817779412,0.53116931021763192,0.48690520103282919,0.47915898192548873,0.44706750276650681,"Bava Basra ",{"$f":"VLOOKUP(Schedule!M1764,#REF!,2,FALSE)","v":{"$error":"#REF!"}}]
["2024-11-02",7,"Bava Basra 130",{"$f":"COUNT($A$2:A1765)","v":1764},5292,0.65068240501659902,0.62744374769457767,0.5699004057543342,0.5315381777941719,0.48727406860936923,0.47952784950202876,0.44743637034304684,"Bava Basra ",{"$f":"VLOOKUP(Schedule!M1765,#REF!,2,FALSE)","v":{"$error":"#REF!"}}]
["2024-11-03",1,"Bava Basra 131",{"$f":"COUNT($A$2:A1766)","v":1765},5295,0.65105127259313911,0.62781261527111765,0.57026927333087418,0.53190704537071187,0.48764293618590926,0.47989671707856879,0.44780523791958687,"Bava Basra ",{"$f":"VLOOKUP(Schedule!M1766,#REF!,2,FALSE)","v":{"$error":"#REF!"}}]
["2024-11-04",2,"Bava Basra 132",{"$f":"COUNT($A$2:A1767)","v":1766},5298,0.65142014016967908,0.62818148284765774,0.57063814090741427,0.53227591294725196,0.48801180376244929,0.48026558465510882,0.44817410549612691,"Bava Basra ",{"$f":"VLOOKUP(Schedule!M1767,#REF!,2,FALSE)","v":{"$error":"#REF!"}}]
["2024-11-05",3,"Bava Basra 133",{"$f":"COUNT($A$2:A1768)","v":1767},5301,0.65178900774621906,0.62855035042419771,0.57100700848395425,0.53264478052379194,0.48838067133898933,0.48063445223164886,0.44854297307266694,"Bava Basra ",{"$f":"VLOOKUP(Schedule!M1768,#REF!,2,FALSE)","v":{"$error":"#REF!"}}]
["2024-11-06",4,"Bava Basra 134",{"$f":"COUNT($A$2:A1769)","v":1768},5304,0.65215787532275915,0.62891921800073769,0.57137587606049434,0.53301364810033203,0.4887495389155293,0.48100331980818883,0.44891184064920692,"Bava Basra ",{"$f":"VLOOKUP(Schedule!M1769,#REF!,2,FALSE)","v":{"$error":"#REF!"}}]
["2024-11-07",5,"Bava Basra 135",{"$f":"COUNT($A$2:A1770)","v":1769},5307,0.65252674289929913,0.62928808557727778,0.57174474363703431,0.533382515676872,0.48911840649206934,0.48137218738472887,{"$f":"(D1770-551)/2711","v":0.44928070822574695},"Bava Basra ",{"$f":"VLOOKUP(Schedule!M1770,#REF!,2,FALSE)","v":{"$error":"#REF!"}}]
["2024-11-08",6,"Bava Basra 136",{"$f":"COUNT($A$2:A1771)","v":1770},5310,0.65289561047583922,0.62965695315381776,0.57211361121357429,0.53375138325341198,0.48948727406860937,0.4817410549612689,0.44964957580228698,"Bava Basra ",{"$f":"VLOOKUP(Schedule!M1771,#REF!,2,FALSE)","v":{"$error":"#REF!"}}]
["2024-11-09",7,"Bava Basra 137",{"$f":"COUNT($A$2:A1772)","v":1771},5313,0.65326447805237919,0.63002582073035784,0.57248247879011438,0.53412025082995207,0.4898561416451494,0.48210992253780893,0.45001844337882702,"Bava Basra ",{"$f":"VLOOKUP(Schedule!M1772,#REF!,2,FALSE)","v":{"$error":"#REF!"}}]
["2024-11-10",1,"Bava Basra 138",{"$f":"COUNT($A$2:A1773)","v":1772},5316,0.65363334562891917,0.63039468830689782,0.57285134636665436,0.53448911840649205,0.49022500922168943,0.48247879011434897,0.45038731095536705,"Bava Basra ",{"$f":"VLOOKUP(Schedule!M1773,#REF!,2,FALSE)","v":{"$error":"#REF!"}}]
["2024-11-11",2,"Bava Basra 139",{"$f":"COUNT($A$2:A1774)","v":1773},5319,0.65400221320545926,0.6307635558834378,0.57322021394319445,0.53485798598303214,0.49059387679822941,0.482847657690889,0.45075617853190703,"Bava Basra ",{"$f":"VLOOKUP(Schedule!M1774,#REF!,2,FALSE)","v":{"$error":"#REF!"}}]
["2024-11-12",3,"Bava Basra 140",{"$f":"COUNT($A$2:A1775)","v":1774},5322,0.65437108078199924,0.63113242345997789,0.57358908151973442,0.53522685355957211,0.49096274437476944,0.48321652526742898,0.45112504610844706,"Bava Basra ",{"$f":"VLOOKUP(Schedule!M1775,#REF!,2,FALSE)","v":{"$error":"#REF!"}}]
["2024-11-13",4,"Bava Basra 141",{"$f":"COUNT($A$2:A1776)","v":1775},5325,0.65473994835853933,0.63150129103651786,0.5739579490962744,0.53559572113611209,0.49133161195130948,0.48358539284396901,0.45149391368498709,"Bava Basra ",{"$f":"VLOOKUP(Schedule!M1776,#REF!,2,FALSE)","v":{"$error":"#REF!"}}]
["2024-11-14",5,"Bava Basra 142",{"$f":"COUNT($A$2:A1777)","v":1776},5328,0.6551088159350793,0.63187015861305795,0.57432681667281449,0.53596458871265218,0.49170047952784951,0.48395426042050904,0.45186278126152712,"Bava Basra ",{"$f":"VLOOKUP(Schedule!M1777,#REF!,2,FALSE)","v":{"$error":"#REF!"}}]
["2024-11-15",6,"Bava Basra 143",{"$f":"COUNT($A$2:A1778)","v":1777},5331,0.65547768351161928,0.63223902618959793,0.57469568424935447,0.53633345628919216,0.49206934710438954,0.48432312799704907,0.45223164883806716,"Bava Basra ",{"$f":"VLOOKUP(Schedule!M1778,#REF!,2,FALSE)","v":{"$error":"#REF!"}}]
["2024-11-16",7,"Bava Basra 144",{"$f":"COUNT($A$2:A1779)","v":1778},5334,0.65584655108815937,0.63260789376613791,0.57506455182589455,0.53670232386573224,0.49243821468092952,0.48469199557358911,0.45260051641460713,"Bava Basra ",{"$f":"VLOOKUP(Schedule!M1779,#REF!,2,FALSE)","v":{"$error":"#REF!"}}]
["2024-11-17",1,"Bava Basra 145",{"$f":"COUNT($A$2:A1780)","v":1779},5337,0.65621541866469935,0.632976761342678,0.57543341940243453,0.53707119144227222,0.49280708225746955,0.48506086315012908,0.45296938399114717,"Bava Basra ",{"$f":"VLOOKUP(Schedule!M1780,#REF!,2,FALSE)","v":{"$error":"#REF!"}}]
["2024-11-18",2,"Bava Basra 146",{"$f":"COUNT($A$2:A1781)","v":1780},5340,0.65658428624123943,0.63334562891921797,0.57580228697897451,0.5374400590188122,0.49317594983400959,0.48542973072666912,0.4533382515676872,"Bava Basra ",{"$f":"VLOOKUP(Schedule!M1781,#REF!,2,FALSE)","v":{"$error":"#REF!"}}]
["2024-11-19",3,"Bava Basra 147",{"$f":"COUNT($A$2:A1782)","v":1781},5343,0.65695315381777941,0.63371449649575806,0.5761711545555146,0.53780892659535229,0.49354481741054962,0.48579859830320915,0.45370711914422723,"Bava Basra ",{"$f":"VLOOKUP(Schedule!M1782,#REF!,2,FALSE)","v":{"$error":"#REF!"}}]
["2024-11-20",4,"Bava Basra 148",{"$f":"COUNT($A$2:A1783)","v":1782},5346,0.65732202139431939,0.63408336407229804,0.57654002213205457,0.53817779417189227,0.49391368498708965,0.48616746587974918,0.45407598672076727,"Bava Basra ",{"$f":"VLOOKUP(Schedule!M1783,#REF!,2,FALSE)","v":{"$error":"#REF!"}}]
["2024-11-21",5,"Bava Basra 149",{"$f":"COUNT($A$2:A1784)","v":1783},5349,0.65769088897085948,0.63445223164883802,0.57690888970859466,0.53854666174843235,0.49428255256362968,0.48653633345628922,0.45444485429730724,"Bava Basra ",{"$f":"VLOOKUP(Schedule!M1784,#REF!,2,FALSE)","v":{"$error":"#REF!"}}]
["2024-11-22",6,"Bava Basra 150",{"$f":"COUNT($A$2:A1785)","v":1784},5352,0.65805975654739945,0.6348210992253781,0.57727775728513464,0.53891552932497233,0.49465142014016966,0.48690520103282919,0.45481372187384728,"Bava Basra ",{"$f":"VLOOKUP(Schedule!M1785,#REF!,2,FALSE)","v":{"$error":"#REF!"}}]
["2024-11-23",7,"Bava Basra 151",{"$f":"COUNT($A$2:A1786)","v":1785},5355,0.65842862412393954,0.63518996680191808,0.57764662486167462,0.53928439690151231,0.49502028771670969,0.48727406860936923,0.45518258945038731,"Bava Basra ",{"$f":"VLOOKUP(Schedule!M1786,#REF!,2,FALSE)","v":{"$error":"#REF!"}}]
["2024-11-24",1,"Bava Basra 152",{"$f":"COUNT($A$2:A1787)","v":1786},5358,0.65879749170047952,0.63555883437845817,0.57801549243821471,0.5396532644780524,0.49538915529324973,0.48764293618590926,0.45555145702692734,"Bava Basra ",{"$f":"VLOOKUP(Schedule!M1787,#REF!,2,FALSE)","v":{"$error":"#REF!"}}]
["2024-11-25",2,"Bava Basra 153",{"$f":"COUNT($A$2:A1788)","v":1787},5361,0.6591663592770195,0.63592770195499815,0.57838436001475468,0.54002213205459237,0.49575802286978976,0.48801180376244929,0.45592032460346738,"Bava Basra ",{"$f":"VLOOKUP(Schedule!M1788,#REF!,2,FALSE)","v":{"$error":"#REF!"}}]
["2024-11-26",3,"Bava Basra 154",{"$f":"COUNT($A$2:A1789)","v":1788},5364,0.65953522685355959,0.63629656953153813,0.57875322759129477,0.54039099963113246,0.49612689044632979,0.48838067133898933,0.45628919218000735,"Bava Basra ",{"$f":"VLOOKUP(Schedule!M1789,#REF!,2,FALSE)","v":{"$error":"#REF!"}}]
["2024-11-27",4,"Bava Basra 155",{"$f":"COUNT($A$2:A1790)","v":1789},5367,0.65990409443009956,0.63666543710807821,0.57912209516783475,0.54075986720767244,{"$f":"(D1790-443)/2711","v":0.49649575802286977},0.4887495389155293,0.45665805975654739,"Bava Basra ",{"$f":"VLOOKUP(Schedule!M1790,#REF!,2,FALSE)","v":{"$error":"#REF!"}}]
["2024-11-28",5,"Bava Basra 156",{"$f":"COUNT($A$2:A1791)","v":1790},5370,0.66027296200663965,0.63703430468461819,0.57949096274437473,0.54112873478421242,0.4968646255994098,0.48911840649206934,0.45702692733308742,"Bava Basra ",{"$f":"VLOOKUP(Schedule!M1791,#REF!,2,FALSE)","v":{"$error":"#REF!"}}]
["2024-11-29",6,"Bava Basra 157",{"$f":"COUNT($A$2:A1792)","v":1791},5373,0.66064182958317963,0.63740317226115828,0.57985983032091482,0.54149760236075251,0.49723349317594984,0.48948727406860937,0.45739579490962745,"Bava Basra ",{"$f":"VLOOKUP(Schedule!M1792,#REF!,2,FALSE)","v":{"$error":"#REF!"}}]
["2024-11-30",7,"Bava Basra 158",{"$f":"COUNT($A$2:A1793)","v":1792},5376,0.66101069715971961,0.63777203983769826,0.58022869789745479,0.54186646993729248,0.49760236075248987,0.4898561416451494,0.45776466248616748,"Bava Basra ",{"$f":"VLOOKUP(Schedule!M1793,#REF!,2,FALSE)","v":{"$error":"#REF!"}}]
["2024-12-01",1,"Bava Basra 159",{"$f":"COUNT($A$2:A1794)","v":1793},{"$f":"D1794*3","v":5379},0.6613795647362597,{"$f":"(D1794-63)/2711","v":0.63814090741423823},0.58059756547399488,0.54223533751383257,0.4979712283290299,0.49022500922168943,0.45813353006270746,"Bava Basra ",{"$f":"VLOOKUP(Schedule!M1794,#REF!,2,FALSE)","v":{"$error":"#REF!"}}]
["2024-12-02",{"$f":"WEEKDAY(A1795)","v":2},"Bava Basra 160",{"$f":"COUNT($A$2:A1795)","v":1794},5382,{"$f":"D1795/2711","v":0.66174843231279967},0.63850977499077832,0.58096643305053486,0.54260420509037255,0.49834009590556988,0.49059387679822941,0.45850239763924749,{"$f":"LEFT(C1795,FIND(\"☃\",SUBSTITUTE(C1795,\" \",\"☃\",LEN(C1795)-LEN(SUBSTITUTE(C1795,\" \",\"\")))))","v":"Bava Basra "},{"$f":"VLOOKUP(Schedule!M1795,#REF!,2,FALSE)","v":{"$error":"#REF!"}}]
["2024-12-03",3,"Bava Basra 161",{"$f":"COUNT($A$2:A1796)","v":1795},5385,0.66211729988933976,0.6388786425673183,0.58133530062707484,0.54297307266691253,0.49870896348210991,0.49096274437476944,0.45887126521578753,"Bava Basra ",{"$f":"VLOOKUP(Schedule!M1796,#REF!,2,FALSE)","v":{"$error":"#REF!"}}]
["2024-12-04",4,"Bava Basra 162",{"$f":"COUNT($A$2:A1797)","v":1796},5388,0.66248616746587974,0.63924751014385839,0.58170416820361492,0.54334194024345261,0.49907783105864995,0.49133161195130948,0.45924013279232756,"Bava Basra ",{"$f":"VLOOKUP(Schedule!M1797,#REF!,2,FALSE)","v":{"$error":"#REF!"}}]
["2024-12-05",5,"Bava Basra 163",{"$f":"COUNT($A$2:A1798)","v":1797},5391,0.66285503504241983,0.63961637772039837,0.5820730357801549,{"$f":"(D1798-323)/2711","v":0.54371080781999259},0.49944669863518998,0.49170047952784951,0.45960900036886759,"Bava Basra ",{"$f":"VLOOKUP(Schedule!M1798,#REF!,2,FALSE)","v":{"$error":"#REF!"}}]
["2024-12-06",6,"Bava Basra 164",{"$f":"COUNT($A$2:A1799)","v":1798},5394,0.6632239026189598,0.63998524529693845,0.58244190335669499,0.54407967539653268,0.49981556621173001,0.49206934710438954,0.45997786794540763,"Bava Basra ",{"$f":"VLOOKUP(Schedule!M1799,#REF!,2,FALSE)","v":{"$error":"#REF!"}}]
["2024-12-07",7,"Bava Basra 165",{"$f":"COUNT($A$2:A1800)","v":1799},5397,0.66359277019549978,0.64035411287347843,0.58281077093323497,0.54444854297307266,0.50018443378827004,0.49243821468092952,0.4603467355219476,"Bava Basra ",{"$f":"VLOOKUP(Schedule!M1800,#REF!,2,FALSE)","v":{"$error":"#REF!"}}]
["2024-12-08",1,"Bava Basra 166",{"$f":"COUNT($A$2:A1801)","v":1800},5400,0.66396163777203987,0.64072298045001841,0.58317963850977494,0.54481741054961264,0.50055330136481002,0.49280708225746955,0.46071560309848764,"Bava Basra ",{"$f":"VLOOKUP(Schedule!M1801,#REF!,2,FALSE)","v":{"$error":"#REF!"}}]
["2024-12-09",2,"Bava Basra 167",{"$f":"COUNT($A$2:A1802)","v":1801},5403,0.66433050534857985,0.6410918480265585,0.58354850608631503,0.54518627812615272,0.50092216894135011,0.49317594983400959,0.46108447067502767,"Bava Basra ",{"$f":"VLOOKUP(Schedule!M1802,#REF!,2,FALSE)","v":{"$error":"#REF!"}}]
["2024-12-10",3,"Bava Basra 168",{"$f":"COUNT($A$2:A1803)","v":1802},5406,0.66469937292511994,0.64146071560309847,0.58391737366285501,0.5455551457026927,0.50129103651789009,0.49354481741054962,0.4614533382515677,"Bava Basra ",{"$f":"VLOOKUP(Schedule!M1803,#REF!,2,FALSE)","v":{"$error":"#REF!"}}]
["2024-12-11",4,"Bava Basra 169",{"$f":"COUNT($A$2:A1804)","v":1803},5409,0.66506824050165991,0.64182958317963856,0.5842862412393951,0.54592401327923279,0.50165990409443006,0.49391368498708965,0.46182220582810773,"Bava Basra ",{"$f":"VLOOKUP(Schedule!M1804,#REF!,2,FALSE)","v":{"$error":"#REF!"}}]
["2024-12-12",5,"Bava Basra 170",{"$f":"COUNT($A$2:A1805)","v":1804},5412,0.66543710807819989,0.64219845075617854,0.58465510881593508,0.54629288085577277,0.50202877167097015,0.49428255256362968,0.46219107340464771,"Bava Basra ",{"$f":"VLOOKUP(Schedule!M1805,#REF!,2,FALSE)","v":{"$error":"#REF!"}}]
["2024-12-13",6,"Bava Basra 171",{"$f":"COUNT($A$2:A1806)","v":1805},5415,0.66580597565473998,0.64256731833271852,0.58502397639247505,0.54666174843231286,0.50239763924751013,0.49465142014016966,0.46255994098118774,"Bava Basra ",{"$f":"VLOOKUP(Schedule!M1806,#REF!,2,FALSE)","v":{"$error":"#REF!"}}]
["2024-12-14",7,"Bava Basra 172",{"$f":"COUNT($A$2:A1807)","v":1806},5418,0.66617484323127996,0.64293618590925861,0.58539284396901514,0.54703061600885283,0.50276650682405022,0.49502028771670969,0.46292880855772778,"Bava Basra ",{"$f":"VLOOKUP(Schedule!M1807,#REF!,2,FALSE)","v":{"$error":"#REF!"}}]
["2024-12-15",1,"Bava Basra 173",{"$f":"COUNT($A$2:A1808)","v":1807},5421,0.66654371080782004,0.64330505348579858,0.58576171154555512,0.54739948358539281,0.5031353744005902,0.49538915529324973,0.46329767613426781,"Bava Basra ",{"$f":"VLOOKUP(Schedule!M1808,#REF!,2,FALSE)","v":{"$error":"#REF!"}}]
["2024-12-16",2,"Bava Basra 174",{"$f":"COUNT($A$2:A1809)","v":1808},5424,0.66691257838436002,0.64367392106233867,0.58613057912209521,0.5477683511619329,0.50350424197713017,0.49575802286978976,0.46366654371080784,"Bava Basra ",{"$f":"VLOOKUP(Schedule!M1809,#REF!,2,FALSE)","v":{"$error":"#REF!"}}]
["2024-12-17",3,"Bava Basra 175",{"$f":"COUNT($A$2:A1810)","v":1809},5427,0.6672814459609,0.64404278863887865,0.58649944669863519,0.54813721873847288,0.50387310955367026,{"$f":"(D1810-464)/2711","v":0.49612689044632979},0.46403541128734782,"Bava Basra ",{"$f":"VLOOKUP(Schedule!M1810,#REF!,2,FALSE)","v":{"$error":"#REF!"}}]
["2024-12-18",4,"Bava Basra 176",{"$f":"COUNT($A$2:A1811)","v":1810},5430,0.66765031353744009,0.64441165621541863,0.58686831427517516,0.54850608631501296,0.50424197713021024,0.49649575802286977,0.46440427886388785,"Bava Basra ",{"$f":"VLOOKUP(Schedule!M1811,#REF!,2,FALSE)","v":{"$error":"#REF!"}}]
["2024-12-19",5,"Sanhedrin 2",{"$f":"COUNT($A$2:A1812)","v":1811},5433,0.66801918111398007,0.64478052379195872,0.58723718185171525,0.54887495389155294,0.50461084470675033,0.4968646255994098,0.46477314644042789,"Sanhedrin ",{"$f":"VLOOKUP(Schedule!M1812,#REF!,2,FALSE)","v":{"$error":"#REF!"}}]
["2024-12-20",6,"Sanhedrin 3",{"$f":"COUNT($A$2:A1813)","v":1812},5436,0.66838804869052015,0.64514939136849869,0.58760604942825523,0.54924382146809292,0.50497971228329031,0.49723349317594984,0.46514201401696792,"Sanhedrin ",{"$f":"VLOOKUP(Schedule!M1813,#REF!,2,FALSE)","v":{"$error":"#REF!"}}]
["2024-12-21",7,"Sanhedrin 4",{"$f":"COUNT($A$2:A1814)","v":1813},5439,0.66875691626706013,0.64551825894503878,0.58797491700479532,0.54961268904463301,0.50534857985983028,0.49760236075248987,0.46551088159350795,"Sanhedrin ",{"$f":"VLOOKUP(Schedule!M1814,#REF!,2,FALSE)","v":{"$error":"#REF!"}}]
["2024-12-22",1,"Sanhedrin 5",{"$f":"COUNT($A$2:A1815)","v":1814},5442,0.66912578384360011,0.64588712652157876,0.58834378458133529,0.54998155662117298,0.50571744743637037,0.4979712283290299,0.46587974917004793,"Sanhedrin ",{"$f":"VLOOKUP(Schedule!M1815,#REF!,2,FALSE)","v":{"$error":"#REF!"}}]
["2024-12-23",2,"Sanhedrin 6",{"$f":"COUNT($A$2:A1816)","v":1815},5445,0.6694946514201402,0.64625599409811874,0.58871265215787527,0.55035042419771307,0.50608631501291035,0.49834009590556988,0.46624861674658796,"Sanhedrin ",{"$f":"VLOOKUP(Schedule!M1816,#REF!,2,FALSE)","v":{"$error":"#REF!"}}]
["2024-12-24",3,"Sanhedrin 7",{"$f":"COUNT($A$2:A1817)","v":1816},5448,0.66986351899668017,0.64662486167465882,0.58908151973441536,0.55071929177425305,0.50645518258945044,0.49870896348210991,0.466617484323128,"Sanhedrin ",{"$f":"VLOOKUP(Schedule!M1817,#REF!,2,FALSE)","v":{"$error":"#REF!"}}]
["2024-12-25",4,"Sanhedrin 8",{"$f":"COUNT($A$2:A1818)","v":1817},5451,0.67023238657322026,0.6469937292511988,0.58945038731095534,0.55108815935079303,0.50682405016599041,0.49907783105864995,0.46698635189966803,"Sanhedrin ",{"$f":"VLOOKUP(Schedule!M1818,#REF!,2,FALSE)","v":{"$error":"#REF!"}}]
["2024-12-26",5,"Sanhedrin 9",{"$f":"COUNT($A$2:A1819)","v":1818},5454,0.67060125414976024,0.64736259682773889,0.58981925488749543,0.55145702692733312,0.50719291774253039,0.49944669863518998,0.46735521947620806,"Sanhedrin ",{"$f":"VLOOKUP(Schedule!M1819,#REF!,2,FALSE)","v":{"$error":"#REF!"}}]
["2024-12-27",6,"Sanhedrin 10",{"$f":"COUNT($A$2:A1820)","v":1819},5457,0.67097012172630022,0.64773146440427887,0.5901881224640354,0.55182589450387309,0.50756178531907048,0.49981556621173001,0.46772408705274804,"Sanhedrin ",{"$f":"VLOOKUP(Schedule!M1820,#REF!,2,FALSE)","v":{"$error":"#REF!"}}]
["2024-12-28",7,"Sanhedrin 11",{"$f":"COUNT($A$2:A1821)","v":1820},5460,0.67133898930284031,0.64810033198081884,0.59055699004057538,0.55219476208041318,0.50793065289561046,0.50018443378827004,0.46809295462928807,"Sanhedrin ",{"$f":"VLOOKUP(Schedule!M1821,#REF!,2,FALSE)","v":{"$error":"#REF!"}}]
["2024-12-29",1,"Sanhedrin 12",{"$f":"COUNT($A$2:A1822)","v":1821},5463,0.67170785687938028,0.64846919955735893,{"$f":"(D1822-219)/2711","v":0.59092585761711547},0.55256362965695316,0.50829952047215055,0.50055330136481002,0.4684618222058281,"Sanhedrin ",{"$f":"VLOOKUP(Schedule!M1822,#REF!,2,FALSE)","v":{"$error":"#REF!"}}]
["2024-12-30",2,"Sanhedrin 13",{"$f":"COUNT($A$2:A1823)","v":1822},5466,0.67207672445592037,0.64883806713389891,0.59129472519365545,0.55293249723349314,0.50866838804869052,0.50092216894135011,0.46883068978236814,"Sanhedrin ",{"$f":"VLOOKUP(Schedule!M1823,#REF!,2,FALSE)","v":{"$error":"#REF!"}}]
["2024-12-31",3,"Sanhedrin 14",{"$f":"COUNT($A$2:A1824)","v":1823},5469,0.67244559203246035,0.649206934710439,0.59166359277019553,0.55330136481003322,0.5090372556252305,0.50129103651789009,0.46919955735890817,"Sanhedrin ",{"$f":"VLOOKUP(Schedule!M1824,#REF!,2,FALSE)","v":{"$error":"#REF!"}}]
["2025-01-01",4,"Sanhedrin 15",{"$f":"COUNT($A$2:A1825)","v":1824},5472,0.67281445960900033,0.64957580228697898,0.59203246034673551,0.5536702323865732,0.50940612320177059,0.50165990409443006,0.46956842493544815,"Sanhedrin ",{"$f":"VLOOKUP(Schedule!M1825,#REF!,2,FALSE)","v":{"$error":"#REF!"}}]
["2025-01-02",5,"Sanhedrin 16",{"$f":"COUNT($A$2:A1826)","v":1825},5475,0.67318332718554041,0.64994466986351895,0.59240132792327549,0.55403909996311329,0.50977499077831057,0.50202877167097015,0.46993729251198818,"Sanhedrin ",{"$f":"VLOOKUP(Schedule!M1826,#REF!,2,FALSE)","v":{"$error":"#REF!"}}]
["2025-01-03",6,"Sanhedrin 17",{"$f":"COUNT($A$2:A1827)","v":1826},5478,0.67355219476208039,0.65031353744005904,0.59277019549981558,0.55440796753965327,0.51014385835485065,0.50239763924751013,0.47030616008852821,"Sanhedrin ",{"$f":"VLOOKUP(Schedule!M1827,#REF!,2,FALSE)","v":{"$error":"#REF!"}}]
["2025-01-04",7,"Sanhedrin 18",{"$f":"COUNT($A$2:A1828)","v":1827},5481,0.67392106233862048,0.65068240501659902,0.59313906307635555,0.55477683511619325,0.51051272593139063,0.50276650682405022,0.47067502766506825,"Sanhedrin ",{"$f":"VLOOKUP(Schedule!M1828,#REF!,2,FALSE)","v":{"$error":"#REF!"}}]
["2025-01-05",1,"Sanhedrin 19",{"$f":"COUNT($A$2:A1829)","v":1828},5484,0.67428992991516046,0.65105127259313911,0.59350793065289564,0.55514570269273333,0.51088159350793061,0.5031353744005902,0.47104389524160828,"Sanhedrin ",{"$f":"VLOOKUP(Schedule!M1829,#REF!,2,FALSE)","v":{"$error":"#REF!"}}]
["2025-01-06",2,"Sanhedrin 20",{"$f":"COUNT($A$2:A1830)","v":1829},5487,0.67465879749170043,0.65142014016967908,0.59387679822943562,0.55551457026927331,0.5112504610844707,0.50350424197713017,0.47141276281814831,"Sanhedrin ",{"$f":"VLOOKUP(Schedule!M1830,#REF!,2,FALSE)","v":{"$error":"#REF!"}}]
["2025-01-07",3,"Sanhedrin 21",{"$f":"COUNT($A$2:A1831)","v":1830},5490,0.67502766506824052,0.65178900774621906,0.59424566580597571,0.5558834378458134,0.51161932866101067,0.50387310955367026,0.47178163039468829,"Sanhedrin ",{"$f":"VLOOKUP(Schedule!M1831,#REF!,2,FALSE)","v":{"$error":"#REF!"}}]
["2025-01-08",4,"Sanhedrin 22",{"$f":"COUNT($A$2:A1832)","v":1831},5493,0.6753965326447805,0.65215787532275915,0.59461453338251569,0.55625230542235338,0.51198819623755076,0.50424197713021024,0.47215049797122832,"Sanhedrin ",{"$f":"VLOOKUP(Schedule!M1832,#REF!,2,FALSE)","v":{"$error":"#REF!"}}]
["2025-01-09",5,"Sanhedrin 23",{"$f":"COUNT($A$2:A1833)","v":1832},5496,0.67576540022132059,0.65252674289929913,0.59498340095905566,0.55662117299889335,0.51235706381409074,0.50461084470675033,0.47251936554776836,"Sanhedrin ",{"$f":"VLOOKUP(Schedule!M1833,#REF!,2,FALSE)","v":{"$error":"#REF!"}}]
["2025-01-10",6,"Sanhedrin 24",{"$f":"COUNT($A$2:A1834)","v":1833},5499,0.67613426779786057,0.65289561047583922,0.59535226853559575,0.55699004057543344,0.51272593139063072,0.50497971228329031,{"$f":"(D1834-551)/2711","v":0.47288823312430839},"Sanhedrin ",{"$f":"VLOOKUP(Schedule!M1834,#REF!,2,FALSE)","v":{"$error":"#REF!"}}]
["2025-01-11",7,"Sanhedrin 25",{"$f":"COUNT($A$2:A1835)","v":1834},5502,0.67650313537440054,0.65326447805237919,0.59572113611213573,0.55735890815197342,0.51309479896717081,0.50534857985983028,0.47325710070084842,"Sanhedrin ",{"$f":"VLOOKUP(Schedule!M1835,#REF!,2,FALSE)","v":{"$error":"#REF!"}}]
["2025-01-12",1,"Sanhedrin 26",{"$f":"COUNT($A$2:A1836)","v":1835},5505,0.67687200295094063,0.65363334562891917,0.59609000368867582,0.55772777572851351,0.51346366654371078,0.50571744743637037,0.4736259682773884,"Sanhedrin ",{"$f":"VLOOKUP(Schedule!M1836,#REF!,2,FALSE)","v":{"$error":"#REF!"}}]
["2025-01-13",2,"Sanhedrin 27",{"$f":"COUNT($A$2:A1837)","v":1836},5508,0.67724087052748061,0.65400221320545926,0.5964588712652158,0.55809664330505349,0.51383253412025087,0.50608631501291035,0.47399483585392843,"Sanhedrin ",{"$f":"VLOOKUP(Schedule!M1837,#REF!,2,FALSE)","v":{"$error":"#REF!"}}]
["2025-01-14",3,"Sanhedrin 28",{"$f":"COUNT($A$2:A1838)","v":1837},5511,0.6776097381040207,0.65437108078199924,0.59682773884175577,0.55846551088159346,0.51420140169679085,0.50645518258945044,0.47436370343046846,"Sanhedrin ",{"$f":"VLOOKUP(Schedule!M1838,#REF!,2,FALSE)","v":{"$error":"#REF!"}}]
["2025-01-15",4,"Sanhedrin 29",{"$f":"COUNT($A$2:A1839)","v":1838},5514,0.67797860568056068,0.65473994835853933,0.59719660641829586,0.55883437845813355,0.51457026927333083,0.50682405016599041,0.4747325710070085,"Sanhedrin ",{"$f":"VLOOKUP(Schedule!M1839,#REF!,2,FALSE)","v":{"$error":"#REF!"}}]
["2025-01-16",5,"Sanhedrin 30",{"$f":"COUNT($A$2:A1840)","v":1839},5517,0.67834747325710065,0.6551088159350793,0.59756547399483584,0.55920324603467353,0.51493913684987092,0.50719291774253039,0.47510143858354853,"Sanhedrin ",{"$f":"VLOOKUP(Schedule!M1840,#REF!,2,FALSE)","v":{"$error":"#REF!"}}]
["2025-01-17",6,"Sanhedrin 31",{"$f":"COUNT($A$2:A1841)","v":1840},5520,0.67871634083364074,0.65547768351161928,0.59793434157137593,0.55957211361121362,0.51530800442641089,0.50756178531907048,0.47547030616008851,"Sanhedrin ",{"$f":"VLOOKUP(Schedule!M1841,#REF!,2,FALSE)","v":{"$error":"#REF!"}}]
["2025-01-18",7,"Sanhedrin 32",{"$f":"COUNT($A$2:A1842)","v":1841},5523,0.67908520841018072,0.65584655108815937,0.5983032091479159,0.55994098118775359,0.51567687200295098,0.50793065289561046,0.47583917373662854,"Sanhedrin ",{"$f":"VLOOKUP(Schedule!M1842,#REF!,2,FALSE)","v":{"$error":"#REF!"}}]
["2025-01-19",1,"Sanhedrin 33",{"$f":"COUNT($A$2:A1843)","v":1842},5526,0.67945407598672081,0.65621541866469935,0.59867207672445588,0.56030984876429357,0.51604573957949096,0.50829952047215055,0.47620804131316857,"Sanhedrin ",{"$f":"VLOOKUP(Schedule!M1843,#REF!,2,FALSE)","v":{"$error":"#REF!"}}]
["2025-01-20",2,"Sanhedrin 34",{"$f":"COUNT($A$2:A1844)","v":1843},5529,0.67982294356326078,0.65658428624123943,0.59904094430099597,0.56067871634083366,0.51641460715603094,0.50866838804869052,0.47657690888970861,"Sanhedrin ",{"$f":"VLOOKUP(Schedule!M1844,#REF!,2,FALSE)","v":{"$error":"#REF!"}}]
["2025-01-21",3,"Sanhedrin 35",{"$f":"COUNT($A$2:A1845)","v":1844},5532,0.68019181113980076,0.65695315381777941,0.59940981187753595,0.56104758391737364,0.51678347473257102,0.5090372556252305,0.47694577646624864,"Sanhedrin ",{"$f":"VLOOKUP(Schedule!M1845,#REF!,2,FALSE)","v":{"$error":"#REF!"}}]
["2025-01-22",4,"Sanhedrin 36",{"$f":"COUNT($A$2:A1846)","v":1845},5535,0.68056067871634085,0.65732202139431939,0.59977867945407604,0.56141645149391373,0.517152342309111,0.50940612320177059,0.47731464404278862,"Sanhedrin ",{"$f":"VLOOKUP(Schedule!M1846,#REF!,2,FALSE)","v":{"$error":"#REF!"}}]
["2025-01-23",5,"Sanhedrin 37",{"$f":"COUNT($A$2:A1847)","v":1846},5538,0.68092954629288083,0.65769088897085948,0.60014754703061601,0.5617853190704537,0.51752120988565109,0.50977499077831057,0.47768351161932865,"Sanhedrin ",{"$f":"VLOOKUP(Schedule!M1847,#REF!,2,FALSE)","v":{"$error":"#REF!"}}]
["2025-01-24",6,"Sanhedrin 38",{"$f":"COUNT($A$2:A1848)","v":1847},5541,0.68129841386942092,0.65805975654739945,0.60051641460715599,0.56215418664699368,0.51789007746219107,0.51014385835485065,0.47805237919586868,"Sanhedrin ",{"$f":"VLOOKUP(Schedule!M1848,#REF!,2,FALSE)","v":{"$error":"#REF!"}}]
["2025-01-25",7,"Sanhedrin 39",{"$f":"COUNT($A$2:A1849)","v":1848},5544,0.68166728144596089,0.65842862412393954,0.60088528218369608,0.56252305422353377,0.51825894503873104,0.51051272593139063,0.47842124677240871,"Sanhedrin ",{"$f":"VLOOKUP(Schedule!M1849,#REF!,2,FALSE)","v":{"$error":"#REF!"}}]
["2025-01-26",1,"Sanhedrin 40",{"$f":"COUNT($A$2:A1850)","v":1849},5547,0.68203614902250087,0.65879749170047952,0.60125414976023606,0.56289192180007375,0.51862781261527113,0.51088159350793061,0.47879011434894875,"Sanhedrin ",{"$f":"VLOOKUP(Schedule!M1850,#REF!,2,FALSE)","v":{"$error":"#REF!"}}]
["2025-01-27",2,"Sanhedrin 41",{"$f":"COUNT($A$2:A1851)","v":1850},5550,0.68240501659904096,0.6591663592770195,0.60162301733677614,0.56326078937661384,0.51899668019181111,0.5112504610844707,0.47915898192548873,"Sanhedrin ",{"$f":"VLOOKUP(Schedule!M1851,#REF!,2,FALSE)","v":{"$error":"#REF!"}}]
["2025-01-28",3,"Sanhedrin 42",{"$f":"COUNT($A$2:A1852)","v":1851},5553,0.68277388417558094,0.65953522685355959,0.60199188491331612,0.56362965695315381,0.5193655477683512,0.51161932866101067,0.47952784950202876,"Sanhedrin ",{"$f":"VLOOKUP(Schedule!M1852,#REF!,2,FALSE)","v":{"$error":"#REF!"}}]
["2025-01-29",4,"Sanhedrin 43",{"$f":"COUNT($A$2:A1853)","v":1852},5556,0.68314275175212102,0.65990409443009956,0.6023607524898561,0.56399852452969379,0.51973441534489118,0.51198819623755076,0.47989671707856879,"Sanhedrin ",{"$f":"VLOOKUP(Schedule!M1853,#REF!,2,FALSE)","v":{"$error":"#REF!"}}]
["2025-01-30",5,"Sanhedrin 44",{"$f":"COUNT($A$2:A1854)","v":1853},5559,0.683511619328661,0.66027296200663965,0.60272962006639619,0.56436739210623388,{"$f":"(D1854-443)/2711","v":0.52010328292143115},0.51235706381409074,0.48026558465510882,"Sanhedrin ",{"$f":"VLOOKUP(Schedule!M1854,#REF!,2,FALSE)","v":{"$error":"#REF!"}}]
["2025-01-31",6,"Sanhedrin 45",{"$f":"COUNT($A$2:A1855)","v":1854},5562,0.68388048690520098,0.66064182958317963,0.60309848764293617,0.56473625968277386,0.52047215049797124,0.51272593139063072,0.48063445223164886,"Sanhedrin ",{"$f":"VLOOKUP(Schedule!M1855,#REF!,2,FALSE)","v":{"$error":"#REF!"}}]
["2025-02-01",7,"Sanhedrin 46",{"$f":"COUNT($A$2:A1856)","v":1855},5565,0.68424935448174107,0.66101069715971961,0.60346735521947625,0.56510512725931394,0.52084101807451122,0.51309479896717081,0.48100331980818883,"Sanhedrin ",{"$f":"VLOOKUP(Schedule!M1856,#REF!,2,FALSE)","v":{"$error":"#REF!"}}]
["2025-02-02",1,"Sanhedrin 47",{"$f":"COUNT($A$2:A1857)","v":1856},5568,0.68461822205828105,0.6613795647362597,0.60383622279601623,0.56547399483585392,0.52120988565105131,0.51346366654371078,0.48137218738472887,"Sanhedrin ",{"$f":"VLOOKUP(Schedule!M1857,#REF!,2,FALSE)","v":{"$error":"#REF!"}}]
["2025-02-03",2,"Sanhedrin 48",{"$f":"COUNT($A$2:A1858)","v":1857},{"$f":"D1858*3","v":5571},0.68498708963482113,{"$f":"(D1858-63)/2711","v":0.66174843231279967},0.60420509037255621,0.5658428624123939,0.52157875322759129,0.51383253412025087,0.4817410549612689,"Sanhedrin ",{"$f":"VLOOKUP(Schedule!M1858,#REF!,2,FALSE)","v":{"$error":"#REF!"}}]
["2025-02-04",{"$f":"WEEKDAY(A1859)","v":3},"Sanhedrin 49",{"$f":"COUNT($A$2:A1859)","v":1858},5574,{"$f":"D1859/2711","v":0.68535595721136111},0.66211729988933976,0.6045739579490963,0.56621172998893399,0.52194762080413126,0.51420140169679085,0.48210992253780893,{"$f":"LEFT(C1859,FIND(\"☃\",SUBSTITUTE(C1859,\" \",\"☃\",LEN(C1859)-LEN(SUBSTITUTE(C1859,\" \",\"\")))))","v":"Sanhedrin "},{"$f":"VLOOKUP(Schedule!M1859,#REF!,2,FALSE)","v":{"$error":"#REF!"}}]
["2025-02-05",4,"Sanhedrin 50",{"$f":"COUNT($A$2:A1860)","v":1859},5577,0.68572482478790109,0.66248616746587974,0.60494282552563627,0.56658059756547396,0.52231648838067135,0.51457026927333083,0.48247879011434897,"Sanhedrin ",{"$f":"VLOOKUP(Schedule!M1860,#REF!,2,FALSE)","v":{"$error":"#REF!"}}]
["2025-02-06",5,"Sanhedrin 51",{"$f":"COUNT($A$2:A1861)","v":1860},5580,0.68609369236444118,0.66285503504241983,0.60531169310217636,0.56694946514201405,0.52268535595721133,0.51493913684987092,0.482847657690889,"Sanhedrin ",{"$f":"VLOOKUP(Schedule!M1861,#REF!,2,FALSE)","v":{"$error":"#REF!"}}]
["2025-02-07",6,"Sanhedrin 52",{"$f":"COUNT($A$2:A1862)","v":1861},5583,0.68646255994098115,0.6632239026189598,0.60568056067871634,{"$f":"(D1862-323)/2711","v":0.56731833271855403},0.52305422353375142,0.51530800442641089,0.48321652526742898,"Sanhedrin ",{"$f":"VLOOKUP(Schedule!M1862,#REF!,2,FALSE)","v":{"$error":"#REF!"}}]
["2025-02-08",7,"Sanhedrin 53",{"$f":"COUNT($A$2:A1863)","v":1862},5586,0.68683142751752124,0.66359277019549978,0.60604942825525632,0.56768720029509401,0.52342309111029139,0.51567687200295098,0.48358539284396901,"Sanhedrin ",{"$f":"VLOOKUP(Schedule!M1863,#REF!,2,FALSE)","v":{"$error":"#REF!"}}]
["2025-02-09",1,"Sanhedrin 54",{"$f":"COUNT($A$2:A1864)","v":1863},5589,0.68720029509406122,0.66396163777203987,0.60641829583179641,0.5680560678716341,0.52379195868683148,0.51604573957949096,0.48395426042050904,"Sanhedrin ",{"$f":"VLOOKUP(Schedule!M1864,#REF!,2,FALSE)","v":{"$error":"#REF!"}}]
["2025-02-10",2,"Sanhedrin 55",{"$f":"COUNT($A$2:A1865)","v":1864},5592,0.68756916267060131,0.66433050534857985,0.60678716340833638,0.56842493544817407,0.52416082626337146,0.51641460715603094,0.48432312799704907,"Sanhedrin ",{"$f":"VLOOKUP(Schedule!M1865,#REF!,2,FALSE)","v":{"$error":"#REF!"}}]
["2025-02-11",3,"Sanhedrin 56",{"$f":"COUNT($A$2:A1866)","v":1865},5595,0.68793803024714129,0.66469937292511994,0.60715603098487647,0.56879380302471416,0.52452969383991144,0.51678347473257102,0.48469199557358911,"Sanhedrin ",{"$f":"VLOOKUP(Schedule!M1866,#REF!,2,FALSE)","v":{"$error":"#REF!"}}]
["2025-02-12",4,"Sanhedrin 57",{"$f":"COUNT($A$2:A1867)","v":1866},5598,0.68830689782368126,0.66506824050165991,0.60752489856141645,0.56916267060125414,0.52489856141645153,0.517152342309111,0.48506086315012908,"Sanhedrin ",{"$f":"VLOOKUP(Schedule!M1867,#REF!,2,FALSE)","v":{"$error":"#REF!"}}]
["2025-02-13",5,"Sanhedrin 58",{"$f":"COUNT($A$2:A1868)","v":1867},5601,0.68867576540022135,0.66543710807819989,0.60789376613795643,0.56953153817779412,0.5252674289929915,0.51752120988565109,0.48542973072666912,"Sanhedrin ",{"$f":"VLOOKUP(Schedule!M1868,#REF!,2,FALSE)","v":{"$error":"#REF!"}}]
["2025-02-14",6,"Sanhedrin 59",{"$f":"COUNT($A$2:A1869)","v":1868},5604,0.68904463297676133,0.66580597565473998,0.60826263371449651,0.5699004057543342,0.52563629656953159,0.51789007746219107,0.48579859830320915,"Sanhedrin ",{"$f":"VLOOKUP(Schedule!M1869,#REF!,2,FALSE)","v":{"$error":"#REF!"}}]
["2025-02-15",7,"Sanhedrin 60",{"$f":"COUNT($A$2:A1870)","v":1869},5607,0.68941350055330142,0.66617484323127996,0.60863150129103649,0.57026927333087418,0.52600516414607157,0.51825894503873104,0.48616746587974918,"Sanhedrin ",{"$f":"VLOOKUP(Schedule!M1870,#REF!,2,FALSE)","v":{"$error":"#REF!"}}]
["2025-02-16",1,"Sanhedrin 61",{"$f":"COUNT($A$2:A1871)","v":1870},5610,0.68978236812984139,0.66654371080782004,0.60900036886757658,0.57063814090741427,0.52637403172261155,0.51862781261527113,0.48653633345628922,"Sanhedrin ",{"$f":"VLOOKUP(Schedule!M1871,#REF!,2,FALSE)","v":{"$error":"#REF!"}}]
["2025-02-17",2,"Sanhedrin 62",{"$f":"COUNT($A$2:A1872)","v":1871},5613,0.69015123570638137,0.66691257838436002,0.60936923644411656,0.57100700848395425,0.52674289929915163,0.51899668019181111,0.48690520103282919,"Sanhedrin ",{"$f":"VLOOKUP(Schedule!M1872,#REF!,2,FALSE)","v":{"$error":"#REF!"}}]
["2025-02-18",3,"Sanhedrin 63",{"$f":"COUNT($A$2:A1873)","v":1872},5616,0.69052010328292146,0.6672814459609,0.60973810402065654,0.57137587606049434,0.52711176687569161,0.5193655477683512,0.48727406860936923,"Sanhedrin ",{"$f":"VLOOKUP(Schedule!M1873,#REF!,2,FALSE)","v":{"$error":"#REF!"}}]
["2025-02-19",4,"Sanhedrin 64",{"$f":"COUNT($A$2:A1874)","v":1873},5619,0.69088897085946144,0.66765031353744009,0.61010697159719662,0.57174474363703431,0.5274806344522317,{"$f":"(D1874-464)/2711","v":0.51973441534489118},0.48764293618590926,"Sanhedrin ",{"$f":"VLOOKUP(Schedule!M1874,#REF!,2,FALSE)","v":{"$error":"#REF!"}}]
["2025-02-20",5,"Sanhedrin 65",{"$f":"COUNT($A$2:A1875)","v":1874},5622,0.69125783843600153,0.66801918111398007,0.6104758391737366,0.57211361121357429,0.52784950202877168,0.52010328292143115,0.48801180376244929,"Sanhedrin ",{"$f":"VLOOKUP(Schedule!M1875,#REF!,2,FALSE)","v":{"$error":"#REF!"}}]
["2025-02-21",6,"Sanhedrin 66",{"$f":"COUNT($A$2:A1876)","v":1875},5625,0.6916267060125415,0.66838804869052015,0.61084470675027669,0.57248247879011438,0.52821836960531166,0.52047215049797124,0.48838067133898933,"Sanhedrin ",{"$f":"VLOOKUP(Schedule!M1876,#REF!,2,FALSE)","v":{"$error":"#REF!"}}]
["2025-02-22",7,"Sanhedrin 67",{"$f":"COUNT($A$2:A1877)","v":1876},5628,0.69199557358908148,0.66875691626706013,0.61121357432681667,0.57285134636665436,0.52858723718185174,0.52084101807451122,0.4887495389155293,"Sanhedrin ",{"$f":"VLOOKUP(Schedule!M1877,#REF!,2,FALSE)","v":{"$error":"#REF!"}}]
["2025-02-23",1,"Sanhedrin 68",{"$f":"COUNT($A$2:A1878)","v":1877},5631,0.69236444116562157,0.66912578384360011,0.61158244190335664,0.57322021394319445,0.52895610475839172,0.52120988565105131,0.48911840649206934,"Sanhedrin ",{"$f":"VLOOKUP(Schedule!M1878,#REF!,2,FALSE)","v":{"$error":"#REF!"}}]
["2025-02-24",2,"Sanhedrin 69",{"$f":"COUNT($A$2:A1879)","v":1878},5634,0.69273330874216155,0.6694946514201402,0.61195130947989673,0.57358908151973442,0.52932497233493181,0.52157875322759129,0.48948727406860937,"Sanhedrin ",{"$f":"VLOOKUP(Schedule!M1879,#REF!,2,FALSE)","v":{"$error":"#REF!"}}]
["2025-02-25",3,"Sanhedrin 70",{"$f":"COUNT($A$2:A1880)","v":1879},5637,0.69310217631870163,0.66986351899668017,0.61232017705643671,0.5739579490962744,0.52969383991147179,0.52194762080413126,0.4898561416451494,"Sanhedrin ",{"$f":"VLOOKUP(Schedule!M1880,#REF!,2,FALSE)","v":{"$error":"#REF!"}}]
["2025-02-26",4,"Sanhedrin 71",{"$f":"COUNT($A$2:A1881)","v":1880},5640,0.69347104389524161,0.67023238657322026,0.6126890446329768,0.57432681667281449,0.53006270748801176,0.52231648838067135,0.49022500922168943,"Sanhedrin ",{"$f":"VLOOKUP(Schedule!M1881,#REF!,2,FALSE)","v":{"$error":"#REF!"}}]
["2025-02-27",5,"Sanhedrin 72",{"$f":"COUNT($A$2:A1882)","v":1881},5643,0.69383991147178159,0.67060125414976024,0.61305791220951678,0.57469568424935447,0.53043157506455185,0.52268535595721133,0.49059387679822941,"Sanhedrin ",{"$f":"VLOOKUP(Schedule!M1882,#REF!,2,FALSE)","v":{"$error":"#REF!"}}]
["2025-02-28",6,"Sanhedrin 73",{"$f":"COUNT($A$2:A1883)","v":1882},5646,0.69420877904832168,0.67097012172630022,0.61342677978605675,0.57506455182589455,0.53080044264109183,0.52305422353375142,0.49096274437476944,"Sanhedrin ",{"$f":"VLOOKUP(Schedule!M1883,#REF!,2,FALSE)","v":{"$error":"#REF!"}}]
["2025-03-01",7,"Sanhedrin 74",{"$f":"COUNT($A$2:A1884)","v":1883},5649,0.69457764662486166,0.67133898930284031,0.61379564736259684,0.57543341940243453,0.53116931021763192,0.52342309111029139,0.49133161195130948,"Sanhedrin ",{"$f":"VLOOKUP(Schedule!M1884,#REF!,2,FALSE)","v":{"$error":"#REF!"}}]
["2025-03-02",1,"Sanhedrin 75",{"$f":"COUNT($A$2:A1885)","v":1884},5652,0.69494651420140174,0.67170785687938028,0.61416451493913682,0.57580228697897451,0.5315381777941719,0.52379195868683148,0.49170047952784951,"Sanhedrin ",{"$f":"VLOOKUP(Schedule!M1885,#REF!,2,FALSE)","v":{"$error":"#REF!"}}]
["2025-03-03",2,"Sanhedrin 76",{"$f":"COUNT($A$2:A1886)","v":1885},5655,0.69531538177794172,0.67207672445592037,{"$f":"(D1886-219)/2711","v":0.61453338251567691},0.5761711545555146,0.53190704537071187,0.52416082626337146,0.49206934710438954,"Sanhedrin ",{"$f":"VLOOKUP(Schedule!M1886,#REF!,2,FALSE)","v":{"$error":"#REF!"}}]
["2025-03-04",3,"Sanhedrin 77",{"$f":"COUNT($A$2:A1887)","v":1886},5658,0.6956842493544817,0.67244559203246035,0.61490225009221688,0.57654002213205457,0.53227591294725196,0.52452969383991144,0.49243821468092952,"Sanhedrin ",{"$f":"VLOOKUP(Schedule!M1887,#REF!,2,FALSE)","v":{"$error":"#REF!"}}]
["2025-03-05",4,"Sanhedrin 78",{"$f":"COUNT($A$2:A1888)","v":1887},5661,0.69605311693102179,0.67281445960900033,0.61527111766875686,0.57690888970859466,0.53264478052379194,0.52489856141645153,0.49280708225746955,"Sanhedrin ",{"$f":"VLOOKUP(Schedule!M1888,#REF!,2,FALSE)","v":{"$error":"#REF!"}}]
["2025-03-06",5,"Sanhedrin 79",{"$f":"COUNT($A$2:A1889)","v":1888},5664,0.69642198450756176,0.67318332718554041,0.61563998524529695,0.57727775728513464,0.53301364810033203,0.5252674289929915,0.49317594983400959,"Sanhedrin ",{"$f":"VLOOKUP(Schedule!M1889,#REF!,2,FALSE)","v":{"$error":"#REF!"}}]
["2025-03-07",6,"Sanhedrin 80",{"$f":"COUNT($A$2:A1890)","v":1889},5667,0.69679085208410185,0.67355219476208039,0.61600885282183693,0.57764662486167462,0.533382515676872,0.52563629656953159,0.49354481741054962,"Sanhedrin ",{"$f":"VLOOKUP(Schedule!M1890,#REF!,2,FALSE)","v":{"$error":"#REF!"}}]
["2025-03-08",7,"Sanhedrin 81",{"$f":"COUNT($A$2:A1891)","v":1890},5670,0.69715971966064183,0.67392106233862048,0.61637772039837702,0.57801549243821471,0.53375138325341198,0.52600516414607157,0.49391368498708965,"Sanhedrin ",{"$f":"VLOOKUP(Schedule!M1891,#REF!,2,FALSE)","v":{"$error":"#REF!"}}]
["2025-03-09",1,"Sanhedrin 82",{"$f":"COUNT($A$2:A1892)","v":1891},5673,0.69752858723718181,0.67428992991516046,0.61674658797491699,0.57838436001475468,0.53412025082995207,0.52637403172261155,0.49428255256362968,"Sanhedrin ",{"$f":"VLOOKUP(Schedule!M1892,#REF!,2,FALSE)","v":{"$error":"#REF!"}}]
["2025-03-10",2,"Sanhedrin 83",{"$f":"COUNT($A$2:A1893)","v":1892},5676,0.6978974548137219,0.67465879749170043,0.61711545555145708,0.57875322759129477,0.53448911840649205,0.52674289929915163,0.49465142014016966,"Sanhedrin ",{"$f":"VLOOKUP(Schedule!M1893,#REF!,2,FALSE)","v":{"$error":"#REF!"}}]
["2025-03-11",3,"Sanhedrin 84",{"$f":"COUNT($A$2:A1894)","v":1893},5679,0.69826632239026187,0.67502766506824052,0.61748432312799706,0.57912209516783475,0.53485798598303214,0.52711176687569161,0.49502028771670969,"Sanhedrin ",{"$f":"VLOOKUP(Schedule!M1894,#REF!,2,FALSE)","v":{"$error":"#REF!"}}]
["2025-03-12",4,"Sanhedrin 85",{"$f":"COUNT($A$2:A1895)","v":1894},5682,0.69863518996680196,0.6753965326447805,0.61785319070453704,0.57949096274437473,0.53522685355957211,0.5274806344522317,0.49538915529324973,"Sanhedrin ",{"$f":"VLOOKUP(Schedule!M1895,#REF!,2,FALSE)","v":{"$error":"#REF!"}}]
["2025-03-13",5,"Sanhedrin 86",{"$f":"COUNT($A$2:A1896)","v":1895},5685,0.69900405754334194,0.67576540022132059,0.61822205828107712,0.57985983032091482,0.53559572113611209,0.52784950202877168,0.49575802286978976,"Sanhedrin ",{"$f":"VLOOKUP(Schedule!M1896,#REF!,2,FALSE)","v":{"$error":"#REF!"}}]
["2025-03-14",6,"Sanhedrin 87",{"$f":"COUNT($A$2:A1897)","v":1896},5688,0.69937292511988192,0.67613426779786057,0.6185909258576171,0.58022869789745479,0.53596458871265218,0.52821836960531166,0.49612689044632979,"Sanhedrin ",{"$f":"VLOOKUP(Schedule!M1897,#REF!,2,FALSE)","v":{"$error":"#REF!"}}]
["2025-03-15",7,"Sanhedrin 88",{"$f":"COUNT($A$2:A1898)","v":1897},5691,0.699741792696422,0.67650313537440054,0.61895979343415719,0.58059756547399488,0.53633345628919216,0.52858723718185174,{"$f":"(D1898-551)/2711","v":0.49649575802286977},"Sanhedrin ",{"$f":"VLOOKUP(Schedule!M1898,#REF!,2,FALSE)","v":{"$error":"#REF!"}}]
["2025-03-16",1,"Sanhedrin 89",{"$f":"COUNT($A$2:A1899)","v":1898},5694,0.70011066027296198,0.67687200295094063,0.61932866101069717,0.58096643305053486,0.53670232386573224,0.52895610475839172,0.4968646255994098,"Sanhedrin ",{"$f":"VLOOKUP(Schedule!M1899,#REF!,2,FALSE)","v":{"$error":"#REF!"}}]
["2025-03-17",2,"Sanhedrin 90",{"$f":"COUNT($A$2:A1900)","v":1899},5697,0.70047952784950207,0.67724087052748061,0.61969752858723715,0.58133530062707484,0.53707119144227222,0.52932497233493181,0.49723349317594984,"Sanhedrin ",{"$f":"VLOOKUP(Schedule!M1900,#REF!,2,FALSE)","v":{"$error":"#REF!"}}]
["2025-03-18",3,"Sanhedrin 91",{"$f":"COUNT($A$2:A1901)","v":1900},5700,0.70084839542604205,0.6776097381040207,0.62006639616377723,0.58170416820361492,0.5374400590188122,0.52969383991147179,0.49760236075248987,"Sanhedrin ",{"$f":"VLOOKUP(Schedule!M1901,#REF!,2,FALSE)","v":{"$error":"#REF!"}}]
["2025-03-19",4,"Sanhedrin 92",{"$f":"COUNT($A$2:A1902)","v":1901},5703,0.70121726300258203,0.67797860568056068,0.62043526374031721,0.5820730357801549,0.53780892659535229,0.53006270748801176,0.4979712283290299,"Sanhedrin ",{"$f":"VLOOKUP(Schedule!M1902,#REF!,2,FALSE)","v":{"$error":"#REF!"}}]
["2025-03-20",5,"Sanhedrin 93",{"$f":"COUNT($A$2:A1903)","v":1902},5706,0.70158613057912211,0.67834747325710065,0.6208041313168573,0.58244190335669499,0.53817779417189227,0.53043157506455185,0.49834009590556988,"Sanhedrin ",{"$f":"VLOOKUP(Schedule!M1903,#REF!,2,FALSE)","v":{"$error":"#REF!"}}]
["2025-03-21",6,"Sanhedrin 94",{"$f":"COUNT($A$2:A1904)","v":1903},5709,0.70195499815566209,0.67871634083364074,0.62117299889339728,0.58281077093323497,0.53854666174843235,0.53080044264109183,0.49870896348210991,"Sanhedrin ",{"$f":"VLOOKUP(Schedule!M1904,#REF!,2,FALSE)","v":{"$error":"#REF!"}}]
["2025-03-22",7,"Sanhedrin 95",{"$f":"COUNT($A$2:A1905)","v":1904},5712,0.70232386573220218,0.67908520841018072,0.62154186646993725,0.58317963850977494,0.53891552932497233,0.53116931021763192,0.49907783105864995,"Sanhedrin ",{"$f":"VLOOKUP(Schedule!M1905,#REF!,2,FALSE)","v":{"$error":"#REF!"}}]
["2025-03-23",1,"Sanhedrin 96",{"$f":"COUNT($A$2:A1906)","v":1905},5715,0.70269273330874216,0.67945407598672081,0.62191073404647734,0.58354850608631503,0.53928439690151231,0.5315381777941719,0.49944669863518998,"Sanhedrin ",{"$f":"VLOOKUP(Schedule!M1906,#REF!,2,FALSE)","v":{"$error":"#REF!"}}]
["2025-03-24",2,"Sanhedrin 97",{"$f":"COUNT($A$2:A1907)","v":1906},5718,0.70306160088528213,0.67982294356326078,0.62227960162301732,0.58391737366285501,0.5396532644780524,0.53190704537071187,0.49981556621173001,"Sanhedrin ",{"$f":"VLOOKUP(Schedule!M1907,#REF!,2,FALSE)","v":{"$error":"#REF!"}}]
["2025-03-25",3,"Sanhedrin 98",{"$f":"COUNT($A$2:A1908)","v":1907},5721,0.70343046846182222,0.68019181113980076,0.62264846919955741,0.5842862412393951,0.54002213205459237,0.53227591294725196,0.50018443378827004,"Sanhedrin ",{"$f":"VLOOKUP(Schedule!M1908,#REF!,2,FALSE)","v":{"$error":"#REF!"}}]
["2025-03-26",4,"Sanhedrin 99",{"$f":"COUNT($A$2:A1909)","v":1908},5724,0.7037993360383622,0.68056067871634085,0.62301733677609739,0.58465510881593508,0.54039099963113246,0.53264478052379194,0.50055330136481002,"Sanhedrin ",{"$f":"VLOOKUP(Schedule!M1909,#REF!,2,FALSE)","v":{"$error":"#REF!"}}]
["2025-03-27",5,"Sanhedrin 100",{"$f":"COUNT($A$2:A1910)","v":1909},5727,0.70416820361490229,0.68092954629288083,0.62338620435263736,0.58502397639247505,0.54075986720767244,0.53301364810033203,0.50092216894135011,"Sanhedrin ",{"$f":"VLOOKUP(Schedule!M1910,#REF!,2,FALSE)","v":{"$error":"#REF!"}}]
["2025-03-28",6,"Sanhedrin 101",{"$f":"COUNT($A$2:A1911)","v":1910},5730,0.70453707119144227,0.68129841386942092,0.62375507192917745,0.58539284396901514,0.54112873478421242,0.533382515676872,0.50129103651789009,"Sanhedrin ",{"$f":"VLOOKUP(Schedule!M1911,#REF!,2,FALSE)","v":{"$error":"#REF!"}}]
["2025-03-29",7,"Sanhedrin 102",{"$f":"COUNT($A$2:A1912)","v":1911},5733,0.70490593876798224,0.68166728144596089,0.62412393950571743,0.58576171154555512,0.54149760236075251,0.53375138325341198,0.50165990409443006,"Sanhedrin ",{"$f":"VLOOKUP(Schedule!M1912,#REF!,2,FALSE)","v":{"$error":"#REF!"}}]
["2025-03-30",1,"Sanhedrin 103",{"$f":"COUNT($A$2:A1913)","v":1912},5736,0.70527480634452233,0.68203614902250087,0.62449280708225752,0.58613057912209521,0.54186646993729248,0.53412025082995207,0.50202877167097015,"Sanhedrin ",{"$f":"VLOOKUP(Schedule!M1913,#REF!,2,FALSE)","v":{"$error":"#REF!"}}]
["2025-03-31",2,"Sanhedrin 104",{"$f":"COUNT($A$2:A1914)","v":1913},5739,0.70564367392106231,0.68240501659904096,0.62486167465879749,0.58649944669863519,0.54223533751383257,0.53448911840649205,0.50239763924751013,"Sanhedrin ",{"$f":"VLOOKUP(Schedule!M1914,#REF!,2,FALSE)","v":{"$error":"#REF!"}}]
["2025-04-01",3,"Sanhedrin 105",{"$f":"COUNT($A$2:A1915)","v":1914},5742,0.7060125414976024,0.68277388417558094,0.62523054223533747,0.58686831427517516,0.54260420509037255,0.53485798598303214,0.50276650682405022,"Sanhedrin ",{"$f":"VLOOKUP(Schedule!M1915,#REF!,2,FALSE)","v":{"$error":"#REF!"}}]
["2025-04-02",4,"Sanhedrin 106",{"$f":"COUNT($A$2:A1916)","v":1915},5745,0.70638140907414237,0.68314275175212102,0.62559940981187756,0.58723718185171525,0.54297307266691253,0.53522685355957211,0.5031353744005902,"Sanhedrin ",{"$f":"VLOOKUP(Schedule!M1916,#REF!,2,FALSE)","v":{"$error":"#REF!"}}]
["2025-04-03",5,"Sanhedrin 107",{"$f":"COUNT($A$2:A1917)","v":1916},5748,0.70675027665068235,0.683511619328661,0.62596827738841754,0.58760604942825523,0.54334194024345261,0.53559572113611209,0.50350424197713017,"Sanhedrin ",{"$f":"VLOOKUP(Schedule!M1917,#REF!,2,FALSE)","v":{"$error":"#REF!"}}]
["2025-04-04",6,"Sanhedrin 108",{"$f":"COUNT($A$2:A1918)","v":1917},5751,0.70711914422722244,0.68388048690520098,0.62633714496495763,0.58797491700479532,{"$f":"(D1918-443)/2711","v":0.54371080781999259},0.53596458871265218,0.50387310955367026,"Sanhedrin ",{"$f":"VLOOKUP(Schedule!M1918,#REF!,2,FALSE)","v":{"$error":"#REF!"}}]
["2025-04-05",7,"Sanhedrin 109",{"$f":"COUNT($A$2:A1919)","v":1918},5754,0.70748801180376242,0.68424935448174107,0.6267060125414976,0.58834378458133529,0.54407967539653268,0.53633345628919216,0.50424197713021024,"Sanhedrin ",{"$f":"VLOOKUP(Schedule!M1919,#REF!,2,FALSE)","v":{"$error":"#REF!"}}]
["2025-04-06",1,"Sanhedrin 110",{"$f":"COUNT($A$2:A1920)","v":1919},5757,0.70785687938030251,0.68461822205828105,0.62707488011803758,0.58871265215787527,0.54444854297307266,0.53670232386573224,0.50461084470675033,"Sanhedrin ",{"$f":"VLOOKUP(Schedule!M1920,#REF!,2,FALSE)","v":{"$error":"#REF!"}}]
["2025-04-07",2,"Sanhedrin 111",{"$f":"COUNT($A$2:A1921)","v":1920},5760,0.70822574695684248,0.68498708963482113,0.62744374769457767,0.58908151973441536,0.54481741054961264,0.53707119144227222,0.50497971228329031,"Sanhedrin ",{"$f":"VLOOKUP(Schedule!M1921,#REF!,2,FALSE)","v":{"$error":"#REF!"}}]
["2025-04-08",3,"Sanhedrin 112",{"$f":"COUNT($A$2:A1922)","v":1921},{"$f":"D1922*3","v":5763},0.70859461453338246,{"$f":"(D1922-63)/2711","v":0.68535595721136111},0.62781261527111765,0.58945038731095534,0.54518627812615272,0.5374400590188122,0.50534857985983028,"Sanhedrin ",{"$f":"VLOOKUP(Schedule!M1922,#REF!,2,FALSE)","v":{"$error":"#REF!"}}]
["2025-04-09",{"$f":"WEEKDAY(A1923)","v":4},"Sanhedrin 113",{"$f":"COUNT($A$2:A1923)","v":1922},5766,{"$f":"D1923/2711","v":0.70896348210992255},0.68572482478790109,0.62818148284765774,0.58981925488749543,0.5455551457026927,0.53780892659535229,0.50571744743637037,{"$f":"LEFT(C1923,FIND(\"☃\",SUBSTITUTE(C1923,\" \",\"☃\",LEN(C1923)-LEN(SUBSTITUTE(C1923,\" \",\"\")))))","v":"Sanhedrin "},{"$f":"VLOOKUP(Schedule!M1923,#REF!,2,FALSE)","v":{"$error":"#REF!"}}]
["2025-04-10",5,"Makkos 2",{"$f":"COUNT($A$2:A1924)","v":1923},5769,0.70933234968646253,0.68609369236444118,0.62855035042419771,0.5901881224640354,0.54592401327923279,0.53817779417189227,0.50608631501291035,"Makkos ",{"$f":"VLOOKUP(Schedule!M1924,#REF!,2,FALSE)","v":{"$error":"#REF!"}}]
["2025-04-11",6,"Makkos 3",{"$f":"COUNT($A$2:A1925)","v":1924},5772,0.70970121726300261,0.68646255994098115,0.62891921800073769,0.59055699004057538,0.54629288085577277,0.53854666174843235,0.50645518258945044,"Makkos ",{"$f":"VLOOKUP(Schedule!M1925,#REF!,2,FALSE)","v":{"$error":"#REF!"}}]
["2025-04-12",7,"Makkos 4",{"$f":"COUNT($A$2:A1926)","v":1925},5775,0.71007008483954259,0.68683142751752124,0.62928808557727778,{"$f":"(D1926-323)/2711","v":0.59092585761711547},0.54666174843231286,0.53891552932497233,0.50682405016599041,"Makkos ",{"$f":"VLOOKUP(Schedule!M1926,#REF!,2,FALSE)","v":{"$error":"#REF!"}}]
["2025-04-13",1,"Makkos 5",{"$f":"COUNT($A$2:A1927)","v":1926},5778,0.71043895241608268,0.68720029509406122,0.62965695315381776,0.59129472519365545,0.54703061600885283,0.53928439690151231,0.50719291774253039,"Makkos ",{"$f":"VLOOKUP(Schedule!M1927,#REF!,2,FALSE)","v":{"$error":"#REF!"}}]
["2025-04-14",2,"Makkos 6",{"$f":"COUNT($A$2:A1928)","v":1927},5781,0.71080781999262266,0.68756916267060131,0.63002582073035784,0.59166359277019553,0.54739948358539281,0.5396532644780524,0.50756178531907048,"Makkos ",{"$f":"VLOOKUP(Schedule!M1928,#REF!,2,FALSE)","v":{"$error":"#REF!"}}]
["2025-04-15",3,"Makkos 7",{"$f":"COUNT($A$2:A1929)","v":1928},5784,0.71117668756916264,0.68793803024714129,0.63039468830689782,0.59203246034673551,0.5477683511619329,0.54002213205459237,0.50793065289561046,"Makkos ",{"$f":"VLOOKUP(Schedule!M1929,#REF!,2,FALSE)","v":{"$error":"#REF!"}}]
["2025-04-16",4,"Makkos 8",{"$f":"COUNT($A$2:A1930)","v":1929},5787,0.71154555514570272,0.68830689782368126,0.6307635558834378,0.59240132792327549,0.54813721873847288,0.54039099963113246,0.50829952047215055,"Makkos ",{"$f":"VLOOKUP(Schedule!M1930,#REF!,2,FALSE)","v":{"$error":"#REF!"}}]
["2025-04-17",5,"Makkos 9",{"$f":"COUNT($A$2:A1931)","v":1930},5790,0.7119144227222427,0.68867576540022135,0.63113242345997789,0.59277019549981558,0.54850608631501296,0.54075986720767244,0.50866838804869052,"Makkos ",{"$f":"VLOOKUP(Schedule!M1931,#REF!,2,FALSE)","v":{"$error":"#REF!"}}]
["2025-04-18",6,"Makkos 10",{"$f":"COUNT($A$2:A1932)","v":1931},5793,0.71228329029878279,0.68904463297676133,0.63150129103651786,0.59313906307635555,0.54887495389155294,0.54112873478421242,0.5090372556252305,"Makkos ",{"$f":"VLOOKUP(Schedule!M1932,#REF!,2,FALSE)","v":{"$error":"#REF!"}}]
["2025-04-19",7,"Makkos 11",{"$f":"COUNT($A$2:A1933)","v":1932},5796,0.71265215787532277,0.68941350055330142,0.63187015861305795,0.59350793065289564,0.54924382146809292,0.54149760236075251,0.50940612320177059,"Makkos ",{"$f":"VLOOKUP(Schedule!M1933,#REF!,2,FALSE)","v":{"$error":"#REF!"}}]
["2025-04-20",1,"Makkos 12",{"$f":"COUNT($A$2:A1934)","v":1933},5799,0.71302102545186274,0.68978236812984139,0.63223902618959793,0.59387679822943562,0.54961268904463301,0.54186646993729248,0.50977499077831057,"Makkos ",{"$f":"VLOOKUP(Schedule!M1934,#REF!,2,FALSE)","v":{"$error":"#REF!"}}]
["2025-04-21",2,"Makkos 13",{"$f":"COUNT($A$2:A1935)","v":1934},5802,0.71338989302840283,0.69015123570638137,0.63260789376613791,0.59424566580597571,0.54998155662117298,0.54223533751383257,0.51014385835485065,"Makkos ",{"$f":"VLOOKUP(Schedule!M1935,#REF!,2,FALSE)","v":{"$error":"#REF!"}}]
["2025-04-22",3,"Makkos 14",{"$f":"COUNT($A$2:A1936)","v":1935},5805,0.71375876060494281,0.69052010328292146,0.632976761342678,0.59461453338251569,0.55035042419771307,0.54260420509037255,0.51051272593139063,"Makkos ",{"$f":"VLOOKUP(Schedule!M1936,#REF!,2,FALSE)","v":{"$error":"#REF!"}}]
["2025-04-23",4,"Makkos 15",{"$f":"COUNT($A$2:A1937)","v":1936},5808,0.7141276281814829,0.69088897085946144,0.63334562891921797,0.59498340095905566,0.55071929177425305,0.54297307266691253,0.51088159350793061,"Makkos ",{"$f":"VLOOKUP(Schedule!M1937,#REF!,2,FALSE)","v":{"$error":"#REF!"}}]
["2025-04-24",5,"Makkos 16",{"$f":"COUNT($A$2:A1938)","v":1937},5811,0.71449649575802288,0.69125783843600153,0.63371449649575806,0.59535226853559575,0.55108815935079303,{"$f":"(D1938-464)/2711","v":0.54334194024345261},0.5112504610844707,"Makkos ",{"$f":"VLOOKUP(Schedule!M1938,#REF!,2,FALSE)","v":{"$error":"#REF!"}}]
["2025-04-25",6,"Makkos 17",{"$f":"COUNT($A$2:A1939)","v":1938},5814,0.71486536333456285,0.6916267060125415,0.63408336407229804,0.59572113611213573,0.55145702692733312,0.54371080781999259,0.51161932866101067,"Makkos ",{"$f":"VLOOKUP(Schedule!M1939,#REF!,2,FALSE)","v":{"$error":"#REF!"}}]
["2025-04-26",7,"Makkos 18",{"$f":"COUNT($A$2:A1940)","v":1939},5817,0.71523423091110294,0.69199557358908148,0.63445223164883802,0.59609000368867582,0.55182589450387309,0.54407967539653268,0.51198819623755076,"Makkos ",{"$f":"VLOOKUP(Schedule!M1940,#REF!,2,FALSE)","v":{"$error":"#REF!"}}]
["2025-04-27",1,"Makkos 19",{"$f":"COUNT($A$2:A1941)","v":1940},5820,0.71560309848764292,0.69236444116562157,0.6348210992253781,0.5964588712652158,0.55219476208041318,0.54444854297307266,0.51235706381409074,"Makkos ",{"$f":"VLOOKUP(Schedule!M1941,#REF!,2,FALSE)","v":{"$error":"#REF!"}}]
["2025-04-28",2,"Makkos 20",{"$f":"COUNT($A$2:A1942)","v":1941},5823,0.71597196606418301,0.69273330874216155,0.63518996680191808,0.59682773884175577,0.55256362965695316,0.54481741054961264,0.51272593139063072,"Makkos ",{"$f":"VLOOKUP(Schedule!M1942,#REF!,2,FALSE)","v":{"$error":"#REF!"}}]
["2025-04-29",3,"Makkos 21",{"$f":"COUNT($A$2:A1943)","v":1942},5826,0.71634083364072298,0.69310217631870163,0.63555883437845817,0.59719660641829586,0.55293249723349314,0.54518627812615272,0.51309479896717081,"Makkos ",{"$f":"VLOOKUP(Schedule!M1943,#REF!,2,FALSE)","v":{"$error":"#REF!"}}]
["2025-04-30",4,"Makkos 22",{"$f":"COUNT($A$2:A1944)","v":1943},5829,0.71670970121726296,0.69347104389524161,0.63592770195499815,0.59756547399483584,0.55330136481003322,0.5455551457026927,0.51346366654371078,"Makkos ",{"$f":"VLOOKUP(Schedule!M1944,#REF!,2,FALSE)","v":{"$error":"#REF!"}}]
["2025-05-01",5,"Makkos 23",{"$f":"COUNT($A$2:A1945)","v":1944},5832,0.71707856879380305,0.69383991147178159,0.63629656953153813,0.59793434157137593,0.5536702323865732,0.54592401327923279,0.51383253412025087,"Makkos ",{"$f":"VLOOKUP(Schedule!M1945,#REF!,2,FALSE)","v":{"$error":"#REF!"}}]
["2025-05-02",6,"Makkos 24",{"$f":"COUNT($A$2:A1946)","v":1945},5835,0.71744743637034303,0.69420877904832168,0.63666543710807821,0.5983032091479159,0.55403909996311329,0.54629288085577277,0.51420140169679085,"Makkos ",{"$f":"VLOOKUP(Schedule!M1946,#REF!,2,FALSE)","v":{"$error":"#REF!"}}]
["2025-05-03",7,"Shevuos 2",{"$f":"COUNT($A$2:A1947)","v":1946},5838,0.71781630394688312,0.69457764662486166,0.63703430468461819,0.59867207672445588,0.55440796753965327,0.54666174843231286,0.51457026927333083,"Shevuos ",{"$f":"VLOOKUP(Schedule!M1947,#REF!,2,FALSE)","v":{"$error":"#REF!"}}]
["2025-05-04",1,"Shevuos 3",{"$f":"COUNT($A$2:A1948)","v":1947},5841,0.71818517152342309,0.69494651420140174,0.63740317226115828,0.59904094430099597,0.55477683511619325,0.54703061600885283,0.51493913684987092,"Shevuos ",{"$f":"VLOOKUP(Schedule!M1948,#REF!,2,FALSE)","v":{"$error":"#REF!"}}]
["2025-05-05",2,"Shevuos 4",{"$f":"COUNT($A$2:A1949)","v":1948},5844,0.71855403909996307,0.69531538177794172,0.63777203983769826,0.59940981187753595,0.55514570269273333,0.54739948358539281,0.51530800442641089,"Shevuos ",{"$f":"VLOOKUP(Schedule!M1949,#REF!,2,FALSE)","v":{"$error":"#REF!"}}]
["2025-05-06",3,"Shevuos 5",{"$f":"COUNT($A$2:A1950)","v":1949},5847,0.71892290667650316,0.6956842493544817,{"$f":"(D1950-219)/2711","v":0.63814090741423823},0.59977867945407604,0.55551457026927331,0.5477683511619329,0.51567687200295098,"Shevuos ",{"$f":"VLOOKUP(Schedule!M1950,#REF!,2,FALSE)","v":{"$error":"#REF!"}}]
["2025-05-07",4,"Shevuos 6",{"$f":"COUNT($A$2:A1951)","v":1950},5850,0.71929177425304314,0.69605311693102179,0.63850977499077832,0.60014754703061601,0.5558834378458134,0.54813721873847288,0.51604573957949096,"Shevuos ",{"$f":"VLOOKUP(Schedule!M1951,#REF!,2,FALSE)","v":{"$error":"#REF!"}}]
["2025-05-08",5,"Shevuos 7",{"$f":"COUNT($A$2:A1952)","v":1951},5853,0.71966064182958323,0.69642198450756176,0.6388786425673183,0.60051641460715599,0.55625230542235338,0.54850608631501296,0.51641460715603094,"Shevuos ",{"$f":"VLOOKUP(Schedule!M1952,#REF!,2,FALSE)","v":{"$error":"#REF!"}}]
["2025-05-09",6,"Shevuos 8",{"$f":"COUNT($A$2:A1953)","v":1952},5856,0.7200295094061232,0.69679085208410185,0.63924751014385839,0.60088528218369608,0.55662117299889335,0.54887495389155294,0.51678347473257102,"Shevuos ",{"$f":"VLOOKUP(Schedule!M1953,#REF!,2,FALSE)","v":{"$error":"#REF!"}}]
["2025-05-10",7,"Shevuos 9",{"$f":"COUNT($A$2:A1954)","v":1953},5859,0.72039837698266318,0.69715971966064183,0.63961637772039837,0.60125414976023606,0.55699004057543344,0.54924382146809292,0.517152342309111,"Shevuos ",{"$f":"VLOOKUP(Schedule!M1954,#REF!,2,FALSE)","v":{"$error":"#REF!"}}]
["2025-05-11",1,"Shevuos 10",{"$f":"COUNT($A$2:A1955)","v":1954},5862,0.72076724455920327,0.69752858723718181,0.63998524529693845,0.60162301733677614,0.55735890815197342,0.54961268904463301,0.51752120988565109,"Shevuos ",{"$f":"VLOOKUP(Schedule!M1955,#REF!,2,FALSE)","v":{"$error":"#REF!"}}]
["2025-05-12",2,"Shevuos 11",{"$f":"COUNT($A$2:A1956)","v":1955},5865,0.72113611213574325,0.6978974548137219,0.64035411287347843,0.60199188491331612,0.55772777572851351,0.54998155662117298,0.51789007746219107,"Shevuos ",{"$f":"VLOOKUP(Schedule!M1956,#REF!,2,FALSE)","v":{"$error":"#REF!"}}]
["2025-05-13",3,"Shevuos 12",{"$f":"COUNT($A$2:A1957)","v":1956},5868,0.72150497971228333,0.69826632239026187,0.64072298045001841,0.6023607524898561,0.55809664330505349,0.55035042419771307,0.51825894503873104,"Shevuos ",{"$f":"VLOOKUP(Schedule!M1957,#REF!,2,FALSE)","v":{"$error":"#REF!"}}]
["2025-05-14",4,"Shevuos 13",{"$f":"COUNT($A$2:A1958)","v":1957},5871,0.72187384728882331,0.69863518996680196,0.6410918480265585,0.60272962006639619,0.55846551088159346,0.55071929177425305,0.51862781261527113,"Shevuos ",{"$f":"VLOOKUP(Schedule!M1958,#REF!,2,FALSE)","v":{"$error":"#REF!"}}]
["2025-05-15",5,"Shevuos 14",{"$f":"COUNT($A$2:A1959)","v":1958},5874,0.72224271486536329,0.69900405754334194,0.64146071560309847,0.60309848764293617,0.55883437845813355,0.55108815935079303,0.51899668019181111,"Shevuos ",{"$f":"VLOOKUP(Schedule!M1959,#REF!,2,FALSE)","v":{"$error":"#REF!"}}]
["2025-05-16",6,"Shevuos 15",{"$f":"COUNT($A$2:A1960)","v":1959},5877,0.72261158244190338,0.69937292511988192,0.64182958317963856,0.60346735521947625,0.55920324603467353,0.55145702692733312,0.5193655477683512,"Shevuos ",{"$f":"VLOOKUP(Schedule!M1960,#REF!,2,FALSE)","v":{"$error":"#REF!"}}]
["2025-05-17",7,"Shevuos 16",{"$f":"COUNT($A$2:A1961)","v":1960},5880,0.72298045001844335,0.699741792696422,0.64219845075617854,0.60383622279601623,0.55957211361121362,0.55182589450387309,0.51973441534489118,"Shevuos ",{"$f":"VLOOKUP(Schedule!M1961,#REF!,2,FALSE)","v":{"$error":"#REF!"}}]
["2025-05-18",1,"Shevuos 17",{"$f":"COUNT($A$2:A1962)","v":1961},5883,0.72334931759498344,0.70011066027296198,0.64256731833271852,0.60420509037255621,0.55994098118775359,0.55219476208041318,{"$f":"(D1962-551)/2711","v":0.52010328292143115},"Shevuos ",{"$f":"VLOOKUP(Schedule!M1962,#REF!,2,FALSE)","v":{"$error":"#REF!"}}]
["2025-05-19",2,"Shevuos 18",{"$f":"COUNT($A$2:A1963)","v":1962},5886,0.72371818517152342,0.70047952784950207,0.64293618590925861,0.6045739579490963,0.56030984876429357,0.55256362965695316,0.52047215049797124,"Shevuos ",{"$f":"VLOOKUP(Schedule!M1963,#REF!,2,FALSE)","v":{"$error":"#REF!"}}]
["2025-05-20",3,"Shevuos 19",{"$f":"COUNT($A$2:A1964)","v":1963},5889,0.7240870527480634,0.70084839542604205,0.64330505348579858,0.60494282552563627,0.56067871634083366,0.55293249723349314,0.52084101807451122,"Shevuos ",{"$f":"VLOOKUP(Schedule!M1964,#REF!,2,FALSE)","v":{"$error":"#REF!"}}]
["2025-05-21",4,"Shevuos 20",{"$f":"COUNT($A$2:A1965)","v":1964},5892,0.72445592032460349,0.70121726300258203,0.64367392106233867,0.60531169310217636,0.56104758391737364,0.55330136481003322,0.52120988565105131,"Shevuos ",{"$f":"VLOOKUP(Schedule!M1965,#REF!,2,FALSE)","v":{"$error":"#REF!"}}]
["2025-05-22",5,"Shevuos 21",{"$f":"COUNT($A$2:A1966)","v":1965},5895,0.72482478790114346,0.70158613057912211,0.64404278863887865,0.60568056067871634,0.56141645149391373,0.5536702323865732,0.52157875322759129,"Shevuos ",{"$f":"VLOOKUP(Schedule!M1966,#REF!,2,FALSE)","v":{"$error":"#REF!"}}]
["2025-05-23",6,"Shevuos 22",{"$f":"COUNT($A$2:A1967)","v":1966},5898,0.72519365547768355,0.70195499815566209,0.64441165621541863,0.60604942825525632,0.5617853190704537,0.55403909996311329,0.52194762080413126,"Shevuos ",{"$f":"VLOOKUP(Schedule!M1967,#REF!,2,FALSE)","v":{"$error":"#REF!"}}]
["2025-05-24",7,"Shevuos 23",{"$f":"COUNT($A$2:A1968)","v":1967},5901,0.72556252305422353,0.70232386573220218,0.64478052379195872,0.60641829583179641,0.56215418664699368,0.55440796753965327,0.52231648838067135,"Shevuos ",{"$f":"VLOOKUP(Schedule!M1968,#REF!,2,FALSE)","v":{"$error":"#REF!"}}]
["2025-05-25",1,"Shevuos 24",{"$f":"COUNT($A$2:A1969)","v":1968},5904,0.72593139063076351,0.70269273330874216,0.64514939136849869,0.60678716340833638,0.56252305422353377,0.55477683511619325,0.52268535595721133,"Shevuos ",{"$f":"VLOOKUP(Schedule!M1969,#REF!,2,FALSE)","v":{"$error":"#REF!"}}]
["2025-05-26",2,"Shevuos 25",{"$f":"COUNT($A$2:A1970)","v":1969},5907,0.7263002582073036,0.70306160088528213,0.64551825894503878,0.60715603098487647,0.56289192180007375,0.55514570269273333,0.52305422353375142,"Shevuos ",{"$f":"VLOOKUP(Schedule!M1970,#REF!,2,FALSE)","v":{"$error":"#REF!"}}]
["2025-05-27",3,"Shevuos 26",{"$f":"COUNT($A$2:A1971)","v":1970},5910,0.72666912578384357,0.70343046846182222,0.64588712652157876,0.60752489856141645,0.56326078937661384,0.55551457026927331,0.52342309111029139,"Shevuos ",{"$f":"VLOOKUP(Schedule!M1971,#REF!,2,FALSE)","v":{"$error":"#REF!"}}]
["2025-05-28",4,"Shevuos 27",{"$f":"COUNT($A$2:A1972)","v":1971},5913,0.72703799336038366,0.7037993360383622,0.64625599409811874,0.60789376613795643,0.56362965695315381,0.5558834378458134,0.52379195868683148,"Shevuos ",{"$f":"VLOOKUP(Schedule!M1972,#REF!,2,FALSE)","v":{"$error":"#REF!"}}]
["2025-05-29",5,"Shevuos 28",{"$f":"COUNT($A$2:A1973)","v":1972},5916,0.72740686093692364,0.70416820361490229,0.64662486167465882,0.60826263371449651,0.56399852452969379,0.55625230542235338,0.52416082626337146,"Shevuos ",{"$f":"VLOOKUP(Schedule!M1973,#REF!,2,FALSE)","v":{"$error":"#REF!"}}]
["2025-05-30",6,"Shevuos 29",{"$f":"COUNT($A$2:A1974)","v":1973},5919,0.72777572851346362,0.70453707119144227,0.6469937292511988,0.60863150129103649,0.56436739210623388,0.55662117299889335,0.52452969383991144,"Shevuos ",{"$f":"VLOOKUP(Schedule!M1974,#REF!,2,FALSE)","v":{"$error":"#REF!"}}]
["2025-05-31",7,"Shevuos 30",{"$f":"COUNT($A$2:A1975)","v":1974},5922,0.7281445960900037,0.70490593876798224,0.64736259682773889,0.60900036886757658,0.56473625968277386,0.55699004057543344,0.52489856141645153,"Shevuos ",{"$f":"VLOOKUP(Schedule!M1975,#REF!,2,FALSE)","v":{"$error":"#REF!"}}]
["2025-06-01",1,"Shevuos 31",{"$f":"COUNT($A$2:A1976)","v":1975},5925,0.72851346366654368,0.70527480634452233,0.64773146440427887,0.60936923644411656,0.56510512725931394,0.55735890815197342,0.5252674289929915,"Shevuos ",{"$f":"VLOOKUP(Schedule!M1976,#REF!,2,FALSE)","v":{"$error":"#REF!"}}]
["2025-06-02",2,"Shevuos 32",{"$f":"COUNT($A$2:A1977)","v":1976},5928,0.72888233124308377,0.70564367392106231,0.64810033198081884,0.60973810402065654,0.56547399483585392,0.55772777572851351,0.52563629656953159,"Shevuos ",{"$f":"VLOOKUP(Schedule!M1977,#REF!,2,FALSE)","v":{"$error":"#REF!"}}]
["2025-06-03",3,"Shevuos 33",{"$f":"COUNT($A$2:A1978)","v":1977},5931,0.72925119881962375,0.7060125414976024,0.64846919955735893,0.61010697159719662,0.5658428624123939,0.55809664330505349,0.52600516414607157,"Shevuos ",{"$f":"VLOOKUP(Schedule!M1978,#REF!,2,FALSE)","v":{"$error":"#REF!"}}]
["2025-06-04",4,"Shevuos 34",{"$f":"COUNT($A$2:A1979)","v":1978},5934,0.72962006639616372,0.70638140907414237,0.64883806713389891,0.6104758391737366,0.56621172998893399,0.55846551088159346,0.52637403172261155,"Shevuos ",{"$f":"VLOOKUP(Schedule!M1979,#REF!,2,FALSE)","v":{"$error":"#REF!"}}]
["2025-06-05",5,"Shevuos 35",{"$f":"COUNT($A$2:A1980)","v":1979},5937,0.72998893397270381,0.70675027665068235,0.649206934710439,0.61084470675027669,0.56658059756547396,0.55883437845813355,0.52674289929915163,"Shevuos ",{"$f":"VLOOKUP(Schedule!M1980,#REF!,2,FALSE)","v":{"$error":"#REF!"}}]
["2025-06-06",6,"Shevuos 36",{"$f":"COUNT($A$2:A1981)","v":1980},5940,0.73035780154924379,0.70711914422722244,0.64957580228697898,0.61121357432681667,0.56694946514201405,0.55920324603467353,0.52711176687569161,"Shevuos ",{"$f":"VLOOKUP(Schedule!M1981,#REF!,2,FALSE)","v":{"$error":"#REF!"}}]
["2025-06-07",7,"Shevuos 37",{"$f":"COUNT($A$2:A1982)","v":1981},5943,0.73072666912578388,0.70748801180376242,0.64994466986351895,0.61158244190335664,{"$f":"(D1982-443)/2711","v":0.56731833271855403},0.55957211361121362,0.5274806344522317,"Shevuos ",{"$f":"VLOOKUP(Schedule!M1982,#REF!,2,FALSE)","v":{"$error":"#REF!"}}]
["2025-06-08",1,"Shevuos 38",{"$f":"COUNT($A$2:A1983)","v":1982},5946,0.73109553670232386,0.70785687938030251,0.65031353744005904,0.61195130947989673,0.56768720029509401,0.55994098118775359,0.52784950202877168,"Shevuos ",{"$f":"VLOOKUP(Schedule!M1983,#REF!,2,FALSE)","v":{"$error":"#REF!"}}]
["2025-06-09",2,"Shevuos 39",{"$f":"COUNT($A$2:A1984)","v":1983},5949,0.73146440427886383,0.70822574695684248,0.65068240501659902,0.61232017705643671,0.5680560678716341,0.56030984876429357,0.52821836960531166,"Shevuos ",{"$f":"VLOOKUP(Schedule!M1984,#REF!,2,FALSE)","v":{"$error":"#REF!"}}]
["2025-06-10",3,"Shevuos 40",{"$f":"COUNT($A$2:A1985)","v":1984},5952,0.73183327185540392,0.70859461453338246,0.65105127259313911,0.6126890446329768,0.56842493544817407,0.56067871634083366,0.52858723718185174,"Shevuos ",{"$f":"VLOOKUP(Schedule!M1985,#REF!,2,FALSE)","v":{"$error":"#REF!"}}]
["2025-06-11",4,"Shevuos 41",{"$f":"COUNT($A$2:A1986)","v":1985},{"$f":"D1986*3","v":5955},0.7322021394319439,{"$f":"(D1986-63)/2711","v":0.70896348210992255},0.65142014016967908,0.61305791220951678,0.56879380302471416,0.56104758391737364,0.52895610475839172,"Shevuos ",{"$f":"VLOOKUP(Schedule!M1986,#REF!,2,FALSE)","v":{"$error":"#REF!"}}]
["2025-06-12",{"$f":"WEEKDAY(A1987)","v":5},"Shevuos 42",{"$f":"COUNT($A$2:A1987)","v":1986},5958,{"$f":"D1987/2711","v":0.73257100700848399},0.70933234968646253,0.65178900774621906,0.61342677978605675,0.56916267060125414,0.56141645149391373,0.52932497233493181,{"$f":"LEFT(C1987,FIND(\"☃\",SUBSTITUTE(C1987,\" \",\"☃\",LEN(C1987)-LEN(SUBSTITUTE(C1987,\" \",\"\")))))","v":"Shevuos "},{"$f":"VLOOKUP(Schedule!M1987,#REF!,2,FALSE)","v":{"$error":"#REF!"}}]
["2025-06-13",6,"Shevuos 43",{"$f":"COUNT($A$2:A1988)","v":1987},5961,0.73293987458502396,0.70970121726300261,0.65215787532275915,0.61379564736259684,0.56953153817779412,0.5617853190704537,0.52969383991147179,"Shevuos ",{"$f":"VLOOKUP(Schedule!M1988,#REF!,2,FALSE)","v":{"$error":"#REF!"}}]
["2025-06-14",7,"Shevuos 44",{"$f":"COUNT($A$2:A1989)","v":1988},5964,0.73330874216156405,0.71007008483954259,0.65252674289929913,0.61416451493913682,0.5699004057543342,0.56215418664699368,0.53006270748801176,"Shevuos ",{"$f":"VLOOKUP(Schedule!M1989,#REF!,2,FALSE)","v":{"$error":"#REF!"}}]
["2025-06-15",1,"Shevuos 45",{"$f":"COUNT($A$2:A1990)","v":1989},5967,0.73367760973810403,0.71043895241608268,0.65289561047583922,{"$f":"(D1990-323)/2711","v":0.61453338251567691},0.57026927333087418,0.56252305422353377,0.53043157506455185,"Shevuos ",{"$f":"VLOOKUP(Schedule!M1990,#REF!,2,FALSE)","v":{"$error":"#REF!"}}]
["2025-06-16",2,"Shevuos 46",{"$f":"COUNT($A$2:A1991)","v":1990},5970,0.73404647731464401,0.71080781999262266,0.65326447805237919,0.61490225009221688,0.57063814090741427,0.56289192180007375,0.53080044264109183,"Shevuos ",{"$f":"VLOOKUP(Schedule!M1991,#REF!,2,FALSE)","v":{"$error":"#REF!"}}]
["2025-06-17",3,"Shevuos 47",{"$f":"COUNT($A$2:A1992)","v":1991},5973,0.7344153448911841,0.71117668756916264,0.65363334562891917,0.61527111766875686,0.57100700848395425,0.56326078937661384,0.53116931021763192,"Shevuos ",{"$f":"VLOOKUP(Schedule!M1992,#REF!,2,FALSE)","v":{"$error":"#REF!"}}]
["2025-06-18",4,"Shevuos 48",{"$f":"COUNT($A$2:A1993)","v":1992},5976,0.73478421246772407,0.71154555514570272,0.65400221320545926,0.61563998524529695,0.57137587606049434,0.56362965695315381,0.5315381777941719,"Shevuos ",{"$f":"VLOOKUP(Schedule!M1993,#REF!,2,FALSE)","v":{"$error":"#REF!"}}]
["2025-06-19",5,"Shevuos 49",{"$f":"COUNT($A$2:A1994)","v":1993},5979,0.73515308004426416,0.7119144227222427,0.65437108078199924,0.61600885282183693,0.57174474363703431,0.56399852452969379,0.53190704537071187,"Shevuos ",{"$f":"VLOOKUP(Schedule!M1994,#REF!,2,FALSE)","v":{"$error":"#REF!"}}]
["2025-06-20",6,"Avodah Zara 2",{"$f":"COUNT($A$2:A1995)","v":1994},5982,0.73552194762080414,0.71228329029878279,0.65473994835853933,0.61637772039837702,0.57211361121357429,0.56436739210623388,0.53227591294725196,"Avodah Zara ",{"$f":"VLOOKUP(Schedule!M1995,#REF!,2,FALSE)","v":{"$error":"#REF!"}}]
["2025-06-21",7,"Avodah Zara 3",{"$f":"COUNT($A$2:A1996)","v":1995},5985,0.73589081519734412,0.71265215787532277,0.6551088159350793,0.61674658797491699,0.57248247879011438,0.56473625968277386,0.53264478052379194,"Avodah Zara ",{"$f":"VLOOKUP(Schedule!M1996,#REF!,2,FALSE)","v":{"$error":"#REF!"}}]
["2025-06-22",1,"Avodah Zara 4",{"$f":"COUNT($A$2:A1997)","v":1996},5988,0.73625968277388421,0.71302102545186274,0.65547768351161928,0.61711545555145708,0.57285134636665436,0.56510512725931394,0.53301364810033203,"Avodah Zara ",{"$f":"VLOOKUP(Schedule!M1997,#REF!,2,FALSE)","v":{"$error":"#REF!"}}]
["2025-06-23",2,"Avodah Zara 5",{"$f":"COUNT($A$2:A1998)","v":1997},5991,0.73662855035042418,0.71338989302840283,0.65584655108815937,0.61748432312799706,0.57322021394319445,0.56547399483585392,0.533382515676872,"Avodah Zara ",{"$f":"VLOOKUP(Schedule!M1998,#REF!,2,FALSE)","v":{"$error":"#REF!"}}]
["2025-06-24",3,"Avodah Zara 6",{"$f":"COUNT($A$2:A1999)","v":1998},5994,0.73699741792696427,0.71375876060494281,0.65621541866469935,0.61785319070453704,0.57358908151973442,0.5658428624123939,0.53375138325341198,"Avodah Zara ",{"$f":"VLOOKUP(Schedule!M1999,#REF!,2,FALSE)","v":{"$error":"#REF!"}}]
["2025-06-25",4,"Avodah Zara 7",{"$f":"COUNT($A$2:A2000)","v":1999},5997,0.73736628550350425,0.7141276281814829,0.65658428624123943,0.61822205828107712,0.5739579490962744,0.56621172998893399,0.53412025082995207,"Avodah Zara ",{"$f":"VLOOKUP(Schedule!M2000,#REF!,2,FALSE)","v":{"$error":"#REF!"}}]
["2025-06-26",5,"Avodah Zara 8",{"$f":"COUNT($A$2:A2001)","v":2000},6000,0.73773515308004423,0.71449649575802288,0.65695315381777941,0.6185909258576171,0.57432681667281449,0.56658059756547396,0.53448911840649205,"Avodah Zara ",{"$f":"VLOOKUP(Schedule!M2001,#REF!,2,FALSE)","v":{"$error":"#REF!"}}]
["2025-06-27",6,"Avodah Zara 9",{"$f":"COUNT($A$2:A2002)","v":2001},6003,0.73810402065658431,0.71486536333456285,0.65732202139431939,0.61895979343415719,0.57469568424935447,{"$f":"(D2002-464)/2711","v":0.56694946514201405},0.53485798598303214,"Avodah Zara ",{"$f":"VLOOKUP(Schedule!M2002,#REF!,2,FALSE)","v":{"$error":"#REF!"}}]
["2025-06-28",7,"Avodah Zara 10",{"$f":"COUNT($A$2:A2003)","v":2002},6006,0.73847288823312429,0.71523423091110294,0.65769088897085948,0.61932866101069717,0.57506455182589455,0.56731833271855403,0.53522685355957211,"Avodah Zara ",{"$f":"VLOOKUP(Schedule!M2003,#REF!,2,FALSE)","v":{"$error":"#REF!"}}]
["2025-06-29",1,"Avodah Zara 11",{"$f":"COUNT($A$2:A2004)","v":2003},6009,0.73884175580966438,0.71560309848764292,0.65805975654739945,0.61969752858723715,0.57543341940243453,0.56768720029509401,0.53559572113611209,"Avodah Zara ",{"$f":"VLOOKUP(Schedule!M2004,#REF!,2,FALSE)","v":{"$error":"#REF!"}}]
["2025-06-30",2,"Avodah Zara 12",{"$f":"COUNT($A$2:A2005)","v":2004},6012,0.73921062338620436,0.71597196606418301,0.65842862412393954,0.62006639616377723,0.57580228697897451,0.5680560678716341,0.53596458871265218,"Avodah Zara ",{"$f":"VLOOKUP(Schedule!M2005,#REF!,2,FALSE)","v":{"$error":"#REF!"}}]
["2025-07-01",3,"Avodah Zara 13",{"$f":"COUNT($A$2:A2006)","v":2005},6015,0.73957949096274433,0.71634083364072298,0.65879749170047952,0.62043526374031721,0.5761711545555146,0.56842493544817407,0.53633345628919216,"Avodah Zara ",{"$f":"VLOOKUP(Schedule!M2006,#REF!,2,FALSE)","v":{"$error":"#REF!"}}]
["2025-07-02",4,"Avodah Zara 14",{"$f":"COUNT($A$2:A2007)","v":2006},6018,0.73994835853928442,0.71670970121726296,0.6591663592770195,0.6208041313168573,0.57654002213205457,0.56879380302471416,0.53670232386573224,"Avodah Zara ",{"$f":"VLOOKUP(Schedule!M2007,#REF!,2,FALSE)","v":{"$error":"#REF!"}}]
["2025-07-03",5,"Avodah Zara 15",{"$f":"COUNT($A$2:A2008)","v":2007},6021,0.7403172261158244,0.71707856879380305,0.65953522685355959,0.62117299889339728,0.57690888970859466,0.56916267060125414,0.53707119144227222,"Avodah Zara ",{"$f":"VLOOKUP(Schedule!M2008,#REF!,2,FALSE)","v":{"$error":"#REF!"}}]
["2025-07-04",6,"Avodah Zara 16",{"$f":"COUNT($A$2:A2009)","v":2008},6024,0.74068609369236449,0.71744743637034303,0.65990409443009956,0.62154186646993725,0.57727775728513464,0.56953153817779412,0.5374400590188122,"Avodah Zara ",{"$f":"VLOOKUP(Schedule!M2009,#REF!,2,FALSE)","v":{"$error":"#REF!"}}]
["2025-07-05",7,"Avodah Zara 17",{"$f":"COUNT($A$2:A2010)","v":2009},6027,0.74105496126890447,0.71781630394688312,0.66027296200663965,0.62191073404647734,0.57764662486167462,0.5699004057543342,0.53780892659535229,"Avodah Zara ",{"$f":"VLOOKUP(Schedule!M2010,#REF!,2,FALSE)","v":{"$error":"#REF!"}}]
["2025-07-06",1,"Avodah Zara 18",{"$f":"COUNT($A$2:A2011)","v":2010},6030,0.74142382884544444,0.71818517152342309,0.66064182958317963,0.62227960162301732,0.57801549243821471,0.57026927333087418,0.53817779417189227,"Avodah Zara ",{"$f":"VLOOKUP(Schedule!M2011,#REF!,2,FALSE)","v":{"$error":"#REF!"}}]
["2025-07-07",2,"Avodah Zara 19",{"$f":"COUNT($A$2:A2012)","v":2011},6033,0.74179269642198453,0.71855403909996307,0.66101069715971961,0.62264846919955741,0.57838436001475468,0.57063814090741427,0.53854666174843235,"Avodah Zara ",{"$f":"VLOOKUP(Schedule!M2012,#REF!,2,FALSE)","v":{"$error":"#REF!"}}]
["2025-07-08",3,"Avodah Zara 20",{"$f":"COUNT($A$2:A2013)","v":2012},6036,0.74216156399852451,0.71892290667650316,0.6613795647362597,0.62301733677609739,0.57875322759129477,0.57100700848395425,0.53891552932497233,"Avodah Zara ",{"$f":"VLOOKUP(Schedule!M2013,#REF!,2,FALSE)","v":{"$error":"#REF!"}}]
["2025-07-09",4,"Avodah Zara 21",{"$f":"COUNT($A$2:A2014)","v":2013},6039,0.7425304315750646,0.71929177425304314,{"$f":"(D2014-219)/2711","v":0.66174843231279967},0.62338620435263736,0.57912209516783475,0.57137587606049434,0.53928439690151231,"Avodah Zara ",{"$f":"VLOOKUP(Schedule!M2014,#REF!,2,FALSE)","v":{"$error":"#REF!"}}]
["2025-07-10",5,"Avodah Zara 22",{"$f":"COUNT($A$2:A2015)","v":2014},6042,0.74289929915160458,0.71966064182958323,0.66211729988933976,0.62375507192917745,0.57949096274437473,0.57174474363703431,0.5396532644780524,"Avodah Zara ",{"$f":"VLOOKUP(Schedule!M2015,#REF!,2,FALSE)","v":{"$error":"#REF!"}}]
["2025-07-11",6,"Avodah Zara 23",{"$f":"COUNT($A$2:A2016)","v":2015},6045,0.74326816672814455,0.7200295094061232,0.66248616746587974,0.62412393950571743,0.57985983032091482,0.57211361121357429,0.54002213205459237,"Avodah Zara ",{"$f":"VLOOKUP(Schedule!M2016,#REF!,2,FALSE)","v":{"$error":"#REF!"}}]
["2025-07-12",7,"Avodah Zara 24",{"$f":"COUNT($A$2:A2017)","v":2016},6048,0.74363703430468464,0.72039837698266318,0.66285503504241983,0.62449280708225752,0.58022869789745479,0.57248247879011438,0.54039099963113246,"Avodah Zara ",{"$f":"VLOOKUP(Schedule!M2017,#REF!,2,FALSE)","v":{"$error":"#REF!"}}]
["2025-07-13",1,"Avodah Zara 25",{"$f":"COUNT($A$2:A2018)","v":2017},6051,0.74400590188122462,0.72076724455920327,0.6632239026189598,0.62486167465879749,0.58059756547399488,0.57285134636665436,0.54075986720767244,"Avodah Zara ",{"$f":"VLOOKUP(Schedule!M2018,#REF!,2,FALSE)","v":{"$error":"#REF!"}}]
["2025-07-14",2,"Avodah Zara 26",{"$f":"COUNT($A$2:A2019)","v":2018},6054,0.74437476945776471,0.72113611213574325,0.66359277019549978,0.62523054223533747,0.58096643305053486,0.57322021394319445,0.54112873478421242,"Avodah Zara ",{"$f":"VLOOKUP(Schedule!M2019,#REF!,2,FALSE)","v":{"$error":"#REF!"}}]
["2025-07-15",3,"Avodah Zara 27",{"$f":"COUNT($A$2:A2020)","v":2019},6057,0.74474363703430468,0.72150497971228333,0.66396163777203987,0.62559940981187756,0.58133530062707484,0.57358908151973442,0.54149760236075251,"Avodah Zara ",{"$f":"VLOOKUP(Schedule!M2020,#REF!,2,FALSE)","v":{"$error":"#REF!"}}]
["2025-07-16",4,"Avodah Zara 28",{"$f":"COUNT($A$2:A2021)","v":2020},6060,0.74511250461084466,0.72187384728882331,0.66433050534857985,0.62596827738841754,0.58170416820361492,0.5739579490962744,0.54186646993729248,"Avodah Zara ",{"$f":"VLOOKUP(Schedule!M2021,#REF!,2,FALSE)","v":{"$error":"#REF!"}}]
["2025-07-17",5,"Avodah Zara 29",{"$f":"COUNT($A$2:A2022)","v":2021},6063,0.74548137218738475,0.72224271486536329,0.66469937292511994,0.62633714496495763,0.5820730357801549,0.57432681667281449,0.54223533751383257,"Avodah Zara ",{"$f":"VLOOKUP(Schedule!M2022,#REF!,2,FALSE)","v":{"$error":"#REF!"}}]
["2025-07-18",6,"Avodah Zara 30",{"$f":"COUNT($A$2:A2023)","v":2022},6066,0.74585023976392473,0.72261158244190338,0.66506824050165991,0.6267060125414976,0.58244190335669499,0.57469568424935447,0.54260420509037255,"Avodah Zara ",{"$f":"VLOOKUP(Schedule!M2023,#REF!,2,FALSE)","v":{"$error":"#REF!"}}]
["2025-07-19",7,"Avodah Zara 31",{"$f":"COUNT($A$2:A2024)","v":2023},6069,0.74621910734046482,0.72298045001844335,0.66543710807819989,0.62707488011803758,0.58281077093323497,0.57506455182589455,0.54297307266691253,"Avodah Zara ",{"$f":"VLOOKUP(Schedule!M2024,#REF!,2,FALSE)","v":{"$error":"#REF!"}}]
["2025-07-20",1,"Avodah Zara 32",{"$f":"COUNT($A$2:A2025)","v":2024},6072,0.74658797491700479,0.72334931759498344,0.66580597565473998,0.62744374769457767,0.58317963850977494,0.57543341940243453,0.54334194024345261,"Avodah Zara ",{"$f":"VLOOKUP(Schedule!M2025,#REF!,2,FALSE)","v":{"$error":"#REF!"}}]
["2025-07-21",2,"Avodah Zara 33",{"$f":"COUNT($A$2:A2026)","v":2025},6075,0.74695684249354477,0.72371818517152342,0.66617484323127996,0.62781261527111765,0.58354850608631503,0.57580228697897451,{"$f":"(D2026-551)/2711","v":0.54371080781999259},"Avodah Zara ",{"$f":"VLOOKUP(Schedule!M2026,#REF!,2,FALSE)","v":{"$error":"#REF!"}}]
["2025-07-22",3,"Avodah Zara 34",{"$f":"COUNT($A$2:A2027)","v":2026},6078,0.74732571007008486,0.7240870527480634,0.66654371080782004,0.62818148284765774,0.58391737366285501,0.5761711545555146,0.54407967539653268,"Avodah Zara ",{"$f":"VLOOKUP(Schedule!M2027,#REF!,2,FALSE)","v":{"$error":"#REF!"}}]
["2025-07-23",4,"Avodah Zara 35",{"$f":"COUNT($A$2:A2028)","v":2027},6081,0.74769457764662484,0.72445592032460349,0.66691257838436002,0.62855035042419771,0.5842862412393951,0.57654002213205457,0.54444854297307266,"Avodah Zara ",{"$f":"VLOOKUP(Schedule!M2028,#REF!,2,FALSE)","v":{"$error":"#REF!"}}]
["2025-07-24",5,"Avodah Zara 36",{"$f":"COUNT($A$2:A2029)","v":2028},6084,0.74806344522316492,0.72482478790114346,0.6672814459609,0.62891921800073769,0.58465510881593508,0.57690888970859466,0.54481741054961264,"Avodah Zara ",{"$f":"VLOOKUP(Schedule!M2029,#REF!,2,FALSE)","v":{"$error":"#REF!"}}]
["2025-07-25",6,"Avodah Zara 37",{"$f":"COUNT($A$2:A2030)","v":2029},6087,0.7484323127997049,0.72519365547768355,0.66765031353744009,0.62928808557727778,0.58502397639247505,0.57727775728513464,0.54518627812615272,"Avodah Zara ",{"$f":"VLOOKUP(Schedule!M2030,#REF!,2,FALSE)","v":{"$error":"#REF!"}}]
["2025-07-26",7,"Avodah Zara 38",{"$f":"COUNT($A$2:A2031)","v":2030},6090,0.74880118037624488,0.72556252305422353,0.66801918111398007,0.62965695315381776,0.58539284396901514,0.57764662486167462,0.5455551457026927,"Avodah Zara ",{"$f":"VLOOKUP(Schedule!M2031,#REF!,2,FALSE)","v":{"$error":"#REF!"}}]
["2025-07-27",1,"Avodah Zara 39",{"$f":"COUNT($A$2:A2032)","v":2031},6093,0.74917004795278497,0.72593139063076351,0.66838804869052015,0.63002582073035784,0.58576171154555512,0.57801549243821471,0.54592401327923279,"Avodah Zara ",{"$f":"VLOOKUP(Schedule!M2032,#REF!,2,FALSE)","v":{"$error":"#REF!"}}]
["2025-07-28",2,"Avodah Zara 40",{"$f":"COUNT($A$2:A2033)","v":2032},6096,0.74953891552932495,0.7263002582073036,0.66875691626706013,0.63039468830689782,0.58613057912209521,0.57838436001475468,0.54629288085577277,"Avodah Zara ",{"$f":"VLOOKUP(Schedule!M2033,#REF!,2,FALSE)","v":{"$error":"#REF!"}}]
["2025-07-29",3,"Avodah Zara 41",{"$f":"COUNT($A$2:A2034)","v":2033},6099,0.74990778310586503,0.72666912578384357,0.66912578384360011,0.6307635558834378,0.58649944669863519,0.57875322759129477,0.54666174843231286,"Avodah Zara ",{"$f":"VLOOKUP(Schedule!M2034,#REF!,2,FALSE)","v":{"$error":"#REF!"}}]
["2025-07-30",4,"Avodah Zara 42",{"$f":"COUNT($A$2:A2035)","v":2034},6102,0.75027665068240501,0.72703799336038366,0.6694946514201402,0.63113242345997789,0.58686831427517516,0.57912209516783475,0.54703061600885283,"Avodah Zara ",{"$f":"VLOOKUP(Schedule!M2035,#REF!,2,FALSE)","v":{"$error":"#REF!"}}]
["2025-07-31",5,"Avodah Zara 43",{"$f":"COUNT($A$2:A2036)","v":2035},6105,0.75064551825894499,0.72740686093692364,0.66986351899668017,0.63150129103651786,0.58723718185171525,0.57949096274437473,0.54739948358539281,"Avodah Zara ",{"$f":"VLOOKUP(Schedule!M2036,#REF!,2,FALSE)","v":{"$error":"#REF!"}}]
["2025-08-01",6,"Avodah Zara 44",{"$f":"COUNT($A$2:A2037)","v":2036},6108,0.75101438583548508,0.72777572851346362,0.67023238657322026,0.63187015861305795,0.58760604942825523,0.57985983032091482,0.5477683511619329,"Avodah Zara ",{"$f":"VLOOKUP(Schedule!M2037,#REF!,2,FALSE)","v":{"$error":"#REF!"}}]
["2025-08-02",7,"Avodah Zara 45",{"$f":"COUNT($A$2:A2038)","v":2037},6111,0.75138325341202505,0.7281445960900037,0.67060125414976024,0.63223902618959793,0.58797491700479532,0.58022869789745479,0.54813721873847288,"Avodah Zara ",{"$f":"VLOOKUP(Schedule!M2038,#REF!,2,FALSE)","v":{"$error":"#REF!"}}]
["2025-08-03",1,"Avodah Zara 46",{"$f":"COUNT($A$2:A2039)","v":2038},6114,0.75175212098856514,0.72851346366654368,0.67097012172630022,0.63260789376613791,0.58834378458133529,0.58059756547399488,0.54850608631501296,"Avodah Zara ",{"$f":"VLOOKUP(Schedule!M2039,#REF!,2,FALSE)","v":{"$error":"#REF!"}}]
["2025-08-04",2,"Avodah Zara 47",{"$f":"COUNT($A$2:A2040)","v":2039},6117,0.75212098856510512,0.72888233124308377,0.67133898930284031,0.632976761342678,0.58871265215787527,0.58096643305053486,0.54887495389155294,"Avodah Zara ",{"$f":"VLOOKUP(Schedule!M2040,#REF!,2,FALSE)","v":{"$error":"#REF!"}}]
["2025-08-05",3,"Avodah Zara 48",{"$f":"COUNT($A$2:A2041)","v":2040},6120,0.7524898561416451,0.72925119881962375,0.67170785687938028,0.63334562891921797,0.58908151973441536,0.58133530062707484,0.54924382146809292,"Avodah Zara ",{"$f":"VLOOKUP(Schedule!M2041,#REF!,2,FALSE)","v":{"$error":"#REF!"}}]
["2025-08-06",4,"Avodah Zara 49",{"$f":"COUNT($A$2:A2042)","v":2041},6123,0.75285872371818519,0.72962006639616372,0.67207672445592037,0.63371449649575806,0.58945038731095534,0.58170416820361492,0.54961268904463301,"Avodah Zara ",{"$f":"VLOOKUP(Schedule!M2042,#REF!,2,FALSE)","v":{"$error":"#REF!"}}]
["2025-08-07",5,"Avodah Zara 50",{"$f":"COUNT($A$2:A2043)","v":2042},6126,0.75322759129472516,0.72998893397270381,0.67244559203246035,0.63408336407229804,0.58981925488749543,0.5820730357801549,0.54998155662117298,"Avodah Zara ",{"$f":"VLOOKUP(Schedule!M2043,#REF!,2,FALSE)","v":{"$error":"#REF!"}}]
["2025-08-08",6,"Avodah Zara 51",{"$f":"COUNT($A$2:A2044)","v":2043},6129,0.75359645887126525,0.73035780154924379,0.67281445960900033,0.63445223164883802,0.5901881224640354,0.58244190335669499,0.55035042419771307,"Avodah Zara ",{"$f":"VLOOKUP(Schedule!M2044,#REF!,2,FALSE)","v":{"$error":"#REF!"}}]
["2025-08-09",7,"Avodah Zara 52",{"$f":"COUNT($A$2:A2045)","v":2044},6132,0.75396532644780523,0.73072666912578388,0.67318332718554041,0.6348210992253781,0.59055699004057538,0.58281077093323497,0.55071929177425305,"Avodah Zara ",{"$f":"VLOOKUP(Schedule!M2045,#REF!,2,FALSE)","v":{"$error":"#REF!"}}]
["2025-08-10",1,"Avodah Zara 53",{"$f":"COUNT($A$2:A2046)","v":2045},6135,0.75433419402434521,0.73109553670232386,0.67355219476208039,0.63518996680191808,{"$f":"(D2046-443)/2711","v":0.59092585761711547},0.58317963850977494,0.55108815935079303,"Avodah Zara ",{"$f":"VLOOKUP(Schedule!M2046,#REF!,2,FALSE)","v":{"$error":"#REF!"}}]
["2025-08-11",2,"Avodah Zara 54",{"$f":"COUNT($A$2:A2047)","v":2046},6138,0.75470306160088529,0.73146440427886383,0.67392106233862048,0.63555883437845817,0.59129472519365545,0.58354850608631503,0.55145702692733312,"Avodah Zara ",{"$f":"VLOOKUP(Schedule!M2047,#REF!,2,FALSE)","v":{"$error":"#REF!"}}]
["2025-08-12",3,"Avodah Zara 55",{"$f":"COUNT($A$2:A2048)","v":2047},6141,0.75507192917742527,0.73183327185540392,0.67428992991516046,0.63592770195499815,0.59166359277019553,0.58391737366285501,0.55182589450387309,"Avodah Zara ",{"$f":"VLOOKUP(Schedule!M2048,#REF!,2,FALSE)","v":{"$error":"#REF!"}}]
["2025-08-13",4,"Avodah Zara 56",{"$f":"COUNT($A$2:A2049)","v":2048},6144,0.75544079675396536,0.7322021394319439,0.67465879749170043,0.63629656953153813,0.59203246034673551,0.5842862412393951,0.55219476208041318,"Avodah Zara ",{"$f":"VLOOKUP(Schedule!M2049,#REF!,2,FALSE)","v":{"$error":"#REF!"}}]
["2025-08-14",5,"Avodah Zara 57",{"$f":"COUNT($A$2:A2050)","v":2049},{"$f":"D2050*3","v":6147},0.75580966433050534,{"$f":"(D2050-63)/2711","v":0.73257100700848399},0.67502766506824052,0.63666543710807821,0.59240132792327549,0.58465510881593508,0.55256362965695316,"Avodah Zara ",{"$f":"VLOOKUP(Schedule!M2050,#REF!,2,FALSE)","v":{"$error":"#REF!"}}]
["2025-08-15",{"$f":"WEEKDAY(A2051)","v":6},"Avodah Zara 58",{"$f":"COUNT($A$2:A2051)","v":2050},6150,{"$f":"D2051/2711","v":0.75617853190704543},0.73293987458502396,0.6753965326447805,0.63703430468461819,0.59277019549981558,0.58502397639247505,0.55293249723349314,{"$f":"LEFT(C2051,FIND(\"☃\",SUBSTITUTE(C2051,\" \",\"☃\",LEN(C2051)-LEN(SUBSTITUTE(C2051,\" \",\"\")))))","v":"Avodah Zara "},{"$f":"VLOOKUP(Schedule!M2051,#REF!,2,FALSE)","v":{"$error":"#REF!"}}]
["2025-08-16",7,"Avodah Zara 59",{"$f":"COUNT($A$2:A2052)","v":2051},6153,0.7565473994835854,0.73330874216156405,0.67576540022132059,0.63740317226115828,0.59313906307635555,0.58539284396901514,0.55330136481003322,"Avodah Zara ",{"$f":"VLOOKUP(Schedule!M2052,#REF!,2,FALSE)","v":{"$error":"#REF!"}}]
["2025-08-17",1,"Avodah Zara 60",{"$f":"COUNT($A$2:A2053)","v":2052},6156,0.75691626706012538,0.73367760973810403,0.67613426779786057,0.63777203983769826,0.59350793065289564,0.58576171154555512,0.5536702323865732,"Avodah Zara ",{"$f":"VLOOKUP(Schedule!M2053,#REF!,2,FALSE)","v":{"$error":"#REF!"}}]
["2025-08-18",2,"Avodah Zara 61",{"$f":"COUNT($A$2:A2054)","v":2053},6159,0.75728513463666547,0.73404647731464401,0.67650313537440054,{"$f":"(D2054-323)/2711","v":0.63814090741423823},0.59387679822943562,0.58613057912209521,0.55403909996311329,"Avodah Zara ",{"$f":"VLOOKUP(Schedule!M2054,#REF!,2,FALSE)","v":{"$error":"#REF!"}}]
["2025-08-19",3,"Avodah Zara 62",{"$f":"COUNT($A$2:A2055)","v":2054},6162,0.75765400221320545,0.7344153448911841,0.67687200295094063,0.63850977499077832,0.59424566580597571,0.58649944669863519,0.55440796753965327,"Avodah Zara ",{"$f":"VLOOKUP(Schedule!M2055,#REF!,2,FALSE)","v":{"$error":"#REF!"}}]
["2025-08-20",4,"Avodah Zara 63",{"$f":"COUNT($A$2:A2056)","v":2055},6165,0.75802286978974553,0.73478421246772407,0.67724087052748061,0.6388786425673183,0.59461453338251569,0.58686831427517516,0.55477683511619325,"Avodah Zara ",{"$f":"VLOOKUP(Schedule!M2056,#REF!,2,FALSE)","v":{"$error":"#REF!"}}]
["2025-08-21",5,"Avodah Zara 64",{"$f":"COUNT($A$2:A2057)","v":2056},6168,0.75839173736628551,0.73515308004426416,0.6776097381040207,0.63924751014385839,0.59498340095905566,0.58723718185171525,0.55514570269273333,"Avodah Zara ",{"$f":"VLOOKUP(Schedule!M2057,#REF!,2,FALSE)","v":{"$error":"#REF!"}}]
["2025-08-22",6,"Avodah Zara 65",{"$f":"COUNT($A$2:A2058)","v":2057},6171,0.75876060494282549,0.73552194762080414,0.67797860568056068,0.63961637772039837,0.59535226853559575,0.58760604942825523,0.55551457026927331,"Avodah Zara ",{"$f":"VLOOKUP(Schedule!M2058,#REF!,2,FALSE)","v":{"$error":"#REF!"}}]
["2025-08-23",7,"Avodah Zara 66",{"$f":"COUNT($A$2:A2059)","v":2058},6174,0.75912947251936558,0.73589081519734412,0.67834747325710065,0.63998524529693845,0.59572113611213573,0.58797491700479532,0.5558834378458134,"Avodah Zara ",{"$f":"VLOOKUP(Schedule!M2059,#REF!,2,FALSE)","v":{"$error":"#REF!"}}]
["2025-08-24",1,"Avodah Zara 67",{"$f":"COUNT($A$2:A2060)","v":2059},6177,0.75949834009590556,0.73625968277388421,0.67871634083364074,0.64035411287347843,0.59609000368867582,0.58834378458133529,0.55625230542235338,"Avodah Zara ",{"$f":"VLOOKUP(Schedule!M2060,#REF!,2,FALSE)","v":{"$error":"#REF!"}}]
["2025-08-25",2,"Avodah Zara 68",{"$f":"COUNT($A$2:A2061)","v":2060},6180,0.75986720767244564,0.73662855035042418,0.67908520841018072,0.64072298045001841,0.5964588712652158,0.58871265215787527,0.55662117299889335,"Avodah Zara ",{"$f":"VLOOKUP(Schedule!M2061,#REF!,2,FALSE)","v":{"$error":"#REF!"}}]
["2025-08-26",3,"Avodah Zara 69",{"$f":"COUNT($A$2:A2062)","v":2061},6183,0.76023607524898562,0.73699741792696427,0.67945407598672081,0.6410918480265585,0.59682773884175577,0.58908151973441536,0.55699004057543344,"Avodah Zara ",{"$f":"VLOOKUP(Schedule!M2062,#REF!,2,FALSE)","v":{"$error":"#REF!"}}]
["2025-08-27",4,"Avodah Zara 70",{"$f":"COUNT($A$2:A2063)","v":2062},6186,0.7606049428255256,0.73736628550350425,0.67982294356326078,0.64146071560309847,0.59719660641829586,0.58945038731095534,0.55735890815197342,"Avodah Zara ",{"$f":"VLOOKUP(Schedule!M2063,#REF!,2,FALSE)","v":{"$error":"#REF!"}}]
["2025-08-28",5,"Avodah Zara 71",{"$f":"COUNT($A$2:A2064)","v":2063},6189,0.76097381040206569,0.73773515308004423,0.68019181113980076,0.64182958317963856,0.59756547399483584,0.58981925488749543,0.55772777572851351,"Avodah Zara ",{"$f":"VLOOKUP(Schedule!M2064,#REF!,2,FALSE)","v":{"$error":"#REF!"}}]
["2025-08-29",6,"Avodah Zara 72",{"$f":"COUNT($A$2:A2065)","v":2064},6192,0.76134267797860566,0.73810402065658431,0.68056067871634085,0.64219845075617854,0.59793434157137593,0.5901881224640354,0.55809664330505349,"Avodah Zara ",{"$f":"VLOOKUP(Schedule!M2065,#REF!,2,FALSE)","v":{"$error":"#REF!"}}]
["2025-08-30",7,"Avodah Zara 73",{"$f":"COUNT($A$2:A2066)","v":2065},6195,0.76171154555514575,0.73847288823312429,0.68092954629288083,0.64256731833271852,0.5983032091479159,{"$f":"(D2066-464)/2711","v":0.59055699004057538},0.55846551088159346,"Avodah Zara ",{"$f":"VLOOKUP(Schedule!M2066,#REF!,2,FALSE)","v":{"$error":"#REF!"}}]
["2025-08-31",1,"Avodah Zara 74",{"$f":"COUNT($A$2:A2067)","v":2066},6198,0.76208041313168573,0.73884175580966438,0.68129841386942092,0.64293618590925861,0.59867207672445588,0.59092585761711547,0.55883437845813355,"Avodah Zara ",{"$f":"VLOOKUP(Schedule!M2067,#REF!,2,FALSE)","v":{"$error":"#REF!"}}]
["2025-09-01",2,"Avodah Zara 75",{"$f":"COUNT($A$2:A2068)","v":2067},6201,0.76244928070822571,0.73921062338620436,0.68166728144596089,0.64330505348579858,0.59904094430099597,0.59129472519365545,0.55920324603467353,"Avodah Zara ",{"$f":"VLOOKUP(Schedule!M2068,#REF!,2,FALSE)","v":{"$error":"#REF!"}}]
["2025-09-02",3,"Avodah Zara 76",{"$f":"COUNT($A$2:A2069)","v":2068},6204,0.7628181482847658,0.73957949096274433,0.68203614902250087,0.64367392106233867,0.59940981187753595,0.59166359277019553,0.55957211361121362,"Avodah Zara ",{"$f":"VLOOKUP(Schedule!M2069,#REF!,2,FALSE)","v":{"$error":"#REF!"}}]
["2025-09-03",4,"Horayos 2",{"$f":"COUNT($A$2:A2070)","v":2069},6207,0.76318701586130577,0.73994835853928442,0.68240501659904096,0.64404278863887865,0.59977867945407604,0.59203246034673551,0.55994098118775359,"Horayos ",{"$f":"VLOOKUP(Schedule!M2070,#REF!,2,FALSE)","v":{"$error":"#REF!"}}]
["2025-09-04",5,"Horayos 3",{"$f":"COUNT($A$2:A2071)","v":2070},6210,0.76355588343784586,0.7403172261158244,0.68277388417558094,0.64441165621541863,0.60014754703061601,0.59240132792327549,0.56030984876429357,"Horayos ",{"$f":"VLOOKUP(Schedule!M2071,#REF!,2,FALSE)","v":{"$error":"#REF!"}}]
["2025-09-05",6,"Horayos 4",{"$f":"COUNT($A$2:A2072)","v":2071},6213,0.76392475101438584,0.74068609369236449,0.68314275175212102,0.64478052379195872,0.60051641460715599,0.59277019549981558,0.56067871634083366,"Horayos ",{"$f":"VLOOKUP(Schedule!M2072,#REF!,2,FALSE)","v":{"$error":"#REF!"}}]
["2025-09-06",7,"Horayos 5",{"$f":"COUNT($A$2:A2073)","v":2072},6216,0.76429361859092582,0.74105496126890447,0.683511619328661,0.64514939136849869,0.60088528218369608,0.59313906307635555,0.56104758391737364,"Horayos ",{"$f":"VLOOKUP(Schedule!M2073,#REF!,2,FALSE)","v":{"$error":"#REF!"}}]
["2025-09-07",1,"Horayos 6",{"$f":"COUNT($A$2:A2074)","v":2073},6219,0.7646624861674659,0.74142382884544444,0.68388048690520098,0.64551825894503878,0.60125414976023606,0.59350793065289564,0.56141645149391373,"Horayos ",{"$f":"VLOOKUP(Schedule!M2074,#REF!,2,FALSE)","v":{"$error":"#REF!"}}]
["2025-09-08",2,"Horayos 7",{"$f":"COUNT($A$2:A2075)","v":2074},6222,0.76503135374400588,0.74179269642198453,0.68424935448174107,0.64588712652157876,0.60162301733677614,0.59387679822943562,0.5617853190704537,"Horayos ",{"$f":"VLOOKUP(Schedule!M2075,#REF!,2,FALSE)","v":{"$error":"#REF!"}}]
["2025-09-09",3,"Horayos 8",{"$f":"COUNT($A$2:A2076)","v":2075},6225,0.76540022132054597,0.74216156399852451,0.68461822205828105,0.64625599409811874,0.60199188491331612,0.59424566580597571,0.56215418664699368,"Horayos ",{"$f":"VLOOKUP(Schedule!M2076,#REF!,2,FALSE)","v":{"$error":"#REF!"}}]
["2025-09-10",4,"Horayos 9",{"$f":"COUNT($A$2:A2077)","v":2076},6228,0.76576908889708595,0.7425304315750646,0.68498708963482113,0.64662486167465882,0.6023607524898561,0.59461453338251569,0.56252305422353377,"Horayos ",{"$f":"VLOOKUP(Schedule!M2077,#REF!,2,FALSE)","v":{"$error":"#REF!"}}]
["2025-09-11",5,"Horayos 10",{"$f":"COUNT($A$2:A2078)","v":2077},6231,0.76613795647362593,0.74289929915160458,{"$f":"(D2078-219)/2711","v":0.68535595721136111},0.6469937292511988,0.60272962006639619,0.59498340095905566,0.56289192180007375,"Horayos ",{"$f":"VLOOKUP(Schedule!M2078,#REF!,2,FALSE)","v":{"$error":"#REF!"}}]
["2025-09-12",6,"Horayos 11",{"$f":"COUNT($A$2:A2079)","v":2078},6234,0.76650682405016601,0.74326816672814455,0.68572482478790109,0.64736259682773889,0.60309848764293617,0.59535226853559575,0.56326078937661384,"Horayos ",{"$f":"VLOOKUP(Schedule!M2079,#REF!,2,FALSE)","v":{"$error":"#REF!"}}]
["2025-09-13",7,"Horayos 12",{"$f":"COUNT($A$2:A2080)","v":2079},6237,0.76687569162670599,0.74363703430468464,0.68609369236444118,0.64773146440427887,0.60346735521947625,0.59572113611213573,0.56362965695315381,"Horayos ",{"$f":"VLOOKUP(Schedule!M2080,#REF!,2,FALSE)","v":{"$error":"#REF!"}}]
["2025-09-14",1,"Horayos 13",{"$f":"COUNT($A$2:A2081)","v":2080},6240,0.76724455920324608,0.74400590188122462,0.68646255994098115,0.64810033198081884,0.60383622279601623,0.59609000368867582,0.56399852452969379,"Horayos ",{"$f":"VLOOKUP(Schedule!M2081,#REF!,2,FALSE)","v":{"$error":"#REF!"}}]
["2025-09-15",2,"Horayos 14",{"$f":"COUNT($A$2:A2082)","v":2081},6243,0.76761342677978606,0.74437476945776471,0.68683142751752124,0.64846919955735893,0.60420509037255621,0.5964588712652158,0.56436739210623388,"Horayos ",{"$f":"VLOOKUP(Schedule!M2082,#REF!,2,FALSE)","v":{"$error":"#REF!"}}]
["2025-09-16",3,"Zevachim 2",{"$f":"COUNT($A$2:A2083)","v":2082},6246,0.76798229435632603,0.74474363703430468,0.68720029509406122,0.64883806713389891,0.6045739579490963,0.59682773884175577,0.56473625968277386,"Zevachim ",{"$f":"VLOOKUP(Schedule!M2083,#REF!,2,FALSE)","v":{"$error":"#REF!"}}]
["2025-09-17",4,"Zevachim 3",{"$f":"COUNT($A$2:A2084)","v":2083},6249,0.76835116193286612,0.74511250461084466,0.68756916267060131,0.649206934710439,0.60494282552563627,0.59719660641829586,0.56510512725931394,"Zevachim ",{"$f":"VLOOKUP(Schedule!M2084,#REF!,2,FALSE)","v":{"$error":"#REF!"}}]
["2025-09-18",5,"Zevachim 4",{"$f":"COUNT($A$2:A2085)","v":2084},6252,0.7687200295094061,0.74548137218738475,0.68793803024714129,0.64957580228697898,0.60531169310217636,0.59756547399483584,0.56547399483585392,"Zevachim ",{"$f":"VLOOKUP(Schedule!M2085,#REF!,2,FALSE)","v":{"$error":"#REF!"}}]
["2025-09-19",6,"Zevachim 5",{"$f":"COUNT($A$2:A2086)","v":2085},6255,0.76908889708594619,0.74585023976392473,0.68830689782368126,0.64994466986351895,0.60568056067871634,0.59793434157137593,0.5658428624123939,"Zevachim ",{"$f":"VLOOKUP(Schedule!M2086,#REF!,2,FALSE)","v":{"$error":"#REF!"}}]
["2025-09-20",7,"Zevachim 6",{"$f":"COUNT($A$2:A2087)","v":2086},6258,0.76945776466248617,0.74621910734046482,0.68867576540022135,0.65031353744005904,0.60604942825525632,0.5983032091479159,0.56621172998893399,"Zevachim ",{"$f":"VLOOKUP(Schedule!M2087,#REF!,2,FALSE)","v":{"$error":"#REF!"}}]
["2025-09-21",1,"Zevachim 7",{"$f":"COUNT($A$2:A2088)","v":2087},6261,0.76982663223902614,0.74658797491700479,0.68904463297676133,0.65068240501659902,0.60641829583179641,0.59867207672445588,0.56658059756547396,"Zevachim ",{"$f":"VLOOKUP(Schedule!M2088,#REF!,2,FALSE)","v":{"$error":"#REF!"}}]
["2025-09-22",2,"Zevachim 8",{"$f":"COUNT($A$2:A2089)","v":2088},6264,0.77019549981556623,0.74695684249354477,0.68941350055330142,0.65105127259313911,0.60678716340833638,0.59904094430099597,0.56694946514201405,"Zevachim ",{"$f":"VLOOKUP(Schedule!M2089,#REF!,2,FALSE)","v":{"$error":"#REF!"}}]
["2025-09-23",3,"Zevachim 9",{"$f":"COUNT($A$2:A2090)","v":2089},6267,0.77056436739210621,0.74732571007008486,0.68978236812984139,0.65142014016967908,0.60715603098487647,0.59940981187753595,{"$f":"(D2090-551)/2711","v":0.56731833271855403},"Zevachim ",{"$f":"VLOOKUP(Schedule!M2090,#REF!,2,FALSE)","v":{"$error":"#REF!"}}]
["2025-09-24",4,"Zevachim 10",{"$f":"COUNT($A$2:A2091)","v":2090},6270,0.7709332349686463,0.74769457764662484,0.69015123570638137,0.65178900774621906,0.60752489856141645,0.59977867945407604,0.56768720029509401,"Zevachim ",{"$f":"VLOOKUP(Schedule!M2091,#REF!,2,FALSE)","v":{"$error":"#REF!"}}]
["2025-09-25",5,"Zevachim 11",{"$f":"COUNT($A$2:A2092)","v":2091},6273,0.77130210254518627,0.74806344522316492,0.69052010328292146,0.65215787532275915,0.60789376613795643,0.60014754703061601,0.5680560678716341,"Zevachim ",{"$f":"VLOOKUP(Schedule!M2092,#REF!,2,FALSE)","v":{"$error":"#REF!"}}]
["2025-09-26",6,"Zevachim 12",{"$f":"COUNT($A$2:A2093)","v":2092},6276,0.77167097012172625,0.7484323127997049,0.69088897085946144,0.65252674289929913,0.60826263371449651,0.60051641460715599,0.56842493544817407,"Zevachim ",{"$f":"VLOOKUP(Schedule!M2093,#REF!,2,FALSE)","v":{"$error":"#REF!"}}]
["2025-09-27",7,"Zevachim 13",{"$f":"COUNT($A$2:A2094)","v":2093},6279,0.77203983769826634,0.74880118037624488,0.69125783843600153,0.65289561047583922,0.60863150129103649,0.60088528218369608,0.56879380302471416,"Zevachim ",{"$f":"VLOOKUP(Schedule!M2094,#REF!,2,FALSE)","v":{"$error":"#REF!"}}]
["2025-09-28",1,"Zevachim 14",{"$f":"COUNT($A$2:A2095)","v":2094},6282,0.77240870527480632,0.74917004795278497,0.6916267060125415,0.65326447805237919,0.60900036886757658,0.60125414976023606,0.56916267060125414,"Zevachim ",{"$f":"VLOOKUP(Schedule!M2095,#REF!,2,FALSE)","v":{"$error":"#REF!"}}]
["2025-09-29",2,"Zevachim 15",{"$f":"COUNT($A$2:A2096)","v":2095},6285,0.77277757285134641,0.74953891552932495,0.69199557358908148,0.65363334562891917,0.60936923644411656,0.60162301733677614,0.56953153817779412,"Zevachim ",{"$f":"VLOOKUP(Schedule!M2096,#REF!,2,FALSE)","v":{"$error":"#REF!"}}]
["2025-09-30",3,"Zevachim 16",{"$f":"COUNT($A$2:A2097)","v":2096},6288,0.77314644042788638,0.74990778310586503,0.69236444116562157,0.65400221320545926,0.60973810402065654,0.60199188491331612,0.5699004057543342,"Zevachim ",{"$f":"VLOOKUP(Schedule!M2097,#REF!,2,FALSE)","v":{"$error":"#REF!"}}]
["2025-10-01",4,"Zevachim 17",{"$f":"COUNT($A$2:A2098)","v":2097},6291,0.77351530800442636,0.75027665068240501,0.69273330874216155,0.65437108078199924,0.61010697159719662,0.6023607524898561,0.57026927333087418,"Zevachim ",{"$f":"VLOOKUP(Schedule!M2098,#REF!,2,FALSE)","v":{"$error":"#REF!"}}]
["2025-10-02",5,"Zevachim 18",{"$f":"COUNT($A$2:A2099)","v":2098},6294,0.77388417558096645,0.75064551825894499,0.69310217631870163,0.65473994835853933,0.6104758391737366,0.60272962006639619,0.57063814090741427,"Zevachim ",{"$f":"VLOOKUP(Schedule!M2099,#REF!,2,FALSE)","v":{"$error":"#REF!"}}]
["2025-10-03",6,"Zevachim 19",{"$f":"COUNT($A$2:A2100)","v":2099},6297,0.77425304315750643,0.75101438583548508,0.69347104389524161,0.6551088159350793,0.61084470675027669,0.60309848764293617,0.57100700848395425,"Zevachim ",{"$f":"VLOOKUP(Schedule!M2100,#REF!,2,FALSE)","v":{"$error":"#REF!"}}]
["2025-10-04",7,"Zevachim 20",{"$f":"COUNT($A$2:A2101)","v":2100},6300,0.77462191073404651,0.75138325341202505,0.69383991147178159,0.65547768351161928,0.61121357432681667,0.60346735521947625,0.57137587606049434,"Zevachim ",{"$f":"VLOOKUP(Schedule!M2101,#REF!,2,FALSE)","v":{"$error":"#REF!"}}]
["2025-10-05",1,"Zevachim 21",{"$f":"COUNT($A$2:A2102)","v":2101},6303,0.77499077831058649,0.75175212098856514,0.69420877904832168,0.65584655108815937,0.61158244190335664,0.60383622279601623,0.57174474363703431,"Zevachim ",{"$f":"VLOOKUP(Schedule!M2102,#REF!,2,FALSE)","v":{"$error":"#REF!"}}]
["2025-10-06",2,"Zevachim 22",{"$f":"COUNT($A$2:A2103)","v":2102},6306,0.77535964588712647,0.75212098856510512,0.69457764662486166,0.65621541866469935,0.61195130947989673,0.60420509037255621,0.57211361121357429,"Zevachim ",{"$f":"VLOOKUP(Schedule!M2103,#REF!,2,FALSE)","v":{"$error":"#REF!"}}]
["2025-10-07",3,"Zevachim 23",{"$f":"COUNT($A$2:A2104)","v":2103},6309,0.77572851346366656,0.7524898561416451,0.69494651420140174,0.65658428624123943,0.61232017705643671,0.6045739579490963,0.57248247879011438,"Zevachim ",{"$f":"VLOOKUP(Schedule!M2104,#REF!,2,FALSE)","v":{"$error":"#REF!"}}]
["2025-10-08",4,"Zevachim 24",{"$f":"COUNT($A$2:A2105)","v":2104},6312,0.77609738104020654,0.75285872371818519,0.69531538177794172,0.65695315381777941,0.6126890446329768,0.60494282552563627,0.57285134636665436,"Zevachim ",{"$f":"VLOOKUP(Schedule!M2105,#REF!,2,FALSE)","v":{"$error":"#REF!"}}]
["2025-10-09",5,"Zevachim 25",{"$f":"COUNT($A$2:A2106)","v":2105},6315,0.77646624861674662,0.75322759129472516,0.6956842493544817,0.65732202139431939,0.61305791220951678,0.60531169310217636,0.57322021394319445,"Zevachim ",{"$f":"VLOOKUP(Schedule!M2106,#REF!,2,FALSE)","v":{"$error":"#REF!"}}]
["2025-10-10",6,"Zevachim 26",{"$f":"COUNT($A$2:A2107)","v":2106},6318,0.7768351161932866,0.75359645887126525,0.69605311693102179,0.65769088897085948,0.61342677978605675,0.60568056067871634,0.57358908151973442,"Zevachim ",{"$f":"VLOOKUP(Schedule!M2107,#REF!,2,FALSE)","v":{"$error":"#REF!"}}]
["2025-10-11",7,"Zevachim 27",{"$f":"COUNT($A$2:A2108)","v":2107},6321,0.77720398376982658,0.75396532644780523,0.69642198450756176,0.65805975654739945,0.61379564736259684,0.60604942825525632,0.5739579490962744,"Zevachim ",{"$f":"VLOOKUP(Schedule!M2108,#REF!,2,FALSE)","v":{"$error":"#REF!"}}]
["2025-10-12",1,"Zevachim 28",{"$f":"COUNT($A$2:A2109)","v":2108},6324,0.77757285134636667,0.75433419402434521,0.69679085208410185,0.65842862412393954,0.61416451493913682,0.60641829583179641,0.57432681667281449,"Zevachim ",{"$f":"VLOOKUP(Schedule!M2109,#REF!,2,FALSE)","v":{"$error":"#REF!"}}]
["2025-10-13",2,"Zevachim 29",{"$f":"COUNT($A$2:A2110)","v":2109},6327,0.77794171892290664,0.75470306160088529,0.69715971966064183,0.65879749170047952,{"$f":"(D2110-443)/2711","v":0.61453338251567691},0.60678716340833638,0.57469568424935447,"Zevachim ",{"$f":"VLOOKUP(Schedule!M2110,#REF!,2,FALSE)","v":{"$error":"#REF!"}}]
["2025-10-14",3,"Zevachim 30",{"$f":"COUNT($A$2:A2111)","v":2110},6330,0.77831058649944673,0.75507192917742527,0.69752858723718181,0.6591663592770195,0.61490225009221688,0.60715603098487647,0.57506455182589455,"Zevachim ",{"$f":"VLOOKUP(Schedule!M2111,#REF!,2,FALSE)","v":{"$error":"#REF!"}}]
["2025-10-15",4,"Zevachim 31",{"$f":"COUNT($A$2:A2112)","v":2111},6333,0.77867945407598671,0.75544079675396536,0.6978974548137219,0.65953522685355959,0.61527111766875686,0.60752489856141645,0.57543341940243453,"Zevachim ",{"$f":"VLOOKUP(Schedule!M2112,#REF!,2,FALSE)","v":{"$error":"#REF!"}}]
["2025-10-16",5,"Zevachim 32",{"$f":"COUNT($A$2:A2113)","v":2112},6336,0.7790483216525268,0.75580966433050534,0.69826632239026187,0.65990409443009956,0.61563998524529695,0.60789376613795643,0.57580228697897451,"Zevachim ",{"$f":"VLOOKUP(Schedule!M2113,#REF!,2,FALSE)","v":{"$error":"#REF!"}}]
["2025-10-17",6,"Zevachim 33",{"$f":"COUNT($A$2:A2114)","v":2113},{"$f":"D2114*3","v":6339},0.77941718922906678,{"$f":"(D2114-63)/2711","v":0.75617853190704543},0.69863518996680196,0.66027296200663965,0.61600885282183693,0.60826263371449651,0.5761711545555146,"Zevachim ",{"$f":"VLOOKUP(Schedule!M2114,#REF!,2,FALSE)","v":{"$error":"#REF!"}}]
["2025-10-18",{"$f":"WEEKDAY(A2115)","v":7},"Zevachim 34",{"$f":"COUNT($A$2:A2115)","v":2114},6342,{"$f":"D2115/2711","v":0.77978605680560675},0.7565473994835854,0.69900405754334194,0.66064182958317963,0.61637772039837702,0.60863150129103649,0.57654002213205457,{"$f":"LEFT(C2115,FIND(\"☃\",SUBSTITUTE(C2115,\" \",\"☃\",LEN(C2115)-LEN(SUBSTITUTE(C2115,\" \",\"\")))))","v":"Zevachim "},{"$f":"VLOOKUP(Schedule!M2115,#REF!,2,FALSE)","v":{"$error":"#REF!"}}]
["2025-10-19",1,"Zevachim 35",{"$f":"COUNT($A$2:A2116)","v":2115},6345,0.78015492438214684,0.75691626706012538,0.69937292511988192,0.66101069715971961,0.61674658797491699,0.60900036886757658,0.57690888970859466,"Zevachim ",{"$f":"VLOOKUP(Schedule!M2116,#REF!,2,FALSE)","v":{"$error":"#REF!"}}]
["2025-10-20",2,"Zevachim 36",{"$f":"COUNT($A$2:A2117)","v":2116},6348,0.78052379195868682,0.75728513463666547,0.699741792696422,0.6613795647362597,0.61711545555145708,0.60936923644411656,0.57727775728513464,"Zevachim ",{"$f":"VLOOKUP(Schedule!M2117,#REF!,2,FALSE)","v":{"$error":"#REF!"}}]
["2025-10-21",3,"Zevachim 37",{"$f":"COUNT($A$2:A2118)","v":2117},6351,0.78089265953522691,0.75765400221320545,0.70011066027296198,{"$f":"(D2118-323)/2711","v":0.66174843231279967},0.61748432312799706,0.60973810402065654,0.57764662486167462,"Zevachim ",{"$f":"VLOOKUP(Schedule!M2118,#REF!,2,FALSE)","v":{"$error":"#REF!"}}]
["2025-10-22",4,"Zevachim 38",{"$f":"COUNT($A$2:A2119)","v":2118},6354,0.78126152711176688,0.75802286978974553,0.70047952784950207,0.66211729988933976,0.61785319070453704,0.61010697159719662,0.57801549243821471,"Zevachim ",{"$f":"VLOOKUP(Schedule!M2119,#REF!,2,FALSE)","v":{"$error":"#REF!"}}]
["2025-10-23",5,"Zevachim 39",{"$f":"COUNT($A$2:A2120)","v":2119},6357,0.78163039468830686,0.75839173736628551,0.70084839542604205,0.66248616746587974,0.61822205828107712,0.6104758391737366,0.57838436001475468,"Zevachim ",{"$f":"VLOOKUP(Schedule!M2120,#REF!,2,FALSE)","v":{"$error":"#REF!"}}]
["2025-10-24",6,"Zevachim 40",{"$f":"COUNT($A$2:A2121)","v":2120},6360,0.78199926226484695,0.75876060494282549,0.70121726300258203,0.66285503504241983,0.6185909258576171,0.61084470675027669,0.57875322759129477,"Zevachim ",{"$f":"VLOOKUP(Schedule!M2121,#REF!,2,FALSE)","v":{"$error":"#REF!"}}]
["2025-10-25",7,"Zevachim 41",{"$f":"COUNT($A$2:A2122)","v":2121},6363,0.78236812984138693,0.75912947251936558,0.70158613057912211,0.6632239026189598,0.61895979343415719,0.61121357432681667,0.57912209516783475,"Zevachim ",{"$f":"VLOOKUP(Schedule!M2122,#REF!,2,FALSE)","v":{"$error":"#REF!"}}]
["2025-10-26",1,"Zevachim 42",{"$f":"COUNT($A$2:A2123)","v":2122},6366,0.78273699741792702,0.75949834009590556,0.70195499815566209,0.66359277019549978,0.61932866101069717,0.61158244190335664,0.57949096274437473,"Zevachim ",{"$f":"VLOOKUP(Schedule!M2123,#REF!,2,FALSE)","v":{"$error":"#REF!"}}]
["2025-10-27",2,"Zevachim 43",{"$f":"COUNT($A$2:A2124)","v":2123},6369,0.78310586499446699,0.75986720767244564,0.70232386573220218,0.66396163777203987,0.61969752858723715,0.61195130947989673,0.57985983032091482,"Zevachim ",{"$f":"VLOOKUP(Schedule!M2124,#REF!,2,FALSE)","v":{"$error":"#REF!"}}]
["2025-10-28",3,"Zevachim 44",{"$f":"COUNT($A$2:A2125)","v":2124},6372,0.78347473257100697,0.76023607524898562,0.70269273330874216,0.66433050534857985,0.62006639616377723,0.61232017705643671,0.58022869789745479,"Zevachim ",{"$f":"VLOOKUP(Schedule!M2125,#REF!,2,FALSE)","v":{"$error":"#REF!"}}]
["2025-10-29",4,"Zevachim 45",{"$f":"COUNT($A$2:A2126)","v":2125},6375,0.78384360014754706,0.7606049428255256,0.70306160088528213,0.66469937292511994,0.62043526374031721,0.6126890446329768,0.58059756547399488,"Zevachim ",{"$f":"VLOOKUP(Schedule!M2126,#REF!,2,FALSE)","v":{"$error":"#REF!"}}]
["2025-10-30",5,"Zevachim 46",{"$f":"COUNT($A$2:A2127)","v":2126},6378,0.78421246772408704,0.76097381040206569,0.70343046846182222,0.66506824050165991,0.6208041313168573,0.61305791220951678,0.58096643305053486,"Zevachim ",{"$f":"VLOOKUP(Schedule!M2127,#REF!,2,FALSE)","v":{"$error":"#REF!"}}]
["2025-10-31",6,"Zevachim 47",{"$f":"COUNT($A$2:A2128)","v":2127},6381,0.78458133530062713,0.76134267797860566,0.7037993360383622,0.66543710807819989,0.62117299889339728,0.61342677978605675,0.58133530062707484,"Zevachim ",{"$f":"VLOOKUP(Schedule!M2128,#REF!,2,FALSE)","v":{"$error":"#REF!"}}]
["2025-11-01",7,"Zevachim 48",{"$f":"COUNT($A$2:A2129)","v":2128},6384,0.7849502028771671,0.76171154555514575,0.70416820361490229,0.66580597565473998,0.62154186646993725,0.61379564736259684,0.58170416820361492,"Zevachim ",{"$f":"VLOOKUP(Schedule!M2129,#REF!,2,FALSE)","v":{"$error":"#REF!"}}]
["2025-11-02",1,"Zevachim 49",{"$f":"COUNT($A$2:A2130)","v":2129},6387,0.78531907045370708,0.76208041313168573,0.70453707119144227,0.66617484323127996,0.62191073404647734,{"$f":"(D2130-464)/2711","v":0.61416451493913682},0.5820730357801549,"Zevachim ",{"$f":"VLOOKUP(Schedule!M2130,#REF!,2,FALSE)","v":{"$error":"#REF!"}}]
["2025-11-03",2,"Zevachim 50",{"$f":"COUNT($A$2:A2131)","v":2130},6390,0.78568793803024717,0.76244928070822571,0.70490593876798224,0.66654371080782004,0.62227960162301732,0.61453338251567691,0.58244190335669499,"Zevachim ",{"$f":"VLOOKUP(Schedule!M2131,#REF!,2,FALSE)","v":{"$error":"#REF!"}}]
["2025-11-04",3,"Zevachim 51",{"$f":"COUNT($A$2:A2132)","v":2131},6393,0.78605680560678715,0.7628181482847658,0.70527480634452233,0.66691257838436002,0.62264846919955741,0.61490225009221688,0.58281077093323497,"Zevachim ",{"$f":"VLOOKUP(Schedule!M2132,#REF!,2,FALSE)","v":{"$error":"#REF!"}}]
["2025-11-05",4,"Zevachim 52",{"$f":"COUNT($A$2:A2133)","v":2132},6396,0.78642567318332723,0.76318701586130577,0.70564367392106231,0.6672814459609,0.62301733677609739,0.61527111766875686,0.58317963850977494,"Zevachim ",{"$f":"VLOOKUP(Schedule!M2133,#REF!,2,FALSE)","v":{"$error":"#REF!"}}]
["2025-11-06",5,"Zevachim 53",{"$f":"COUNT($A$2:A2134)","v":2133},6399,0.78679454075986721,0.76355588343784586,0.7060125414976024,0.66765031353744009,0.62338620435263736,0.61563998524529695,0.58354850608631503,"Zevachim ",{"$f":"VLOOKUP(Schedule!M2134,#REF!,2,FALSE)","v":{"$error":"#REF!"}}]
["2025-11-07",6,"Zevachim 54",{"$f":"COUNT($A$2:A2135)","v":2134},6402,0.78716340833640719,0.76392475101438584,0.70638140907414237,0.66801918111398007,0.62375507192917745,0.61600885282183693,0.58391737366285501,"Zevachim ",{"$f":"VLOOKUP(Schedule!M2135,#REF!,2,FALSE)","v":{"$error":"#REF!"}}]
["2025-11-08",7,"Zevachim 55",{"$f":"COUNT($A$2:A2136)","v":2135},6405,0.78753227591294728,0.76429361859092582,0.70675027665068235,0.66838804869052015,0.62412393950571743,0.61637772039837702,0.5842862412393951,"Zevachim ",{"$f":"VLOOKUP(Schedule!M2136,#REF!,2,FALSE)","v":{"$error":"#REF!"}}]
["2025-11-09",1,"Zevachim 56",{"$f":"COUNT($A$2:A2137)","v":2136},6408,0.78790114348948725,0.7646624861674659,0.70711914422722244,0.66875691626706013,0.62449280708225752,0.61674658797491699,0.58465510881593508,"Zevachim ",{"$f":"VLOOKUP(Schedule!M2137,#REF!,2,FALSE)","v":{"$error":"#REF!"}}]
["2025-11-10",2,"Zevachim 57",{"$f":"COUNT($A$2:A2138)","v":2137},6411,0.78827001106602734,0.76503135374400588,0.70748801180376242,0.66912578384360011,0.62486167465879749,0.61711545555145708,0.58502397639247505,"Zevachim ",{"$f":"VLOOKUP(Schedule!M2138,#REF!,2,FALSE)","v":{"$error":"#REF!"}}]
["2025-11-11",3,"Zevachim 58",{"$f":"COUNT($A$2:A2139)","v":2138},6414,0.78863887864256732,0.76540022132054597,0.70785687938030251,0.6694946514201402,0.62523054223533747,0.61748432312799706,0.58539284396901514,"Zevachim ",{"$f":"VLOOKUP(Schedule!M2139,#REF!,2,FALSE)","v":{"$error":"#REF!"}}]
["2025-11-12",4,"Zevachim 59",{"$f":"COUNT($A$2:A2140)","v":2139},6417,0.7890077462191073,0.76576908889708595,0.70822574695684248,0.66986351899668017,0.62559940981187756,0.61785319070453704,0.58576171154555512,"Zevachim ",{"$f":"VLOOKUP(Schedule!M2140,#REF!,2,FALSE)","v":{"$error":"#REF!"}}]
["2025-11-13",5,"Zevachim 60",{"$f":"COUNT($A$2:A2141)","v":2140},6420,0.78937661379564739,0.76613795647362593,0.70859461453338246,0.67023238657322026,0.62596827738841754,0.61822205828107712,0.58613057912209521,"Zevachim ",{"$f":"VLOOKUP(Schedule!M2141,#REF!,2,FALSE)","v":{"$error":"#REF!"}}]
["2025-11-14",6,"Zevachim 61",{"$f":"COUNT($A$2:A2142)","v":2141},6423,0.78974548137218736,0.76650682405016601,{"$f":"(D2142-219)/2711","v":0.70896348210992255},0.67060125414976024,0.62633714496495763,0.6185909258576171,0.58649944669863519,"Zevachim ",{"$f":"VLOOKUP(Schedule!M2142,#REF!,2,FALSE)","v":{"$error":"#REF!"}}]
["2025-11-15",7,"Zevachim 62",{"$f":"COUNT($A$2:A2143)","v":2142},6426,0.79011434894872745,0.76687569162670599,0.70933234968646253,0.67097012172630022,0.6267060125414976,0.61895979343415719,0.58686831427517516,"Zevachim ",{"$f":"VLOOKUP(Schedule!M2143,#REF!,2,FALSE)","v":{"$error":"#REF!"}}]
["2025-11-16",1,"Zevachim 63",{"$f":"COUNT($A$2:A2144)","v":2143},6429,0.79048321652526743,0.76724455920324608,0.70970121726300261,0.67133898930284031,0.62707488011803758,0.61932866101069717,0.58723718185171525,"Zevachim ",{"$f":"VLOOKUP(Schedule!M2144,#REF!,2,FALSE)","v":{"$error":"#REF!"}}]
["2025-11-17",2,"Zevachim 64",{"$f":"COUNT($A$2:A2145)","v":2144},6432,0.79085208410180741,0.76761342677978606,0.71007008483954259,0.67170785687938028,0.62744374769457767,0.61969752858723715,0.58760604942825523,"Zevachim ",{"$f":"VLOOKUP(Schedule!M2145,#REF!,2,FALSE)","v":{"$error":"#REF!"}}]
["2025-11-18",3,"Zevachim 65",{"$f":"COUNT($A$2:A2146)","v":2145},6435,0.79122095167834749,0.76798229435632603,0.71043895241608268,0.67207672445592037,0.62781261527111765,0.62006639616377723,0.58797491700479532,"Zevachim ",{"$f":"VLOOKUP(Schedule!M2146,#REF!,2,FALSE)","v":{"$error":"#REF!"}}]
["2025-11-19",4,"Zevachim 66",{"$f":"COUNT($A$2:A2147)","v":2146},6438,0.79158981925488747,0.76835116193286612,0.71080781999262266,0.67244559203246035,0.62818148284765774,0.62043526374031721,0.58834378458133529,"Zevachim ",{"$f":"VLOOKUP(Schedule!M2147,#REF!,2,FALSE)","v":{"$error":"#REF!"}}]
["2025-11-20",5,"Zevachim 67",{"$f":"COUNT($A$2:A2148)","v":2147},6441,0.79195868683142756,0.7687200295094061,0.71117668756916264,0.67281445960900033,0.62855035042419771,0.6208041313168573,0.58871265215787527,"Zevachim ",{"$f":"VLOOKUP(Schedule!M2148,#REF!,2,FALSE)","v":{"$error":"#REF!"}}]
["2025-11-21",6,"Zevachim 68",{"$f":"COUNT($A$2:A2149)","v":2148},6444,0.79232755440796754,0.76908889708594619,0.71154555514570272,0.67318332718554041,0.62891921800073769,0.62117299889339728,0.58908151973441536,"Zevachim ",{"$f":"VLOOKUP(Schedule!M2149,#REF!,2,FALSE)","v":{"$error":"#REF!"}}]
["2025-11-22",7,"Zevachim 69",{"$f":"COUNT($A$2:A2150)","v":2149},6447,0.79269642198450752,0.76945776466248617,0.7119144227222427,0.67355219476208039,0.62928808557727778,0.62154186646993725,0.58945038731095534,"Zevachim ",{"$f":"VLOOKUP(Schedule!M2150,#REF!,2,FALSE)","v":{"$error":"#REF!"}}]
["2025-11-23",1,"Zevachim 70",{"$f":"COUNT($A$2:A2151)","v":2150},6450,0.7930652895610476,0.76982663223902614,0.71228329029878279,0.67392106233862048,0.62965695315381776,0.62191073404647734,0.58981925488749543,"Zevachim ",{"$f":"VLOOKUP(Schedule!M2151,#REF!,2,FALSE)","v":{"$error":"#REF!"}}]
["2025-11-24",2,"Zevachim 71",{"$f":"COUNT($A$2:A2152)","v":2151},6453,0.79343415713758758,0.77019549981556623,0.71265215787532277,0.67428992991516046,0.63002582073035784,0.62227960162301732,0.5901881224640354,"Zevachim ",{"$f":"VLOOKUP(Schedule!M2152,#REF!,2,FALSE)","v":{"$error":"#REF!"}}]
["2025-11-25",3,"Zevachim 72",{"$f":"COUNT($A$2:A2153)","v":2152},6456,0.79380302471412767,0.77056436739210621,0.71302102545186274,0.67465879749170043,0.63039468830689782,0.62264846919955741,0.59055699004057538,"Zevachim ",{"$f":"VLOOKUP(Schedule!M2153,#REF!,2,FALSE)","v":{"$error":"#REF!"}}]
["2025-11-26",4,"Zevachim 73",{"$f":"COUNT($A$2:A2154)","v":2153},6459,0.79417189229066765,0.7709332349686463,0.71338989302840283,0.67502766506824052,0.6307635558834378,0.62301733677609739,{"$f":"(D2154-551)/2711","v":0.59092585761711547},"Zevachim ",{"$f":"VLOOKUP(Schedule!M2154,#REF!,2,FALSE)","v":{"$error":"#REF!"}}]
["2025-11-27",5,"Zevachim 74",{"$f":"COUNT($A$2:A2155)","v":2154},6462,0.79454075986720762,0.77130210254518627,0.71375876060494281,0.6753965326447805,0.63113242345997789,0.62338620435263736,0.59129472519365545,"Zevachim ",{"$f":"VLOOKUP(Schedule!M2155,#REF!,2,FALSE)","v":{"$error":"#REF!"}}]
["2025-11-28",6,"Zevachim 75",{"$f":"COUNT($A$2:A2156)","v":2155},6465,0.79490962744374771,0.77167097012172625,0.7141276281814829,0.67576540022132059,0.63150129103651786,0.62375507192917745,0.59166359277019553,"Zevachim ",{"$f":"VLOOKUP(Schedule!M2156,#REF!,2,FALSE)","v":{"$error":"#REF!"}}]
["2025-11-29",7,"Zevachim 76",{"$f":"COUNT($A$2:A2157)","v":2156},6468,0.79527849502028769,0.77203983769826634,0.71449649575802288,0.67613426779786057,0.63187015861305795,0.62412393950571743,0.59203246034673551,"Zevachim ",{"$f":"VLOOKUP(Schedule!M2157,#REF!,2,FALSE)","v":{"$error":"#REF!"}}]
["2025-11-30",1,"Zevachim 77",{"$f":"COUNT($A$2:A2158)","v":2157},6471,0.79564736259682778,0.77240870527480632,0.71486536333456285,0.67650313537440054,0.63223902618959793,0.62449280708225752,0.59240132792327549,"Zevachim ",{"$f":"VLOOKUP(Schedule!M2158,#REF!,2,FALSE)","v":{"$error":"#REF!"}}]
["2025-12-01",2,"Zevachim 78",{"$f":"COUNT($A$2:A2159)","v":2158},6474,0.79601623017336776,0.77277757285134641,0.71523423091110294,0.67687200295094063,0.63260789376613791,0.62486167465879749,0.59277019549981558,"Zevachim ",{"$f":"VLOOKUP(Schedule!M2159,#REF!,2,FALSE)","v":{"$error":"#REF!"}}]
["2025-12-02",3,"Zevachim 79",{"$f":"COUNT($A$2:A2160)","v":2159},6477,0.79638509774990773,0.77314644042788638,0.71560309848764292,0.67724087052748061,0.632976761342678,0.62523054223533747,0.59313906307635555,"Zevachim ",{"$f":"VLOOKUP(Schedule!M2160,#REF!,2,FALSE)","v":{"$error":"#REF!"}}]
["2025-12-03",4,"Zevachim 80",{"$f":"COUNT($A$2:A2161)","v":2160},6480,0.79675396532644782,0.77351530800442636,0.71597196606418301,0.6776097381040207,0.63334562891921797,0.62559940981187756,0.59350793065289564,"Zevachim ",{"$f":"VLOOKUP(Schedule!M2161,#REF!,2,FALSE)","v":{"$error":"#REF!"}}]
["2025-12-04",5,"Zevachim 81",{"$f":"COUNT($A$2:A2162)","v":2161},6483,0.7971228329029878,0.77388417558096645,0.71634083364072298,0.67797860568056068,0.63371449649575806,0.62596827738841754,0.59387679822943562,"Zevachim ",{"$f":"VLOOKUP(Schedule!M2162,#REF!,2,FALSE)","v":{"$error":"#REF!"}}]
["2025-12-05",6,"Zevachim 82",{"$f":"COUNT($A$2:A2163)","v":2162},6486,0.79749170047952789,0.77425304315750643,0.71670970121726296,0.67834747325710065,0.63408336407229804,0.62633714496495763,0.59424566580597571,"Zevachim ",{"$f":"VLOOKUP(Schedule!M2163,#REF!,2,FALSE)","v":{"$error":"#REF!"}}]
["2025-12-06",7,"Zevachim 83",{"$f":"COUNT($A$2:A2164)","v":2163},6489,0.79786056805606786,0.77462191073404651,0.71707856879380305,0.67871634083364074,0.63445223164883802,0.6267060125414976,0.59461453338251569,"Zevachim ",{"$f":"VLOOKUP(Schedule!M2164,#REF!,2,FALSE)","v":{"$error":"#REF!"}}]
["2025-12-07",1,"Zevachim 84",{"$f":"COUNT($A$2:A2165)","v":2164},6492,0.79822943563260784,0.77499077831058649,0.71744743637034303,0.67908520841018072,0.6348210992253781,0.62707488011803758,0.59498340095905566,"Zevachim ",{"$f":"VLOOKUP(Schedule!M2165,#REF!,2,FALSE)","v":{"$error":"#REF!"}}]
["2025-12-08",2,"Zevachim 85",{"$f":"COUNT($A$2:A2166)","v":2165},6495,0.79859830320914793,0.77535964588712647,0.71781630394688312,0.67945407598672081,0.63518996680191808,0.62744374769457767,0.59535226853559575,"Zevachim ",{"$f":"VLOOKUP(Schedule!M2166,#REF!,2,FALSE)","v":{"$error":"#REF!"}}]
["2025-12-09",3,"Zevachim 86",{"$f":"COUNT($A$2:A2167)","v":2166},6498,0.79896717078568791,0.77572851346366656,0.71818517152342309,0.67982294356326078,0.63555883437845817,0.62781261527111765,0.59572113611213573,"Zevachim ",{"$f":"VLOOKUP(Schedule!M2167,#REF!,2,FALSE)","v":{"$error":"#REF!"}}]
["2025-12-10",4,"Zevachim 87",{"$f":"COUNT($A$2:A2168)","v":2167},6501,0.799336038362228,0.77609738104020654,0.71855403909996307,0.68019181113980076,0.63592770195499815,0.62818148284765774,0.59609000368867582,"Zevachim ",{"$f":"VLOOKUP(Schedule!M2168,#REF!,2,FALSE)","v":{"$error":"#REF!"}}]
["2025-12-11",5,"Zevachim 88",{"$f":"COUNT($A$2:A2169)","v":2168},6504,0.79970490593876797,0.77646624861674662,0.71892290667650316,0.68056067871634085,0.63629656953153813,0.62855035042419771,0.5964588712652158,"Zevachim ",{"$f":"VLOOKUP(Schedule!M2169,#REF!,2,FALSE)","v":{"$error":"#REF!"}}]
["2025-12-12",6,"Zevachim 89",{"$f":"COUNT($A$2:A2170)","v":2169},6507,0.80007377351530795,0.7768351161932866,0.71929177425304314,0.68092954629288083,0.63666543710807821,0.62891921800073769,0.59682773884175577,"Zevachim ",{"$f":"VLOOKUP(Schedule!M2170,#REF!,2,FALSE)","v":{"$error":"#REF!"}}]
["2025-12-13",7,"Zevachim 90",{"$f":"COUNT($A$2:A2171)","v":2170},6510,0.80044264109184804,0.77720398376982658,0.71966064182958323,0.68129841386942092,0.63703430468461819,0.62928808557727778,0.59719660641829586,"Zevachim ",{"$f":"VLOOKUP(Schedule!M2171,#REF!,2,FALSE)","v":{"$error":"#REF!"}}]
["2025-12-14",1,"Zevachim 91",{"$f":"COUNT($A$2:A2172)","v":2171},6513,0.80081150866838802,0.77757285134636667,0.7200295094061232,0.68166728144596089,0.63740317226115828,0.62965695315381776,0.59756547399483584,"Zevachim ",{"$f":"VLOOKUP(Schedule!M2172,#REF!,2,FALSE)","v":{"$error":"#REF!"}}]
["2025-12-15",2,"Zevachim 92",{"$f":"COUNT($A$2:A2173)","v":2172},6516,0.80118037624492811,0.77794171892290664,0.72039837698266318,0.68203614902250087,0.63777203983769826,0.63002582073035784,0.59793434157137593,"Zevachim ",{"$f":"VLOOKUP(Schedule!M2173,#REF!,2,FALSE)","v":{"$error":"#REF!"}}]
["2025-12-16",3,"Zevachim 93",{"$f":"COUNT($A$2:A2174)","v":2173},6519,0.80154924382146808,0.77831058649944673,0.72076724455920327,0.68240501659904096,{"$f":"(D2174-443)/2711","v":0.63814090741423823},0.63039468830689782,0.5983032091479159,"Zevachim ",{"$f":"VLOOKUP(Schedule!M2174,#REF!,2,FALSE)","v":{"$error":"#REF!"}}]
["2025-12-17",4,"Zevachim 94",{"$f":"COUNT($A$2:A2175)","v":2174},6522,0.80191811139800806,0.77867945407598671,0.72113611213574325,0.68277388417558094,0.63850977499077832,0.6307635558834378,0.59867207672445588,"Zevachim ",{"$f":"VLOOKUP(Schedule!M2175,#REF!,2,FALSE)","v":{"$error":"#REF!"}}]
["2025-12-18",5,"Zevachim 95",{"$f":"COUNT($A$2:A2176)","v":2175},6525,0.80228697897454815,0.7790483216525268,0.72150497971228333,0.68314275175212102,0.6388786425673183,0.63113242345997789,0.59904094430099597,"Zevachim ",{"$f":"VLOOKUP(Schedule!M2176,#REF!,2,FALSE)","v":{"$error":"#REF!"}}]
["2025-12-19",6,"Zevachim 96",{"$f":"COUNT($A$2:A2177)","v":2176},6528,0.80265584655108813,0.77941718922906678,0.72187384728882331,0.683511619328661,0.63924751014385839,0.63150129103651786,0.59940981187753595,"Zevachim ",{"$f":"VLOOKUP(Schedule!M2177,#REF!,2,FALSE)","v":{"$error":"#REF!"}}]
["2025-12-20",7,"Zevachim 97",{"$f":"COUNT($A$2:A2178)","v":2177},{"$f":"D2178*3","v":6531},0.80302471412762821,{"$f":"(D2178-63)/2711","v":0.77978605680560675},0.72224271486536329,0.68388048690520098,0.63961637772039837,0.63187015861305795,0.59977867945407604,"Zevachim ",{"$f":"VLOOKUP(Schedule!M2178,#REF!,2,FALSE)","v":{"$error":"#REF!"}}]
["2025-12-21",{"$f":"WEEKDAY(A2179)","v":1},"Zevachim 98",{"$f":"COUNT($A$2:A2179)","v":2178},6534,{"$f":"D2179/2711","v":0.80339358170416819},0.78015492438214684,0.72261158244190338,0.68424935448174107,0.63998524529693845,0.63223902618959793,0.60014754703061601,{"$f":"LEFT(C2179,FIND(\"☃\",SUBSTITUTE(C2179,\" \",\"☃\",LEN(C2179)-LEN(SUBSTITUTE(C2179,\" \",\"\")))))","v":"Zevachim "},{"$f":"VLOOKUP(Schedule!M2179,#REF!,2,FALSE)","v":{"$error":"#REF!"}}]
["2025-12-22",2,"Zevachim 99",{"$f":"COUNT($A$2:A2180)","v":2179},6537,0.80376244928070828,0.78052379195868682,0.72298045001844335,0.68461822205828105,0.64035411287347843,0.63260789376613791,0.60051641460715599,"Zevachim ",{"$f":"VLOOKUP(Schedule!M2180,#REF!,2,FALSE)","v":{"$error":"#REF!"}}]
["2025-12-23",3,"Zevachim 100",{"$f":"COUNT($A$2:A2181)","v":2180},6540,0.80413131685724826,0.78089265953522691,0.72334931759498344,0.68498708963482113,0.64072298045001841,0.632976761342678,0.60088528218369608,"Zevachim ",{"$f":"VLOOKUP(Schedule!M2181,#REF!,2,FALSE)","v":{"$error":"#REF!"}}]
["2025-12-24",4,"Zevachim 101",{"$f":"COUNT($A$2:A2182)","v":2181},6543,0.80450018443378823,0.78126152711176688,0.72371818517152342,{"$f":"(D2182-323)/2711","v":0.68535595721136111},0.6410918480265585,0.63334562891921797,0.60125414976023606,"Zevachim ",{"$f":"VLOOKUP(Schedule!M2182,#REF!,2,FALSE)","v":{"$error":"#REF!"}}]
["2025-12-25",5,"Zevachim 102",{"$f":"COUNT($A$2:A2183)","v":2182},6546,0.80486905201032832,0.78163039468830686,0.7240870527480634,0.68572482478790109,0.64146071560309847,0.63371449649575806,0.60162301733677614,"Zevachim ",{"$f":"VLOOKUP(Schedule!M2183,#REF!,2,FALSE)","v":{"$error":"#REF!"}}]
["2025-12-26",6,"Zevachim 103",{"$f":"COUNT($A$2:A2184)","v":2183},6549,0.8052379195868683,0.78199926226484695,0.72445592032460349,0.68609369236444118,0.64182958317963856,0.63408336407229804,0.60199188491331612,"Zevachim ",{"$f":"VLOOKUP(Schedule!M2184,#REF!,2,FALSE)","v":{"$error":"#REF!"}}]
["2025-12-27",7,"Zevachim 104",{"$f":"COUNT($A$2:A2185)","v":2184},6552,0.80560678716340839,0.78236812984138693,0.72482478790114346,0.68646255994098115,0.64219845075617854,0.63445223164883802,0.6023607524898561,"Zevachim ",{"$f":"VLOOKUP(Schedule!M2185,#REF!,2,FALSE)","v":{"$error":"#REF!"}}]
["2025-12-28",1,"Zevachim 105",{"$f":"COUNT($A$2:A2186)","v":2185},6555,0.80597565473994837,0.78273699741792702,0.72519365547768355,0.68683142751752124,0.64256731833271852,0.6348210992253781,0.60272962006639619,"Zevachim ",{"$f":"VLOOKUP(Schedule!M2186,#REF!,2,FALSE)","v":{"$error":"#REF!"}}]
["2025-12-29",2,"Zevachim 106",{"$f":"COUNT($A$2:A2187)","v":2186},6558,0.80634452231648834,0.78310586499446699,0.72556252305422353,0.68720029509406122,0.64293618590925861,0.63518996680191808,0.60309848764293617,"Zevachim ",{"$f":"VLOOKUP(Schedule!M2187,#REF!,2,FALSE)","v":{"$error":"#REF!"}}]
["2025-12-30",3,"Zevachim 107",{"$f":"COUNT($A$2:A2188)","v":2187},6561,0.80671338989302843,0.78347473257100697,0.72593139063076351,0.68756916267060131,0.64330505348579858,0.63555883437845817,0.60346735521947625,"Zevachim ",{"$f":"VLOOKUP(Schedule!M2188,#REF!,2,FALSE)","v":{"$error":"#REF!"}}]
["2025-12-31",4,"Zevachim 108",{"$f":"COUNT($A$2:A2189)","v":2188},6564,0.80708225746956841,0.78384360014754706,0.7263002582073036,0.68793803024714129,0.64367392106233867,0.63592770195499815,0.60383622279601623,"Zevachim ",{"$f":"VLOOKUP(Schedule!M2189,#REF!,2,FALSE)","v":{"$error":"#REF!"}}]
["2026-01-01",5,"Zevachim 109",{"$f":"COUNT($A$2:A2190)","v":2189},6567,0.8074511250461085,0.78421246772408704,0.72666912578384357,0.68830689782368126,0.64404278863887865,0.63629656953153813,0.60420509037255621,"Zevachim ",{"$f":"VLOOKUP(Schedule!M2190,#REF!,2,FALSE)","v":{"$error":"#REF!"}}]
["2026-01-02",6,"Zevachim 110",{"$f":"COUNT($A$2:A2191)","v":2190},6570,0.80781999262264848,0.78458133530062713,0.72703799336038366,0.68867576540022135,0.64441165621541863,0.63666543710807821,0.6045739579490963,"Zevachim ",{"$f":"VLOOKUP(Schedule!M2191,#REF!,2,FALSE)","v":{"$error":"#REF!"}}]
["2026-01-03",7,"Zevachim 111",{"$f":"COUNT($A$2:A2192)","v":2191},6573,0.80818886019918845,0.7849502028771671,0.72740686093692364,0.68904463297676133,0.64478052379195872,0.63703430468461819,0.60494282552563627,"Zevachim ",{"$f":"VLOOKUP(Schedule!M2192,#REF!,2,FALSE)","v":{"$error":"#REF!"}}]
["2026-01-04",1,"Zevachim 112",{"$f":"COUNT($A$2:A2193)","v":2192},6576,0.80855772777572854,0.78531907045370708,0.72777572851346362,0.68941350055330142,0.64514939136849869,0.63740317226115828,0.60531169310217636,"Zevachim ",{"$f":"VLOOKUP(Schedule!M2193,#REF!,2,FALSE)","v":{"$error":"#REF!"}}]
["2026-01-05",2,"Zevachim 113",{"$f":"COUNT($A$2:A2194)","v":2193},6579,0.80892659535226852,0.78568793803024717,0.7281445960900037,0.68978236812984139,0.64551825894503878,{"$f":"(D2194-464)/2711","v":0.63777203983769826},0.60568056067871634,"Zevachim ",{"$f":"VLOOKUP(Schedule!M2194,#REF!,2,FALSE)","v":{"$error":"#REF!"}}]
["2026-01-06",3,"Zevachim 114",{"$f":"COUNT($A$2:A2195)","v":2194},6582,0.80929546292880861,0.78605680560678715,0.72851346366654368,0.69015123570638137,0.64588712652157876,0.63814090741423823,0.60604942825525632,"Zevachim ",{"$f":"VLOOKUP(Schedule!M2195,#REF!,2,FALSE)","v":{"$error":"#REF!"}}]
["2026-01-07",4,"Zevachim 115",{"$f":"COUNT($A$2:A2196)","v":2195},6585,0.80966433050534858,0.78642567318332723,0.72888233124308377,0.69052010328292146,0.64625599409811874,0.63850977499077832,0.60641829583179641,"Zevachim ",{"$f":"VLOOKUP(Schedule!M2196,#REF!,2,FALSE)","v":{"$error":"#REF!"}}]
["2026-01-08",5,"Zevachim 116",{"$f":"COUNT($A$2:A2197)","v":2196},6588,0.81003319808188856,0.78679454075986721,0.72925119881962375,0.69088897085946144,0.64662486167465882,0.6388786425673183,0.60678716340833638,"Zevachim ",{"$f":"VLOOKUP(Schedule!M2197,#REF!,2,FALSE)","v":{"$error":"#REF!"}}]
["2026-01-09",6,"Zevachim 117",{"$f":"COUNT($A$2:A2198)","v":2197},6591,0.81040206565842865,0.78716340833640719,0.72962006639616372,0.69125783843600153,0.6469937292511988,0.63924751014385839,0.60715603098487647,"Zevachim ",{"$f":"VLOOKUP(Schedule!M2198,#REF!,2,FALSE)","v":{"$error":"#REF!"}}]
["2026-01-10",7,"Zevachim 118",{"$f":"COUNT($A$2:A2199)","v":2198},6594,0.81077093323496863,0.78753227591294728,0.72998893397270381,0.6916267060125415,0.64736259682773889,0.63961637772039837,0.60752489856141645,"Zevachim ",{"$f":"VLOOKUP(Schedule!M2199,#REF!,2,FALSE)","v":{"$error":"#REF!"}}]
["2026-01-11",1,"Zevachim 119",{"$f":"COUNT($A$2:A2200)","v":2199},6597,0.81113980081150872,0.78790114348948725,0.73035780154924379,0.69199557358908148,0.64773146440427887,0.63998524529693845,0.60789376613795643,"Zevachim ",{"$f":"VLOOKUP(Schedule!M2200,#REF!,2,FALSE)","v":{"$error":"#REF!"}}]
["2026-01-12",2,"Zevachim 120",{"$f":"COUNT($A$2:A2201)","v":2200},6600,0.81150866838804869,0.78827001106602734,0.73072666912578388,0.69236444116562157,0.64810033198081884,0.64035411287347843,0.60826263371449651,"Zevachim ",{"$f":"VLOOKUP(Schedule!M2201,#REF!,2,FALSE)","v":{"$error":"#REF!"}}]
["2026-01-13",3,"Menachos 2",{"$f":"COUNT($A$2:A2202)","v":2201},6603,0.81187753596458867,0.78863887864256732,0.73109553670232386,0.69273330874216155,0.64846919955735893,0.64072298045001841,0.60863150129103649,"Menachos ",{"$f":"VLOOKUP(Schedule!M2202,#REF!,2,FALSE)","v":{"$error":"#REF!"}}]
["2026-01-14",4,"Menachos 3",{"$f":"COUNT($A$2:A2203)","v":2202},6606,0.81224640354112876,0.7890077462191073,0.73146440427886383,0.69310217631870163,0.64883806713389891,0.6410918480265585,0.60900036886757658,"Menachos ",{"$f":"VLOOKUP(Schedule!M2203,#REF!,2,FALSE)","v":{"$error":"#REF!"}}]
["2026-01-15",5,"Menachos 4",{"$f":"COUNT($A$2:A2204)","v":2203},6609,0.81261527111766874,0.78937661379564739,0.73183327185540392,0.69347104389524161,0.649206934710439,0.64146071560309847,0.60936923644411656,"Menachos ",{"$f":"VLOOKUP(Schedule!M2204,#REF!,2,FALSE)","v":{"$error":"#REF!"}}]
["2026-01-16",6,"Menachos 5",{"$f":"COUNT($A$2:A2205)","v":2204},6612,0.81298413869420882,0.78974548137218736,0.7322021394319439,0.69383991147178159,0.64957580228697898,0.64182958317963856,0.60973810402065654,"Menachos ",{"$f":"VLOOKUP(Schedule!M2205,#REF!,2,FALSE)","v":{"$error":"#REF!"}}]
["2026-01-17",7,"Menachos 6",{"$f":"COUNT($A$2:A2206)","v":2205},6615,0.8133530062707488,0.79011434894872745,{"$f":"(D2206-219)/2711","v":0.73257100700848399},0.69420877904832168,0.64994466986351895,0.64219845075617854,0.61010697159719662,"Menachos ",{"$f":"VLOOKUP(Schedule!M2206,#REF!,2,FALSE)","v":{"$error":"#REF!"}}]
["2026-01-18",1,"Menachos 7",{"$f":"COUNT($A$2:A2207)","v":2206},6618,0.81372187384728878,0.79048321652526743,0.73293987458502396,0.69457764662486166,0.65031353744005904,0.64256731833271852,0.6104758391737366,"Menachos ",{"$f":"VLOOKUP(Schedule!M2207,#REF!,2,FALSE)","v":{"$error":"#REF!"}}]
["2026-01-19",2,"Menachos 8",{"$f":"COUNT($A$2:A2208)","v":2207},6621,0.81409074142382887,0.79085208410180741,0.73330874216156405,0.69494651420140174,0.65068240501659902,0.64293618590925861,0.61084470675027669,"Menachos ",{"$f":"VLOOKUP(Schedule!M2208,#REF!,2,FALSE)","v":{"$error":"#REF!"}}]
["2026-01-20",3,"Menachos 9",{"$f":"COUNT($A$2:A2209)","v":2208},6624,0.81445960900036884,0.79122095167834749,0.73367760973810403,0.69531538177794172,0.65105127259313911,0.64330505348579858,0.61121357432681667,"Menachos ",{"$f":"VLOOKUP(Schedule!M2209,#REF!,2,FALSE)","v":{"$error":"#REF!"}}]
["2026-01-21",4,"Menachos 10",{"$f":"COUNT($A$2:A2210)","v":2209},6627,0.81482847657690893,0.79158981925488747,0.73404647731464401,0.6956842493544817,0.65142014016967908,0.64367392106233867,0.61158244190335664,"Menachos ",{"$f":"VLOOKUP(Schedule!M2210,#REF!,2,FALSE)","v":{"$error":"#REF!"}}]
["2026-01-22",5,"Menachos 11",{"$f":"COUNT($A$2:A2211)","v":2210},6630,0.81519734415344891,0.79195868683142756,0.7344153448911841,0.69605311693102179,0.65178900774621906,0.64404278863887865,0.61195130947989673,"Menachos ",{"$f":"VLOOKUP(Schedule!M2211,#REF!,2,FALSE)","v":{"$error":"#REF!"}}]
["2026-01-23",6,"Menachos 12",{"$f":"COUNT($A$2:A2212)","v":2211},6633,0.81556621172998889,0.79232755440796754,0.73478421246772407,0.69642198450756176,0.65215787532275915,0.64441165621541863,0.61232017705643671,"Menachos ",{"$f":"VLOOKUP(Schedule!M2212,#REF!,2,FALSE)","v":{"$error":"#REF!"}}]
["2026-01-24",7,"Menachos 13",{"$f":"COUNT($A$2:A2213)","v":2212},6636,0.81593507930652898,0.79269642198450752,0.73515308004426416,0.69679085208410185,0.65252674289929913,0.64478052379195872,0.6126890446329768,"Menachos ",{"$f":"VLOOKUP(Schedule!M2213,#REF!,2,FALSE)","v":{"$error":"#REF!"}}]
["2026-01-25",1,"Menachos 14",{"$f":"COUNT($A$2:A2214)","v":2213},6639,0.81630394688306895,0.7930652895610476,0.73552194762080414,0.69715971966064183,0.65289561047583922,0.64514939136849869,0.61305791220951678,"Menachos ",{"$f":"VLOOKUP(Schedule!M2214,#REF!,2,FALSE)","v":{"$error":"#REF!"}}]
["2026-01-26",2,"Menachos 15",{"$f":"COUNT($A$2:A2215)","v":2214},6642,0.81667281445960904,0.79343415713758758,0.73589081519734412,0.69752858723718181,0.65326447805237919,0.64551825894503878,0.61342677978605675,"Menachos ",{"$f":"VLOOKUP(Schedule!M2215,#REF!,2,FALSE)","v":{"$error":"#REF!"}}]
["2026-01-27",3,"Menachos 16",{"$f":"COUNT($A$2:A2216)","v":2215},6645,0.81704168203614902,0.79380302471412767,0.73625968277388421,0.6978974548137219,0.65363334562891917,0.64588712652157876,0.61379564736259684,"Menachos ",{"$f":"VLOOKUP(Schedule!M2216,#REF!,2,FALSE)","v":{"$error":"#REF!"}}]
["2026-01-28",4,"Menachos 17",{"$f":"COUNT($A$2:A2217)","v":2216},6648,0.817410549612689,0.79417189229066765,0.73662855035042418,0.69826632239026187,0.65400221320545926,0.64625599409811874,0.61416451493913682,"Menachos ",{"$f":"VLOOKUP(Schedule!M2217,#REF!,2,FALSE)","v":{"$error":"#REF!"}}]
["2026-01-29",5,"Menachos 18",{"$f":"COUNT($A$2:A2218)","v":2217},6651,0.81777941718922909,0.79454075986720762,0.73699741792696427,0.69863518996680196,0.65437108078199924,0.64662486167465882,{"$f":"(D2218-551)/2711","v":0.61453338251567691},"Menachos ",{"$f":"VLOOKUP(Schedule!M2218,#REF!,2,FALSE)","v":{"$error":"#REF!"}}]
["2026-01-30",6,"Menachos 19",{"$f":"COUNT($A$2:A2219)","v":2218},6654,0.81814828476576906,0.79490962744374771,0.73736628550350425,0.69900405754334194,0.65473994835853933,0.6469937292511988,0.61490225009221688,"Menachos ",{"$f":"VLOOKUP(Schedule!M2219,#REF!,2,FALSE)","v":{"$error":"#REF!"}}]
["2026-01-31",7,"Menachos 20",{"$f":"COUNT($A$2:A2220)","v":2219},6657,0.81851715234230915,0.79527849502028769,0.73773515308004423,0.69937292511988192,0.6551088159350793,0.64736259682773889,0.61527111766875686,"Menachos ",{"$f":"VLOOKUP(Schedule!M2220,#REF!,2,FALSE)","v":{"$error":"#REF!"}}]
["2026-02-01",1,"Menachos 21",{"$f":"COUNT($A$2:A2221)","v":2220},6660,0.81888601991884913,0.79564736259682778,0.73810402065658431,0.699741792696422,0.65547768351161928,0.64773146440427887,0.61563998524529695,"Menachos ",{"$f":"VLOOKUP(Schedule!M2221,#REF!,2,FALSE)","v":{"$error":"#REF!"}}]
["2026-02-02",2,"Menachos 22",{"$f":"COUNT($A$2:A2222)","v":2221},6663,0.81925488749538911,0.79601623017336776,0.73847288823312429,0.70011066027296198,0.65584655108815937,0.64810033198081884,0.61600885282183693,"Menachos ",{"$f":"VLOOKUP(Schedule!M2222,#REF!,2,FALSE)","v":{"$error":"#REF!"}}]
["2026-02-03",3,"Menachos 23",{"$f":"COUNT($A$2:A2223)","v":2222},6666,0.81962375507192919,0.79638509774990773,0.73884175580966438,0.70047952784950207,0.65621541866469935,0.64846919955735893,0.61637772039837702,"Menachos ",{"$f":"VLOOKUP(Schedule!M2223,#REF!,2,FALSE)","v":{"$error":"#REF!"}}]
["2026-02-04",4,"Menachos 24",{"$f":"COUNT($A$2:A2224)","v":2223},6669,0.81999262264846917,0.79675396532644782,0.73921062338620436,0.70084839542604205,0.65658428624123943,0.64883806713389891,0.61674658797491699,"Menachos ",{"$f":"VLOOKUP(Schedule!M2224,#REF!,2,FALSE)","v":{"$error":"#REF!"}}]
["2026-02-05",5,"Menachos 25",{"$f":"COUNT($A$2:A2225)","v":2224},6672,0.82036149022500926,0.7971228329029878,0.73957949096274433,0.70121726300258203,0.65695315381777941,0.649206934710439,0.61711545555145708,"Menachos ",{"$f":"VLOOKUP(Schedule!M2225,#REF!,2,FALSE)","v":{"$error":"#REF!"}}]
["2026-02-06",6,"Menachos 26",{"$f":"COUNT($A$2:A2226)","v":2225},6675,0.82073035780154924,0.79749170047952789,0.73994835853928442,0.70158613057912211,0.65732202139431939,0.64957580228697898,0.61748432312799706,"Menachos ",{"$f":"VLOOKUP(Schedule!M2226,#REF!,2,FALSE)","v":{"$error":"#REF!"}}]
["2026-02-07",7,"Menachos 27",{"$f":"COUNT($A$2:A2227)","v":2226},6678,0.82109922537808921,0.79786056805606786,0.7403172261158244,0.70195499815566209,0.65769088897085948,0.64994466986351895,0.61785319070453704,"Menachos ",{"$f":"VLOOKUP(Schedule!M2227,#REF!,2,FALSE)","v":{"$error":"#REF!"}}]
["2026-02-08",1,"Menachos 28",{"$f":"COUNT($A$2:A2228)","v":2227},6681,0.8214680929546293,0.79822943563260784,0.74068609369236449,0.70232386573220218,0.65805975654739945,0.65031353744005904,0.61822205828107712,"Menachos ",{"$f":"VLOOKUP(Schedule!M2228,#REF!,2,FALSE)","v":{"$error":"#REF!"}}]
["2026-02-09",2,"Menachos 29",{"$f":"COUNT($A$2:A2229)","v":2228},6684,0.82183696053116928,0.79859830320914793,0.74105496126890447,0.70269273330874216,0.65842862412393954,0.65068240501659902,0.6185909258576171,"Menachos ",{"$f":"VLOOKUP(Schedule!M2229,#REF!,2,FALSE)","v":{"$error":"#REF!"}}]
["2026-02-10",3,"Menachos 30",{"$f":"COUNT($A$2:A2230)","v":2229},6687,0.82220582810770937,0.79896717078568791,0.74142382884544444,0.70306160088528213,0.65879749170047952,0.65105127259313911,0.61895979343415719,"Menachos ",{"$f":"VLOOKUP(Schedule!M2230,#REF!,2,FALSE)","v":{"$error":"#REF!"}}]
["2026-02-11",4,"Menachos 31",{"$f":"COUNT($A$2:A2231)","v":2230},6690,0.82257469568424935,0.799336038362228,0.74179269642198453,0.70343046846182222,0.6591663592770195,0.65142014016967908,0.61932866101069717,"Menachos ",{"$f":"VLOOKUP(Schedule!M2231,#REF!,2,FALSE)","v":{"$error":"#REF!"}}]
["2026-02-12",5,"Menachos 32",{"$f":"COUNT($A$2:A2232)","v":2231},6693,0.82294356326078932,0.79970490593876797,0.74216156399852451,0.7037993360383622,0.65953522685355959,0.65178900774621906,0.61969752858723715,"Menachos ",{"$f":"VLOOKUP(Schedule!M2232,#REF!,2,FALSE)","v":{"$error":"#REF!"}}]
["2026-02-13",6,"Menachos 33",{"$f":"COUNT($A$2:A2233)","v":2232},6696,0.82331243083732941,0.80007377351530795,0.7425304315750646,0.70416820361490229,0.65990409443009956,0.65215787532275915,0.62006639616377723,"Menachos ",{"$f":"VLOOKUP(Schedule!M2233,#REF!,2,FALSE)","v":{"$error":"#REF!"}}]
["2026-02-14",7,"Menachos 34",{"$f":"COUNT($A$2:A2234)","v":2233},6699,0.82368129841386939,0.80044264109184804,0.74289929915160458,0.70453707119144227,0.66027296200663965,0.65252674289929913,0.62043526374031721,"Menachos ",{"$f":"VLOOKUP(Schedule!M2234,#REF!,2,FALSE)","v":{"$error":"#REF!"}}]
["2026-02-15",1,"Menachos 35",{"$f":"COUNT($A$2:A2235)","v":2234},6702,0.82405016599040948,0.80081150866838802,0.74326816672814455,0.70490593876798224,0.66064182958317963,0.65289561047583922,0.6208041313168573,"Menachos ",{"$f":"VLOOKUP(Schedule!M2235,#REF!,2,FALSE)","v":{"$error":"#REF!"}}]
["2026-02-16",2,"Menachos 36",{"$f":"COUNT($A$2:A2236)","v":2235},6705,0.82441903356694946,0.80118037624492811,0.74363703430468464,0.70527480634452233,0.66101069715971961,0.65326447805237919,0.62117299889339728,"Menachos ",{"$f":"VLOOKUP(Schedule!M2236,#REF!,2,FALSE)","v":{"$error":"#REF!"}}]
["2026-02-17",3,"Menachos 37",{"$f":"COUNT($A$2:A2237)","v":2236},6708,0.82478790114348943,0.80154924382146808,0.74400590188122462,0.70564367392106231,0.6613795647362597,0.65363334562891917,0.62154186646993725,"Menachos ",{"$f":"VLOOKUP(Schedule!M2237,#REF!,2,FALSE)","v":{"$error":"#REF!"}}]
["2026-02-18",4,"Menachos 38",{"$f":"COUNT($A$2:A2238)","v":2237},6711,0.82515676872002952,0.80191811139800806,0.74437476945776471,0.7060125414976024,{"$f":"(D2238-443)/2711","v":0.66174843231279967},0.65400221320545926,0.62191073404647734,"Menachos ",{"$f":"VLOOKUP(Schedule!M2238,#REF!,2,FALSE)","v":{"$error":"#REF!"}}]
["2026-02-19",5,"Menachos 39",{"$f":"COUNT($A$2:A2239)","v":2238},6714,0.8255256362965695,0.80228697897454815,0.74474363703430468,0.70638140907414237,0.66211729988933976,0.65437108078199924,0.62227960162301732,"Menachos ",{"$f":"VLOOKUP(Schedule!M2239,#REF!,2,FALSE)","v":{"$error":"#REF!"}}]
["2026-02-20",6,"Menachos 40",{"$f":"COUNT($A$2:A2240)","v":2239},6717,0.82589450387310959,0.80265584655108813,0.74511250461084466,0.70675027665068235,0.66248616746587974,0.65473994835853933,0.62264846919955741,"Menachos ",{"$f":"VLOOKUP(Schedule!M2240,#REF!,2,FALSE)","v":{"$error":"#REF!"}}]
["2026-02-21",7,"Menachos 41",{"$f":"COUNT($A$2:A2241)","v":2240},6720,0.82626337144964956,0.80302471412762821,0.74548137218738475,0.70711914422722244,0.66285503504241983,0.6551088159350793,0.62301733677609739,"Menachos ",{"$f":"VLOOKUP(Schedule!M2241,#REF!,2,FALSE)","v":{"$error":"#REF!"}}]
["2026-02-22",1,"Menachos 42",{"$f":"COUNT($A$2:A2242)","v":2241},{"$f":"D2242*3","v":6723},0.82663223902618965,{"$f":"(D2242-63)/2711","v":0.80339358170416819},0.74585023976392473,0.70748801180376242,0.6632239026189598,0.65547768351161928,0.62338620435263736,"Menachos ",{"$f":"VLOOKUP(Schedule!M2242,#REF!,2,FALSE)","v":{"$error":"#REF!"}}]
["2026-02-23",{"$f":"WEEKDAY(A2243)","v":2},"Menachos 43",{"$f":"COUNT($A$2:A2243)","v":2242},6726,{"$f":"D2243/2711","v":0.82700110660272963},0.80376244928070828,0.74621910734046482,0.70785687938030251,0.66359277019549978,0.65584655108815937,0.62375507192917745,{"$f":"LEFT(C2243,FIND(\"☃\",SUBSTITUTE(C2243,\" \",\"☃\",LEN(C2243)-LEN(SUBSTITUTE(C2243,\" \",\"\")))))","v":"Menachos "},{"$f":"VLOOKUP(Schedule!M2243,#REF!,2,FALSE)","v":{"$error":"#REF!"}}]
["2026-02-24",3,"Menachos 44",{"$f":"COUNT($A$2:A2244)","v":2243},6729,0.82736997417926961,0.80413131685724826,0.74658797491700479,0.70822574695684248,0.66396163777203987,0.65621541866469935,0.62412393950571743,"Menachos ",{"$f":"VLOOKUP(Schedule!M2244,#REF!,2,FALSE)","v":{"$error":"#REF!"}}]
["2026-02-25",4,"Menachos 45",{"$f":"COUNT($A$2:A2245)","v":2244},6732,0.8277388417558097,0.80450018443378823,0.74695684249354477,0.70859461453338246,0.66433050534857985,0.65658428624123943,0.62449280708225752,"Menachos ",{"$f":"VLOOKUP(Schedule!M2245,#REF!,2,FALSE)","v":{"$error":"#REF!"}}]
["2026-02-26",5,"Menachos 46",{"$f":"COUNT($A$2:A2246)","v":2245},6735,0.82810770933234967,0.80486905201032832,0.74732571007008486,{"$f":"(D2246-323)/2711","v":0.70896348210992255},0.66469937292511994,0.65695315381777941,0.62486167465879749,"Menachos ",{"$f":"VLOOKUP(Schedule!M2246,#REF!,2,FALSE)","v":{"$error":"#REF!"}}]
["2026-02-27",6,"Menachos 47",{"$f":"COUNT($A$2:A2247)","v":2246},6738,0.82847657690888976,0.8052379195868683,0.74769457764662484,0.70933234968646253,0.66506824050165991,0.65732202139431939,0.62523054223533747,"Menachos ",{"$f":"VLOOKUP(Schedule!M2247,#REF!,2,FALSE)","v":{"$error":"#REF!"}}]
["2026-02-28",7,"Menachos 48",{"$f":"COUNT($A$2:A2248)","v":2247},6741,0.82884544448542974,0.80560678716340839,0.74806344522316492,0.70970121726300261,0.66543710807819989,0.65769088897085948,0.62559940981187756,"Menachos ",{"$f":"VLOOKUP(Schedule!M2248,#REF!,2,FALSE)","v":{"$error":"#REF!"}}]
["2026-03-01",1,"Menachos 49",{"$f":"COUNT($A$2:A2249)","v":2248},6744,0.82921431206196972,0.80597565473994837,0.7484323127997049,0.71007008483954259,0.66580597565473998,0.65805975654739945,0.62596827738841754,"Menachos ",{"$f":"VLOOKUP(Schedule!M2249,#REF!,2,FALSE)","v":{"$error":"#REF!"}}]
["2026-03-02",2,"Menachos 50",{"$f":"COUNT($A$2:A2250)","v":2249},6747,0.8295831796385098,0.80634452231648834,0.74880118037624488,0.71043895241608268,0.66617484323127996,0.65842862412393954,0.62633714496495763,"Menachos ",{"$f":"VLOOKUP(Schedule!M2250,#REF!,2,FALSE)","v":{"$error":"#REF!"}}]
["2026-03-03",3,"Menachos 51",{"$f":"COUNT($A$2:A2251)","v":2250},6750,0.82995204721504978,0.80671338989302843,0.74917004795278497,0.71080781999262266,0.66654371080782004,0.65879749170047952,0.6267060125414976,"Menachos ",{"$f":"VLOOKUP(Schedule!M2251,#REF!,2,FALSE)","v":{"$error":"#REF!"}}]
["2026-03-04",4,"Menachos 52",{"$f":"COUNT($A$2:A2252)","v":2251},6753,0.83032091479158987,0.80708225746956841,0.74953891552932495,0.71117668756916264,0.66691257838436002,0.6591663592770195,0.62707488011803758,"Menachos ",{"$f":"VLOOKUP(Schedule!M2252,#REF!,2,FALSE)","v":{"$error":"#REF!"}}]
["2026-03-05",5,"Menachos 53",{"$f":"COUNT($A$2:A2253)","v":2252},6756,0.83068978236812985,0.8074511250461085,0.74990778310586503,0.71154555514570272,0.6672814459609,0.65953522685355959,0.62744374769457767,"Menachos ",{"$f":"VLOOKUP(Schedule!M2253,#REF!,2,FALSE)","v":{"$error":"#REF!"}}]
["2026-03-06",6,"Menachos 54",{"$f":"COUNT($A$2:A2254)","v":2253},6759,0.83105864994466982,0.80781999262264848,0.75027665068240501,0.7119144227222427,0.66765031353744009,0.65990409443009956,0.62781261527111765,"Menachos ",{"$f":"VLOOKUP(Schedule!M2254,#REF!,2,FALSE)","v":{"$error":"#REF!"}}]
["2026-03-07",7,"Menachos 55",{"$f":"COUNT($A$2:A2255)","v":2254},6762,0.83142751752120991,0.80818886019918845,0.75064551825894499,0.71228329029878279,0.66801918111398007,0.66027296200663965,0.62818148284765774,"Menachos ",{"$f":"VLOOKUP(Schedule!M2255,#REF!,2,FALSE)","v":{"$error":"#REF!"}}]
["2026-03-08",1,"Menachos 56",{"$f":"COUNT($A$2:A2256)","v":2255},6765,0.83179638509774989,0.80855772777572854,0.75101438583548508,0.71265215787532277,0.66838804869052015,0.66064182958317963,0.62855035042419771,"Menachos ",{"$f":"VLOOKUP(Schedule!M2256,#REF!,2,FALSE)","v":{"$error":"#REF!"}}]
["2026-03-09",2,"Menachos 57",{"$f":"COUNT($A$2:A2257)","v":2256},6768,0.83216525267428998,0.80892659535226852,0.75138325341202505,0.71302102545186274,0.66875691626706013,0.66101069715971961,0.62891921800073769,"Menachos ",{"$f":"VLOOKUP(Schedule!M2257,#REF!,2,FALSE)","v":{"$error":"#REF!"}}]
["2026-03-10",3,"Menachos 58",{"$f":"COUNT($A$2:A2258)","v":2257},6771,0.83253412025082996,0.80929546292880861,0.75175212098856514,0.71338989302840283,0.66912578384360011,{"$f":"(D2258-464)/2711","v":0.6613795647362597},0.62928808557727778,"Menachos ",{"$f":"VLOOKUP(Schedule!M2258,#REF!,2,FALSE)","v":{"$error":"#REF!"}}]
["2026-03-11",4,"Menachos 59",{"$f":"COUNT($A$2:A2259)","v":2258},6774,0.83290298782736993,0.80966433050534858,0.75212098856510512,0.71375876060494281,0.6694946514201402,0.66174843231279967,0.62965695315381776,"Menachos ",{"$f":"VLOOKUP(Schedule!M2259,#REF!,2,FALSE)","v":{"$error":"#REF!"}}]
["2026-03-12",5,"Menachos 60",{"$f":"COUNT($A$2:A2260)","v":2259},6777,0.83327185540391002,0.81003319808188856,0.7524898561416451,0.7141276281814829,0.66986351899668017,0.66211729988933976,0.63002582073035784,"Menachos ",{"$f":"VLOOKUP(Schedule!M2260,#REF!,2,FALSE)","v":{"$error":"#REF!"}}]
["2026-03-13",6,"Menachos 61",{"$f":"COUNT($A$2:A2261)","v":2260},6780,0.83364072298045,0.81040206565842865,0.75285872371818519,0.71449649575802288,0.67023238657322026,0.66248616746587974,0.63039468830689782,"Menachos ",{"$f":"VLOOKUP(Schedule!M2261,#REF!,2,FALSE)","v":{"$error":"#REF!"}}]
["2026-03-14",7,"Menachos 62",{"$f":"COUNT($A$2:A2262)","v":2261},6783,0.83400959055699009,0.81077093323496863,0.75322759129472516,0.71486536333456285,0.67060125414976024,0.66285503504241983,0.6307635558834378,"Menachos ",{"$f":"VLOOKUP(Schedule!M2262,#REF!,2,FALSE)","v":{"$error":"#REF!"}}]
["2026-03-15",1,"Menachos 63",{"$f":"COUNT($A$2:A2263)","v":2262},6786,0.83437845813353007,0.81113980081150872,0.75359645887126525,0.71523423091110294,0.67097012172630022,0.6632239026189598,0.63113242345997789,"Menachos ",{"$f":"VLOOKUP(Schedule!M2263,#REF!,2,FALSE)","v":{"$error":"#REF!"}}]
["2026-03-16",2,"Menachos 64",{"$f":"COUNT($A$2:A2264)","v":2263},6789,0.83474732571007004,0.81150866838804869,0.75396532644780523,0.71560309848764292,0.67133898930284031,0.66359277019549978,0.63150129103651786,"Menachos ",{"$f":"VLOOKUP(Schedule!M2264,#REF!,2,FALSE)","v":{"$error":"#REF!"}}]
["2026-03-17",3,"Menachos 65",{"$f":"COUNT($A$2:A2265)","v":2264},6792,0.83511619328661013,0.81187753596458867,0.75433419402434521,0.71597196606418301,0.67170785687938028,0.66396163777203987,0.63187015861305795,"Menachos ",{"$f":"VLOOKUP(Schedule!M2265,#REF!,2,FALSE)","v":{"$error":"#REF!"}}]
["2026-03-18",4,"Menachos 66",{"$f":"COUNT($A$2:A2266)","v":2265},6795,0.83548506086315011,0.81224640354112876,0.75470306160088529,0.71634083364072298,0.67207672445592037,0.66433050534857985,0.63223902618959793,"Menachos ",{"$f":"VLOOKUP(Schedule!M2266,#REF!,2,FALSE)","v":{"$error":"#REF!"}}]
["2026-03-19",5,"Menachos 67",{"$f":"COUNT($A$2:A2267)","v":2266},6798,0.8358539284396902,0.81261527111766874,0.75507192917742527,0.71670970121726296,0.67244559203246035,0.66469937292511994,0.63260789376613791,"Menachos ",{"$f":"VLOOKUP(Schedule!M2267,#REF!,2,FALSE)","v":{"$error":"#REF!"}}]
["2026-03-20",6,"Menachos 68",{"$f":"COUNT($A$2:A2268)","v":2267},6801,0.83622279601623017,0.81298413869420882,0.75544079675396536,0.71707856879380305,0.67281445960900033,0.66506824050165991,0.632976761342678,"Menachos ",{"$f":"VLOOKUP(Schedule!M2268,#REF!,2,FALSE)","v":{"$error":"#REF!"}}]
["2026-03-21",7,"Menachos 69",{"$f":"COUNT($A$2:A2269)","v":2268},6804,0.83659166359277015,0.8133530062707488,0.75580966433050534,0.71744743637034303,0.67318332718554041,0.66543710807819989,0.63334562891921797,"Menachos ",{"$f":"VLOOKUP(Schedule!M2269,#REF!,2,FALSE)","v":{"$error":"#REF!"}}]
["2026-03-22",1,"Menachos 70",{"$f":"COUNT($A$2:A2270)","v":2269},6807,0.83696053116931024,0.81372187384728878,{"$f":"(D2270-219)/2711","v":0.75617853190704543},0.71781630394688312,0.67355219476208039,0.66580597565473998,0.63371449649575806,"Menachos ",{"$f":"VLOOKUP(Schedule!M2270,#REF!,2,FALSE)","v":{"$error":"#REF!"}}]
["2026-03-23",2,"Menachos 71",{"$f":"COUNT($A$2:A2271)","v":2270},6810,0.83732939874585022,0.81409074142382887,0.7565473994835854,0.71818517152342309,0.67392106233862048,0.66617484323127996,0.63408336407229804,"Menachos ",{"$f":"VLOOKUP(Schedule!M2271,#REF!,2,FALSE)","v":{"$error":"#REF!"}}]
["2026-03-24",3,"Menachos 72",{"$f":"COUNT($A$2:A2272)","v":2271},6813,0.83769826632239031,0.81445960900036884,0.75691626706012538,0.71855403909996307,0.67428992991516046,0.66654371080782004,0.63445223164883802,"Menachos ",{"$f":"VLOOKUP(Schedule!M2272,#REF!,2,FALSE)","v":{"$error":"#REF!"}}]
["2026-03-25",4,"Menachos 73",{"$f":"COUNT($A$2:A2273)","v":2272},6816,0.83806713389893028,0.81482847657690893,0.75728513463666547,0.71892290667650316,0.67465879749170043,0.66691257838436002,0.6348210992253781,"Menachos ",{"$f":"VLOOKUP(Schedule!M2273,#REF!,2,FALSE)","v":{"$error":"#REF!"}}]
["2026-03-26",5,"Menachos 74",{"$f":"COUNT($A$2:A2274)","v":2273},6819,0.83843600147547026,0.81519734415344891,0.75765400221320545,0.71929177425304314,0.67502766506824052,0.6672814459609,0.63518996680191808,"Menachos ",{"$f":"VLOOKUP(Schedule!M2274,#REF!,2,FALSE)","v":{"$error":"#REF!"}}]
["2026-03-27",6,"Menachos 75",{"$f":"COUNT($A$2:A2275)","v":2274},6822,0.83880486905201035,0.81556621172998889,0.75802286978974553,0.71966064182958323,0.6753965326447805,0.66765031353744009,0.63555883437845817,"Menachos ",{"$f":"VLOOKUP(Schedule!M2275,#REF!,2,FALSE)","v":{"$error":"#REF!"}}]
["2026-03-28",7,"Menachos 76",{"$f":"COUNT($A$2:A2276)","v":2275},6825,0.83917373662855033,0.81593507930652898,0.75839173736628551,0.7200295094061232,0.67576540022132059,0.66801918111398007,0.63592770195499815,"Menachos ",{"$f":"VLOOKUP(Schedule!M2276,#REF!,2,FALSE)","v":{"$error":"#REF!"}}]
["2026-03-29",1,"Menachos 77",{"$f":"COUNT($A$2:A2277)","v":2276},6828,0.83954260420509041,0.81630394688306895,0.75876060494282549,0.72039837698266318,0.67613426779786057,0.66838804869052015,0.63629656953153813,"Menachos ",{"$f":"VLOOKUP(Schedule!M2277,#REF!,2,FALSE)","v":{"$error":"#REF!"}}]
["2026-03-30",2,"Menachos 78",{"$f":"COUNT($A$2:A2278)","v":2277},6831,0.83991147178163039,0.81667281445960904,0.75912947251936558,0.72076724455920327,0.67650313537440054,0.66875691626706013,0.63666543710807821,"Menachos ",{"$f":"VLOOKUP(Schedule!M2278,#REF!,2,FALSE)","v":{"$error":"#REF!"}}]
["2026-03-31",3,"Menachos 79",{"$f":"COUNT($A$2:A2279)","v":2278},6834,0.84028033935817037,0.81704168203614902,0.75949834009590556,0.72113611213574325,0.67687200295094063,0.66912578384360011,0.63703430468461819,"Menachos ",{"$f":"VLOOKUP(Schedule!M2279,#REF!,2,FALSE)","v":{"$error":"#REF!"}}]
["2026-04-01",4,"Menachos 80",{"$f":"COUNT($A$2:A2280)","v":2279},6837,0.84064920693471046,0.817410549612689,0.75986720767244564,0.72150497971228333,0.67724087052748061,0.6694946514201402,0.63740317226115828,"Menachos ",{"$f":"VLOOKUP(Schedule!M2280,#REF!,2,FALSE)","v":{"$error":"#REF!"}}]
["2026-04-02",5,"Menachos 81",{"$f":"COUNT($A$2:A2281)","v":2280},6840,0.84101807451125044,0.81777941718922909,0.76023607524898562,0.72187384728882331,0.6776097381040207,0.66986351899668017,0.63777203983769826,"Menachos ",{"$f":"VLOOKUP(Schedule!M2281,#REF!,2,FALSE)","v":{"$error":"#REF!"}}]
["2026-04-03",6,"Menachos 82",{"$f":"COUNT($A$2:A2282)","v":2281},6843,0.84138694208779052,0.81814828476576906,0.7606049428255256,0.72224271486536329,0.67797860568056068,0.67023238657322026,{"$f":"(D2282-551)/2711","v":0.63814090741423823},"Menachos ",{"$f":"VLOOKUP(Schedule!M2282,#REF!,2,FALSE)","v":{"$error":"#REF!"}}]
["2026-04-04",7,"Menachos 83",{"$f":"COUNT($A$2:A2283)","v":2282},6846,0.8417558096643305,0.81851715234230915,0.76097381040206569,0.72261158244190338,0.67834747325710065,0.67060125414976024,0.63850977499077832,"Menachos ",{"$f":"VLOOKUP(Schedule!M2283,#REF!,2,FALSE)","v":{"$error":"#REF!"}}]
["2026-04-05",1,"Menachos 84",{"$f":"COUNT($A$2:A2284)","v":2283},6849,0.84212467724087048,0.81888601991884913,0.76134267797860566,0.72298045001844335,0.67871634083364074,0.67097012172630022,0.6388786425673183,"Menachos ",{"$f":"VLOOKUP(Schedule!M2284,#REF!,2,FALSE)","v":{"$error":"#REF!"}}]
["2026-04-06",2,"Menachos 85",{"$f":"COUNT($A$2:A2285)","v":2284},6852,0.84249354481741057,0.81925488749538911,0.76171154555514575,0.72334931759498344,0.67908520841018072,0.67133898930284031,0.63924751014385839,"Menachos ",{"$f":"VLOOKUP(Schedule!M2285,#REF!,2,FALSE)","v":{"$error":"#REF!"}}]
["2026-04-07",3,"Menachos 86",{"$f":"COUNT($A$2:A2286)","v":2285},6855,0.84286241239395054,0.81962375507192919,0.76208041313168573,0.72371818517152342,0.67945407598672081,0.67170785687938028,0.63961637772039837,"Menachos ",{"$f":"VLOOKUP(Schedule!M2286,#REF!,2,FALSE)","v":{"$error":"#REF!"}}]
["2026-04-08",4,"Menachos 87",{"$f":"COUNT($A$2:A2287)","v":2286},6858,0.84323127997049063,0.81999262264846917,0.76244928070822571,0.7240870527480634,0.67982294356326078,0.67207672445592037,0.63998524529693845,"Menachos ",{"$f":"VLOOKUP(Schedule!M2287,#REF!,2,FALSE)","v":{"$error":"#REF!"}}]
["2026-04-09",5,"Menachos 88",{"$f":"COUNT($A$2:A2288)","v":2287},6861,0.84360014754703061,0.82036149022500926,0.7628181482847658,0.72445592032460349,0.68019181113980076,0.67244559203246035,0.64035411287347843,"Menachos ",{"$f":"VLOOKUP(Schedule!M2288,#REF!,2,FALSE)","v":{"$error":"#REF!"}}]
["2026-04-10",6,"Menachos 89",{"$f":"COUNT($A$2:A2289)","v":2288},6864,0.84396901512357059,0.82073035780154924,0.76318701586130577,0.72482478790114346,0.68056067871634085,0.67281445960900033,0.64072298045001841,"Menachos ",{"$f":"VLOOKUP(Schedule!M2289,#REF!,2,FALSE)","v":{"$error":"#REF!"}}]
["2026-04-11",7,"Menachos 90",{"$f":"COUNT($A$2:A2290)","v":2289},6867,0.84433788270011068,0.82109922537808921,0.76355588343784586,0.72519365547768355,0.68092954629288083,0.67318332718554041,0.6410918480265585,"Menachos ",{"$f":"VLOOKUP(Schedule!M2290,#REF!,2,FALSE)","v":{"$error":"#REF!"}}]
["2026-04-12",1,"Menachos 91",{"$f":"COUNT($A$2:A2291)","v":2290},6870,0.84470675027665065,0.8214680929546293,0.76392475101438584,0.72556252305422353,0.68129841386942092,0.67355219476208039,0.64146071560309847,"Menachos ",{"$f":"VLOOKUP(Schedule!M2291,#REF!,2,FALSE)","v":{"$error":"#REF!"}}]
["2026-04-13",2,"Menachos 92",{"$f":"COUNT($A$2:A2292)","v":2291},6873,0.84507561785319074,0.82183696053116928,0.76429361859092582,0.72593139063076351,0.68166728144596089,0.67392106233862048,0.64182958317963856,"Menachos ",{"$f":"VLOOKUP(Schedule!M2292,#REF!,2,FALSE)","v":{"$error":"#REF!"}}]
["2026-04-14",3,"Menachos 93",{"$f":"COUNT($A$2:A2293)","v":2292},6876,0.84544448542973072,0.82220582810770937,0.7646624861674659,0.7263002582073036,0.68203614902250087,0.67428992991516046,0.64219845075617854,"Menachos ",{"$f":"VLOOKUP(Schedule!M2293,#REF!,2,FALSE)","v":{"$error":"#REF!"}}]
["2026-04-15",4,"Menachos 94",{"$f":"COUNT($A$2:A2294)","v":2293},6879,0.8458133530062707,0.82257469568424935,0.76503135374400588,0.72666912578384357,0.68240501659904096,0.67465879749170043,0.64256731833271852,"Menachos ",{"$f":"VLOOKUP(Schedule!M2294,#REF!,2,FALSE)","v":{"$error":"#REF!"}}]
["2026-04-16",5,"Menachos 95",{"$f":"COUNT($A$2:A2295)","v":2294},6882,0.84618222058281078,0.82294356326078932,0.76540022132054597,0.72703799336038366,0.68277388417558094,0.67502766506824052,0.64293618590925861,"Menachos ",{"$f":"VLOOKUP(Schedule!M2295,#REF!,2,FALSE)","v":{"$error":"#REF!"}}]
["2026-04-17",6,"Menachos 96",{"$f":"COUNT($A$2:A2296)","v":2295},6885,0.84655108815935076,0.82331243083732941,0.76576908889708595,0.72740686093692364,0.68314275175212102,0.6753965326447805,0.64330505348579858,"Menachos ",{"$f":"VLOOKUP(Schedule!M2296,#REF!,2,FALSE)","v":{"$error":"#REF!"}}]
["2026-04-18",7,"Menachos 97",{"$f":"COUNT($A$2:A2297)","v":2296},6888,0.84691995573589085,0.82368129841386939,0.76613795647362593,0.72777572851346362,0.683511619328661,0.67576540022132059,0.64367392106233867,"Menachos ",{"$f":"VLOOKUP(Schedule!M2297,#REF!,2,FALSE)","v":{"$error":"#REF!"}}]
["2026-04-19",1,"Menachos 98",{"$f":"COUNT($A$2:A2298)","v":2297},6891,0.84728882331243083,0.82405016599040948,0.76650682405016601,0.7281445960900037,0.68388048690520098,0.67613426779786057,0.64404278863887865,"Menachos ",{"$f":"VLOOKUP(Schedule!M2298,#REF!,2,FALSE)","v":{"$error":"#REF!"}}]
["2026-04-20",2,"Menachos 99",{"$f":"COUNT($A$2:A2299)","v":2298},6894,0.84765769088897081,0.82441903356694946,0.76687569162670599,0.72851346366654368,0.68424935448174107,0.67650313537440054,0.64441165621541863,"Menachos ",{"$f":"VLOOKUP(Schedule!M2299,#REF!,2,FALSE)","v":{"$error":"#REF!"}}]
["2026-04-21",3,"Menachos 100",{"$f":"COUNT($A$2:A2300)","v":2299},6897,0.84802655846551089,0.82478790114348943,0.76724455920324608,0.72888233124308377,0.68461822205828105,0.67687200295094063,0.64478052379195872,"Menachos ",{"$f":"VLOOKUP(Schedule!M2300,#REF!,2,FALSE)","v":{"$error":"#REF!"}}]
["2026-04-22",4,"Menachos 101",{"$f":"COUNT($A$2:A2301)","v":2300},6900,0.84839542604205087,0.82515676872002952,0.76761342677978606,0.72925119881962375,0.68498708963482113,0.67724087052748061,0.64514939136849869,"Menachos ",{"$f":"VLOOKUP(Schedule!M2301,#REF!,2,FALSE)","v":{"$error":"#REF!"}}]
["2026-04-23",5,"Menachos 102",{"$f":"COUNT($A$2:A2302)","v":2301},6903,0.84876429361859096,0.8255256362965695,0.76798229435632603,0.72962006639616372,{"$f":"(D2302-443)/2711","v":0.68535595721136111},0.6776097381040207,0.64551825894503878,"Menachos ",{"$f":"VLOOKUP(Schedule!M2302,#REF!,2,FALSE)","v":{"$error":"#REF!"}}]
["2026-04-24",6,"Menachos 103",{"$f":"COUNT($A$2:A2303)","v":2302},6906,0.84913316119513094,0.82589450387310959,0.76835116193286612,0.72998893397270381,0.68572482478790109,0.67797860568056068,0.64588712652157876,"Menachos ",{"$f":"VLOOKUP(Schedule!M2303,#REF!,2,FALSE)","v":{"$error":"#REF!"}}]
["2026-04-25",7,"Menachos 104",{"$f":"COUNT($A$2:A2304)","v":2303},6909,0.84950202877167102,0.82626337144964956,0.7687200295094061,0.73035780154924379,0.68609369236444118,0.67834747325710065,0.64625599409811874,"Menachos ",{"$f":"VLOOKUP(Schedule!M2304,#REF!,2,FALSE)","v":{"$error":"#REF!"}}]
["2026-04-26",1,"Menachos 105",{"$f":"COUNT($A$2:A2305)","v":2304},6912,0.849870896348211,0.82663223902618965,0.76908889708594619,0.73072666912578388,0.68646255994098115,0.67871634083364074,0.64662486167465882,"Menachos ",{"$f":"VLOOKUP(Schedule!M2305,#REF!,2,FALSE)","v":{"$error":"#REF!"}}]
["2026-04-27",2,"Menachos 106",{"$f":"COUNT($A$2:A2306)","v":2305},{"$f":"D2306*3","v":6915},0.85023976392475098,{"$f":"(D2306-63)/2711","v":0.82700110660272963},0.76945776466248617,0.73109553670232386,0.68683142751752124,0.67908520841018072,0.6469937292511988,"Menachos ",{"$f":"VLOOKUP(Schedule!M2306,#REF!,2,FALSE)","v":{"$error":"#REF!"}}]
["2026-04-28",{"$f":"WEEKDAY(A2307)","v":3},"Menachos 107",{"$f":"COUNT($A$2:A2307)","v":2306},6918,{"$f":"D2307/2711","v":0.85060863150129107},0.82736997417926961,0.76982663223902614,0.73146440427886383,0.68720029509406122,0.67945407598672081,0.64736259682773889,{"$f":"LEFT(C2307,FIND(\"☃\",SUBSTITUTE(C2307,\" \",\"☃\",LEN(C2307)-LEN(SUBSTITUTE(C2307,\" \",\"\")))))","v":"Menachos "},{"$f":"VLOOKUP(Schedule!M2307,#REF!,2,FALSE)","v":{"$error":"#REF!"}}]
["2026-04-29",4,"Menachos 108",{"$f":"COUNT($A$2:A2308)","v":2307},6921,0.85097749907783105,0.8277388417558097,0.77019549981556623,0.73183327185540392,0.68756916267060131,0.67982294356326078,0.64773146440427887,"Menachos ",{"$f":"VLOOKUP(Schedule!M2308,#REF!,2,FALSE)","v":{"$error":"#REF!"}}]
["2026-04-30",5,"Menachos 109",{"$f":"COUNT($A$2:A2309)","v":2308},6924,0.85134636665437113,0.82810770933234967,0.77056436739210621,0.7322021394319439,0.68793803024714129,0.68019181113980076,0.64810033198081884,"Menachos ",{"$f":"VLOOKUP(Schedule!M2309,#REF!,2,FALSE)","v":{"$error":"#REF!"}}]
["2026-05-01",6,"Menachos 110",{"$f":"COUNT($A$2:A2310)","v":2309},6927,0.85171523423091111,0.82847657690888976,0.7709332349686463,{"$f":"(D2310-323)/2711","v":0.73257100700848399},0.68830689782368126,0.68056067871634085,0.64846919955735893,"Menachos ",{"$f":"VLOOKUP(Schedule!M2310,#REF!,2,FALSE)","v":{"$error":"#REF!"}}]
["2026-05-02",7,"Chullin 2",{"$f":"COUNT($A$2:A2311)","v":2310},6930,0.85208410180745109,0.82884544448542974,0.77130210254518627,0.73293987458502396,0.68867576540022135,0.68092954629288083,0.64883806713389891,"Chullin ",{"$f":"VLOOKUP(Schedule!M2311,#REF!,2,FALSE)","v":{"$error":"#REF!"}}]
["2026-05-03",1,"Chullin 3",{"$f":"COUNT($A$2:A2312)","v":2311},6933,0.85245296938399118,0.82921431206196972,0.77167097012172625,0.73330874216156405,0.68904463297676133,0.68129841386942092,0.649206934710439,"Chullin ",{"$f":"VLOOKUP(Schedule!M2312,#REF!,2,FALSE)","v":{"$error":"#REF!"}}]
["2026-05-04",2,"Chullin 4",{"$f":"COUNT($A$2:A2313)","v":2312},6936,0.85282183696053115,0.8295831796385098,0.77203983769826634,0.73367760973810403,0.68941350055330142,0.68166728144596089,0.64957580228697898,"Chullin ",{"$f":"VLOOKUP(Schedule!M2313,#REF!,2,FALSE)","v":{"$error":"#REF!"}}]
["2026-05-05",3,"Chullin 5",{"$f":"COUNT($A$2:A2314)","v":2313},6939,0.85319070453707124,0.82995204721504978,0.77240870527480632,0.73404647731464401,0.68978236812984139,0.68203614902250087,0.64994466986351895,"Chullin ",{"$f":"VLOOKUP(Schedule!M2314,#REF!,2,FALSE)","v":{"$error":"#REF!"}}]
["2026-05-06",4,"Chullin 6",{"$f":"COUNT($A$2:A2315)","v":2314},6942,0.85355957211361122,0.83032091479158987,0.77277757285134641,0.7344153448911841,0.69015123570638137,0.68240501659904096,0.65031353744005904,"Chullin ",{"$f":"VLOOKUP(Schedule!M2315,#REF!,2,FALSE)","v":{"$error":"#REF!"}}]
["2026-05-07",5,"Chullin 7",{"$f":"COUNT($A$2:A2316)","v":2315},6945,0.8539284396901512,0.83068978236812985,0.77314644042788638,0.73478421246772407,0.69052010328292146,0.68277388417558094,0.65068240501659902,"Chullin ",{"$f":"VLOOKUP(Schedule!M2316,#REF!,2,FALSE)","v":{"$error":"#REF!"}}]
["2026-05-08",6,"Chullin 8",{"$f":"COUNT($A$2:A2317)","v":2316},6948,0.85429730726669129,0.83105864994466982,0.77351530800442636,0.73515308004426416,0.69088897085946144,0.68314275175212102,0.65105127259313911,"Chullin ",{"$f":"VLOOKUP(Schedule!M2317,#REF!,2,FALSE)","v":{"$error":"#REF!"}}]
["2026-05-09",7,"Chullin 9",{"$f":"COUNT($A$2:A2318)","v":2317},6951,0.85466617484323126,0.83142751752120991,0.77388417558096645,0.73552194762080414,0.69125783843600153,0.683511619328661,0.65142014016967908,"Chullin ",{"$f":"VLOOKUP(Schedule!M2318,#REF!,2,FALSE)","v":{"$error":"#REF!"}}]
["2026-05-10",1,"Chullin 10",{"$f":"COUNT($A$2:A2319)","v":2318},6954,0.85503504241977135,0.83179638509774989,0.77425304315750643,0.73589081519734412,0.6916267060125415,0.68388048690520098,0.65178900774621906,"Chullin ",{"$f":"VLOOKUP(Schedule!M2319,#REF!,2,FALSE)","v":{"$error":"#REF!"}}]
["2026-05-11",2,"Chullin 11",{"$f":"COUNT($A$2:A2320)","v":2319},6957,0.85540390999631133,0.83216525267428998,0.77462191073404651,0.73625968277388421,0.69199557358908148,0.68424935448174107,0.65215787532275915,"Chullin ",{"$f":"VLOOKUP(Schedule!M2320,#REF!,2,FALSE)","v":{"$error":"#REF!"}}]
["2026-05-12",3,"Chullin 12",{"$f":"COUNT($A$2:A2321)","v":2320},6960,0.85577277757285131,0.83253412025082996,0.77499077831058649,0.73662855035042418,0.69236444116562157,0.68461822205828105,0.65252674289929913,"Chullin ",{"$f":"VLOOKUP(Schedule!M2321,#REF!,2,FALSE)","v":{"$error":"#REF!"}}]
["2026-05-13",4,"Chullin 13",{"$f":"COUNT($A$2:A2322)","v":2321},6963,0.85614164514939139,0.83290298782736993,0.77535964588712647,0.73699741792696427,0.69273330874216155,{"$f":"(D2322-464)/2711","v":0.68498708963482113},0.65289561047583922,"Chullin ",{"$f":"VLOOKUP(Schedule!M2322,#REF!,2,FALSE)","v":{"$error":"#REF!"}}]
["2026-05-14",5,"Chullin 14",{"$f":"COUNT($A$2:A2323)","v":2322},6966,0.85651051272593137,0.83327185540391002,0.77572851346366656,0.73736628550350425,0.69310217631870163,0.68535595721136111,0.65326447805237919,"Chullin ",{"$f":"VLOOKUP(Schedule!M2323,#REF!,2,FALSE)","v":{"$error":"#REF!"}}]
["2026-05-15",6,"Chullin 15",{"$f":"COUNT($A$2:A2324)","v":2323},6969,0.85687938030247146,0.83364072298045,0.77609738104020654,0.73773515308004423,0.69347104389524161,0.68572482478790109,0.65363334562891917,"Chullin ",{"$f":"VLOOKUP(Schedule!M2324,#REF!,2,FALSE)","v":{"$error":"#REF!"}}]
["2026-05-16",7,"Chullin 16",{"$f":"COUNT($A$2:A2325)","v":2324},6972,0.85724824787901144,0.83400959055699009,0.77646624861674662,0.73810402065658431,0.69383991147178159,0.68609369236444118,0.65400221320545926,"Chullin ",{"$f":"VLOOKUP(Schedule!M2325,#REF!,2,FALSE)","v":{"$error":"#REF!"}}]
["2026-05-17",1,"Chullin 17",{"$f":"COUNT($A$2:A2326)","v":2325},6975,0.85761711545555142,0.83437845813353007,0.7768351161932866,0.73847288823312429,0.69420877904832168,0.68646255994098115,0.65437108078199924,"Chullin ",{"$f":"VLOOKUP(Schedule!M2326,#REF!,2,FALSE)","v":{"$error":"#REF!"}}]
["2026-05-18",2,"Chullin 18",{"$f":"COUNT($A$2:A2327)","v":2326},6978,0.8579859830320915,0.83474732571007004,0.77720398376982658,0.73884175580966438,0.69457764662486166,0.68683142751752124,0.65473994835853933,"Chullin ",{"$f":"VLOOKUP(Schedule!M2327,#REF!,2,FALSE)","v":{"$error":"#REF!"}}]
["2026-05-19",3,"Chullin 19",{"$f":"COUNT($A$2:A2328)","v":2327},6981,0.85835485060863148,0.83511619328661013,0.77757285134636667,0.73921062338620436,0.69494651420140174,0.68720029509406122,0.6551088159350793,"Chullin ",{"$f":"VLOOKUP(Schedule!M2328,#REF!,2,FALSE)","v":{"$error":"#REF!"}}]
["2026-05-20",4,"Chullin 20",{"$f":"COUNT($A$2:A2329)","v":2328},6984,0.85872371818517157,0.83548506086315011,0.77794171892290664,0.73957949096274433,0.69531538177794172,0.68756916267060131,0.65547768351161928,"Chullin ",{"$f":"VLOOKUP(Schedule!M2329,#REF!,2,FALSE)","v":{"$error":"#REF!"}}]
["2026-05-21",5,"Chullin 21",{"$f":"COUNT($A$2:A2330)","v":2329},6987,0.85909258576171155,0.8358539284396902,0.77831058649944673,0.73994835853928442,0.6956842493544817,0.68793803024714129,0.65584655108815937,"Chullin ",{"$f":"VLOOKUP(Schedule!M2330,#REF!,2,FALSE)","v":{"$error":"#REF!"}}]
["2026-05-22",6,"Chullin 22",{"$f":"COUNT($A$2:A2331)","v":2330},6990,0.85946145333825152,0.83622279601623017,0.77867945407598671,0.7403172261158244,0.69605311693102179,0.68830689782368126,0.65621541866469935,"Chullin ",{"$f":"VLOOKUP(Schedule!M2331,#REF!,2,FALSE)","v":{"$error":"#REF!"}}]
["2026-05-23",7,"Chullin 23",{"$f":"COUNT($A$2:A2332)","v":2331},6993,0.85983032091479161,0.83659166359277015,0.7790483216525268,0.74068609369236449,0.69642198450756176,0.68867576540022135,0.65658428624123943,"Chullin ",{"$f":"VLOOKUP(Schedule!M2332,#REF!,2,FALSE)","v":{"$error":"#REF!"}}]
["2026-05-24",1,"Chullin 24",{"$f":"COUNT($A$2:A2333)","v":2332},6996,0.86019918849133159,0.83696053116931024,0.77941718922906678,0.74105496126890447,0.69679085208410185,0.68904463297676133,0.65695315381777941,"Chullin ",{"$f":"VLOOKUP(Schedule!M2333,#REF!,2,FALSE)","v":{"$error":"#REF!"}}]
["2026-05-25",2,"Chullin 25",{"$f":"COUNT($A$2:A2334)","v":2333},6999,0.86056805606787168,0.83732939874585022,{"$f":"(D2334-219)/2711","v":0.77978605680560675},0.74142382884544444,0.69715971966064183,0.68941350055330142,0.65732202139431939,"Chullin ",{"$f":"VLOOKUP(Schedule!M2334,#REF!,2,FALSE)","v":{"$error":"#REF!"}}]
["2026-05-26",3,"Chullin 26",{"$f":"COUNT($A$2:A2335)","v":2334},7002,0.86093692364441166,0.83769826632239031,0.78015492438214684,0.74179269642198453,0.69752858723718181,0.68978236812984139,0.65769088897085948,"Chullin ",{"$f":"VLOOKUP(Schedule!M2335,#REF!,2,FALSE)","v":{"$error":"#REF!"}}]
["2026-05-27",4,"Chullin 27",{"$f":"COUNT($A$2:A2336)","v":2335},7005,0.86130579122095163,0.83806713389893028,0.78052379195868682,0.74216156399852451,0.6978974548137219,0.69015123570638137,0.65805975654739945,"Chullin ",{"$f":"VLOOKUP(Schedule!M2336,#REF!,2,FALSE)","v":{"$error":"#REF!"}}]
["2026-05-28",5,"Chullin 28",{"$f":"COUNT($A$2:A2337)","v":2336},7008,0.86167465879749172,0.83843600147547026,0.78089265953522691,0.7425304315750646,0.69826632239026187,0.69052010328292146,0.65842862412393954,"Chullin ",{"$f":"VLOOKUP(Schedule!M2337,#REF!,2,FALSE)","v":{"$error":"#REF!"}}]
["2026-05-29",6,"Chullin 29",{"$f":"COUNT($A$2:A2338)","v":2337},7011,0.8620435263740317,0.83880486905201035,0.78126152711176688,0.74289929915160458,0.69863518996680196,0.69088897085946144,0.65879749170047952,"Chullin ",{"$f":"VLOOKUP(Schedule!M2338,#REF!,2,FALSE)","v":{"$error":"#REF!"}}]
["2026-05-30",7,"Chullin 30",{"$f":"COUNT($A$2:A2339)","v":2338},7014,0.86241239395057179,0.83917373662855033,0.78163039468830686,0.74326816672814455,0.69900405754334194,0.69125783843600153,0.6591663592770195,"Chullin ",{"$f":"VLOOKUP(Schedule!M2339,#REF!,2,FALSE)","v":{"$error":"#REF!"}}]
["2026-05-31",1,"Chullin 31",{"$f":"COUNT($A$2:A2340)","v":2339},7017,0.86278126152711176,0.83954260420509041,0.78199926226484695,0.74363703430468464,0.69937292511988192,0.6916267060125415,0.65953522685355959,"Chullin ",{"$f":"VLOOKUP(Schedule!M2340,#REF!,2,FALSE)","v":{"$error":"#REF!"}}]
["2026-06-01",2,"Chullin 32",{"$f":"COUNT($A$2:A2341)","v":2340},7020,0.86315012910365174,0.83991147178163039,0.78236812984138693,0.74400590188122462,0.699741792696422,0.69199557358908148,0.65990409443009956,"Chullin ",{"$f":"VLOOKUP(Schedule!M2341,#REF!,2,FALSE)","v":{"$error":"#REF!"}}]
["2026-06-02",3,"Chullin 33",{"$f":"COUNT($A$2:A2342)","v":2341},7023,0.86351899668019183,0.84028033935817037,0.78273699741792702,0.74437476945776471,0.70011066027296198,0.69236444116562157,0.66027296200663965,"Chullin ",{"$f":"VLOOKUP(Schedule!M2342,#REF!,2,FALSE)","v":{"$error":"#REF!"}}]
["2026-06-03",4,"Chullin 34",{"$f":"COUNT($A$2:A2343)","v":2342},7026,0.86388786425673181,0.84064920693471046,0.78310586499446699,0.74474363703430468,0.70047952784950207,0.69273330874216155,0.66064182958317963,"Chullin ",{"$f":"VLOOKUP(Schedule!M2343,#REF!,2,FALSE)","v":{"$error":"#REF!"}}]
["2026-06-04",5,"Chullin 35",{"$f":"COUNT($A$2:A2344)","v":2343},7029,0.8642567318332719,0.84101807451125044,0.78347473257100697,0.74511250461084466,0.70084839542604205,0.69310217631870163,0.66101069715971961,"Chullin ",{"$f":"VLOOKUP(Schedule!M2344,#REF!,2,FALSE)","v":{"$error":"#REF!"}}]
["2026-06-05",6,"Chullin 36",{"$f":"COUNT($A$2:A2345)","v":2344},7032,0.86462559940981187,0.84138694208779052,0.78384360014754706,0.74548137218738475,0.70121726300258203,0.69347104389524161,0.6613795647362597,"Chullin ",{"$f":"VLOOKUP(Schedule!M2345,#REF!,2,FALSE)","v":{"$error":"#REF!"}}]
["2026-06-06",7,"Chullin 37",{"$f":"COUNT($A$2:A2346)","v":2345},7035,0.86499446698635185,0.8417558096643305,0.78421246772408704,0.74585023976392473,0.70158613057912211,0.69383991147178159,{"$f":"(D2346-551)/2711","v":0.66174843231279967},"Chullin ",{"$f":"VLOOKUP(Schedule!M2346,#REF!,2,FALSE)","v":{"$error":"#REF!"}}]
["2026-06-07",1,"Chullin 38",{"$f":"COUNT($A$2:A2347)","v":2346},7038,0.86536333456289194,0.84212467724087048,0.78458133530062713,0.74621910734046482,0.70195499815566209,0.69420877904832168,0.66211729988933976,"Chullin ",{"$f":"VLOOKUP(Schedule!M2347,#REF!,2,FALSE)","v":{"$error":"#REF!"}}]
["2026-06-08",2,"Chullin 39",{"$f":"COUNT($A$2:A2348)","v":2347},7041,0.86573220213943192,0.84249354481741057,0.7849502028771671,0.74658797491700479,0.70232386573220218,0.69457764662486166,0.66248616746587974,"Chullin ",{"$f":"VLOOKUP(Schedule!M2348,#REF!,2,FALSE)","v":{"$error":"#REF!"}}]
["2026-06-09",3,"Chullin 40",{"$f":"COUNT($A$2:A2349)","v":2348},7044,0.86610106971597201,0.84286241239395054,0.78531907045370708,0.74695684249354477,0.70269273330874216,0.69494651420140174,0.66285503504241983,"Chullin ",{"$f":"VLOOKUP(Schedule!M2349,#REF!,2,FALSE)","v":{"$error":"#REF!"}}]
["2026-06-10",4,"Chullin 41",{"$f":"COUNT($A$2:A2350)","v":2349},7047,0.86646993729251198,0.84323127997049063,0.78568793803024717,0.74732571007008486,0.70306160088528213,0.69531538177794172,0.6632239026189598,"Chullin ",{"$f":"VLOOKUP(Schedule!M2350,#REF!,2,FALSE)","v":{"$error":"#REF!"}}]
["2026-06-11",5,"Chullin 42",{"$f":"COUNT($A$2:A2351)","v":2350},7050,0.86683880486905196,0.84360014754703061,0.78605680560678715,0.74769457764662484,0.70343046846182222,0.6956842493544817,0.66359277019549978,"Chullin ",{"$f":"VLOOKUP(Schedule!M2351,#REF!,2,FALSE)","v":{"$error":"#REF!"}}]
["2026-06-12",6,"Chullin 43",{"$f":"COUNT($A$2:A2352)","v":2351},7053,0.86720767244559205,0.84396901512357059,0.78642567318332723,0.74806344522316492,0.7037993360383622,0.69605311693102179,0.66396163777203987,"Chullin ",{"$f":"VLOOKUP(Schedule!M2352,#REF!,2,FALSE)","v":{"$error":"#REF!"}}]
["2026-06-13",7,"Chullin 44",{"$f":"COUNT($A$2:A2353)","v":2352},7056,0.86757654002213203,0.84433788270011068,0.78679454075986721,0.7484323127997049,0.70416820361490229,0.69642198450756176,0.66433050534857985,"Chullin ",{"$f":"VLOOKUP(Schedule!M2353,#REF!,2,FALSE)","v":{"$error":"#REF!"}}]
["2026-06-14",1,"Chullin 45",{"$f":"COUNT($A$2:A2354)","v":2353},7059,0.86794540759867211,0.84470675027665065,0.78716340833640719,0.74880118037624488,0.70453707119144227,0.69679085208410185,0.66469937292511994,"Chullin ",{"$f":"VLOOKUP(Schedule!M2354,#REF!,2,FALSE)","v":{"$error":"#REF!"}}]
["2026-06-15",2,"Chullin 46",{"$f":"COUNT($A$2:A2355)","v":2354},7062,0.86831427517521209,0.84507561785319074,0.78753227591294728,0.74917004795278497,0.70490593876798224,0.69715971966064183,0.66506824050165991,"Chullin ",{"$f":"VLOOKUP(Schedule!M2355,#REF!,2,FALSE)","v":{"$error":"#REF!"}}]
["2026-06-16",3,"Chullin 47",{"$f":"COUNT($A$2:A2356)","v":2355},7065,0.86868314275175207,0.84544448542973072,0.78790114348948725,0.74953891552932495,0.70527480634452233,0.69752858723718181,0.66543710807819989,"Chullin ",{"$f":"VLOOKUP(Schedule!M2356,#REF!,2,FALSE)","v":{"$error":"#REF!"}}]
["2026-06-17",4,"Chullin 48",{"$f":"COUNT($A$2:A2357)","v":2356},7068,0.86905201032829216,0.8458133530062707,0.78827001106602734,0.74990778310586503,0.70564367392106231,0.6978974548137219,0.66580597565473998,"Chullin ",{"$f":"VLOOKUP(Schedule!M2357,#REF!,2,FALSE)","v":{"$error":"#REF!"}}]
["2026-06-18",5,"Chullin 49",{"$f":"COUNT($A$2:A2358)","v":2357},7071,0.86942087790483213,0.84618222058281078,0.78863887864256732,0.75027665068240501,0.7060125414976024,0.69826632239026187,0.66617484323127996,"Chullin ",{"$f":"VLOOKUP(Schedule!M2358,#REF!,2,FALSE)","v":{"$error":"#REF!"}}]
["2026-06-19",6,"Chullin 50",{"$f":"COUNT($A$2:A2359)","v":2358},7074,0.86978974548137222,0.84655108815935076,0.7890077462191073,0.75064551825894499,0.70638140907414237,0.69863518996680196,0.66654371080782004,"Chullin ",{"$f":"VLOOKUP(Schedule!M2359,#REF!,2,FALSE)","v":{"$error":"#REF!"}}]
["2026-06-20",7,"Chullin 51",{"$f":"COUNT($A$2:A2360)","v":2359},7077,0.8701586130579122,0.84691995573589085,0.78937661379564739,0.75101438583548508,0.70675027665068235,0.69900405754334194,0.66691257838436002,"Chullin ",{"$f":"VLOOKUP(Schedule!M2360,#REF!,2,FALSE)","v":{"$error":"#REF!"}}]
["2026-06-21",1,"Chullin 52",{"$f":"COUNT($A$2:A2361)","v":2360},7080,0.87052748063445218,0.84728882331243083,0.78974548137218736,0.75138325341202505,0.70711914422722244,0.69937292511988192,0.6672814459609,"Chullin ",{"$f":"VLOOKUP(Schedule!M2361,#REF!,2,FALSE)","v":{"$error":"#REF!"}}]
["2026-06-22",2,"Chullin 53",{"$f":"COUNT($A$2:A2362)","v":2361},7083,0.87089634821099227,0.84765769088897081,0.79011434894872745,0.75175212098856514,0.70748801180376242,0.699741792696422,0.66765031353744009,"Chullin ",{"$f":"VLOOKUP(Schedule!M2362,#REF!,2,FALSE)","v":{"$error":"#REF!"}}]
["2026-06-23",3,"Chullin 54",{"$f":"COUNT($A$2:A2363)","v":2362},7086,0.87126521578753224,0.84802655846551089,0.79048321652526743,0.75212098856510512,0.70785687938030251,0.70011066027296198,0.66801918111398007,"Chullin ",{"$f":"VLOOKUP(Schedule!M2363,#REF!,2,FALSE)","v":{"$error":"#REF!"}}]
["2026-06-24",4,"Chullin 55",{"$f":"COUNT($A$2:A2364)","v":2363},7089,0.87163408336407233,0.84839542604205087,0.79085208410180741,0.7524898561416451,0.70822574695684248,0.70047952784950207,0.66838804869052015,"Chullin ",{"$f":"VLOOKUP(Schedule!M2364,#REF!,2,FALSE)","v":{"$error":"#REF!"}}]
["2026-06-25",5,"Chullin 56",{"$f":"COUNT($A$2:A2365)","v":2364},7092,0.87200295094061231,0.84876429361859096,0.79122095167834749,0.75285872371818519,0.70859461453338246,0.70084839542604205,0.66875691626706013,"Chullin ",{"$f":"VLOOKUP(Schedule!M2365,#REF!,2,FALSE)","v":{"$error":"#REF!"}}]
["2026-06-26",6,"Chullin 57",{"$f":"COUNT($A$2:A2366)","v":2365},7095,0.8723718185171524,0.84913316119513094,0.79158981925488747,0.75322759129472516,{"$f":"(D2366-443)/2711","v":0.70896348210992255},0.70121726300258203,0.66912578384360011,"Chullin ",{"$f":"VLOOKUP(Schedule!M2366,#REF!,2,FALSE)","v":{"$error":"#REF!"}}]
["2026-06-27",7,"Chullin 58",{"$f":"COUNT($A$2:A2367)","v":2366},7098,0.87274068609369237,0.84950202877167102,0.79195868683142756,0.75359645887126525,0.70933234968646253,0.70158613057912211,0.6694946514201402,"Chullin ",{"$f":"VLOOKUP(Schedule!M2367,#REF!,2,FALSE)","v":{"$error":"#REF!"}}]
["2026-06-28",1,"Chullin 59",{"$f":"COUNT($A$2:A2368)","v":2367},7101,0.87310955367023235,0.849870896348211,0.79232755440796754,0.75396532644780523,0.70970121726300261,0.70195499815566209,0.66986351899668017,"Chullin ",{"$f":"VLOOKUP(Schedule!M2368,#REF!,2,FALSE)","v":{"$error":"#REF!"}}]
["2026-06-29",2,"Chullin 60",{"$f":"COUNT($A$2:A2369)","v":2368},7104,0.87347842124677244,0.85023976392475098,0.79269642198450752,0.75433419402434521,0.71007008483954259,0.70232386573220218,0.67023238657322026,"Chullin ",{"$f":"VLOOKUP(Schedule!M2369,#REF!,2,FALSE)","v":{"$error":"#REF!"}}]
["2026-06-30",3,"Chullin 61",{"$f":"COUNT($A$2:A2370)","v":2369},{"$f":"D2370*3","v":7107},0.87384728882331242,{"$f":"(D2370-63)/2711","v":0.85060863150129107},0.7930652895610476,0.75470306160088529,0.71043895241608268,0.70269273330874216,0.67060125414976024,"Chullin ",{"$f":"VLOOKUP(Schedule!M2370,#REF!,2,FALSE)","v":{"$error":"#REF!"}}]
["2026-07-01",{"$f":"WEEKDAY(A2371)","v":4},"Chullin 62",{"$f":"COUNT($A$2:A2371)","v":2370},7110,{"$f":"D2371/2711","v":0.87421615639985251},0.85097749907783105,0.79343415713758758,0.75507192917742527,0.71080781999262266,0.70306160088528213,0.67097012172630022,{"$f":"LEFT(C2371,FIND(\"☃\",SUBSTITUTE(C2371,\" \",\"☃\",LEN(C2371)-LEN(SUBSTITUTE(C2371,\" \",\"\")))))","v":"Chullin "},{"$f":"VLOOKUP(Schedule!M2371,#REF!,2,FALSE)","v":{"$error":"#REF!"}}]
["2026-07-02",5,"Chullin 63",{"$f":"COUNT($A$2:A2372)","v":2371},7113,0.87458502397639248,0.85134636665437113,0.79380302471412767,0.75544079675396536,0.71117668756916264,0.70343046846182222,0.67133898930284031,"Chullin ",{"$f":"VLOOKUP(Schedule!M2372,#REF!,2,FALSE)","v":{"$error":"#REF!"}}]
["2026-07-03",6,"Chullin 64",{"$f":"COUNT($A$2:A2373)","v":2372},7116,0.87495389155293246,0.85171523423091111,0.79417189229066765,0.75580966433050534,0.71154555514570272,0.7037993360383622,0.67170785687938028,"Chullin ",{"$f":"VLOOKUP(Schedule!M2373,#REF!,2,FALSE)","v":{"$error":"#REF!"}}]
["2026-07-04",7,"Chullin 65",{"$f":"COUNT($A$2:A2374)","v":2373},7119,0.87532275912947255,0.85208410180745109,0.79454075986720762,{"$f":"(D2374-323)/2711","v":0.75617853190704543},0.7119144227222427,0.70416820361490229,0.67207672445592037,"Chullin ",{"$f":"VLOOKUP(Schedule!M2374,#REF!,2,FALSE)","v":{"$error":"#REF!"}}]
["2026-07-05",1,"Chullin 66",{"$f":"COUNT($A$2:A2375)","v":2374},7122,0.87569162670601253,0.85245296938399118,0.79490962744374771,0.7565473994835854,0.71228329029878279,0.70453707119144227,0.67244559203246035,"Chullin ",{"$f":"VLOOKUP(Schedule!M2375,#REF!,2,FALSE)","v":{"$error":"#REF!"}}]
["2026-07-06",2,"Chullin 67",{"$f":"COUNT($A$2:A2376)","v":2375},7125,0.87606049428255262,0.85282183696053115,0.79527849502028769,0.75691626706012538,0.71265215787532277,0.70490593876798224,0.67281445960900033,"Chullin ",{"$f":"VLOOKUP(Schedule!M2376,#REF!,2,FALSE)","v":{"$error":"#REF!"}}]
["2026-07-07",3,"Chullin 68",{"$f":"COUNT($A$2:A2377)","v":2376},7128,0.87642936185909259,0.85319070453707124,0.79564736259682778,0.75728513463666547,0.71302102545186274,0.70527480634452233,0.67318332718554041,"Chullin ",{"$f":"VLOOKUP(Schedule!M2377,#REF!,2,FALSE)","v":{"$error":"#REF!"}}]
["2026-07-08",4,"Chullin 69",{"$f":"COUNT($A$2:A2378)","v":2377},7131,0.87679822943563257,0.85355957211361122,0.79601623017336776,0.75765400221320545,0.71338989302840283,0.70564367392106231,0.67355219476208039,"Chullin ",{"$f":"VLOOKUP(Schedule!M2378,#REF!,2,FALSE)","v":{"$error":"#REF!"}}]
["2026-07-09",5,"Chullin 70",{"$f":"COUNT($A$2:A2379)","v":2378},7134,0.87716709701217266,0.8539284396901512,0.79638509774990773,0.75802286978974553,0.71375876060494281,0.7060125414976024,0.67392106233862048,"Chullin ",{"$f":"VLOOKUP(Schedule!M2379,#REF!,2,FALSE)","v":{"$error":"#REF!"}}]
["2026-07-10",6,"Chullin 71",{"$f":"COUNT($A$2:A2380)","v":2379},7137,0.87753596458871264,0.85429730726669129,0.79675396532644782,0.75839173736628551,0.7141276281814829,0.70638140907414237,0.67428992991516046,"Chullin ",{"$f":"VLOOKUP(Schedule!M2380,#REF!,2,FALSE)","v":{"$error":"#REF!"}}]
["2026-07-11",7,"Chullin 72",{"$f":"COUNT($A$2:A2381)","v":2380},7140,0.87790483216525272,0.85466617484323126,0.7971228329029878,0.75876060494282549,0.71449649575802288,0.70675027665068235,0.67465879749170043,"Chullin ",{"$f":"VLOOKUP(Schedule!M2381,#REF!,2,FALSE)","v":{"$error":"#REF!"}}]
["2026-07-12",1,"Chullin 73",{"$f":"COUNT($A$2:A2382)","v":2381},7143,0.8782736997417927,0.85503504241977135,0.79749170047952789,0.75912947251936558,0.71486536333456285,0.70711914422722244,0.67502766506824052,"Chullin ",{"$f":"VLOOKUP(Schedule!M2382,#REF!,2,FALSE)","v":{"$error":"#REF!"}}]
["2026-07-13",2,"Chullin 74",{"$f":"COUNT($A$2:A2383)","v":2382},7146,0.87864256731833268,0.85540390999631133,0.79786056805606786,0.75949834009590556,0.71523423091110294,0.70748801180376242,0.6753965326447805,"Chullin ",{"$f":"VLOOKUP(Schedule!M2383,#REF!,2,FALSE)","v":{"$error":"#REF!"}}]
["2026-07-14",3,"Chullin 75",{"$f":"COUNT($A$2:A2384)","v":2383},7149,0.87901143489487277,0.85577277757285131,0.79822943563260784,0.75986720767244564,0.71560309848764292,0.70785687938030251,0.67576540022132059,"Chullin ",{"$f":"VLOOKUP(Schedule!M2384,#REF!,2,FALSE)","v":{"$error":"#REF!"}}]
["2026-07-15",4,"Chullin 76",{"$f":"COUNT($A$2:A2385)","v":2384},7152,0.87938030247141274,0.85614164514939139,0.79859830320914793,0.76023607524898562,0.71597196606418301,0.70822574695684248,0.67613426779786057,"Chullin ",{"$f":"VLOOKUP(Schedule!M2385,#REF!,2,FALSE)","v":{"$error":"#REF!"}}]
["2026-07-16",5,"Chullin 77",{"$f":"COUNT($A$2:A2386)","v":2385},7155,0.87974917004795283,0.85651051272593137,0.79896717078568791,0.7606049428255256,0.71634083364072298,{"$f":"(D2386-464)/2711","v":0.70859461453338246},0.67650313537440054,"Chullin ",{"$f":"VLOOKUP(Schedule!M2386,#REF!,2,FALSE)","v":{"$error":"#REF!"}}]
["2026-07-17",6,"Chullin 78",{"$f":"COUNT($A$2:A2387)","v":2386},7158,0.88011803762449281,0.85687938030247146,0.799336038362228,0.76097381040206569,0.71670970121726296,0.70896348210992255,0.67687200295094063,"Chullin ",{"$f":"VLOOKUP(Schedule!M2387,#REF!,2,FALSE)","v":{"$error":"#REF!"}}]
["2026-07-18",7,"Chullin 79",{"$f":"COUNT($A$2:A2388)","v":2387},7161,0.88048690520103279,0.85724824787901144,0.79970490593876797,0.76134267797860566,0.71707856879380305,0.70933234968646253,0.67724087052748061,"Chullin ",{"$f":"VLOOKUP(Schedule!M2388,#REF!,2,FALSE)","v":{"$error":"#REF!"}}]
["2026-07-19",1,"Chullin 80",{"$f":"COUNT($A$2:A2389)","v":2388},7164,0.88085577277757288,0.85761711545555142,0.80007377351530795,0.76171154555514575,0.71744743637034303,0.70970121726300261,0.6776097381040207,"Chullin ",{"$f":"VLOOKUP(Schedule!M2389,#REF!,2,FALSE)","v":{"$error":"#REF!"}}]
["2026-07-20",2,"Chullin 81",{"$f":"COUNT($A$2:A2390)","v":2389},7167,0.88122464035411285,0.8579859830320915,0.80044264109184804,0.76208041313168573,0.71781630394688312,0.71007008483954259,0.67797860568056068,"Chullin ",{"$f":"VLOOKUP(Schedule!M2390,#REF!,2,FALSE)","v":{"$error":"#REF!"}}]
["2026-07-21",3,"Chullin 82",{"$f":"COUNT($A$2:A2391)","v":2390},7170,0.88159350793065294,0.85835485060863148,0.80081150866838802,0.76244928070822571,0.71818517152342309,0.71043895241608268,0.67834747325710065,"Chullin ",{"$f":"VLOOKUP(Schedule!M2391,#REF!,2,FALSE)","v":{"$error":"#REF!"}}]
["2026-07-22",4,"Chullin 83",{"$f":"COUNT($A$2:A2392)","v":2391},7173,0.88196237550719292,0.85872371818517157,0.80118037624492811,0.7628181482847658,0.71855403909996307,0.71080781999262266,0.67871634083364074,"Chullin ",{"$f":"VLOOKUP(Schedule!M2392,#REF!,2,FALSE)","v":{"$error":"#REF!"}}]
["2026-07-23",5,"Chullin 84",{"$f":"COUNT($A$2:A2393)","v":2392},7176,0.8823312430837329,0.85909258576171155,0.80154924382146808,0.76318701586130577,0.71892290667650316,0.71117668756916264,0.67908520841018072,"Chullin ",{"$f":"VLOOKUP(Schedule!M2393,#REF!,2,FALSE)","v":{"$error":"#REF!"}}]
["2026-07-24",6,"Chullin 85",{"$f":"COUNT($A$2:A2394)","v":2393},7179,0.88270011066027299,0.85946145333825152,0.80191811139800806,0.76355588343784586,0.71929177425304314,0.71154555514570272,0.67945407598672081,"Chullin ",{"$f":"VLOOKUP(Schedule!M2394,#REF!,2,FALSE)","v":{"$error":"#REF!"}}]
["2026-07-25",7,"Chullin 86",{"$f":"COUNT($A$2:A2395)","v":2394},7182,0.88306897823681296,0.85983032091479161,0.80228697897454815,0.76392475101438584,0.71966064182958323,0.7119144227222427,0.67982294356326078,"Chullin ",{"$f":"VLOOKUP(Schedule!M2395,#REF!,2,FALSE)","v":{"$error":"#REF!"}}]
["2026-07-26",1,"Chullin 87",{"$f":"COUNT($A$2:A2396)","v":2395},7185,0.88343784581335305,0.86019918849133159,0.80265584655108813,0.76429361859092582,0.7200295094061232,0.71228329029878279,0.68019181113980076,"Chullin ",{"$f":"VLOOKUP(Schedule!M2396,#REF!,2,FALSE)","v":{"$error":"#REF!"}}]
["2026-07-27",2,"Chullin 88",{"$f":"COUNT($A$2:A2397)","v":2396},7188,0.88380671338989303,0.86056805606787168,0.80302471412762821,0.7646624861674659,0.72039837698266318,0.71265215787532277,0.68056067871634085,"Chullin ",{"$f":"VLOOKUP(Schedule!M2397,#REF!,2,FALSE)","v":{"$error":"#REF!"}}]
["2026-07-28",3,"Chullin 89",{"$f":"COUNT($A$2:A2398)","v":2397},7191,0.88417558096643301,0.86093692364441166,{"$f":"(D2398-219)/2711","v":0.80339358170416819},0.76503135374400588,0.72076724455920327,0.71302102545186274,0.68092954629288083,"Chullin ",{"$f":"VLOOKUP(Schedule!M2398,#REF!,2,FALSE)","v":{"$error":"#REF!"}}]
["2026-07-29",4,"Chullin 90",{"$f":"COUNT($A$2:A2399)","v":2398},7194,0.88454444854297309,0.86130579122095163,0.80376244928070828,0.76540022132054597,0.72113611213574325,0.71338989302840283,0.68129841386942092,"Chullin ",{"$f":"VLOOKUP(Schedule!M2399,#REF!,2,FALSE)","v":{"$error":"#REF!"}}]
["2026-07-30",5,"Chullin 91",{"$f":"COUNT($A$2:A2400)","v":2399},7197,0.88491331611951307,0.86167465879749172,0.80413131685724826,0.76576908889708595,0.72150497971228333,0.71375876060494281,0.68166728144596089,"Chullin ",{"$f":"VLOOKUP(Schedule!M2400,#REF!,2,FALSE)","v":{"$error":"#REF!"}}]
["2026-07-31",6,"Chullin 92",{"$f":"COUNT($A$2:A2401)","v":2400},7200,0.88528218369605316,0.8620435263740317,0.80450018443378823,0.76613795647362593,0.72187384728882331,0.7141276281814829,0.68203614902250087,"Chullin ",{"$f":"VLOOKUP(Schedule!M2401,#REF!,2,FALSE)","v":{"$error":"#REF!"}}]
["2026-08-01",7,"Chullin 93",{"$f":"COUNT($A$2:A2402)","v":2401},7203,0.88565105127259314,0.86241239395057179,0.80486905201032832,0.76650682405016601,0.72224271486536329,0.71449649575802288,0.68240501659904096,"Chullin ",{"$f":"VLOOKUP(Schedule!M2402,#REF!,2,FALSE)","v":{"$error":"#REF!"}}]
["2026-08-02",1,"Chullin 94",{"$f":"COUNT($A$2:A2403)","v":2402},7206,0.88601991884913311,0.86278126152711176,0.8052379195868683,0.76687569162670599,0.72261158244190338,0.71486536333456285,0.68277388417558094,"Chullin ",{"$f":"VLOOKUP(Schedule!M2403,#REF!,2,FALSE)","v":{"$error":"#REF!"}}]
["2026-08-03",2,"Chullin 95",{"$f":"COUNT($A$2:A2404)","v":2403},7209,0.8863887864256732,0.86315012910365174,0.80560678716340839,0.76724455920324608,0.72298045001844335,0.71523423091110294,0.68314275175212102,"Chullin ",{"$f":"VLOOKUP(Schedule!M2404,#REF!,2,FALSE)","v":{"$error":"#REF!"}}]
["2026-08-04",3,"Chullin 96",{"$f":"COUNT($A$2:A2405)","v":2404},7212,0.88675765400221318,0.86351899668019183,0.80597565473994837,0.76761342677978606,0.72334931759498344,0.71560309848764292,0.683511619328661,"Chullin ",{"$f":"VLOOKUP(Schedule!M2405,#REF!,2,FALSE)","v":{"$error":"#REF!"}}]
["2026-08-05",4,"Chullin 97",{"$f":"COUNT($A$2:A2406)","v":2405},7215,0.88712652157875327,0.86388786425673181,0.80634452231648834,0.76798229435632603,0.72371818517152342,0.71597196606418301,0.68388048690520098,"Chullin ",{"$f":"VLOOKUP(Schedule!M2406,#REF!,2,FALSE)","v":{"$error":"#REF!"}}]
["2026-08-06",5,"Chullin 98",{"$f":"COUNT($A$2:A2407)","v":2406},7218,0.88749538915529325,0.8642567318332719,0.80671338989302843,0.76835116193286612,0.7240870527480634,0.71634083364072298,0.68424935448174107,"Chullin ",{"$f":"VLOOKUP(Schedule!M2407,#REF!,2,FALSE)","v":{"$error":"#REF!"}}]
["2026-08-07",6,"Chullin 99",{"$f":"COUNT($A$2:A2408)","v":2407},7221,0.88786425673183322,0.86462559940981187,0.80708225746956841,0.7687200295094061,0.72445592032460349,0.71670970121726296,0.68461822205828105,"Chullin ",{"$f":"VLOOKUP(Schedule!M2408,#REF!,2,FALSE)","v":{"$error":"#REF!"}}]
["2026-08-08",7,"Chullin 100",{"$f":"COUNT($A$2:A2409)","v":2408},7224,0.88823312430837331,0.86499446698635185,0.8074511250461085,0.76908889708594619,0.72482478790114346,0.71707856879380305,0.68498708963482113,"Chullin ",{"$f":"VLOOKUP(Schedule!M2409,#REF!,2,FALSE)","v":{"$error":"#REF!"}}]
["2026-08-09",1,"Chullin 101",{"$f":"COUNT($A$2:A2410)","v":2409},7227,0.88860199188491329,0.86536333456289194,0.80781999262264848,0.76945776466248617,0.72519365547768355,0.71744743637034303,{"$f":"(D2410-551)/2711","v":0.68535595721136111},"Chullin ",{"$f":"VLOOKUP(Schedule!M2410,#REF!,2,FALSE)","v":{"$error":"#REF!"}}]
["2026-08-10",2,"Chullin 102",{"$f":"COUNT($A$2:A2411)","v":2410},7230,0.88897085946145338,0.86573220213943192,0.80818886019918845,0.76982663223902614,0.72556252305422353,0.71781630394688312,0.68572482478790109,"Chullin ",{"$f":"VLOOKUP(Schedule!M2411,#REF!,2,FALSE)","v":{"$error":"#REF!"}}]
["2026-08-11",3,"Chullin 103",{"$f":"COUNT($A$2:A2412)","v":2411},7233,0.88933972703799336,0.86610106971597201,0.80855772777572854,0.77019549981556623,0.72593139063076351,0.71818517152342309,0.68609369236444118,"Chullin ",{"$f":"VLOOKUP(Schedule!M2412,#REF!,2,FALSE)","v":{"$error":"#REF!"}}]
["2026-08-12",4,"Chullin 104",{"$f":"COUNT($A$2:A2413)","v":2412},7236,0.88970859461453333,0.86646993729251198,0.80892659535226852,0.77056436739210621,0.7263002582073036,0.71855403909996307,0.68646255994098115,"Chullin ",{"$f":"VLOOKUP(Schedule!M2413,#REF!,2,FALSE)","v":{"$error":"#REF!"}}]
["2026-08-13",5,"Chullin 105",{"$f":"COUNT($A$2:A2414)","v":2413},7239,0.89007746219107342,0.86683880486905196,0.80929546292880861,0.7709332349686463,0.72666912578384357,0.71892290667650316,0.68683142751752124,"Chullin ",{"$f":"VLOOKUP(Schedule!M2414,#REF!,2,FALSE)","v":{"$error":"#REF!"}}]
["2026-08-14",6,"Chullin 106",{"$f":"COUNT($A$2:A2415)","v":2414},7242,0.8904463297676134,0.86720767244559205,0.80966433050534858,0.77130210254518627,0.72703799336038366,0.71929177425304314,0.68720029509406122,"Chullin ",{"$f":"VLOOKUP(Schedule!M2415,#REF!,2,FALSE)","v":{"$error":"#REF!"}}]
["2026-08-15",7,"Chullin 107",{"$f":"COUNT($A$2:A2416)","v":2415},7245,0.89081519734415349,0.86757654002213203,0.81003319808188856,0.77167097012172625,0.72740686093692364,0.71966064182958323,0.68756916267060131,"Chullin ",{"$f":"VLOOKUP(Schedule!M2416,#REF!,2,FALSE)","v":{"$error":"#REF!"}}]
["2026-08-16",1,"Chullin 108",{"$f":"COUNT($A$2:A2417)","v":2416},7248,0.89118406492069346,0.86794540759867211,0.81040206565842865,0.77203983769826634,0.72777572851346362,0.7200295094061232,0.68793803024714129,"Chullin ",{"$f":"VLOOKUP(Schedule!M2417,#REF!,2,FALSE)","v":{"$error":"#REF!"}}]
["2026-08-17",2,"Chullin 109",{"$f":"COUNT($A$2:A2418)","v":2417},7251,0.89155293249723344,0.86831427517521209,0.81077093323496863,0.77240870527480632,0.7281445960900037,0.72039837698266318,0.68830689782368126,"Chullin ",{"$f":"VLOOKUP(Schedule!M2418,#REF!,2,FALSE)","v":{"$error":"#REF!"}}]
["2026-08-18",3,"Chullin 110",{"$f":"COUNT($A$2:A2419)","v":2418},7254,0.89192180007377353,0.86868314275175207,0.81113980081150872,0.77277757285134641,0.72851346366654368,0.72076724455920327,0.68867576540022135,"Chullin ",{"$f":"VLOOKUP(Schedule!M2419,#REF!,2,FALSE)","v":{"$error":"#REF!"}}]
["2026-08-19",4,"Chullin 111",{"$f":"COUNT($A$2:A2420)","v":2419},7257,0.89229066765031351,0.86905201032829216,0.81150866838804869,0.77314644042788638,0.72888233124308377,0.72113611213574325,0.68904463297676133,"Chullin ",{"$f":"VLOOKUP(Schedule!M2420,#REF!,2,FALSE)","v":{"$error":"#REF!"}}]
["2026-08-20",5,"Chullin 112",{"$f":"COUNT($A$2:A2421)","v":2420},7260,0.8926595352268536,0.86942087790483213,0.81187753596458867,0.77351530800442636,0.72925119881962375,0.72150497971228333,0.68941350055330142,"Chullin ",{"$f":"VLOOKUP(Schedule!M2421,#REF!,2,FALSE)","v":{"$error":"#REF!"}}]
["2026-08-21",6,"Chullin 113",{"$f":"COUNT($A$2:A2422)","v":2421},7263,0.89302840280339357,0.86978974548137222,0.81224640354112876,0.77388417558096645,0.72962006639616372,0.72187384728882331,0.68978236812984139,"Chullin ",{"$f":"VLOOKUP(Schedule!M2422,#REF!,2,FALSE)","v":{"$error":"#REF!"}}]
["2026-08-22",7,"Chullin 114",{"$f":"COUNT($A$2:A2423)","v":2422},7266,0.89339727037993355,0.8701586130579122,0.81261527111766874,0.77425304315750643,0.72998893397270381,0.72224271486536329,0.69015123570638137,"Chullin ",{"$f":"VLOOKUP(Schedule!M2423,#REF!,2,FALSE)","v":{"$error":"#REF!"}}]
["2026-08-23",1,"Chullin 115",{"$f":"COUNT($A$2:A2424)","v":2423},7269,0.89376613795647364,0.87052748063445218,0.81298413869420882,0.77462191073404651,0.73035780154924379,0.72261158244190338,0.69052010328292146,"Chullin ",{"$f":"VLOOKUP(Schedule!M2424,#REF!,2,FALSE)","v":{"$error":"#REF!"}}]
["2026-08-24",2,"Chullin 116",{"$f":"COUNT($A$2:A2425)","v":2424},7272,0.89413500553301362,0.87089634821099227,0.8133530062707488,0.77499077831058649,0.73072666912578388,0.72298045001844335,0.69088897085946144,"Chullin ",{"$f":"VLOOKUP(Schedule!M2425,#REF!,2,FALSE)","v":{"$error":"#REF!"}}]
["2026-08-25",3,"Chullin 117",{"$f":"COUNT($A$2:A2426)","v":2425},7275,0.8945038731095537,0.87126521578753224,0.81372187384728878,0.77535964588712647,0.73109553670232386,0.72334931759498344,0.69125783843600153,"Chullin ",{"$f":"VLOOKUP(Schedule!M2426,#REF!,2,FALSE)","v":{"$error":"#REF!"}}]
["2026-08-26",4,"Chullin 118",{"$f":"COUNT($A$2:A2427)","v":2426},7278,0.89487274068609368,0.87163408336407233,0.81409074142382887,0.77572851346366656,0.73146440427886383,0.72371818517152342,0.6916267060125415,"Chullin ",{"$f":"VLOOKUP(Schedule!M2427,#REF!,2,FALSE)","v":{"$error":"#REF!"}}]
["2026-08-27",5,"Chullin 119",{"$f":"COUNT($A$2:A2428)","v":2427},7281,0.89524160826263366,0.87200295094061231,0.81445960900036884,0.77609738104020654,0.73183327185540392,0.7240870527480634,0.69199557358908148,"Chullin ",{"$f":"VLOOKUP(Schedule!M2428,#REF!,2,FALSE)","v":{"$error":"#REF!"}}]
["2026-08-28",6,"Chullin 120",{"$f":"COUNT($A$2:A2429)","v":2428},7284,0.89561047583917375,0.8723718185171524,0.81482847657690893,0.77646624861674662,0.7322021394319439,0.72445592032460349,0.69236444116562157,"Chullin ",{"$f":"VLOOKUP(Schedule!M2429,#REF!,2,FALSE)","v":{"$error":"#REF!"}}]
["2026-08-29",7,"Chullin 121",{"$f":"COUNT($A$2:A2430)","v":2429},7287,0.89597934341571372,0.87274068609369237,0.81519734415344891,0.7768351161932866,{"$f":"(D2430-443)/2711","v":0.73257100700848399},0.72482478790114346,0.69273330874216155,"Chullin ",{"$f":"VLOOKUP(Schedule!M2430,#REF!,2,FALSE)","v":{"$error":"#REF!"}}]
["2026-08-30",1,"Chullin 122",{"$f":"COUNT($A$2:A2431)","v":2430},7290,0.89634821099225381,0.87310955367023235,0.81556621172998889,0.77720398376982658,0.73293987458502396,0.72519365547768355,0.69310217631870163,"Chullin ",{"$f":"VLOOKUP(Schedule!M2431,#REF!,2,FALSE)","v":{"$error":"#REF!"}}]
["2026-08-31",2,"Chullin 123",{"$f":"COUNT($A$2:A2432)","v":2431},7293,0.89671707856879379,0.87347842124677244,0.81593507930652898,0.77757285134636667,0.73330874216156405,0.72556252305422353,0.69347104389524161,"Chullin ",{"$f":"VLOOKUP(Schedule!M2432,#REF!,2,FALSE)","v":{"$error":"#REF!"}}]
["2026-09-01",3,"Chullin 124",{"$f":"COUNT($A$2:A2433)","v":2432},7296,0.89708594614533388,0.87384728882331242,0.81630394688306895,0.77794171892290664,0.73367760973810403,0.72593139063076351,0.69383991147178159,"Chullin ",{"$f":"VLOOKUP(Schedule!M2433,#REF!,2,FALSE)","v":{"$error":"#REF!"}}]
["2026-09-02",4,"Chullin 125",{"$f":"COUNT($A$2:A2434)","v":2433},{"$f":"D2434*3","v":7299},0.89745481372187386,{"$f":"(D2434-63)/2711","v":0.87421615639985251},0.81667281445960904,0.77831058649944673,0.73404647731464401,0.7263002582073036,0.69420877904832168,"Chullin ",{"$f":"VLOOKUP(Schedule!M2434,#REF!,2,FALSE)","v":{"$error":"#REF!"}}]
["2026-09-03",{"$f":"WEEKDAY(A2435)","v":5},"Chullin 126",{"$f":"COUNT($A$2:A2435)","v":2434},7302,{"$f":"D2435/2711","v":0.89782368129841383},0.87458502397639248,0.81704168203614902,0.77867945407598671,0.7344153448911841,0.72666912578384357,0.69457764662486166,{"$f":"LEFT(C2435,FIND(\"☃\",SUBSTITUTE(C2435,\" \",\"☃\",LEN(C2435)-LEN(SUBSTITUTE(C2435,\" \",\"\")))))","v":"Chullin "},{"$f":"VLOOKUP(Schedule!M2435,#REF!,2,FALSE)","v":{"$error":"#REF!"}}]
["2026-09-04",6,"Chullin 127",{"$f":"COUNT($A$2:A2436)","v":2435},7305,0.89819254887495392,0.87495389155293246,0.817410549612689,0.7790483216525268,0.73478421246772407,0.72703799336038366,0.69494651420140174,"Chullin ",{"$f":"VLOOKUP(Schedule!M2436,#REF!,2,FALSE)","v":{"$error":"#REF!"}}]
["2026-09-05",7,"Chullin 128",{"$f":"COUNT($A$2:A2437)","v":2436},7308,0.8985614164514939,0.87532275912947255,0.81777941718922909,0.77941718922906678,0.73515308004426416,0.72740686093692364,0.69531538177794172,"Chullin ",{"$f":"VLOOKUP(Schedule!M2437,#REF!,2,FALSE)","v":{"$error":"#REF!"}}]
["2026-09-06",1,"Chullin 129",{"$f":"COUNT($A$2:A2438)","v":2437},7311,0.89893028402803399,0.87569162670601253,0.81814828476576906,{"$f":"(D2438-323)/2711","v":0.77978605680560675},0.73552194762080414,0.72777572851346362,0.6956842493544817,"Chullin ",{"$f":"VLOOKUP(Schedule!M2438,#REF!,2,FALSE)","v":{"$error":"#REF!"}}]
["2026-09-07",2,"Chullin 130",{"$f":"COUNT($A$2:A2439)","v":2438},7314,0.89929915160457397,0.87606049428255262,0.81851715234230915,0.78015492438214684,0.73589081519734412,0.7281445960900037,0.69605311693102179,"Chullin ",{"$f":"VLOOKUP(Schedule!M2439,#REF!,2,FALSE)","v":{"$error":"#REF!"}}]
["2026-09-08",3,"Chullin 131",{"$f":"COUNT($A$2:A2440)","v":2439},7317,0.89966801918111394,0.87642936185909259,0.81888601991884913,0.78052379195868682,0.73625968277388421,0.72851346366654368,0.69642198450756176,"Chullin ",{"$f":"VLOOKUP(Schedule!M2440,#REF!,2,FALSE)","v":{"$error":"#REF!"}}]
["2026-09-09",4,"Chullin 132",{"$f":"COUNT($A$2:A2441)","v":2440},7320,0.90003688675765403,0.87679822943563257,0.81925488749538911,0.78089265953522691,0.73662855035042418,0.72888233124308377,0.69679085208410185,"Chullin ",{"$f":"VLOOKUP(Schedule!M2441,#REF!,2,FALSE)","v":{"$error":"#REF!"}}]
["2026-09-10",5,"Chullin 133",{"$f":"COUNT($A$2:A2442)","v":2441},7323,0.90040575433419401,0.87716709701217266,0.81962375507192919,0.78126152711176688,0.73699741792696427,0.72925119881962375,0.69715971966064183,"Chullin ",{"$f":"VLOOKUP(Schedule!M2442,#REF!,2,FALSE)","v":{"$error":"#REF!"}}]
["2026-09-11",6,"Chullin 134",{"$f":"COUNT($A$2:A2443)","v":2442},7326,0.9007746219107341,0.87753596458871264,0.81999262264846917,0.78163039468830686,0.73736628550350425,0.72962006639616372,0.69752858723718181,"Chullin ",{"$f":"VLOOKUP(Schedule!M2443,#REF!,2,FALSE)","v":{"$error":"#REF!"}}]
["2026-09-12",7,"Chullin 135",{"$f":"COUNT($A$2:A2444)","v":2443},7329,0.90114348948727407,0.87790483216525272,0.82036149022500926,0.78199926226484695,0.73773515308004423,0.72998893397270381,0.6978974548137219,"Chullin ",{"$f":"VLOOKUP(Schedule!M2444,#REF!,2,FALSE)","v":{"$error":"#REF!"}}]
["2026-09-13",1,"Chullin 136",{"$f":"COUNT($A$2:A2445)","v":2444},7332,0.90151235706381405,0.8782736997417927,0.82073035780154924,0.78236812984138693,0.73810402065658431,0.73035780154924379,0.69826632239026187,"Chullin ",{"$f":"VLOOKUP(Schedule!M2445,#REF!,2,FALSE)","v":{"$error":"#REF!"}}]
["2026-09-14",2,"Chullin 137",{"$f":"COUNT($A$2:A2446)","v":2445},7335,0.90188122464035414,0.87864256731833268,0.82109922537808921,0.78273699741792702,0.73847288823312429,0.73072666912578388,0.69863518996680196,"Chullin ",{"$f":"VLOOKUP(Schedule!M2446,#REF!,2,FALSE)","v":{"$error":"#REF!"}}]
["2026-09-15",3,"Chullin 138",{"$f":"COUNT($A$2:A2447)","v":2446},7338,0.90225009221689412,0.87901143489487277,0.8214680929546293,0.78310586499446699,0.73884175580966438,0.73109553670232386,0.69900405754334194,"Chullin ",{"$f":"VLOOKUP(Schedule!M2447,#REF!,2,FALSE)","v":{"$error":"#REF!"}}]
["2026-09-16",4,"Chullin 139",{"$f":"COUNT($A$2:A2448)","v":2447},7341,0.90261895979343421,0.87938030247141274,0.82183696053116928,0.78347473257100697,0.73921062338620436,0.73146440427886383,0.69937292511988192,"Chullin ",{"$f":"VLOOKUP(Schedule!M2448,#REF!,2,FALSE)","v":{"$error":"#REF!"}}]
["2026-09-17",5,"Chullin 140",{"$f":"COUNT($A$2:A2449)","v":2448},7344,0.90298782736997418,0.87974917004795283,0.82220582810770937,0.78384360014754706,0.73957949096274433,0.73183327185540392,0.699741792696422,"Chullin ",{"$f":"VLOOKUP(Schedule!M2449,#REF!,2,FALSE)","v":{"$error":"#REF!"}}]
["2026-09-18",6,"Chullin 141",{"$f":"COUNT($A$2:A2450)","v":2449},7347,0.90335669494651416,0.88011803762449281,0.82257469568424935,0.78421246772408704,0.73994835853928442,{"$f":"(D2450-464)/2711","v":0.7322021394319439},0.70011066027296198,"Chullin ",{"$f":"VLOOKUP(Schedule!M2450,#REF!,2,FALSE)","v":{"$error":"#REF!"}}]
["2026-09-19",7,"Chullin 142",{"$f":"COUNT($A$2:A2451)","v":2450},7350,0.90372556252305425,0.88048690520103279,0.82294356326078932,0.78458133530062713,0.7403172261158244,0.73257100700848399,0.70047952784950207,"Chullin ",{"$f":"VLOOKUP(Schedule!M2451,#REF!,2,FALSE)","v":{"$error":"#REF!"}}]
["2026-09-20",1,"Bechoros 2",{"$f":"COUNT($A$2:A2452)","v":2451},7353,0.90409443009959423,0.88085577277757288,0.82331243083732941,0.7849502028771671,0.74068609369236449,0.73293987458502396,0.70084839542604205,"Bechoros ",{"$f":"VLOOKUP(Schedule!M2452,#REF!,2,FALSE)","v":{"$error":"#REF!"}}]
["2026-09-21",2,"Bechoros 3",{"$f":"COUNT($A$2:A2453)","v":2452},7356,0.90446329767613431,0.88122464035411285,0.82368129841386939,0.78531907045370708,0.74105496126890447,0.73330874216156405,0.70121726300258203,"Bechoros ",{"$f":"VLOOKUP(Schedule!M2453,#REF!,2,FALSE)","v":{"$error":"#REF!"}}]
["2026-09-22",3,"Bechoros 4",{"$f":"COUNT($A$2:A2454)","v":2453},7359,0.90483216525267429,0.88159350793065294,0.82405016599040948,0.78568793803024717,0.74142382884544444,0.73367760973810403,0.70158613057912211,"Bechoros ",{"$f":"VLOOKUP(Schedule!M2454,#REF!,2,FALSE)","v":{"$error":"#REF!"}}]
["2026-09-23",4,"Bechoros 5",{"$f":"COUNT($A$2:A2455)","v":2454},7362,0.90520103282921427,0.88196237550719292,0.82441903356694946,0.78605680560678715,0.74179269642198453,0.73404647731464401,0.70195499815566209,"Bechoros ",{"$f":"VLOOKUP(Schedule!M2455,#REF!,2,FALSE)","v":{"$error":"#REF!"}}]
["2026-09-24",5,"Bechoros 6",{"$f":"COUNT($A$2:A2456)","v":2455},7365,0.90556990040575436,0.8823312430837329,0.82478790114348943,0.78642567318332723,0.74216156399852451,0.7344153448911841,0.70232386573220218,"Bechoros ",{"$f":"VLOOKUP(Schedule!M2456,#REF!,2,FALSE)","v":{"$error":"#REF!"}}]
["2026-09-25",6,"Bechoros 7",{"$f":"COUNT($A$2:A2457)","v":2456},7368,0.90593876798229434,0.88270011066027299,0.82515676872002952,0.78679454075986721,0.7425304315750646,0.73478421246772407,0.70269273330874216,"Bechoros ",{"$f":"VLOOKUP(Schedule!M2457,#REF!,2,FALSE)","v":{"$error":"#REF!"}}]
["2026-09-26",7,"Bechoros 8",{"$f":"COUNT($A$2:A2458)","v":2457},7371,0.90630763555883442,0.88306897823681296,0.8255256362965695,0.78716340833640719,0.74289929915160458,0.73515308004426416,0.70306160088528213,"Bechoros ",{"$f":"VLOOKUP(Schedule!M2458,#REF!,2,FALSE)","v":{"$error":"#REF!"}}]
["2026-09-27",1,"Bechoros 9",{"$f":"COUNT($A$2:A2459)","v":2458},7374,0.9066765031353744,0.88343784581335305,0.82589450387310959,0.78753227591294728,0.74326816672814455,0.73552194762080414,0.70343046846182222,"Bechoros ",{"$f":"VLOOKUP(Schedule!M2459,#REF!,2,FALSE)","v":{"$error":"#REF!"}}]
["2026-09-28",2,"Bechoros 10",{"$f":"COUNT($A$2:A2460)","v":2459},7377,0.90704537071191438,0.88380671338989303,0.82626337144964956,0.78790114348948725,0.74363703430468464,0.73589081519734412,0.7037993360383622,"Bechoros ",{"$f":"VLOOKUP(Schedule!M2460,#REF!,2,FALSE)","v":{"$error":"#REF!"}}]
["2026-09-29",3,"Bechoros 11",{"$f":"COUNT($A$2:A2461)","v":2460},7380,0.90741423828845447,0.88417558096643301,0.82663223902618965,0.78827001106602734,0.74400590188122462,0.73625968277388421,0.70416820361490229,"Bechoros ",{"$f":"VLOOKUP(Schedule!M2461,#REF!,2,FALSE)","v":{"$error":"#REF!"}}]
["2026-09-30",4,"Bechoros 12",{"$f":"COUNT($A$2:A2462)","v":2461},7383,0.90778310586499444,0.88454444854297309,{"$f":"(D2462-219)/2711","v":0.82700110660272963},0.78863887864256732,0.74437476945776471,0.73662855035042418,0.70453707119144227,"Bechoros ",{"$f":"VLOOKUP(Schedule!M2462,#REF!,2,FALSE)","v":{"$error":"#REF!"}}]
["2026-10-01",5,"Bechoros 13",{"$f":"COUNT($A$2:A2463)","v":2462},7386,0.90815197344153453,0.88491331611951307,0.82736997417926961,0.7890077462191073,0.74474363703430468,0.73699741792696427,0.70490593876798224,"Bechoros ",{"$f":"VLOOKUP(Schedule!M2463,#REF!,2,FALSE)","v":{"$error":"#REF!"}}]
["2026-10-02",6,"Bechoros 14",{"$f":"COUNT($A$2:A2464)","v":2463},7389,0.90852084101807451,0.88528218369605316,0.8277388417558097,0.78937661379564739,0.74511250461084466,0.73736628550350425,0.70527480634452233,"Bechoros ",{"$f":"VLOOKUP(Schedule!M2464,#REF!,2,FALSE)","v":{"$error":"#REF!"}}]
["2026-10-03",7,"Bechoros 15",{"$f":"COUNT($A$2:A2465)","v":2464},7392,0.90888970859461449,0.88565105127259314,0.82810770933234967,0.78974548137218736,0.74548137218738475,0.73773515308004423,0.70564367392106231,"Bechoros ",{"$f":"VLOOKUP(Schedule!M2465,#REF!,2,FALSE)","v":{"$error":"#REF!"}}]
["2026-10-04",1,"Bechoros 16",{"$f":"COUNT($A$2:A2466)","v":2465},7395,0.90925857617115458,0.88601991884913311,0.82847657690888976,0.79011434894872745,0.74585023976392473,0.73810402065658431,0.7060125414976024,"Bechoros ",{"$f":"VLOOKUP(Schedule!M2466,#REF!,2,FALSE)","v":{"$error":"#REF!"}}]
["2026-10-05",2,"Bechoros 17",{"$f":"COUNT($A$2:A2467)","v":2466},7398,0.90962744374769455,0.8863887864256732,0.82884544448542974,0.79048321652526743,0.74621910734046482,0.73847288823312429,0.70638140907414237,"Bechoros ",{"$f":"VLOOKUP(Schedule!M2467,#REF!,2,FALSE)","v":{"$error":"#REF!"}}]
["2026-10-06",3,"Bechoros 18",{"$f":"COUNT($A$2:A2468)","v":2467},7401,0.90999631132423464,0.88675765400221318,0.82921431206196972,0.79085208410180741,0.74658797491700479,0.73884175580966438,0.70675027665068235,"Bechoros ",{"$f":"VLOOKUP(Schedule!M2468,#REF!,2,FALSE)","v":{"$error":"#REF!"}}]
["2026-10-07",4,"Bechoros 19",{"$f":"COUNT($A$2:A2469)","v":2468},7404,0.91036517890077462,0.88712652157875327,0.8295831796385098,0.79122095167834749,0.74695684249354477,0.73921062338620436,0.70711914422722244,"Bechoros ",{"$f":"VLOOKUP(Schedule!M2469,#REF!,2,FALSE)","v":{"$error":"#REF!"}}]
["2026-10-08",5,"Bechoros 20",{"$f":"COUNT($A$2:A2470)","v":2469},7407,0.9107340464773146,0.88749538915529325,0.82995204721504978,0.79158981925488747,0.74732571007008486,0.73957949096274433,0.70748801180376242,"Bechoros ",{"$f":"VLOOKUP(Schedule!M2470,#REF!,2,FALSE)","v":{"$error":"#REF!"}}]
["2026-10-09",6,"Bechoros 21",{"$f":"COUNT($A$2:A2471)","v":2470},7410,0.91110291405385468,0.88786425673183322,0.83032091479158987,0.79195868683142756,0.74769457764662484,0.73994835853928442,0.70785687938030251,"Bechoros ",{"$f":"VLOOKUP(Schedule!M2471,#REF!,2,FALSE)","v":{"$error":"#REF!"}}]
["2026-10-10",7,"Bechoros 22",{"$f":"COUNT($A$2:A2472)","v":2471},7413,0.91147178163039466,0.88823312430837331,0.83068978236812985,0.79232755440796754,0.74806344522316492,0.7403172261158244,0.70822574695684248,"Bechoros ",{"$f":"VLOOKUP(Schedule!M2472,#REF!,2,FALSE)","v":{"$error":"#REF!"}}]
["2026-10-11",1,"Bechoros 23",{"$f":"COUNT($A$2:A2473)","v":2472},7416,0.91184064920693475,0.88860199188491329,0.83105864994466982,0.79269642198450752,0.7484323127997049,0.74068609369236449,0.70859461453338246,"Bechoros ",{"$f":"VLOOKUP(Schedule!M2473,#REF!,2,FALSE)","v":{"$error":"#REF!"}}]
["2026-10-12",2,"Bechoros 24",{"$f":"COUNT($A$2:A2474)","v":2473},7419,0.91220951678347473,0.88897085946145338,0.83142751752120991,0.7930652895610476,0.74880118037624488,0.74105496126890447,{"$f":"(D2474-551)/2711","v":0.70896348210992255},"Bechoros ",{"$f":"VLOOKUP(Schedule!M2474,#REF!,2,FALSE)","v":{"$error":"#REF!"}}]
["2026-10-13",3,"Bechoros 25",{"$f":"COUNT($A$2:A2475)","v":2474},7422,0.9125783843600147,0.88933972703799336,0.83179638509774989,0.79343415713758758,0.74917004795278497,0.74142382884544444,0.70933234968646253,"Bechoros ",{"$f":"VLOOKUP(Schedule!M2475,#REF!,2,FALSE)","v":{"$error":"#REF!"}}]
["2026-10-14",4,"Bechoros 26",{"$f":"COUNT($A$2:A2476)","v":2475},7425,0.91294725193655479,0.88970859461453333,0.83216525267428998,0.79380302471412767,0.74953891552932495,0.74179269642198453,0.70970121726300261,"Bechoros ",{"$f":"VLOOKUP(Schedule!M2476,#REF!,2,FALSE)","v":{"$error":"#REF!"}}]
["2026-10-15",5,"Bechoros 27",{"$f":"COUNT($A$2:A2477)","v":2476},7428,0.91331611951309477,0.89007746219107342,0.83253412025082996,0.79417189229066765,0.74990778310586503,0.74216156399852451,0.71007008483954259,"Bechoros ",{"$f":"VLOOKUP(Schedule!M2477,#REF!,2,FALSE)","v":{"$error":"#REF!"}}]
["2026-10-16",6,"Bechoros 28",{"$f":"COUNT($A$2:A2478)","v":2477},7431,0.91368498708963486,0.8904463297676134,0.83290298782736993,0.79454075986720762,0.75027665068240501,0.7425304315750646,0.71043895241608268,"Bechoros ",{"$f":"VLOOKUP(Schedule!M2478,#REF!,2,FALSE)","v":{"$error":"#REF!"}}]
["2026-10-17",7,"Bechoros 29",{"$f":"COUNT($A$2:A2479)","v":2478},7434,0.91405385466617484,0.89081519734415349,0.83327185540391002,0.79490962744374771,0.75064551825894499,0.74289929915160458,0.71080781999262266,"Bechoros ",{"$f":"VLOOKUP(Schedule!M2479,#REF!,2,FALSE)","v":{"$error":"#REF!"}}]
["2026-10-18",1,"Bechoros 30",{"$f":"COUNT($A$2:A2480)","v":2479},7437,0.91442272224271481,0.89118406492069346,0.83364072298045,0.79527849502028769,0.75101438583548508,0.74326816672814455,0.71117668756916264,"Bechoros ",{"$f":"VLOOKUP(Schedule!M2480,#REF!,2,FALSE)","v":{"$error":"#REF!"}}]
["2026-10-19",2,"Bechoros 31",{"$f":"COUNT($A$2:A2481)","v":2480},7440,0.9147915898192549,0.89155293249723344,0.83400959055699009,0.79564736259682778,0.75138325341202505,0.74363703430468464,0.71154555514570272,"Bechoros ",{"$f":"VLOOKUP(Schedule!M2481,#REF!,2,FALSE)","v":{"$error":"#REF!"}}]
["2026-10-20",3,"Bechoros 32",{"$f":"COUNT($A$2:A2482)","v":2481},7443,0.91516045739579488,0.89192180007377353,0.83437845813353007,0.79601623017336776,0.75175212098856514,0.74400590188122462,0.7119144227222427,"Bechoros ",{"$f":"VLOOKUP(Schedule!M2482,#REF!,2,FALSE)","v":{"$error":"#REF!"}}]
["2026-10-21",4,"Bechoros 33",{"$f":"COUNT($A$2:A2483)","v":2482},7446,0.91552932497233497,0.89229066765031351,0.83474732571007004,0.79638509774990773,0.75212098856510512,0.74437476945776471,0.71228329029878279,"Bechoros ",{"$f":"VLOOKUP(Schedule!M2483,#REF!,2,FALSE)","v":{"$error":"#REF!"}}]
["2026-10-22",5,"Bechoros 34",{"$f":"COUNT($A$2:A2484)","v":2483},7449,0.91589819254887495,0.8926595352268536,0.83511619328661013,0.79675396532644782,0.7524898561416451,0.74474363703430468,0.71265215787532277,"Bechoros ",{"$f":"VLOOKUP(Schedule!M2484,#REF!,2,FALSE)","v":{"$error":"#REF!"}}]
["2026-10-23",6,"Bechoros 35",{"$f":"COUNT($A$2:A2485)","v":2484},7452,0.91626706012541492,0.89302840280339357,0.83548506086315011,0.7971228329029878,0.75285872371818519,0.74511250461084466,0.71302102545186274,"Bechoros ",{"$f":"VLOOKUP(Schedule!M2485,#REF!,2,FALSE)","v":{"$error":"#REF!"}}]
["2026-10-24",7,"Bechoros 36",{"$f":"COUNT($A$2:A2486)","v":2485},7455,0.91663592770195501,0.89339727037993355,0.8358539284396902,0.79749170047952789,0.75322759129472516,0.74548137218738475,0.71338989302840283,"Bechoros ",{"$f":"VLOOKUP(Schedule!M2486,#REF!,2,FALSE)","v":{"$error":"#REF!"}}]
["2026-10-25",1,"Bechoros 37",{"$f":"COUNT($A$2:A2487)","v":2486},7458,0.91700479527849499,0.89376613795647364,0.83622279601623017,0.79786056805606786,0.75359645887126525,0.74585023976392473,0.71375876060494281,"Bechoros ",{"$f":"VLOOKUP(Schedule!M2487,#REF!,2,FALSE)","v":{"$error":"#REF!"}}]
["2026-10-26",2,"Bechoros 38",{"$f":"COUNT($A$2:A2488)","v":2487},7461,0.91737366285503508,0.89413500553301362,0.83659166359277015,0.79822943563260784,0.75396532644780523,0.74621910734046482,0.7141276281814829,"Bechoros ",{"$f":"VLOOKUP(Schedule!M2488,#REF!,2,FALSE)","v":{"$error":"#REF!"}}]
["2026-10-27",3,"Bechoros 39",{"$f":"COUNT($A$2:A2489)","v":2488},7464,0.91774253043157505,0.8945038731095537,0.83696053116931024,0.79859830320914793,0.75433419402434521,0.74658797491700479,0.71449649575802288,"Bechoros ",{"$f":"VLOOKUP(Schedule!M2489,#REF!,2,FALSE)","v":{"$error":"#REF!"}}]
["2026-10-28",4,"Bechoros 40",{"$f":"COUNT($A$2:A2490)","v":2489},7467,0.91811139800811503,0.89487274068609368,0.83732939874585022,0.79896717078568791,0.75470306160088529,0.74695684249354477,0.71486536333456285,"Bechoros ",{"$f":"VLOOKUP(Schedule!M2490,#REF!,2,FALSE)","v":{"$error":"#REF!"}}]
["2026-10-29",5,"Bechoros 41",{"$f":"COUNT($A$2:A2491)","v":2490},7470,0.91848026558465512,0.89524160826263366,0.83769826632239031,0.799336038362228,0.75507192917742527,0.74732571007008486,0.71523423091110294,"Bechoros ",{"$f":"VLOOKUP(Schedule!M2491,#REF!,2,FALSE)","v":{"$error":"#REF!"}}]
["2026-10-30",6,"Bechoros 42",{"$f":"COUNT($A$2:A2492)","v":2491},7473,0.9188491331611951,0.89561047583917375,0.83806713389893028,0.79970490593876797,0.75544079675396536,0.74769457764662484,0.71560309848764292,"Bechoros ",{"$f":"VLOOKUP(Schedule!M2492,#REF!,2,FALSE)","v":{"$error":"#REF!"}}]
["2026-10-31",7,"Bechoros 43",{"$f":"COUNT($A$2:A2493)","v":2492},7476,0.91921800073773519,0.89597934341571372,0.83843600147547026,0.80007377351530795,0.75580966433050534,0.74806344522316492,0.71597196606418301,"Bechoros ",{"$f":"VLOOKUP(Schedule!M2493,#REF!,2,FALSE)","v":{"$error":"#REF!"}}]
["2026-11-01",1,"Bechoros 44",{"$f":"COUNT($A$2:A2494)","v":2493},7479,0.91958686831427516,0.89634821099225381,0.83880486905201035,0.80044264109184804,{"$f":"(D2494-443)/2711","v":0.75617853190704543},0.7484323127997049,0.71634083364072298,"Bechoros ",{"$f":"VLOOKUP(Schedule!M2494,#REF!,2,FALSE)","v":{"$error":"#REF!"}}]
["2026-11-02",2,"Bechoros 45",{"$f":"COUNT($A$2:A2495)","v":2494},7482,0.91995573589081525,0.89671707856879379,0.83917373662855033,0.80081150866838802,0.7565473994835854,0.74880118037624488,0.71670970121726296,"Bechoros ",{"$f":"VLOOKUP(Schedule!M2495,#REF!,2,FALSE)","v":{"$error":"#REF!"}}]
["2026-11-03",3,"Bechoros 46",{"$f":"COUNT($A$2:A2496)","v":2495},7485,0.92032460346735523,0.89708594614533388,0.83954260420509041,0.80118037624492811,0.75691626706012538,0.74917004795278497,0.71707856879380305,"Bechoros ",{"$f":"VLOOKUP(Schedule!M2496,#REF!,2,FALSE)","v":{"$error":"#REF!"}}]
["2026-11-04",4,"Bechoros 47",{"$f":"COUNT($A$2:A2497)","v":2496},7488,0.92069347104389521,0.89745481372187386,0.83991147178163039,0.80154924382146808,0.75728513463666547,0.74953891552932495,0.71744743637034303,"Bechoros ",{"$f":"VLOOKUP(Schedule!M2497,#REF!,2,FALSE)","v":{"$error":"#REF!"}}]
["2026-11-05",5,"Bechoros 48",{"$f":"COUNT($A$2:A2498)","v":2497},{"$f":"D2498*3","v":7491},0.92106233862043529,{"$f":"(D2498-63)/2711","v":0.89782368129841383},0.84028033935817037,0.80191811139800806,0.75765400221320545,0.74990778310586503,0.71781630394688312,"Bechoros ",{"$f":"VLOOKUP(Schedule!M2498,#REF!,2,FALSE)","v":{"$error":"#REF!"}}]
["2026-11-06",{"$f":"WEEKDAY(A2499)","v":6},"Bechoros 49",{"$f":"COUNT($A$2:A2499)","v":2498},7494,{"$f":"D2499/2711","v":0.92143120619697527},0.89819254887495392,0.84064920693471046,0.80228697897454815,0.75802286978974553,0.75027665068240501,0.71818517152342309,{"$f":"LEFT(C2499,FIND(\"☃\",SUBSTITUTE(C2499,\" \",\"☃\",LEN(C2499)-LEN(SUBSTITUTE(C2499,\" \",\"\")))))","v":"Bechoros "},{"$f":"VLOOKUP(Schedule!M2499,#REF!,2,FALSE)","v":{"$error":"#REF!"}}]
["2026-11-07",7,"Bechoros 50",{"$f":"COUNT($A$2:A2500)","v":2499},7497,0.92180007377351536,0.8985614164514939,0.84101807451125044,0.80265584655108813,0.75839173736628551,0.75064551825894499,0.71855403909996307,"Bechoros ",{"$f":"VLOOKUP(Schedule!M2500,#REF!,2,FALSE)","v":{"$error":"#REF!"}}]
["2026-11-08",1,"Bechoros 51",{"$f":"COUNT($A$2:A2501)","v":2500},7500,0.92216894135005534,0.89893028402803399,0.84138694208779052,0.80302471412762821,0.75876060494282549,0.75101438583548508,0.71892290667650316,"Bechoros ",{"$f":"VLOOKUP(Schedule!M2501,#REF!,2,FALSE)","v":{"$error":"#REF!"}}]
["2026-11-09",2,"Bechoros 52",{"$f":"COUNT($A$2:A2502)","v":2501},7503,0.92253780892659532,0.89929915160457397,0.8417558096643305,{"$f":"(D2502-323)/2711","v":0.80339358170416819},0.75912947251936558,0.75138325341202505,0.71929177425304314,"Bechoros ",{"$f":"VLOOKUP(Schedule!M2502,#REF!,2,FALSE)","v":{"$error":"#REF!"}}]
["2026-11-10",3,"Bechoros 53",{"$f":"COUNT($A$2:A2503)","v":2502},7506,0.9229066765031354,0.89966801918111394,0.84212467724087048,0.80376244928070828,0.75949834009590556,0.75175212098856514,0.71966064182958323,"Bechoros ",{"$f":"VLOOKUP(Schedule!M2503,#REF!,2,FALSE)","v":{"$error":"#REF!"}}]
["2026-11-11",4,"Bechoros 54",{"$f":"COUNT($A$2:A2504)","v":2503},7509,0.92327554407967538,0.90003688675765403,0.84249354481741057,0.80413131685724826,0.75986720767244564,0.75212098856510512,0.7200295094061232,"Bechoros ",{"$f":"VLOOKUP(Schedule!M2504,#REF!,2,FALSE)","v":{"$error":"#REF!"}}]
["2026-11-12",5,"Bechoros 55",{"$f":"COUNT($A$2:A2505)","v":2504},7512,0.92364441165621547,0.90040575433419401,0.84286241239395054,0.80450018443378823,0.76023607524898562,0.7524898561416451,0.72039837698266318,"Bechoros ",{"$f":"VLOOKUP(Schedule!M2505,#REF!,2,FALSE)","v":{"$error":"#REF!"}}]
["2026-11-13",6,"Bechoros 56",{"$f":"COUNT($A$2:A2506)","v":2505},7515,0.92401327923275545,0.9007746219107341,0.84323127997049063,0.80486905201032832,0.7606049428255256,0.75285872371818519,0.72076724455920327,"Bechoros ",{"$f":"VLOOKUP(Schedule!M2506,#REF!,2,FALSE)","v":{"$error":"#REF!"}}]
["2026-11-14",7,"Bechoros 57",{"$f":"COUNT($A$2:A2507)","v":2506},7518,0.92438214680929542,0.90114348948727407,0.84360014754703061,0.8052379195868683,0.76097381040206569,0.75322759129472516,0.72113611213574325,"Bechoros ",{"$f":"VLOOKUP(Schedule!M2507,#REF!,2,FALSE)","v":{"$error":"#REF!"}}]
["2026-11-15",1,"Bechoros 58",{"$f":"COUNT($A$2:A2508)","v":2507},7521,0.92475101438583551,0.90151235706381405,0.84396901512357059,0.80560678716340839,0.76134267797860566,0.75359645887126525,0.72150497971228333,"Bechoros ",{"$f":"VLOOKUP(Schedule!M2508,#REF!,2,FALSE)","v":{"$error":"#REF!"}}]
["2026-11-16",2,"Bechoros 59",{"$f":"COUNT($A$2:A2509)","v":2508},7524,0.92511988196237549,0.90188122464035414,0.84433788270011068,0.80597565473994837,0.76171154555514575,0.75396532644780523,0.72187384728882331,"Bechoros ",{"$f":"VLOOKUP(Schedule!M2509,#REF!,2,FALSE)","v":{"$error":"#REF!"}}]
["2026-11-17",3,"Bechoros 60",{"$f":"COUNT($A$2:A2510)","v":2509},7527,0.92548874953891558,0.90225009221689412,0.84470675027665065,0.80634452231648834,0.76208041313168573,0.75433419402434521,0.72224271486536329,"Bechoros ",{"$f":"VLOOKUP(Schedule!M2510,#REF!,2,FALSE)","v":{"$error":"#REF!"}}]
["2026-11-18",4,"Bechoros 61",{"$f":"COUNT($A$2:A2511)","v":2510},7530,0.92585761711545556,0.90261895979343421,0.84507561785319074,0.80671338989302843,0.76244928070822571,0.75470306160088529,0.72261158244190338,"Bechoros ",{"$f":"VLOOKUP(Schedule!M2511,#REF!,2,FALSE)","v":{"$error":"#REF!"}}]
["2026-11-19",5,"Arachin 2",{"$f":"COUNT($A$2:A2512)","v":2511},7533,0.92622648469199553,0.90298782736997418,0.84544448542973072,0.80708225746956841,0.7628181482847658,0.75507192917742527,0.72298045001844335,"Arachin ",{"$f":"VLOOKUP(Schedule!M2512,#REF!,2,FALSE)","v":{"$error":"#REF!"}}]
["2026-11-20",6,"Arachin 3",{"$f":"COUNT($A$2:A2513)","v":2512},7536,0.92659535226853562,0.90335669494651416,0.8458133530062707,0.8074511250461085,0.76318701586130577,0.75544079675396536,0.72334931759498344,"Arachin ",{"$f":"VLOOKUP(Schedule!M2513,#REF!,2,FALSE)","v":{"$error":"#REF!"}}]
["2026-11-21",7,"Arachin 4",{"$f":"COUNT($A$2:A2514)","v":2513},7539,0.9269642198450756,0.90372556252305425,0.84618222058281078,0.80781999262264848,0.76355588343784586,{"$f":"(D2514-464)/2711","v":0.75580966433050534},0.72371818517152342,"Arachin ",{"$f":"VLOOKUP(Schedule!M2514,#REF!,2,FALSE)","v":{"$error":"#REF!"}}]
["2026-11-22",1,"Arachin 5",{"$f":"COUNT($A$2:A2515)","v":2514},7542,0.92733308742161569,0.90409443009959423,0.84655108815935076,0.80818886019918845,0.76392475101438584,0.75617853190704543,0.7240870527480634,"Arachin ",{"$f":"VLOOKUP(Schedule!M2515,#REF!,2,FALSE)","v":{"$error":"#REF!"}}]
["2026-11-23",2,"Arachin 6",{"$f":"COUNT($A$2:A2516)","v":2515},7545,0.92770195499815566,0.90446329767613431,0.84691995573589085,0.80855772777572854,0.76429361859092582,0.7565473994835854,0.72445592032460349,"Arachin ",{"$f":"VLOOKUP(Schedule!M2516,#REF!,2,FALSE)","v":{"$error":"#REF!"}}]
["2026-11-24",3,"Arachin 7",{"$f":"COUNT($A$2:A2517)","v":2516},7548,0.92807082257469564,0.90483216525267429,0.84728882331243083,0.80892659535226852,0.7646624861674659,0.75691626706012538,0.72482478790114346,"Arachin ",{"$f":"VLOOKUP(Schedule!M2517,#REF!,2,FALSE)","v":{"$error":"#REF!"}}]
["2026-11-25",4,"Arachin 8",{"$f":"COUNT($A$2:A2518)","v":2517},7551,0.92843969015123573,0.90520103282921427,0.84765769088897081,0.80929546292880861,0.76503135374400588,0.75728513463666547,0.72519365547768355,"Arachin ",{"$f":"VLOOKUP(Schedule!M2518,#REF!,2,FALSE)","v":{"$error":"#REF!"}}]
["2026-11-26",5,"Arachin 9",{"$f":"COUNT($A$2:A2519)","v":2518},7554,0.92880855772777571,0.90556990040575436,0.84802655846551089,0.80966433050534858,0.76540022132054597,0.75765400221320545,0.72556252305422353,"Arachin ",{"$f":"VLOOKUP(Schedule!M2519,#REF!,2,FALSE)","v":{"$error":"#REF!"}}]
["2026-11-27",6,"Arachin 10",{"$f":"COUNT($A$2:A2520)","v":2519},7557,0.9291774253043158,0.90593876798229434,0.84839542604205087,0.81003319808188856,0.76576908889708595,0.75802286978974553,0.72593139063076351,"Arachin ",{"$f":"VLOOKUP(Schedule!M2520,#REF!,2,FALSE)","v":{"$error":"#REF!"}}]
["2026-11-28",7,"Arachin 11",{"$f":"COUNT($A$2:A2521)","v":2520},7560,0.92954629288085577,0.90630763555883442,0.84876429361859096,0.81040206565842865,0.76613795647362593,0.75839173736628551,0.7263002582073036,"Arachin ",{"$f":"VLOOKUP(Schedule!M2521,#REF!,2,FALSE)","v":{"$error":"#REF!"}}]
["2026-11-29",1,"Arachin 12",{"$f":"COUNT($A$2:A2522)","v":2521},7563,0.92991516045739575,0.9066765031353744,0.84913316119513094,0.81077093323496863,0.76650682405016601,0.75876060494282549,0.72666912578384357,"Arachin ",{"$f":"VLOOKUP(Schedule!M2522,#REF!,2,FALSE)","v":{"$error":"#REF!"}}]
["2026-11-30",2,"Arachin 13",{"$f":"COUNT($A$2:A2523)","v":2522},7566,0.93028402803393584,0.90704537071191438,0.84950202877167102,0.81113980081150872,0.76687569162670599,0.75912947251936558,0.72703799336038366,"Arachin ",{"$f":"VLOOKUP(Schedule!M2523,#REF!,2,FALSE)","v":{"$error":"#REF!"}}]
["2026-12-01",3,"Arachin 14",{"$f":"COUNT($A$2:A2524)","v":2523},7569,0.93065289561047582,0.90741423828845447,0.849870896348211,0.81150866838804869,0.76724455920324608,0.75949834009590556,0.72740686093692364,"Arachin ",{"$f":"VLOOKUP(Schedule!M2524,#REF!,2,FALSE)","v":{"$error":"#REF!"}}]
["2026-12-02",4,"Arachin 15",{"$f":"COUNT($A$2:A2525)","v":2524},7572,0.9310217631870159,0.90778310586499444,0.85023976392475098,0.81187753596458867,0.76761342677978606,0.75986720767244564,0.72777572851346362,"Arachin ",{"$f":"VLOOKUP(Schedule!M2525,#REF!,2,FALSE)","v":{"$error":"#REF!"}}]
["2026-12-03",5,"Arachin 16",{"$f":"COUNT($A$2:A2526)","v":2525},7575,0.93139063076355588,0.90815197344153453,{"$f":"(D2526-219)/2711","v":0.85060863150129107},0.81224640354112876,0.76798229435632603,0.76023607524898562,0.7281445960900037,"Arachin ",{"$f":"VLOOKUP(Schedule!M2526,#REF!,2,FALSE)","v":{"$error":"#REF!"}}]
["2026-12-04",6,"Arachin 17",{"$f":"COUNT($A$2:A2527)","v":2526},7578,0.93175949834009586,0.90852084101807451,0.85097749907783105,0.81261527111766874,0.76835116193286612,0.7606049428255256,0.72851346366654368,"Arachin ",{"$f":"VLOOKUP(Schedule!M2527,#REF!,2,FALSE)","v":{"$error":"#REF!"}}]
["2026-12-05",7,"Arachin 18",{"$f":"COUNT($A$2:A2528)","v":2527},7581,0.93212836591663595,0.90888970859461449,0.85134636665437113,0.81298413869420882,0.7687200295094061,0.76097381040206569,0.72888233124308377,"Arachin ",{"$f":"VLOOKUP(Schedule!M2528,#REF!,2,FALSE)","v":{"$error":"#REF!"}}]
["2026-12-06",1,"Arachin 19",{"$f":"COUNT($A$2:A2529)","v":2528},7584,0.93249723349317593,0.90925857617115458,0.85171523423091111,0.8133530062707488,0.76908889708594619,0.76134267797860566,0.72925119881962375,"Arachin ",{"$f":"VLOOKUP(Schedule!M2529,#REF!,2,FALSE)","v":{"$error":"#REF!"}}]
["2026-12-07",2,"Arachin 20",{"$f":"COUNT($A$2:A2530)","v":2529},7587,0.93286610106971601,0.90962744374769455,0.85208410180745109,0.81372187384728878,0.76945776466248617,0.76171154555514575,0.72962006639616372,"Arachin ",{"$f":"VLOOKUP(Schedule!M2530,#REF!,2,FALSE)","v":{"$error":"#REF!"}}]
["2026-12-08",3,"Arachin 21",{"$f":"COUNT($A$2:A2531)","v":2530},7590,0.93323496864625599,0.90999631132423464,0.85245296938399118,0.81409074142382887,0.76982663223902614,0.76208041313168573,0.72998893397270381,"Arachin ",{"$f":"VLOOKUP(Schedule!M2531,#REF!,2,FALSE)","v":{"$error":"#REF!"}}]
["2026-12-09",4,"Arachin 22",{"$f":"COUNT($A$2:A2532)","v":2531},7593,0.93360383622279597,0.91036517890077462,0.85282183696053115,0.81445960900036884,0.77019549981556623,0.76244928070822571,0.73035780154924379,"Arachin ",{"$f":"VLOOKUP(Schedule!M2532,#REF!,2,FALSE)","v":{"$error":"#REF!"}}]
["2026-12-10",5,"Arachin 23",{"$f":"COUNT($A$2:A2533)","v":2532},7596,0.93397270379933606,0.9107340464773146,0.85319070453707124,0.81482847657690893,0.77056436739210621,0.7628181482847658,0.73072666912578388,"Arachin ",{"$f":"VLOOKUP(Schedule!M2533,#REF!,2,FALSE)","v":{"$error":"#REF!"}}]
["2026-12-11",6,"Arachin 24",{"$f":"COUNT($A$2:A2534)","v":2533},7599,0.93434157137587603,0.91110291405385468,0.85355957211361122,0.81519734415344891,0.7709332349686463,0.76318701586130577,0.73109553670232386,"Arachin ",{"$f":"VLOOKUP(Schedule!M2534,#REF!,2,FALSE)","v":{"$error":"#REF!"}}]
["2026-12-12",7,"Arachin 25",{"$f":"COUNT($A$2:A2535)","v":2534},7602,0.93471043895241612,0.91147178163039466,0.8539284396901512,0.81556621172998889,0.77130210254518627,0.76355588343784586,0.73146440427886383,"Arachin ",{"$f":"VLOOKUP(Schedule!M2535,#REF!,2,FALSE)","v":{"$error":"#REF!"}}]
["2026-12-13",1,"Arachin 26",{"$f":"COUNT($A$2:A2536)","v":2535},7605,0.9350793065289561,0.91184064920693475,0.85429730726669129,0.81593507930652898,0.77167097012172625,0.76392475101438584,0.73183327185540392,"Arachin ",{"$f":"VLOOKUP(Schedule!M2536,#REF!,2,FALSE)","v":{"$error":"#REF!"}}]
["2026-12-14",2,"Arachin 27",{"$f":"COUNT($A$2:A2537)","v":2536},7608,0.93544817410549608,0.91220951678347473,0.85466617484323126,0.81630394688306895,0.77203983769826634,0.76429361859092582,0.7322021394319439,"Arachin ",{"$f":"VLOOKUP(Schedule!M2537,#REF!,2,FALSE)","v":{"$error":"#REF!"}}]
["2026-12-15",3,"Arachin 28",{"$f":"COUNT($A$2:A2538)","v":2537},7611,0.93581704168203617,0.9125783843600147,0.85503504241977135,0.81667281445960904,0.77240870527480632,0.7646624861674659,{"$f":"(D2538-551)/2711","v":0.73257100700848399},"Arachin ",{"$f":"VLOOKUP(Schedule!M2538,#REF!,2,FALSE)","v":{"$error":"#REF!"}}]
["2026-12-16",4,"Arachin 29",{"$f":"COUNT($A$2:A2539)","v":2538},7614,0.93618590925857614,0.91294725193655479,0.85540390999631133,0.81704168203614902,0.77277757285134641,0.76503135374400588,0.73293987458502396,"Arachin ",{"$f":"VLOOKUP(Schedule!M2539,#REF!,2,FALSE)","v":{"$error":"#REF!"}}]
["2026-12-17",5,"Arachin 30",{"$f":"COUNT($A$2:A2540)","v":2539},7617,0.93655477683511623,0.91331611951309477,0.85577277757285131,0.817410549612689,0.77314644042788638,0.76540022132054597,0.73330874216156405,"Arachin ",{"$f":"VLOOKUP(Schedule!M2540,#REF!,2,FALSE)","v":{"$error":"#REF!"}}]
["2026-12-18",6,"Arachin 31",{"$f":"COUNT($A$2:A2541)","v":2540},7620,0.93692364441165621,0.91368498708963486,0.85614164514939139,0.81777941718922909,0.77351530800442636,0.76576908889708595,0.73367760973810403,"Arachin ",{"$f":"VLOOKUP(Schedule!M2541,#REF!,2,FALSE)","v":{"$error":"#REF!"}}]
["2026-12-19",7,"Arachin 32",{"$f":"COUNT($A$2:A2542)","v":2541},7623,0.93729251198819619,0.91405385466617484,0.85651051272593137,0.81814828476576906,0.77388417558096645,0.76613795647362593,0.73404647731464401,"Arachin ",{"$f":"VLOOKUP(Schedule!M2542,#REF!,2,FALSE)","v":{"$error":"#REF!"}}]
["2026-12-20",1,"Arachin 33",{"$f":"COUNT($A$2:A2543)","v":2542},7626,0.93766137956473627,0.91442272224271481,0.85687938030247146,0.81851715234230915,0.77425304315750643,0.76650682405016601,0.7344153448911841,"Arachin ",{"$f":"VLOOKUP(Schedule!M2543,#REF!,2,FALSE)","v":{"$error":"#REF!"}}]
["2026-12-21",2,"Arachin 34",{"$f":"COUNT($A$2:A2544)","v":2543},7629,0.93803024714127625,0.9147915898192549,0.85724824787901144,0.81888601991884913,0.77462191073404651,0.76687569162670599,0.73478421246772407,"Arachin ",{"$f":"VLOOKUP(Schedule!M2544,#REF!,2,FALSE)","v":{"$error":"#REF!"}}]
["2026-12-22",3,"Temurah 2",{"$f":"COUNT($A$2:A2545)","v":2544},7632,0.93839911471781634,0.91516045739579488,0.85761711545555142,0.81925488749538911,0.77499077831058649,0.76724455920324608,0.73515308004426416,"Temurah ",{"$f":"VLOOKUP(Schedule!M2545,#REF!,2,FALSE)","v":{"$error":"#REF!"}}]
["2026-12-23",4,"Temurah 3",{"$f":"COUNT($A$2:A2546)","v":2545},7635,0.93876798229435632,0.91552932497233497,0.8579859830320915,0.81962375507192919,0.77535964588712647,0.76761342677978606,0.73552194762080414,"Temurah ",{"$f":"VLOOKUP(Schedule!M2546,#REF!,2,FALSE)","v":{"$error":"#REF!"}}]
["2026-12-24",5,"Temurah 4",{"$f":"COUNT($A$2:A2547)","v":2546},7638,0.9391368498708963,0.91589819254887495,0.85835485060863148,0.81999262264846917,0.77572851346366656,0.76798229435632603,0.73589081519734412,"Temurah ",{"$f":"VLOOKUP(Schedule!M2547,#REF!,2,FALSE)","v":{"$error":"#REF!"}}]
["2026-12-25",6,"Temurah 5",{"$f":"COUNT($A$2:A2548)","v":2547},7641,0.93950571744743638,0.91626706012541492,0.85872371818517157,0.82036149022500926,0.77609738104020654,0.76835116193286612,0.73625968277388421,"Temurah ",{"$f":"VLOOKUP(Schedule!M2548,#REF!,2,FALSE)","v":{"$error":"#REF!"}}]
["2026-12-26",7,"Temurah 6",{"$f":"COUNT($A$2:A2549)","v":2548},7644,0.93987458502397636,0.91663592770195501,0.85909258576171155,0.82073035780154924,0.77646624861674662,0.7687200295094061,0.73662855035042418,"Temurah ",{"$f":"VLOOKUP(Schedule!M2549,#REF!,2,FALSE)","v":{"$error":"#REF!"}}]
["2026-12-27",1,"Temurah 7",{"$f":"COUNT($A$2:A2550)","v":2549},7647,0.94024345260051645,0.91700479527849499,0.85946145333825152,0.82109922537808921,0.7768351161932866,0.76908889708594619,0.73699741792696427,"Temurah ",{"$f":"VLOOKUP(Schedule!M2550,#REF!,2,FALSE)","v":{"$error":"#REF!"}}]
["2026-12-28",2,"Temurah 8",{"$f":"COUNT($A$2:A2551)","v":2550},7650,0.94061232017705643,0.91737366285503508,0.85983032091479161,0.8214680929546293,0.77720398376982658,0.76945776466248617,0.73736628550350425,"Temurah ",{"$f":"VLOOKUP(Schedule!M2551,#REF!,2,FALSE)","v":{"$error":"#REF!"}}]
["2026-12-29",3,"Temurah 9",{"$f":"COUNT($A$2:A2552)","v":2551},7653,0.9409811877535964,0.91774253043157505,0.86019918849133159,0.82183696053116928,0.77757285134636667,0.76982663223902614,0.73773515308004423,"Temurah ",{"$f":"VLOOKUP(Schedule!M2552,#REF!,2,FALSE)","v":{"$error":"#REF!"}}]
["2026-12-30",4,"Temurah 10",{"$f":"COUNT($A$2:A2553)","v":2552},7656,0.94135005533013649,0.91811139800811503,0.86056805606787168,0.82220582810770937,0.77794171892290664,0.77019549981556623,0.73810402065658431,"Temurah ",{"$f":"VLOOKUP(Schedule!M2553,#REF!,2,FALSE)","v":{"$error":"#REF!"}}]
["2026-12-31",5,"Temurah 11",{"$f":"COUNT($A$2:A2554)","v":2553},7659,0.94171892290667647,0.91848026558465512,0.86093692364441166,0.82257469568424935,0.77831058649944673,0.77056436739210621,0.73847288823312429,"Temurah ",{"$f":"VLOOKUP(Schedule!M2554,#REF!,2,FALSE)","v":{"$error":"#REF!"}}]
["2027-01-01",6,"Temurah 12",{"$f":"COUNT($A$2:A2555)","v":2554},7662,0.94208779048321656,0.9188491331611951,0.86130579122095163,0.82294356326078932,0.77867945407598671,0.7709332349686463,0.73884175580966438,"Temurah ",{"$f":"VLOOKUP(Schedule!M2555,#REF!,2,FALSE)","v":{"$error":"#REF!"}}]
["2027-01-02",7,"Temurah 13",{"$f":"COUNT($A$2:A2556)","v":2555},7665,0.94245665805975654,0.91921800073773519,0.86167465879749172,0.82331243083732941,0.7790483216525268,0.77130210254518627,0.73921062338620436,"Temurah ",{"$f":"VLOOKUP(Schedule!M2556,#REF!,2,FALSE)","v":{"$error":"#REF!"}}]
["2027-01-03",1,"Temurah 14",{"$f":"COUNT($A$2:A2557)","v":2556},7668,0.94282552563629662,0.91958686831427516,0.8620435263740317,0.82368129841386939,0.77941718922906678,0.77167097012172625,0.73957949096274433,"Temurah ",{"$f":"VLOOKUP(Schedule!M2557,#REF!,2,FALSE)","v":{"$error":"#REF!"}}]
["2027-01-04",2,"Temurah 15",{"$f":"COUNT($A$2:A2558)","v":2557},7671,0.9431943932128366,0.91995573589081525,0.86241239395057179,0.82405016599040948,{"$f":"(D2558-443)/2711","v":0.77978605680560675},0.77203983769826634,0.73994835853928442,"Temurah ",{"$f":"VLOOKUP(Schedule!M2558,#REF!,2,FALSE)","v":{"$error":"#REF!"}}]
["2027-01-05",3,"Temurah 16",{"$f":"COUNT($A$2:A2559)","v":2558},7674,0.94356326078937658,0.92032460346735523,0.86278126152711176,0.82441903356694946,0.78015492438214684,0.77240870527480632,0.7403172261158244,"Temurah ",{"$f":"VLOOKUP(Schedule!M2559,#REF!,2,FALSE)","v":{"$error":"#REF!"}}]
["2027-01-06",4,"Temurah 17",{"$f":"COUNT($A$2:A2560)","v":2559},7677,0.94393212836591667,0.92069347104389521,0.86315012910365174,0.82478790114348943,0.78052379195868682,0.77277757285134641,0.74068609369236449,"Temurah ",{"$f":"VLOOKUP(Schedule!M2560,#REF!,2,FALSE)","v":{"$error":"#REF!"}}]
["2027-01-07",5,"Temurah 18",{"$f":"COUNT($A$2:A2561)","v":2560},7680,0.94430099594245664,0.92106233862043529,0.86351899668019183,0.82515676872002952,0.78089265953522691,0.77314644042788638,0.74105496126890447,"Temurah ",{"$f":"VLOOKUP(Schedule!M2561,#REF!,2,FALSE)","v":{"$error":"#REF!"}}]
["2027-01-08",6,"Temurah 19",{"$f":"COUNT($A$2:A2562)","v":2561},{"$f":"D2562*3","v":7683},0.94466986351899673,{"$f":"(D2562-63)/2711","v":0.92143120619697527},0.86388786425673181,0.8255256362965695,0.78126152711176688,0.77351530800442636,0.74142382884544444,"Temurah ",{"$f":"VLOOKUP(Schedule!M2562,#REF!,2,FALSE)","v":{"$error":"#REF!"}}]
["2027-01-09",{"$f":"WEEKDAY(A2563)","v":7},"Temurah 20",{"$f":"COUNT($A$2:A2563)","v":2562},7686,{"$f":"D2563/2711","v":0.94503873109553671},0.92180007377351536,0.8642567318332719,0.82589450387310959,0.78163039468830686,0.77388417558096645,0.74179269642198453,{"$f":"LEFT(C2563,FIND(\"☃\",SUBSTITUTE(C2563,\" \",\"☃\",LEN(C2563)-LEN(SUBSTITUTE(C2563,\" \",\"\")))))","v":"Temurah "},{"$f":"VLOOKUP(Schedule!M2563,#REF!,2,FALSE)","v":{"$error":"#REF!"}}]
["2027-01-10",1,"Temurah 21",{"$f":"COUNT($A$2:A2564)","v":2563},7689,0.94540759867207669,0.92216894135005534,0.86462559940981187,0.82626337144964956,0.78199926226484695,0.77425304315750643,0.74216156399852451,"Temurah ",{"$f":"VLOOKUP(Schedule!M2564,#REF!,2,FALSE)","v":{"$error":"#REF!"}}]
["2027-01-11",2,"Temurah 22",{"$f":"COUNT($A$2:A2565)","v":2564},7692,0.94577646624861678,0.92253780892659532,0.86499446698635185,0.82663223902618965,0.78236812984138693,0.77462191073404651,0.7425304315750646,"Temurah ",{"$f":"VLOOKUP(Schedule!M2565,#REF!,2,FALSE)","v":{"$error":"#REF!"}}]
["2027-01-12",3,"Temurah 23",{"$f":"COUNT($A$2:A2566)","v":2565},7695,0.94614533382515675,0.9229066765031354,0.86536333456289194,{"$f":"(D2566-323)/2711","v":0.82700110660272963},0.78273699741792702,0.77499077831058649,0.74289929915160458,"Temurah ",{"$f":"VLOOKUP(Schedule!M2566,#REF!,2,FALSE)","v":{"$error":"#REF!"}}]
["2027-01-13",4,"Temurah 24",{"$f":"COUNT($A$2:A2567)","v":2566},7698,0.94651420140169684,0.92327554407967538,0.86573220213943192,0.82736997417926961,0.78310586499446699,0.77535964588712647,0.74326816672814455,"Temurah ",{"$f":"VLOOKUP(Schedule!M2567,#REF!,2,FALSE)","v":{"$error":"#REF!"}}]
["2027-01-14",5,"Temurah 25",{"$f":"COUNT($A$2:A2568)","v":2567},7701,0.94688306897823682,0.92364441165621547,0.86610106971597201,0.8277388417558097,0.78347473257100697,0.77572851346366656,0.74363703430468464,"Temurah ",{"$f":"VLOOKUP(Schedule!M2568,#REF!,2,FALSE)","v":{"$error":"#REF!"}}]
["2027-01-15",6,"Temurah 26",{"$f":"COUNT($A$2:A2569)","v":2568},7704,0.9472519365547768,0.92401327923275545,0.86646993729251198,0.82810770933234967,0.78384360014754706,0.77609738104020654,0.74400590188122462,"Temurah ",{"$f":"VLOOKUP(Schedule!M2569,#REF!,2,FALSE)","v":{"$error":"#REF!"}}]
["2027-01-16",7,"Temurah 27",{"$f":"COUNT($A$2:A2570)","v":2569},7707,0.94762080413131689,0.92438214680929542,0.86683880486905196,0.82847657690888976,0.78421246772408704,0.77646624861674662,0.74437476945776471,"Temurah ",{"$f":"VLOOKUP(Schedule!M2570,#REF!,2,FALSE)","v":{"$error":"#REF!"}}]
["2027-01-17",1,"Temurah 28",{"$f":"COUNT($A$2:A2571)","v":2570},7710,0.94798967170785686,0.92475101438583551,0.86720767244559205,0.82884544448542974,0.78458133530062713,0.7768351161932866,0.74474363703430468,"Temurah ",{"$f":"VLOOKUP(Schedule!M2571,#REF!,2,FALSE)","v":{"$error":"#REF!"}}]
["2027-01-18",2,"Temurah 29",{"$f":"COUNT($A$2:A2572)","v":2571},7713,0.94835853928439695,0.92511988196237549,0.86757654002213203,0.82921431206196972,0.7849502028771671,0.77720398376982658,0.74511250461084466,"Temurah ",{"$f":"VLOOKUP(Schedule!M2572,#REF!,2,FALSE)","v":{"$error":"#REF!"}}]
["2027-01-19",3,"Temurah 30",{"$f":"COUNT($A$2:A2573)","v":2572},7716,0.94872740686093693,0.92548874953891558,0.86794540759867211,0.8295831796385098,0.78531907045370708,0.77757285134636667,0.74548137218738475,"Temurah ",{"$f":"VLOOKUP(Schedule!M2573,#REF!,2,FALSE)","v":{"$error":"#REF!"}}]
["2027-01-20",4,"Temurah 31",{"$f":"COUNT($A$2:A2574)","v":2573},7719,0.94909627443747691,0.92585761711545556,0.86831427517521209,0.82995204721504978,0.78568793803024717,0.77794171892290664,0.74585023976392473,"Temurah ",{"$f":"VLOOKUP(Schedule!M2574,#REF!,2,FALSE)","v":{"$error":"#REF!"}}]
["2027-01-21",5,"Temurah 32",{"$f":"COUNT($A$2:A2575)","v":2574},7722,0.94946514201401699,0.92622648469199553,0.86868314275175207,0.83032091479158987,0.78605680560678715,0.77831058649944673,0.74621910734046482,"Temurah ",{"$f":"VLOOKUP(Schedule!M2575,#REF!,2,FALSE)","v":{"$error":"#REF!"}}]
["2027-01-22",6,"Temurah 33",{"$f":"COUNT($A$2:A2576)","v":2575},7725,0.94983400959055697,0.92659535226853562,0.86905201032829216,0.83068978236812985,0.78642567318332723,0.77867945407598671,0.74658797491700479,"Temurah ",{"$f":"VLOOKUP(Schedule!M2576,#REF!,2,FALSE)","v":{"$error":"#REF!"}}]
["2027-01-23",7,"Temurah 34",{"$f":"COUNT($A$2:A2577)","v":2576},7728,0.95020287716709706,0.9269642198450756,0.86942087790483213,0.83105864994466982,0.78679454075986721,0.7790483216525268,0.74695684249354477,"Temurah ",{"$f":"VLOOKUP(Schedule!M2577,#REF!,2,FALSE)","v":{"$error":"#REF!"}}]
["2027-01-24",1,"Kereisos 2",{"$f":"COUNT($A$2:A2578)","v":2577},7731,0.95057174474363704,0.92733308742161569,0.86978974548137222,0.83142751752120991,0.78716340833640719,{"$f":"(D2578-464)/2711","v":0.77941718922906678},0.74732571007008486,"Kereisos ",{"$f":"VLOOKUP(Schedule!M2578,#REF!,2,FALSE)","v":{"$error":"#REF!"}}]
["2027-01-25",2,"Kereisos 3",{"$f":"COUNT($A$2:A2579)","v":2578},7734,0.95094061232017701,0.92770195499815566,0.8701586130579122,0.83179638509774989,0.78753227591294728,0.77978605680560675,0.74769457764662484,"Kereisos ",{"$f":"VLOOKUP(Schedule!M2579,#REF!,2,FALSE)","v":{"$error":"#REF!"}}]
["2027-01-26",3,"Kereisos 4",{"$f":"COUNT($A$2:A2580)","v":2579},7737,0.9513094798967171,0.92807082257469564,0.87052748063445218,0.83216525267428998,0.78790114348948725,0.78015492438214684,0.74806344522316492,"Kereisos ",{"$f":"VLOOKUP(Schedule!M2580,#REF!,2,FALSE)","v":{"$error":"#REF!"}}]
["2027-01-27",4,"Kereisos 5",{"$f":"COUNT($A$2:A2581)","v":2580},7740,0.95167834747325708,0.92843969015123573,0.87089634821099227,0.83253412025082996,0.78827001106602734,0.78052379195868682,0.7484323127997049,"Kereisos ",{"$f":"VLOOKUP(Schedule!M2581,#REF!,2,FALSE)","v":{"$error":"#REF!"}}]
["2027-01-28",5,"Kereisos 6",{"$f":"COUNT($A$2:A2582)","v":2581},7743,0.95204721504979717,0.92880855772777571,0.87126521578753224,0.83290298782736993,0.78863887864256732,0.78089265953522691,0.74880118037624488,"Kereisos ",{"$f":"VLOOKUP(Schedule!M2582,#REF!,2,FALSE)","v":{"$error":"#REF!"}}]
["2027-01-29",6,"Kereisos 7",{"$f":"COUNT($A$2:A2583)","v":2582},7746,0.95241608262633715,0.9291774253043158,0.87163408336407233,0.83327185540391002,0.7890077462191073,0.78126152711176688,0.74917004795278497,"Kereisos ",{"$f":"VLOOKUP(Schedule!M2583,#REF!,2,FALSE)","v":{"$error":"#REF!"}}]
["2027-01-30",7,"Kereisos 8",{"$f":"COUNT($A$2:A2584)","v":2583},7749,0.95278495020287712,0.92954629288085577,0.87200295094061231,0.83364072298045,0.78937661379564739,0.78163039468830686,0.74953891552932495,"Kereisos ",{"$f":"VLOOKUP(Schedule!M2584,#REF!,2,FALSE)","v":{"$error":"#REF!"}}]
["2027-01-31",1,"Kereisos 9",{"$f":"COUNT($A$2:A2585)","v":2584},7752,0.95315381777941721,0.92991516045739575,0.8723718185171524,0.83400959055699009,0.78974548137218736,0.78199926226484695,0.74990778310586503,"Kereisos ",{"$f":"VLOOKUP(Schedule!M2585,#REF!,2,FALSE)","v":{"$error":"#REF!"}}]
["2027-02-01",2,"Kereisos 10",{"$f":"COUNT($A$2:A2586)","v":2585},7755,0.95352268535595719,0.93028402803393584,0.87274068609369237,0.83437845813353007,0.79011434894872745,0.78236812984138693,0.75027665068240501,"Kereisos ",{"$f":"VLOOKUP(Schedule!M2586,#REF!,2,FALSE)","v":{"$error":"#REF!"}}]
["2027-02-02",3,"Kereisos 11",{"$f":"COUNT($A$2:A2587)","v":2586},7758,0.95389155293249728,0.93065289561047582,0.87310955367023235,0.83474732571007004,0.79048321652526743,0.78273699741792702,0.75064551825894499,"Kereisos ",{"$f":"VLOOKUP(Schedule!M2587,#REF!,2,FALSE)","v":{"$error":"#REF!"}}]
["2027-02-03",4,"Kereisos 12",{"$f":"COUNT($A$2:A2588)","v":2587},7761,0.95426042050903725,0.9310217631870159,0.87347842124677244,0.83511619328661013,0.79085208410180741,0.78310586499446699,0.75101438583548508,"Kereisos ",{"$f":"VLOOKUP(Schedule!M2588,#REF!,2,FALSE)","v":{"$error":"#REF!"}}]
["2027-02-04",5,"Kereisos 13",{"$f":"COUNT($A$2:A2589)","v":2588},7764,0.95462928808557723,0.93139063076355588,0.87384728882331242,0.83548506086315011,0.79122095167834749,0.78347473257100697,0.75138325341202505,"Kereisos ",{"$f":"VLOOKUP(Schedule!M2589,#REF!,2,FALSE)","v":{"$error":"#REF!"}}]
["2027-02-05",6,"Kereisos 14",{"$f":"COUNT($A$2:A2590)","v":2589},7767,0.95499815566211732,0.93175949834009586,{"$f":"(D2590-219)/2711","v":0.87421615639985251},0.8358539284396902,0.79158981925488747,0.78384360014754706,0.75175212098856514,"Kereisos ",{"$f":"VLOOKUP(Schedule!M2590,#REF!,2,FALSE)","v":{"$error":"#REF!"}}]
["2027-02-06",7,"Kereisos 15",{"$f":"COUNT($A$2:A2591)","v":2590},7770,0.9553670232386573,0.93212836591663595,0.87458502397639248,0.83622279601623017,0.79195868683142756,0.78421246772408704,0.75212098856510512,"Kereisos ",{"$f":"VLOOKUP(Schedule!M2591,#REF!,2,FALSE)","v":{"$error":"#REF!"}}]
["2027-02-07",1,"Kereisos 16",{"$f":"COUNT($A$2:A2592)","v":2591},7773,0.95573589081519739,0.93249723349317593,0.87495389155293246,0.83659166359277015,0.79232755440796754,0.78458133530062713,0.7524898561416451,"Kereisos ",{"$f":"VLOOKUP(Schedule!M2592,#REF!,2,FALSE)","v":{"$error":"#REF!"}}]
["2027-02-08",2,"Kereisos 17",{"$f":"COUNT($A$2:A2593)","v":2592},7776,0.95610475839173736,0.93286610106971601,0.87532275912947255,0.83696053116931024,0.79269642198450752,0.7849502028771671,0.75285872371818519,"Kereisos ",{"$f":"VLOOKUP(Schedule!M2593,#REF!,2,FALSE)","v":{"$error":"#REF!"}}]
["2027-02-09",3,"Kereisos 18",{"$f":"COUNT($A$2:A2594)","v":2593},7779,0.95647362596827734,0.93323496864625599,0.87569162670601253,0.83732939874585022,0.7930652895610476,0.78531907045370708,0.75322759129472516,"Kereisos ",{"$f":"VLOOKUP(Schedule!M2594,#REF!,2,FALSE)","v":{"$error":"#REF!"}}]
["2027-02-10",4,"Kereisos 19",{"$f":"COUNT($A$2:A2595)","v":2594},7782,0.95684249354481743,0.93360383622279597,0.87606049428255262,0.83769826632239031,0.79343415713758758,0.78568793803024717,0.75359645887126525,"Kereisos ",{"$f":"VLOOKUP(Schedule!M2595,#REF!,2,FALSE)","v":{"$error":"#REF!"}}]
["2027-02-11",5,"Kereisos 20",{"$f":"COUNT($A$2:A2596)","v":2595},7785,0.95721136112135741,0.93397270379933606,0.87642936185909259,0.83806713389893028,0.79380302471412767,0.78605680560678715,0.75396532644780523,"Kereisos ",{"$f":"VLOOKUP(Schedule!M2596,#REF!,2,FALSE)","v":{"$error":"#REF!"}}]
["2027-02-12",6,"Kereisos 21",{"$f":"COUNT($A$2:A2597)","v":2596},7788,0.9575802286978975,0.93434157137587603,0.87679822943563257,0.83843600147547026,0.79417189229066765,0.78642567318332723,0.75433419402434521,"Kereisos ",{"$f":"VLOOKUP(Schedule!M2597,#REF!,2,FALSE)","v":{"$error":"#REF!"}}]
["2027-02-13",7,"Kereisos 22",{"$f":"COUNT($A$2:A2598)","v":2597},7791,0.95794909627443747,0.93471043895241612,0.87716709701217266,0.83880486905201035,0.79454075986720762,0.78679454075986721,0.75470306160088529,"Kereisos ",{"$f":"VLOOKUP(Schedule!M2598,#REF!,2,FALSE)","v":{"$error":"#REF!"}}]
["2027-02-14",1,"Kereisos 23",{"$f":"COUNT($A$2:A2599)","v":2598},7794,0.95831796385097745,0.9350793065289561,0.87753596458871264,0.83917373662855033,0.79490962744374771,0.78716340833640719,0.75507192917742527,"Kereisos ",{"$f":"VLOOKUP(Schedule!M2599,#REF!,2,FALSE)","v":{"$error":"#REF!"}}]
["2027-02-15",2,"Kereisos 24",{"$f":"COUNT($A$2:A2600)","v":2599},7797,0.95868683142751754,0.93544817410549608,0.87790483216525272,0.83954260420509041,0.79527849502028769,0.78753227591294728,0.75544079675396536,"Kereisos ",{"$f":"VLOOKUP(Schedule!M2600,#REF!,2,FALSE)","v":{"$error":"#REF!"}}]
["2027-02-16",3,"Kereisos 25",{"$f":"COUNT($A$2:A2601)","v":2600},7800,0.95905569900405752,0.93581704168203617,0.8782736997417927,0.83991147178163039,0.79564736259682778,0.78790114348948725,0.75580966433050534,"Kereisos ",{"$f":"VLOOKUP(Schedule!M2601,#REF!,2,FALSE)","v":{"$error":"#REF!"}}]
["2027-02-17",4,"Kereisos 26",{"$f":"COUNT($A$2:A2602)","v":2601},7803,0.9594245665805976,0.93618590925857614,0.87864256731833268,0.84028033935817037,0.79601623017336776,0.78827001106602734,{"$f":"(D2602-551)/2711","v":0.75617853190704543},"Kereisos ",{"$f":"VLOOKUP(Schedule!M2602,#REF!,2,FALSE)","v":{"$error":"#REF!"}}]
["2027-02-18",5,"Kereisos 27",{"$f":"COUNT($A$2:A2603)","v":2602},7806,0.95979343415713758,0.93655477683511623,0.87901143489487277,0.84064920693471046,0.79638509774990773,0.78863887864256732,0.7565473994835854,"Kereisos ",{"$f":"VLOOKUP(Schedule!M2603,#REF!,2,FALSE)","v":{"$error":"#REF!"}}]
["2027-02-19",6,"Kereisos 28",{"$f":"COUNT($A$2:A2604)","v":2603},7809,0.96016230173367756,0.93692364441165621,0.87938030247141274,0.84101807451125044,0.79675396532644782,0.7890077462191073,0.75691626706012538,"Kereisos ",{"$f":"VLOOKUP(Schedule!M2604,#REF!,2,FALSE)","v":{"$error":"#REF!"}}]
["2027-02-20",7,"Meilah, etc 2",{"$f":"COUNT($A$2:A2605)","v":2604},7812,0.96053116931021765,0.93729251198819619,0.87974917004795283,0.84138694208779052,0.7971228329029878,0.78937661379564739,0.75728513463666547,"Meilah, etc ",{"$f":"VLOOKUP(Schedule!M2605,#REF!,2,FALSE)","v":{"$error":"#REF!"}}]
["2027-02-21",1,"Meilah, etc 3",{"$f":"COUNT($A$2:A2606)","v":2605},7815,0.96090003688675762,0.93766137956473627,0.88011803762449281,0.8417558096643305,0.79749170047952789,0.78974548137218736,0.75765400221320545,"Meilah, etc ",{"$f":"VLOOKUP(Schedule!M2606,#REF!,2,FALSE)","v":{"$error":"#REF!"}}]
["2027-02-22",2,"Meilah, etc 4",{"$f":"COUNT($A$2:A2607)","v":2606},7818,0.96126890446329771,0.93803024714127625,0.88048690520103279,0.84212467724087048,0.79786056805606786,0.79011434894872745,0.75802286978974553,"Meilah, etc ",{"$f":"VLOOKUP(Schedule!M2607,#REF!,2,FALSE)","v":{"$error":"#REF!"}}]
["2027-02-23",3,"Meilah, etc 5",{"$f":"COUNT($A$2:A2608)","v":2607},7821,0.96163777203983769,0.93839911471781634,0.88085577277757288,0.84249354481741057,0.79822943563260784,0.79048321652526743,0.75839173736628551,"Meilah, etc ",{"$f":"VLOOKUP(Schedule!M2608,#REF!,2,FALSE)","v":{"$error":"#REF!"}}]
["2027-02-24",4,"Meilah, etc 6",{"$f":"COUNT($A$2:A2609)","v":2608},7824,0.96200663961637767,0.93876798229435632,0.88122464035411285,0.84286241239395054,0.79859830320914793,0.79085208410180741,0.75876060494282549,"Meilah, etc ",{"$f":"VLOOKUP(Schedule!M2609,#REF!,2,FALSE)","v":{"$error":"#REF!"}}]
["2027-02-25",5,"Meilah, etc 7",{"$f":"COUNT($A$2:A2610)","v":2609},7827,0.96237550719291776,0.9391368498708963,0.88159350793065294,0.84323127997049063,0.79896717078568791,0.79122095167834749,0.75912947251936558,"Meilah, etc ",{"$f":"VLOOKUP(Schedule!M2610,#REF!,2,FALSE)","v":{"$error":"#REF!"}}]
["2027-02-26",6,"Meilah, etc 8",{"$f":"COUNT($A$2:A2611)","v":2610},7830,0.96274437476945773,0.93950571744743638,0.88196237550719292,0.84360014754703061,0.799336038362228,0.79158981925488747,0.75949834009590556,"Meilah, etc ",{"$f":"VLOOKUP(Schedule!M2611,#REF!,2,FALSE)","v":{"$error":"#REF!"}}]
["2027-02-27",7,"Meilah, etc 9",{"$f":"COUNT($A$2:A2612)","v":2611},7833,0.96311324234599782,0.93987458502397636,0.8823312430837329,0.84396901512357059,0.79970490593876797,0.79195868683142756,0.75986720767244564,"Meilah, etc ",{"$f":"VLOOKUP(Schedule!M2612,#REF!,2,FALSE)","v":{"$error":"#REF!"}}]
["2027-02-28",1,"Meilah, etc 10",{"$f":"COUNT($A$2:A2613)","v":2612},7836,0.9634821099225378,0.94024345260051645,0.88270011066027299,0.84433788270011068,0.80007377351530795,0.79232755440796754,0.76023607524898562,"Meilah, etc ",{"$f":"VLOOKUP(Schedule!M2613,#REF!,2,FALSE)","v":{"$error":"#REF!"}}]
["2027-03-01",2,"Meilah, etc 11",{"$f":"COUNT($A$2:A2614)","v":2613},7839,0.96385097749907778,0.94061232017705643,0.88306897823681296,0.84470675027665065,0.80044264109184804,0.79269642198450752,0.7606049428255256,"Meilah, etc ",{"$f":"VLOOKUP(Schedule!M2614,#REF!,2,FALSE)","v":{"$error":"#REF!"}}]
["2027-03-02",3,"Meilah, etc 12",{"$f":"COUNT($A$2:A2615)","v":2614},7842,0.96421984507561787,0.9409811877535964,0.88343784581335305,0.84507561785319074,0.80081150866838802,0.7930652895610476,0.76097381040206569,"Meilah, etc ",{"$f":"VLOOKUP(Schedule!M2615,#REF!,2,FALSE)","v":{"$error":"#REF!"}}]
["2027-03-03",4,"Meilah, etc 13",{"$f":"COUNT($A$2:A2616)","v":2615},7845,0.96458871265215784,0.94135005533013649,0.88380671338989303,0.84544448542973072,0.80118037624492811,0.79343415713758758,0.76134267797860566,"Meilah, etc ",{"$f":"VLOOKUP(Schedule!M2616,#REF!,2,FALSE)","v":{"$error":"#REF!"}}]
["2027-03-04",5,"Meilah, etc 14",{"$f":"COUNT($A$2:A2617)","v":2616},7848,0.96495758022869793,0.94171892290667647,0.88417558096643301,0.8458133530062707,0.80154924382146808,0.79380302471412767,0.76171154555514575,"Meilah, etc ",{"$f":"VLOOKUP(Schedule!M2617,#REF!,2,FALSE)","v":{"$error":"#REF!"}}]
["2027-03-05",6,"Meilah, etc 15",{"$f":"COUNT($A$2:A2618)","v":2617},7851,0.96532644780523791,0.94208779048321656,0.88454444854297309,0.84618222058281078,0.80191811139800806,0.79417189229066765,0.76208041313168573,"Meilah, etc ",{"$f":"VLOOKUP(Schedule!M2618,#REF!,2,FALSE)","v":{"$error":"#REF!"}}]
["2027-03-06",7,"Meilah, etc 16",{"$f":"COUNT($A$2:A2619)","v":2618},7854,0.965695315381778,0.94245665805975654,0.88491331611951307,0.84655108815935076,0.80228697897454815,0.79454075986720762,0.76244928070822571,"Meilah, etc ",{"$f":"VLOOKUP(Schedule!M2619,#REF!,2,FALSE)","v":{"$error":"#REF!"}}]
["2027-03-07",1,"Meilah, etc 17",{"$f":"COUNT($A$2:A2620)","v":2619},7857,0.96606418295831797,0.94282552563629662,0.88528218369605316,0.84691995573589085,0.80265584655108813,0.79490962744374771,0.7628181482847658,"Meilah, etc ",{"$f":"VLOOKUP(Schedule!M2620,#REF!,2,FALSE)","v":{"$error":"#REF!"}}]
["2027-03-08",2,"Meilah, etc 18",{"$f":"COUNT($A$2:A2621)","v":2620},7860,0.96643305053485795,0.9431943932128366,0.88565105127259314,0.84728882331243083,0.80302471412762821,0.79527849502028769,0.76318701586130577,"Meilah, etc ",{"$f":"VLOOKUP(Schedule!M2621,#REF!,2,FALSE)","v":{"$error":"#REF!"}}]
["2027-03-09",3,"Meilah, etc 19",{"$f":"COUNT($A$2:A2622)","v":2621},7863,0.96680191811139804,0.94356326078937658,0.88601991884913311,0.84765769088897081,{"$f":"(D2622-443)/2711","v":0.80339358170416819},0.79564736259682778,0.76355588343784586,"Meilah, etc ",{"$f":"VLOOKUP(Schedule!M2622,#REF!,2,FALSE)","v":{"$error":"#REF!"}}]
["2027-03-10",4,"Meilah, etc 20",{"$f":"COUNT($A$2:A2623)","v":2622},7866,0.96717078568793802,0.94393212836591667,0.8863887864256732,0.84802655846551089,0.80376244928070828,0.79601623017336776,0.76392475101438584,"Meilah, etc ",{"$f":"VLOOKUP(Schedule!M2623,#REF!,2,FALSE)","v":{"$error":"#REF!"}}]
["2027-03-11",5,"Meilah, etc 21",{"$f":"COUNT($A$2:A2624)","v":2623},7869,0.96753965326447811,0.94430099594245664,0.88675765400221318,0.84839542604205087,0.80413131685724826,0.79638509774990773,0.76429361859092582,"Meilah, etc ",{"$f":"VLOOKUP(Schedule!M2624,#REF!,2,FALSE)","v":{"$error":"#REF!"}}]
["2027-03-12",6,"Meilah, etc 22",{"$f":"COUNT($A$2:A2625)","v":2624},7872,0.96790852084101808,0.94466986351899673,0.88712652157875327,0.84876429361859096,0.80450018443378823,0.79675396532644782,0.7646624861674659,"Meilah, etc ",{"$f":"VLOOKUP(Schedule!M2625,#REF!,2,FALSE)","v":{"$error":"#REF!"}}]
["2027-03-13",7,"Meilah, etc 23",{"$f":"COUNT($A$2:A2626)","v":2625},{"$f":"D2626*3","v":7875},0.96827738841755806,{"$f":"(D2626-63)/2711","v":0.94503873109553671},0.88749538915529325,0.84913316119513094,0.80486905201032832,0.7971228329029878,0.76503135374400588,"Meilah, etc ",{"$f":"VLOOKUP(Schedule!M2626,#REF!,2,FALSE)","v":{"$error":"#REF!"}}]
["2027-03-14",{"$f":"WEEKDAY(A2627)","v":1},"Meilah, etc 24",{"$f":"COUNT($A$2:A2627)","v":2626},7878,{"$f":"D2627/2711","v":0.96864625599409815},0.94540759867207669,0.88786425673183322,0.84950202877167102,0.8052379195868683,0.79749170047952789,0.76540022132054597,{"$f":"LEFT(C2627,FIND(\"☃\",SUBSTITUTE(C2627,\" \",\"☃\",LEN(C2627)-LEN(SUBSTITUTE(C2627,\" \",\"\")))))","v":"Meilah, etc "},{"$f":"VLOOKUP(Schedule!M2627,#REF!,2,FALSE)","v":{"$error":"#REF!"}}]
["2027-03-15",2,"Meilah, etc 25",{"$f":"COUNT($A$2:A2628)","v":2627},7881,0.96901512357063813,0.94577646624861678,0.88823312430837331,0.849870896348211,0.80560678716340839,0.79786056805606786,0.76576908889708595,"Meilah, etc ",{"$f":"VLOOKUP(Schedule!M2628,#REF!,2,FALSE)","v":{"$error":"#REF!"}}]
["2027-03-16",3,"Meilah, etc 26",{"$f":"COUNT($A$2:A2629)","v":2628},7884,0.96938399114717821,0.94614533382515675,0.88860199188491329,0.85023976392475098,0.80597565473994837,0.79822943563260784,0.76613795647362593,"Meilah, etc ",{"$f":"VLOOKUP(Schedule!M2629,#REF!,2,FALSE)","v":{"$error":"#REF!"}}]
["2027-03-17",4,"Meilah, etc 27",{"$f":"COUNT($A$2:A2630)","v":2629},7887,0.96975285872371819,0.94651420140169684,0.88897085946145338,{"$f":"(D2630-323)/2711","v":0.85060863150129107},0.80634452231648834,0.79859830320914793,0.76650682405016601,"Meilah, etc ",{"$f":"VLOOKUP(Schedule!M2630,#REF!,2,FALSE)","v":{"$error":"#REF!"}}]
["2027-03-18",5,"Meilah, etc 28",{"$f":"COUNT($A$2:A2631)","v":2630},7890,0.97012172630025817,0.94688306897823682,0.88933972703799336,0.85097749907783105,0.80671338989302843,0.79896717078568791,0.76687569162670599,"Meilah, etc ",{"$f":"VLOOKUP(Schedule!M2631,#REF!,2,FALSE)","v":{"$error":"#REF!"}}]
["2027-03-19",6,"Meilah, etc 29",{"$f":"COUNT($A$2:A2632)","v":2631},7893,0.97049059387679826,0.9472519365547768,0.88970859461453333,0.85134636665437113,0.80708225746956841,0.799336038362228,0.76724455920324608,"Meilah, etc ",{"$f":"VLOOKUP(Schedule!M2632,#REF!,2,FALSE)","v":{"$error":"#REF!"}}]
["2027-03-20",7,"Meilah, etc 30",{"$f":"COUNT($A$2:A2633)","v":2632},7896,0.97085946145333823,0.94762080413131689,0.89007746219107342,0.85171523423091111,0.8074511250461085,0.79970490593876797,0.76761342677978606,"Meilah, etc ",{"$f":"VLOOKUP(Schedule!M2633,#REF!,2,FALSE)","v":{"$error":"#REF!"}}]
["2027-03-21",1,"Meilah, etc 31",{"$f":"COUNT($A$2:A2634)","v":2633},7899,0.97122832902987832,0.94798967170785686,0.8904463297676134,0.85208410180745109,0.80781999262264848,0.80007377351530795,0.76798229435632603,"Meilah, etc ",{"$f":"VLOOKUP(Schedule!M2634,#REF!,2,FALSE)","v":{"$error":"#REF!"}}]
["2027-03-22",2,"Meilah, etc 32",{"$f":"COUNT($A$2:A2635)","v":2634},7902,0.9715971966064183,0.94835853928439695,0.89081519734415349,0.85245296938399118,0.80818886019918845,0.80044264109184804,0.76835116193286612,"Meilah, etc ",{"$f":"VLOOKUP(Schedule!M2635,#REF!,2,FALSE)","v":{"$error":"#REF!"}}]
["2027-03-23",3,"Meilah, etc 33",{"$f":"COUNT($A$2:A2636)","v":2635},7905,0.97196606418295828,0.94872740686093693,0.89118406492069346,0.85282183696053115,0.80855772777572854,0.80081150866838802,0.7687200295094061,"Meilah, etc ",{"$f":"VLOOKUP(Schedule!M2636,#REF!,2,FALSE)","v":{"$error":"#REF!"}}]
["2027-03-24",4,"Meilah, etc 34",{"$f":"COUNT($A$2:A2637)","v":2636},7908,0.97233493175949837,0.94909627443747691,0.89155293249723344,0.85319070453707124,0.80892659535226852,0.80118037624492811,0.76908889708594619,"Meilah, etc ",{"$f":"VLOOKUP(Schedule!M2637,#REF!,2,FALSE)","v":{"$error":"#REF!"}}]
["2027-03-25",5,"Meilah, etc 35",{"$f":"COUNT($A$2:A2638)","v":2637},7911,0.97270379933603834,0.94946514201401699,0.89192180007377353,0.85355957211361122,0.80929546292880861,0.80154924382146808,0.76945776466248617,"Meilah, etc ",{"$f":"VLOOKUP(Schedule!M2638,#REF!,2,FALSE)","v":{"$error":"#REF!"}}]
["2027-03-26",6,"Meilah, etc 36",{"$f":"COUNT($A$2:A2639)","v":2638},7914,0.97307266691257843,0.94983400959055697,0.89229066765031351,0.8539284396901512,0.80966433050534858,0.80191811139800806,0.76982663223902614,"Meilah, etc ",{"$f":"VLOOKUP(Schedule!M2639,#REF!,2,FALSE)","v":{"$error":"#REF!"}}]
["2027-03-27",7,"Meilah, etc 37",{"$f":"COUNT($A$2:A2640)","v":2639},7917,0.97344153448911841,0.95020287716709706,0.8926595352268536,0.85429730726669129,0.81003319808188856,0.80228697897454815,0.77019549981556623,"Meilah, etc ",{"$f":"VLOOKUP(Schedule!M2640,#REF!,2,FALSE)","v":{"$error":"#REF!"}}]
["2027-03-28",1,"Niddah 2",{"$f":"COUNT($A$2:A2641)","v":2640},7920,0.97381040206565839,0.95057174474363704,0.89302840280339357,0.85466617484323126,0.81040206565842865,0.80265584655108813,0.77056436739210621,"Niddah ",{"$f":"VLOOKUP(Schedule!M2641,#REF!,2,FALSE)","v":{"$error":"#REF!"}}]
["2027-03-29",2,"Niddah 3",{"$f":"COUNT($A$2:A2642)","v":2641},7923,0.97417926964219848,0.95094061232017701,0.89339727037993355,0.85503504241977135,0.81077093323496863,{"$f":"(D2642-464)/2711","v":0.80302471412762821},0.7709332349686463,"Niddah ",{"$f":"VLOOKUP(Schedule!M2642,#REF!,2,FALSE)","v":{"$error":"#REF!"}}]
["2027-03-30",3,"Niddah 4",{"$f":"COUNT($A$2:A2643)","v":2642},7926,0.97454813721873845,0.9513094798967171,0.89376613795647364,0.85540390999631133,0.81113980081150872,0.80339358170416819,0.77130210254518627,"Niddah ",{"$f":"VLOOKUP(Schedule!M2643,#REF!,2,FALSE)","v":{"$error":"#REF!"}}]
["2027-03-31",4,"Niddah 5",{"$f":"COUNT($A$2:A2644)","v":2643},7929,0.97491700479527854,0.95167834747325708,0.89413500553301362,0.85577277757285131,0.81150866838804869,0.80376244928070828,0.77167097012172625,"Niddah ",{"$f":"VLOOKUP(Schedule!M2644,#REF!,2,FALSE)","v":{"$error":"#REF!"}}]
["2027-04-01",5,"Niddah 6",{"$f":"COUNT($A$2:A2645)","v":2644},7932,0.97528587237181852,0.95204721504979717,0.8945038731095537,0.85614164514939139,0.81187753596458867,0.80413131685724826,0.77203983769826634,"Niddah ",{"$f":"VLOOKUP(Schedule!M2645,#REF!,2,FALSE)","v":{"$error":"#REF!"}}]
["2027-04-02",6,"Niddah 7",{"$f":"COUNT($A$2:A2646)","v":2645},7935,0.9756547399483585,0.95241608262633715,0.89487274068609368,0.85651051272593137,0.81224640354112876,0.80450018443378823,0.77240870527480632,"Niddah ",{"$f":"VLOOKUP(Schedule!M2646,#REF!,2,FALSE)","v":{"$error":"#REF!"}}]
["2027-04-03",7,"Niddah 8",{"$f":"COUNT($A$2:A2647)","v":2646},7938,0.97602360752489858,0.95278495020287712,0.89524160826263366,0.85687938030247146,0.81261527111766874,0.80486905201032832,0.77277757285134641,"Niddah ",{"$f":"VLOOKUP(Schedule!M2647,#REF!,2,FALSE)","v":{"$error":"#REF!"}}]
["2027-04-04",1,"Niddah 9",{"$f":"COUNT($A$2:A2648)","v":2647},7941,0.97639247510143856,0.95315381777941721,0.89561047583917375,0.85724824787901144,0.81298413869420882,0.8052379195868683,0.77314644042788638,"Niddah ",{"$f":"VLOOKUP(Schedule!M2648,#REF!,2,FALSE)","v":{"$error":"#REF!"}}]
["2027-04-05",2,"Niddah 10",{"$f":"COUNT($A$2:A2649)","v":2648},7944,0.97676134267797865,0.95352268535595719,0.89597934341571372,0.85761711545555142,0.8133530062707488,0.80560678716340839,0.77351530800442636,"Niddah ",{"$f":"VLOOKUP(Schedule!M2649,#REF!,2,FALSE)","v":{"$error":"#REF!"}}]
["2027-04-06",3,"Niddah 11",{"$f":"COUNT($A$2:A2650)","v":2649},7947,0.97713021025451863,0.95389155293249728,0.89634821099225381,0.8579859830320915,0.81372187384728878,0.80597565473994837,0.77388417558096645,"Niddah ",{"$f":"VLOOKUP(Schedule!M2650,#REF!,2,FALSE)","v":{"$error":"#REF!"}}]
["2027-04-07",4,"Niddah 12",{"$f":"COUNT($A$2:A2651)","v":2650},7950,0.9774990778310586,0.95426042050903725,0.89671707856879379,0.85835485060863148,0.81409074142382887,0.80634452231648834,0.77425304315750643,"Niddah ",{"$f":"VLOOKUP(Schedule!M2651,#REF!,2,FALSE)","v":{"$error":"#REF!"}}]
["2027-04-08",5,"Niddah 13",{"$f":"COUNT($A$2:A2652)","v":2651},7953,0.97786794540759869,0.95462928808557723,0.89708594614533388,0.85872371818517157,0.81445960900036884,0.80671338989302843,0.77462191073404651,"Niddah ",{"$f":"VLOOKUP(Schedule!M2652,#REF!,2,FALSE)","v":{"$error":"#REF!"}}]
["2027-04-09",6,"Niddah 14",{"$f":"COUNT($A$2:A2653)","v":2652},7956,0.97823681298413867,0.95499815566211732,0.89745481372187386,0.85909258576171155,0.81482847657690893,0.80708225746956841,0.77499077831058649,"Niddah ",{"$f":"VLOOKUP(Schedule!M2653,#REF!,2,FALSE)","v":{"$error":"#REF!"}}]
["2027-04-10",7,"Niddah 15",{"$f":"COUNT($A$2:A2654)","v":2653},7959,0.97860568056067876,0.9553670232386573,{"$f":"(D2654-219)/2711","v":0.89782368129841383},0.85946145333825152,0.81519734415344891,0.8074511250461085,0.77535964588712647,"Niddah ",{"$f":"VLOOKUP(Schedule!M2654,#REF!,2,FALSE)","v":{"$error":"#REF!"}}]
["2027-04-11",1,"Niddah 16",{"$f":"COUNT($A$2:A2655)","v":2654},7962,0.97897454813721874,0.95573589081519739,0.89819254887495392,0.85983032091479161,0.81556621172998889,0.80781999262264848,0.77572851346366656,"Niddah ",{"$f":"VLOOKUP(Schedule!M2655,#REF!,2,FALSE)","v":{"$error":"#REF!"}}]
["2027-04-12",2,"Niddah 17",{"$f":"COUNT($A$2:A2656)","v":2655},7965,0.97934341571375871,0.95610475839173736,0.8985614164514939,0.86019918849133159,0.81593507930652898,0.80818886019918845,0.77609738104020654,"Niddah ",{"$f":"VLOOKUP(Schedule!M2656,#REF!,2,FALSE)","v":{"$error":"#REF!"}}]
["2027-04-13",3,"Niddah 18",{"$f":"COUNT($A$2:A2657)","v":2656},7968,0.9797122832902988,0.95647362596827734,0.89893028402803399,0.86056805606787168,0.81630394688306895,0.80855772777572854,0.77646624861674662,"Niddah ",{"$f":"VLOOKUP(Schedule!M2657,#REF!,2,FALSE)","v":{"$error":"#REF!"}}]
["2027-04-14",4,"Niddah 19",{"$f":"COUNT($A$2:A2658)","v":2657},7971,0.98008115086683878,0.95684249354481743,0.89929915160457397,0.86093692364441166,0.81667281445960904,0.80892659535226852,0.7768351161932866,"Niddah ",{"$f":"VLOOKUP(Schedule!M2658,#REF!,2,FALSE)","v":{"$error":"#REF!"}}]
["2027-04-15",5,"Niddah 20",{"$f":"COUNT($A$2:A2659)","v":2658},7974,0.98045001844337887,0.95721136112135741,0.89966801918111394,0.86130579122095163,0.81704168203614902,0.80929546292880861,0.77720398376982658,"Niddah ",{"$f":"VLOOKUP(Schedule!M2659,#REF!,2,FALSE)","v":{"$error":"#REF!"}}]
["2027-04-16",6,"Niddah 21",{"$f":"COUNT($A$2:A2660)","v":2659},7977,0.98081888601991885,0.9575802286978975,0.90003688675765403,0.86167465879749172,0.817410549612689,0.80966433050534858,0.77757285134636667,"Niddah ",{"$f":"VLOOKUP(Schedule!M2660,#REF!,2,FALSE)","v":{"$error":"#REF!"}}]
["2027-04-17",7,"Niddah 22",{"$f":"COUNT($A$2:A2661)","v":2660},7980,0.98118775359645882,0.95794909627443747,0.90040575433419401,0.8620435263740317,0.81777941718922909,0.81003319808188856,0.77794171892290664,"Niddah ",{"$f":"VLOOKUP(Schedule!M2661,#REF!,2,FALSE)","v":{"$error":"#REF!"}}]
["2027-04-18",1,"Niddah 23",{"$f":"COUNT($A$2:A2662)","v":2661},7983,0.98155662117299891,0.95831796385097745,0.9007746219107341,0.86241239395057179,0.81814828476576906,0.81040206565842865,0.77831058649944673,"Niddah ",{"$f":"VLOOKUP(Schedule!M2662,#REF!,2,FALSE)","v":{"$error":"#REF!"}}]
["2027-04-19",2,"Niddah 24",{"$f":"COUNT($A$2:A2663)","v":2662},7986,0.98192548874953889,0.95868683142751754,0.90114348948727407,0.86278126152711176,0.81851715234230915,0.81077093323496863,0.77867945407598671,"Niddah ",{"$f":"VLOOKUP(Schedule!M2663,#REF!,2,FALSE)","v":{"$error":"#REF!"}}]
["2027-04-20",3,"Niddah 25",{"$f":"COUNT($A$2:A2664)","v":2663},7989,0.98229435632607898,0.95905569900405752,0.90151235706381405,0.86315012910365174,0.81888601991884913,0.81113980081150872,0.7790483216525268,"Niddah ",{"$f":"VLOOKUP(Schedule!M2664,#REF!,2,FALSE)","v":{"$error":"#REF!"}}]
["2027-04-21",4,"Niddah 26",{"$f":"COUNT($A$2:A2665)","v":2664},7992,0.98266322390261895,0.9594245665805976,0.90188122464035414,0.86351899668019183,0.81925488749538911,0.81150866838804869,0.77941718922906678,"Niddah ",{"$f":"VLOOKUP(Schedule!M2665,#REF!,2,FALSE)","v":{"$error":"#REF!"}}]
["2027-04-22",5,"Niddah 27",{"$f":"COUNT($A$2:A2666)","v":2665},7995,0.98303209147915893,0.95979343415713758,0.90225009221689412,0.86388786425673181,0.81962375507192919,0.81187753596458867,{"$f":"(D2666-551)/2711","v":0.77978605680560675},"Niddah ",{"$f":"VLOOKUP(Schedule!M2666,#REF!,2,FALSE)","v":{"$error":"#REF!"}}]
["2027-04-23",6,"Niddah 28",{"$f":"COUNT($A$2:A2667)","v":2666},7998,0.98340095905569902,0.96016230173367756,0.90261895979343421,0.8642567318332719,0.81999262264846917,0.81224640354112876,0.78015492438214684,"Niddah ",{"$f":"VLOOKUP(Schedule!M2667,#REF!,2,FALSE)","v":{"$error":"#REF!"}}]
["2027-04-24",7,"Niddah 29",{"$f":"COUNT($A$2:A2668)","v":2667},8001,0.983769826632239,0.96053116931021765,0.90298782736997418,0.86462559940981187,0.82036149022500926,0.81261527111766874,0.78052379195868682,"Niddah ",{"$f":"VLOOKUP(Schedule!M2668,#REF!,2,FALSE)","v":{"$error":"#REF!"}}]
["2027-04-25",1,"Niddah 30",{"$f":"COUNT($A$2:A2669)","v":2668},8004,0.98413869420877909,0.96090003688675762,0.90335669494651416,0.86499446698635185,0.82073035780154924,0.81298413869420882,0.78089265953522691,"Niddah ",{"$f":"VLOOKUP(Schedule!M2669,#REF!,2,FALSE)","v":{"$error":"#REF!"}}]
["2027-04-26",2,"Niddah 31",{"$f":"COUNT($A$2:A2670)","v":2669},8007,0.98450756178531906,0.96126890446329771,0.90372556252305425,0.86536333456289194,0.82109922537808921,0.8133530062707488,0.78126152711176688,"Niddah ",{"$f":"VLOOKUP(Schedule!M2670,#REF!,2,FALSE)","v":{"$error":"#REF!"}}]
["2027-04-27",3,"Niddah 32",{"$f":"COUNT($A$2:A2671)","v":2670},8010,0.98487642936185904,0.96163777203983769,0.90409443009959423,0.86573220213943192,0.8214680929546293,0.81372187384728878,0.78163039468830686,"Niddah ",{"$f":"VLOOKUP(Schedule!M2671,#REF!,2,FALSE)","v":{"$error":"#REF!"}}]
["2027-04-28",4,"Niddah 33",{"$f":"COUNT($A$2:A2672)","v":2671},8013,0.98524529693839913,0.96200663961637767,0.90446329767613431,0.86610106971597201,0.82183696053116928,0.81409074142382887,0.78199926226484695,"Niddah ",{"$f":"VLOOKUP(Schedule!M2672,#REF!,2,FALSE)","v":{"$error":"#REF!"}}]
["2027-04-29",5,"Niddah 34",{"$f":"COUNT($A$2:A2673)","v":2672},8016,0.98561416451493911,0.96237550719291776,0.90483216525267429,0.86646993729251198,0.82220582810770937,0.81445960900036884,0.78236812984138693,"Niddah ",{"$f":"VLOOKUP(Schedule!M2673,#REF!,2,FALSE)","v":{"$error":"#REF!"}}]
["2027-04-30",6,"Niddah 35",{"$f":"COUNT($A$2:A2674)","v":2673},8019,0.98598303209147919,0.96274437476945773,0.90520103282921427,0.86683880486905196,0.82257469568424935,0.81482847657690893,0.78273699741792702,"Niddah ",{"$f":"VLOOKUP(Schedule!M2674,#REF!,2,FALSE)","v":{"$error":"#REF!"}}]
["2027-05-01",7,"Niddah 36",{"$f":"COUNT($A$2:A2675)","v":2674},8022,0.98635189966801917,0.96311324234599782,0.90556990040575436,0.86720767244559205,0.82294356326078932,0.81519734415344891,0.78310586499446699,"Niddah ",{"$f":"VLOOKUP(Schedule!M2675,#REF!,2,FALSE)","v":{"$error":"#REF!"}}]
["2027-05-02",1,"Niddah 37",{"$f":"COUNT($A$2:A2676)","v":2675},8025,0.98672076724455915,0.9634821099225378,0.90593876798229434,0.86757654002213203,0.82331243083732941,0.81556621172998889,0.78347473257100697,"Niddah ",{"$f":"VLOOKUP(Schedule!M2676,#REF!,2,FALSE)","v":{"$error":"#REF!"}}]
["2027-05-03",2,"Niddah 38",{"$f":"COUNT($A$2:A2677)","v":2676},8028,0.98708963482109924,0.96385097749907778,0.90630763555883442,0.86794540759867211,0.82368129841386939,0.81593507930652898,0.78384360014754706,"Niddah ",{"$f":"VLOOKUP(Schedule!M2677,#REF!,2,FALSE)","v":{"$error":"#REF!"}}]
["2027-05-04",3,"Niddah 39",{"$f":"COUNT($A$2:A2678)","v":2677},8031,0.98745850239763922,0.96421984507561787,0.9066765031353744,0.86831427517521209,0.82405016599040948,0.81630394688306895,0.78421246772408704,"Niddah ",{"$f":"VLOOKUP(Schedule!M2678,#REF!,2,FALSE)","v":{"$error":"#REF!"}}]
["2027-05-05",4,"Niddah 40",{"$f":"COUNT($A$2:A2679)","v":2678},8034,0.9878273699741793,0.96458871265215784,0.90704537071191438,0.86868314275175207,0.82441903356694946,0.81667281445960904,0.78458133530062713,"Niddah ",{"$f":"VLOOKUP(Schedule!M2679,#REF!,2,FALSE)","v":{"$error":"#REF!"}}]
["2027-05-06",5,"Niddah 41",{"$f":"COUNT($A$2:A2680)","v":2679},8037,0.98819623755071928,0.96495758022869793,0.90741423828845447,0.86905201032829216,0.82478790114348943,0.81704168203614902,0.7849502028771671,"Niddah ",{"$f":"VLOOKUP(Schedule!M2680,#REF!,2,FALSE)","v":{"$error":"#REF!"}}]
["2027-05-07",6,"Niddah 42",{"$f":"COUNT($A$2:A2681)","v":2680},8040,0.98856510512725937,0.96532644780523791,0.90778310586499444,0.86942087790483213,0.82515676872002952,0.817410549612689,0.78531907045370708,"Niddah ",{"$f":"VLOOKUP(Schedule!M2681,#REF!,2,FALSE)","v":{"$error":"#REF!"}}]
["2027-05-08",7,"Niddah 43",{"$f":"COUNT($A$2:A2682)","v":2681},8043,0.98893397270379935,0.965695315381778,0.90815197344153453,0.86978974548137222,0.8255256362965695,0.81777941718922909,0.78568793803024717,"Niddah ",{"$f":"VLOOKUP(Schedule!M2682,#REF!,2,FALSE)","v":{"$error":"#REF!"}}]
["2027-05-09",1,"Niddah 44",{"$f":"COUNT($A$2:A2683)","v":2682},8046,0.98930284028033932,0.96606418295831797,0.90852084101807451,0.8701586130579122,0.82589450387310959,0.81814828476576906,0.78605680560678715,"Niddah ",{"$f":"VLOOKUP(Schedule!M2683,#REF!,2,FALSE)","v":{"$error":"#REF!"}}]
["2027-05-10",2,"Niddah 45",{"$f":"COUNT($A$2:A2684)","v":2683},8049,0.98967170785687941,0.96643305053485795,0.90888970859461449,0.87052748063445218,0.82626337144964956,0.81851715234230915,0.78642567318332723,"Niddah ",{"$f":"VLOOKUP(Schedule!M2684,#REF!,2,FALSE)","v":{"$error":"#REF!"}}]
["2027-05-11",3,"Niddah 46",{"$f":"COUNT($A$2:A2685)","v":2684},8052,0.99004057543341939,0.96680191811139804,0.90925857617115458,0.87089634821099227,0.82663223902618965,0.81888601991884913,0.78679454075986721,"Niddah ",{"$f":"VLOOKUP(Schedule!M2685,#REF!,2,FALSE)","v":{"$error":"#REF!"}}]
["2027-05-12",4,"Niddah 47",{"$f":"COUNT($A$2:A2686)","v":2685},8055,0.99040944300995948,0.96717078568793802,0.90962744374769455,0.87126521578753224,{"$f":"(D2686-443)/2711","v":0.82700110660272963},0.81925488749538911,0.78716340833640719,"Niddah ",{"$f":"VLOOKUP(Schedule!M2686,#REF!,2,FALSE)","v":{"$error":"#REF!"}}]
["2027-05-13",5,"Niddah 48",{"$f":"COUNT($A$2:A2687)","v":2686},8058,0.99077831058649946,0.96753965326447811,0.90999631132423464,0.87163408336407233,0.82736997417926961,0.81962375507192919,0.78753227591294728,"Niddah ",{"$f":"VLOOKUP(Schedule!M2687,#REF!,2,FALSE)","v":{"$error":"#REF!"}}]
["2027-05-14",6,"Niddah 49",{"$f":"COUNT($A$2:A2688)","v":2687},8061,0.99114717816303943,0.96790852084101808,0.91036517890077462,0.87200295094061231,0.8277388417558097,0.81999262264846917,0.78790114348948725,"Niddah ",{"$f":"VLOOKUP(Schedule!M2688,#REF!,2,FALSE)","v":{"$error":"#REF!"}}]
["2027-05-15",7,"Niddah 50",{"$f":"COUNT($A$2:A2689)","v":2688},8064,0.99151604573957952,0.96827738841755806,0.9107340464773146,0.8723718185171524,0.82810770933234967,0.82036149022500926,0.78827001106602734,"Niddah ",{"$f":"VLOOKUP(Schedule!M2689,#REF!,2,FALSE)","v":{"$error":"#REF!"}}]
["2027-05-16",1,"Niddah 51",{"$f":"COUNT($A$2:A2690)","v":2689},{"$f":"D2690*3","v":8067},0.9918849133161195,{"$f":"(D2690-63)/2711","v":0.96864625599409815},0.91110291405385468,0.87274068609369237,0.82847657690888976,0.82073035780154924,0.78863887864256732,"Niddah ",{"$f":"VLOOKUP(Schedule!M2690,#REF!,2,FALSE)","v":{"$error":"#REF!"}}]
["2027-05-17",{"$f":"WEEKDAY(A2691)","v":2},"Niddah 52",{"$f":"COUNT($A$2:A2691)","v":2690},8070,{"$f":"D2691/2711","v":0.99225378089265959},0.96901512357063813,0.91147178163039466,0.87310955367023235,0.82884544448542974,0.82109922537808921,0.7890077462191073,{"$f":"LEFT(C2691,FIND(\"☃\",SUBSTITUTE(C2691,\" \",\"☃\",LEN(C2691)-LEN(SUBSTITUTE(C2691,\" \",\"\")))))","v":"Niddah "},{"$f":"VLOOKUP(Schedule!M2691,#REF!,2,FALSE)","v":{"$error":"#REF!"}}]
["2027-05-18",3,"Niddah 53",{"$f":"COUNT($A$2:A2692)","v":2691},8073,0.99262264846919956,0.96938399114717821,0.91184064920693475,0.87347842124677244,0.82921431206196972,0.8214680929546293,0.78937661379564739,"Niddah ",{"$f":"VLOOKUP(Schedule!M2692,#REF!,2,FALSE)","v":{"$error":"#REF!"}}]
["2027-05-19",4,"Niddah 54",{"$f":"COUNT($A$2:A2693)","v":2692},8076,0.99299151604573954,0.96975285872371819,0.91220951678347473,0.87384728882331242,0.8295831796385098,0.82183696053116928,0.78974548137218736,"Niddah ",{"$f":"VLOOKUP(Schedule!M2693,#REF!,2,FALSE)","v":{"$error":"#REF!"}}]
["2027-05-20",5,"Niddah 55",{"$f":"COUNT($A$2:A2694)","v":2693},8079,0.99336038362227963,0.97012172630025817,0.9125783843600147,{"$f":"(D2694-323)/2711","v":0.87421615639985251},0.82995204721504978,0.82220582810770937,0.79011434894872745,"Niddah ",{"$f":"VLOOKUP(Schedule!M2694,#REF!,2,FALSE)","v":{"$error":"#REF!"}}]
["2027-05-21",6,"Niddah 56",{"$f":"COUNT($A$2:A2695)","v":2694},8082,0.99372925119881961,0.97049059387679826,0.91294725193655479,0.87458502397639248,0.83032091479158987,0.82257469568424935,0.79048321652526743,"Niddah ",{"$f":"VLOOKUP(Schedule!M2695,#REF!,2,FALSE)","v":{"$error":"#REF!"}}]
["2027-05-22",7,"Niddah 57",{"$f":"COUNT($A$2:A2696)","v":2695},8085,0.9940981187753597,0.97085946145333823,0.91331611951309477,0.87495389155293246,0.83068978236812985,0.82294356326078932,0.79085208410180741,"Niddah ",{"$f":"VLOOKUP(Schedule!M2696,#REF!,2,FALSE)","v":{"$error":"#REF!"}}]
["2027-05-23",1,"Niddah 58",{"$f":"COUNT($A$2:A2697)","v":2696},8088,0.99446698635189967,0.97122832902987832,0.91368498708963486,0.87532275912947255,0.83105864994466982,0.82331243083732941,0.79122095167834749,"Niddah ",{"$f":"VLOOKUP(Schedule!M2697,#REF!,2,FALSE)","v":{"$error":"#REF!"}}]
["2027-05-24",2,"Niddah 59",{"$f":"COUNT($A$2:A2698)","v":2697},8091,0.99483585392843965,0.9715971966064183,0.91405385466617484,0.87569162670601253,0.83142751752120991,0.82368129841386939,0.79158981925488747,"Niddah ",{"$f":"VLOOKUP(Schedule!M2698,#REF!,2,FALSE)","v":{"$error":"#REF!"}}]
["2027-05-25",3,"Niddah 60",{"$f":"COUNT($A$2:A2699)","v":2698},8094,0.99520472150497974,0.97196606418295828,0.91442272224271481,0.87606049428255262,0.83179638509774989,0.82405016599040948,0.79195868683142756,"Niddah ",{"$f":"VLOOKUP(Schedule!M2699,#REF!,2,FALSE)","v":{"$error":"#REF!"}}]
["2027-05-26",4,"Niddah 61",{"$f":"COUNT($A$2:A2700)","v":2699},8097,0.99557358908151972,0.97233493175949837,0.9147915898192549,0.87642936185909259,0.83216525267428998,0.82441903356694946,0.79232755440796754,"Niddah ",{"$f":"VLOOKUP(Schedule!M2700,#REF!,2,FALSE)","v":{"$error":"#REF!"}}]
["2027-05-27",5,"Niddah 62",{"$f":"COUNT($A$2:A2701)","v":2700},8100,0.9959424566580598,0.97270379933603834,0.91516045739579488,0.87679822943563257,0.83253412025082996,0.82478790114348943,0.79269642198450752,"Niddah ",{"$f":"VLOOKUP(Schedule!M2701,#REF!,2,FALSE)","v":{"$error":"#REF!"}}]
["2027-05-28",6,"Niddah 63",{"$f":"COUNT($A$2:A2702)","v":2701},8103,0.99631132423459978,0.97307266691257843,0.91552932497233497,0.87716709701217266,0.83290298782736993,0.82515676872002952,0.7930652895610476,"Niddah ",{"$f":"VLOOKUP(Schedule!M2702,#REF!,2,FALSE)","v":{"$error":"#REF!"}}]
["2027-05-29",7,"Niddah 64",{"$f":"COUNT($A$2:A2703)","v":2702},8106,0.99668019181113976,0.97344153448911841,0.91589819254887495,0.87753596458871264,0.83327185540391002,0.8255256362965695,0.79343415713758758,"Niddah ",{"$f":"VLOOKUP(Schedule!M2703,#REF!,2,FALSE)","v":{"$error":"#REF!"}}]
["2027-05-30",1,"Niddah 65",{"$f":"COUNT($A$2:A2704)","v":2703},8109,0.99704905938767985,0.97381040206565839,0.91626706012541492,0.87790483216525272,0.83364072298045,0.82589450387310959,0.79380302471412767,"Niddah ",{"$f":"VLOOKUP(Schedule!M2704,#REF!,2,FALSE)","v":{"$error":"#REF!"}}]
["2027-05-31",2,"Niddah 66",{"$f":"COUNT($A$2:A2705)","v":2704},8112,0.99741792696421983,0.97417926964219848,0.91663592770195501,0.8782736997417927,0.83400959055699009,0.82626337144964956,0.79417189229066765,"Niddah ",{"$f":"VLOOKUP(Schedule!M2705,#REF!,2,FALSE)","v":{"$error":"#REF!"}}]
["2027-06-01",3,"Niddah 67",{"$f":"COUNT($A$2:A2706)","v":2705},8115,0.99778679454075991,0.97454813721873845,0.91700479527849499,0.87864256731833268,0.83437845813353007,{"$f":"(D2706-464)/2711","v":0.82663223902618965},0.79454075986720762,"Niddah ",{"$f":"VLOOKUP(Schedule!M2706,#REF!,2,FALSE)","v":{"$error":"#REF!"}}]
["2027-06-02",4,"Niddah 68",{"$f":"COUNT($A$2:A2707)","v":2706},8118,0.99815566211729989,0.97491700479527854,0.91737366285503508,0.87901143489487277,0.83474732571007004,0.82700110660272963,0.79490962744374771,"Niddah ",{"$f":"VLOOKUP(Schedule!M2707,#REF!,2,FALSE)","v":{"$error":"#REF!"}}]
["2027-06-03",5,"Niddah 69",{"$f":"COUNT($A$2:A2708)","v":2707},8121,0.99852452969383987,0.97528587237181852,0.91774253043157505,0.87938030247141274,0.83511619328661013,0.82736997417926961,0.79527849502028769,"Niddah ",{"$f":"VLOOKUP(Schedule!M2708,#REF!,2,FALSE)","v":{"$error":"#REF!"}}]
["2027-06-04",6,"Niddah 70",{"$f":"COUNT($A$2:A2709)","v":2708},8124,0.99889339727037996,0.9756547399483585,0.91811139800811503,0.87974917004795283,0.83548506086315011,0.8277388417558097,0.79564736259682778,"Niddah ",{"$f":"VLOOKUP(Schedule!M2709,#REF!,2,FALSE)","v":{"$error":"#REF!"}}]
["2027-06-05",7,"Niddah 71",{"$f":"COUNT($A$2:A2710)","v":2709},8127,0.99926226484691993,0.97602360752489858,0.91848026558465512,0.88011803762449281,0.8358539284396902,0.82810770933234967,0.79601623017336776,"Niddah ",{"$f":"VLOOKUP(Schedule!M2710,#REF!,2,FALSE)","v":{"$error":"#REF!"}}]
["2027-06-06",1,"Niddah 72",{"$f":"COUNT($A$2:A2711)","v":2710},8130,0.99963113242346002,0.97639247510143856,0.9188491331611951,0.88048690520103279,0.83622279601623017,0.82847657690888976,0.79638509774990773,"Niddah ",{"$f":"VLOOKUP(Schedule!M2711,#REF!,2,FALSE)","v":{"$error":"#REF!"}}]
["2027-06-07",2,"Niddah 73",{"$f":"COUNT($A$2:A2712)","v":2711},8133,1,0.97676134267797865,0.91921800073773519,0.88085577277757288,0.83659166359277015,0.82884544448542974,0.79675396532644782,"Niddah ",{"$f":"VLOOKUP(Schedule!M2712,#REF!,2,FALSE)","v":{"$error":"#REF!"}}]

{"sheet":"Shas Completion % Tracker","index":3,"n_rows":40,"n_cols":10,"rows_kept":40,"cut":false,"hidden":true,"merged":[[1,1,1,7]]}
[]
[null,"SHAS COMPLETION % TRACKER"]
[null,"#","Masechta","Seder","# of Dafs","Running Total","% of Shas","Start Date"]
[null,1,"Berachos ","זרעים",63,{"$f":"SUM(E$4:E4)","v":63},{"$f":"F4/2711","v":2.3238657322021395E-2},"2020-01-05"]
[null,2,"Shabbos ","מועד",156,{"$f":"SUM(E$4:E5)","v":219},{"$f":"F5/2711","v":8.0781999262264842E-2},"2020-03-08",null,"1) Input # of dafs complete for each masechta completed (column E)"]
[null,3,"Eruvin ","מועד",104,{"$f":"SUM(E$4:E6)","v":323},0.11914422722242715,"2020-08-11",null,"3) Hatzlacha!!!!!"]
[null,4,"Pesachim ","מועד",120,{"$f":"SUM(E$4:E7)","v":443},0.16340833640722979,"2020-11-23"]
[null,5,"Shekalim ","מועד",21,{"$f":"SUM(E$4:E8)","v":464},0.17115455551457026,"2021-03-23"]
[null,6,"Yoma ","מועד",87,{"$f":"SUM(E$4:E9)","v":551},0.20324603467355221,"2021-04-13"]
[null,7,"Succah ","מועד",55,{"$f":"SUM(E$4:E10)","v":606},0.2235337513832534,"2021-07-09"]
[null,8,"Beitzah ","מועד",39,{"$f":"SUM(E$4:E11)","v":645},0.23791958686831427,"2021-09-02"]
[null,9,"Rosh Hashanah ","מועד",34,{"$f":"SUM(E$4:E12)","v":679},0.25046108447067505,"2021-10-11"]
[null,10,"Taanis ","מועד",30,{"$f":"SUM(E$4:E13)","v":709},0.26152711176687571,"2021-11-14"]
[null,11,"Megillah ","מועד",31,{"$f":"SUM(E$4:E14)","v":740},0.27296200663961639,"2021-12-14"]
[null,12,"Moed Katan ","מועד",28,{"$f":"SUM(E$4:E15)","v":768},0.28329029878273698,"2022-01-14"]
[null,13,"Chagigah ","מועד",26,{"$f":"SUM(E$4:E16)","v":794},0.29288085577277756,"2022-02-11"]
[null,14,"Yevamos ","נשים",121,{"$f":"SUM(E$4:E17)","v":915},0.33751383253412026,"2022-03-09"]
[null,15,"Kesuvos ","נשים",111,{"$f":"SUM(E$4:E18)","v":1026},0.37845813353006269,"2022-07-08"]
[null,16,"Nedarim ","נשים",90,{"$f":"SUM(E$4:E19)","v":1116},0.41165621541866471,"2022-10-27"]
[null,17,"Nazir ","נשים",65,{"$f":"SUM(E$4:E20)","v":1181},0.43563260789376612,"2023-01-25"]
[null,18,"Sotah ","נשים",48,{"$f":"SUM(E$4:E21)","v":1229},0.4533382515676872,"2023-03-31"]
[null,19,"Gittin ","נשים",89,{"$f":"SUM(E$4:E22)","v":1318},0.48616746587974918,"2023-05-18"]
[null,20,"Kiddushin ","נשים",81,{"$f":"SUM(E$4:E23)","v":1399},0.51604573957949096,"2023-08-15"]
[null,21,"Bava Kamma ","נזיקין",118,{"$f":"SUM(E$4:E24)","v":1517},0.55957211361121362,"2023-11-04"]
[null,22,"Bava Metzia ","נזיקין",118,{"$f":"SUM(E$4:E25)","v":1635},0.60309848764293617,"2024-03-01"]
[null,23,"Bava Basra ","נזיקין",175,{"$f":"SUM(E$4:E26)","v":1810},0.66765031353744009,"2024-06-27"]
[null,24,"Sanhedrin ","נזיקין",112,{"$f":"SUM(E$4:E27)","v":1922},0.70896348210992255,"2024-12-19"]
[null,25,"Makkos ","נזיקין",23,{"$f":"SUM(E$4:E28)","v":1945},0.71744743637034303,"2025-04-10"]
[null,26,"Shevuos ","נזיקין",48,{"$f":"SUM(E$4:E29)","v":1993},0.73515308004426416,"2025-05-03"]
[null,27,"Avodah Zara ","נזיקין",75,{"$f":"SUM(E$4:E30)","v":2068},0.7628181482847658,"2025-06-20"]
[null,28,"Horayos ","נזיקין",13,{"$f":"SUM(E$4:E31)","v":2081},0.76761342677978606,"2025-09-03"]
[null,29,"Zevachim ","קדשים",119,{"$f":"SUM(E$4:E32)","v":2200},0.81150866838804869,"2025-09-16"]
[null,30,"Menachos ","קדשים",109,{"$f":"SUM(E$4:E33)","v":2309},0.85171523423091111,"2026-01-13"]
[null,31,"Chullin ","קדשים",141,{"$f":"SUM(E$4:E34)","v":2450},0.90372556252305425,"2026-05-02"]
[null,32,"Bechoros ","קדשים",60,{"$f":"SUM(E$4:E35)","v":2510},0.92585761711545556,"2026-09-20"]
[null,33,"Arachin ","קדשים",33,{"$f":"SUM(E$4:E36)","v":2543},0.93803024714127625,"2026-11-19"]
[null,34,"Temurah ","קדשים",33,{"$f":"SUM(E$4:E37)","v":2576},0.95020287716709706,"2026-12-22"]
[null,35,"Kereisos ","קדשים",27,{"$f":"SUM(E$4:E38)","v":2603},0.96016230173367756,"2027-01-24"]
[null,36,"Meilah, etc ","קדשים",36,{"$f":"SUM(E$4:E39)","v":2639},0.97344153448911841,"2027-02-20"]
[null,37,"Niddah ","טהרות",72,{"$f":"SUM(E$4:E40)","v":2711},1,"2027-03-28"]